{"text_format":"1","workbook":"xlsx","n_sheets":13,"sheets":["Item_VIP","Page 1","LOP1","Page 2","LOP2","Page 3","LOP3","Page 4","LOP4","Page 5","LOP5","SyteLine","Environ"],"not_rendered":{"charts":0,"images":2,"macros":1,"external_links":0,"defined_names":19,"comments":0,"pivot_tables":0},"unopened":[],"bounds":{"document_bytes":16777216,"sheet_cells":100000,"rows_first":2000,"rows_last":500,"rows_between":2000,"halvings":0,"cell_chars":16384,"cell_head_chars":4096},"cells_cut":0,"cells_raw":0,"read":"whole","date_system":"1900"}

{"sheet":"Item_VIP","index":0,"n_rows":8737,"n_cols":136,"rows_kept":562,"cut":true,"hidden":true,"merged":[],"bounds":{"rows_first":250,"rows_last":62,"rows_between":250,"halvings":3}}
["Article","Description","Revision","Revision Track","ECN","Drawing Number","Alternate Item","Buyer","Stocked","Show In Drop-Down Lists","U/M","Type","Source","Product Code","ABC Code","Cost Type","Cost Method","Unit Cost","Current Unit Cost","Lot Size","Unit Weight","Weight Units","Quantity On Hand","Quantity On Staging","Non-Nettable Stock","Safety Stock","Quantity Ordered","Quantity WIP","Allocated To Prod","Allocated To Customer Orders","Reserved For Customer Orders",null,"Low Level","Active for Data Integration","Planner Code","Shrink Factor","Phantom Flag","MPS Flag","Net Change","MPS Plan Fence","Family Code","Production Type","Inventory LCL %","Rate/Day","Inventory UCL %","Supply Site","Supply Whse","Paper Work","Fixed Lead Time","Expedited Fixed","Dock-to-Stock","Variable","Expedited Variable","MRP Item","Separation","Infinite","Release 1","Planned Mfg Supply Switching","Release 2","Release 3","Accept Requirements","Pass Requirements","Supply Usage Tolerance","Time Fence Rule","Time Fence Value","Setup Group","Order Minimum","Order Multiple","Order Maximum","Days Supply","Use Reorder Point","Reorder Point","Fixed Order Qty","Earliest Planned Purchase Receipt","Lot Track","Lot Prefix","S/N Track","S/N Prefix","Shelf Life","Targeted Safety Stock Replenishment","Issue By","Material Status","Reason","Last Change","User","Backflush","Backflush Location","Preferred Co-product Mix","Reservable","Tax-Free Imported Material","Tax Free Days","Safety Stock Percent","Tariff Classification","PO Tolerance Over","PO Tolerance Under","Kit","Print Kit Components on Customer Paperwork","Std Due Period","Commodity","Description","FED","Description","PROV","Origin","Country","Purchased YTD","Manufactured YTD","Used YTD","Sold YTD","Wholesale Price","Order Configurable","Job Configurable","Auto Job Generation","Name Space","Configuration Flag","Feature String","Feature Template","UPC Code","Country Of Origin","ECCN","HS Tariff #","Net Cost","NMFC Code","Overview","NMFC Sub Code","Active For Customer Portal","Preference Criterion","Featured Item","Top Seller","Producer","Allocation Method","Shipped Items?","sVolume","sGrosseur","Unit Cost","Current Unit Cost"]
["VC-06A1A20A201","12\" LONGUEUR AJUSTABLE",null,0,0,"vérif.comp. 10-01-06 LM",null,null,0,1,"CH","Material","Manufactured","IN10V6-8","C","Actual","Average",0,36.66536,10,9,"LB",0,0,0,0,0,0,0,0,0,null,0,1,"IND",0,0,0,1,"   ",null,"Job","   ",1,"   ",null,null,0,0,0,0,0,0,0,null,0,"     ",0,"     ","     ",1,1,0,"No Time Fence",0,null,1,1,"    5,000.00",5,0,"        ","        ",null,0,null,0,null,"    ",null,"LOC","Active",null,null,null,1,"A102",null,0,0,0,0,null,"   ","   ",0,0,"   ",null,null,null,null,null,null,null,0,0,0,0,"        ",0,0,"Never",null,0,null,null,null,null,1,"7306.40.50.15",null,null,null,null,0,null,0,0,null,null,1,0.44,1,0,36.66536]
["VC-06A1A20A202","12\" LONGUEUR AJUSTABLE",null,0,0,"vérif.comp. 10-01-06 LM",null,null,0,1,"CH","Material","Manufactured","IN10V6-8","C","Actual","Average",0,47.638939999999998,10,12,"LB",0,0,0,0,0,0,0,0,0,null,0,1,"IND",0,0,0,1,"   ",null,"Job","   ",1,"   ",null,null,0,0,0,0,0,0,0,null,0,"     ",0,"     ","     ",1,1,0,"No Time Fence",0,null,1,1,5,5,0,"        ","        ",null,0,null,0,null,"    ",null,"LOC","Active",null,null,null,1,"A102",null,0,0,0,0,null,"   ","   ",0,0,"   ",null,null,null,null,null,null,null,0,0,0,0,"        ",0,0,"Never",null,0,null,null,null,null,1,"7306.40.50.15",null,null,null,null,0,null,0,0,null,null,1,0.7,1,0,47.638939999999998]
["VC-06A1A20A204","12\" LONGUEUR AJUSTABLE#",null,0,0,null,null,null,0,1,"CH","Material","Manufactured","IN10V6-8","C","Actual","Average",0,0,10,12,"LB",0,0,0,0,0,0,0,0,0,null,0,1,"IND",0,0,0,0,"   ",null,"Job","   ",1,"   ",null,null,0,0,0,0,0,0,0,null,0,"     ",0,"     ","     ",1,1,0,"No Time Fence",0,null,1,1,5,5,0,"        ","        ",null,0,null,0,null,"    ",null,"LOC","Active",null,null,null,1,"A102",null,0,0,0,0,null,"   ","   ",0,0,"   ",null,null,null,null,null,null,null,0,0,0,0,"        ",0,0,"Never",null,0,null,null,null,null,1,"7306.40.50.15",null,null,null,null,0,null,0,0,null,null,1,0.7,1,0,0]
["VC-06A1A20A241","12\" LONGUEUR AJUSTABLE #",null,0,0,null,null,null,0,1,"CH","Material","Manufactured","IN10V6-8","C","Actual","Average",0,0,10,10,"LB",0,0,0,0,0,0,0,0,0,null,0,1,"IND",0,0,0,0,"   ",null,"Job","   ",1,"   ",null,null,0,0,0,0,0,0,0,null,0,"     ",0,"     ","     ",1,1,0,"No Time Fence",0,null,1,1,5,5,0,"        ","        ",null,0,null,0,null,"    ",null,"LOC","Active",null,null,null,1,"A102",null,0,0,0,0,null,"   ","   ",0,0,"   ",null,null,null,null,null,null,null,0,0,0,0,"        ",0,0,"Never",null,0,null,null,null,null,1,"7306.40.50.15",null,null,null,null,0,null,0,0,null,null,1,0.7,1,0,0]
["VC-06A1A20A242","12\" LONGUEUR AJUSTABLE",null,0,0,"11-03-2009 MT",null,null,0,1,"CH","Material","Manufactured","IN10V6-8","C","Actual","Average",46.676479999999998,45.523910000000001,10,10,"LB",0,0,0,0,0,0,0,0,0,null,0,1,"IND",0,0,0,1,"   ",null,"Job","   ",1,"   ",null,null,0,0,0,0,0,0,0,null,0,"     ",0,"     ","     ",1,1,0,"No Time Fence",0,null,1,1,5,5,0,"        ","        ",null,0,null,0,null,"    ",null,"LOC","Active",null,null,null,1,"A102",null,0,0,0,0,null,"   ","   ",0,0,"   ",null,null,null,null,null,null,null,0,0,0,0,"        ",0,0,"Never",null,0,null,null,null,null,1,"7306.40.50.15",null,null,null,null,0,null,0,0,null,null,1,0.7,1,46.676479610000001,45.523910000000001]
["VC-06A1A20A261","12\" LONGUEUR AJUSTABLE",null,0,0,"vérif.comp. 10-01-06 LM",null,null,0,1,"CH","Material","Manufactured","IN10V6-8","C","Actual","Average",0,34.763069999999999,10,8,"LB",0,0,0,0,0,0,0,0,0,null,0,1,"IND",0,0,0,1,"   ",null,"Job","   ",1,"   ",null,null,0,0,0,0,0,0,0,null,0,"     ",0,"     ","     ",1,1,0,"No Time Fence",0,null,1,1,"    5,000.00",5,0,"        ","        ",null,0,null,0,null,"    ",null,"LOC","Active",null,null,null,1,"A102",null,0,0,0,0,null,"   ","   ",0,0,"   ",null,null,null,null,null,null,null,0,0,0,0,"        ",0,0,"Never",null,0,null,null,null,null,1,"7306.40.50.15",null,null,null,null,0,null,0,0,null,null,1,0.44,1,0,34.763069999999999]
["VC-06A1A20A262","12\" LONGUEUR AJUSTABLE",null,0,0,"vérif.comp. 10-01-06 LM",null,null,0,1,"CH","Material","Manufactured","IN10V6-8","C","Actual","Average",0,45.181910000000002,10,10,"LB",0,0,0,0,0,0,0,0,0,null,0,1,"IND",0,0,0,1,"   ",null,"Job","   ",1,"   ",null,null,0,0,0,0,0,0,0,null,0,"     ",0,"     ","     ",1,1,0,"No Time Fence",0,null,1,1,5,5,0,"        ","        ",null,0,null,0,null,"    ",null,"LOC","Active",null,null,null,1,"A102",null,0,0,0,0,null,"   ","   ",0,0,"   ",null,null,null,null,null,null,null,0,0,0,0,"        ",0,0,"Never",null,0,null,null,null,null,1,"7306.40.50.15",null,null,null,null,0,null,0,0,null,null,1,0.7,1,0,45.181910000000002]
["VC-06A1A20C221","12\" LONGUEUR AJUSTABLE",null,0,0,"vérif.comp. 10-01-06 LM",null,null,0,1,"CH","Material","Manufactured","IN10V6-8","C","Actual","Average",0,32.264519999999997,10,9,"LB",0,0,0,0,0,0,0,0,0,null,0,1,"IND",0,0,0,1,"   ",null,"Job","   ",1,"   ",null,null,0,0,0,0,0,0,0,null,0,"     ",0,"     ","     ",1,1,0,"No Time Fence",0,null,1,1,"    5,000.00",5,0,"        ","        ",null,0,null,0,null,"    ",null,"LOC","Active",null,null,null,1,"A102",null,0,0,0,0,null,"   ","   ",0,0,"   ",null,null,null,null,null,null,null,0,0,0,0,"        ",0,0,"Never",null,0,null,null,null,null,1,"7306.40.50.15",null,null,null,null,0,null,0,0,null,null,1,0.44,1,0,32.264519999999997]
["VC-06A1A20C222","12\" LONGUEUR AJUSTABLE",null,0,0,"vérif.comp. 10-01-06 LM",null,null,0,1,"CH","Material","Manufactured","IN10V6-8","C","Actual","Average",72.19,41.810250000000003,10,12,"LB",0,0,0,0,0,0,0,0,0,null,0,1,"IND",0,0,0,1,"   ",null,"Job","   ",1,"   ",null,null,0,0,0,0,0,0,0,null,0,"     ",0,"     ","     ",1,1,0,"No Time Fence",0,null,1,1,5,5,0,"        ","        ",null,0,null,0,null,"    ",null,"LOC","Active",null,null,null,1,"A102",null,0,0,0,0,null,"   ","   ",0,0,"   ",null,null,null,null,null,null,null,0,0,0,0,"        ",0,0,"Never",null,0,null,null,null,null,1,"7306.40.50.15",null,null,null,null,0,null,0,0,null,null,1,0.7,1,72.19,41.810250000000003]
["VC-06A1A20C241","12\" LONGUEUR AJUSTABLE",null,0,0,"vérif.comp. 10-01-06 LM",null,null,0,1,"CH","Material","Manufactured","IN10V6-8","C","Actual","Average",0,31.61101,10,9,"LB",0,0,0,0,0,0,0,0,0,null,0,1,"IND",0,0,0,1,"   ",null,"Job","   ",1,"   ",null,null,0,0,0,0,0,0,0,null,0,"     ",0,"     ","     ",1,1,0,"No Time Fence",0,null,1,1,"    5,000.00",5,0,"        ","        ",null,0,null,0,null,"    ",null,"LOC","Active",null,null,null,1,"A102",null,0,0,0,0,null,"   ","   ",0,0,"   ",null,null,null,null,null,null,null,0,0,0,0,"        ",0,0,"Never",null,0,null,null,null,null,1,"7306.40.50.15",null,null,null,null,0,null,0,0,null,null,1,0.44,1,0,31.61101]
["VC-06A1A20C242","12\" LONGUEUR AJUSTABLE",null,0,0,"vérif.comp. 10-01-06 LM",null,null,0,1,"CH","Material","Manufactured","IN10V6-8","C","Actual","Average",0,41.417839999999998,10,11,"LB",0,0,0,0,0,0,0,0,0,null,0,1,"IND",0,0,0,1,"   ",null,"Job","   ",1,"   ",null,null,0,0,0,0,0,0,0,null,0,"     ",0,"     ","     ",1,1,0,"No Time Fence",0,null,1,1,5,5,0,"        ","        ",null,0,null,0,null,"    ",null,"LOC","Active",null,null,null,1,"A102",null,0,0,0,0,null,"   ","   ",0,0,"   ",null,null,null,null,null,null,null,0,0,0,0,"        ",0,0,"Never",null,0,null,null,null,null,1,"7306.40.50.15",null,null,null,null,0,null,0,0,null,null,1,0.7,1,0,41.417839999999998]
["VC-06A1A26A261","12\" LONGUEUR AJUSTABLE",null,0,0,"vérif.comp. 10-01-06 LM",null,null,0,1,"CH","Material","Manufactured","IN10V6-8","C","Actual","Average",33.630000000000003,33.573259999999998,10,7,"LB",0,0,0,0,0,0,0,0,0,null,0,1,"IND",0,0,0,1,"   ",null,"Job","   ",1,"   ",null,null,0,0,0,0,0,0,0,null,0,"     ",0,"     ","     ",1,1,0,"No Time Fence",0,null,1,1,"    5,000.00",5,0,"        ","        ",null,0,null,0,null,"    ",null,"LOC","Active",null,null,null,1,"A102",null,0,0,0,0,null,"   ","   ",0,0,"   ",null,null,null,null,null,null,null,0,6,0,6,"        ",0,0,"Never",null,0,null,null,null,null,1,"7306.40.50.15",null,null,null,null,0,null,0,0,null,null,1,0.44,1,33.630000000000003,33.573259999999998]
["VC-06A1A26A262","12\" LONGUEUR AJUSTABLE",null,0,0,"vérif.comp. 10-01-06 LM",null,null,0,1,"CH","Material","Manufactured","IN10V6-8","C","Actual","Average",44.01,43.992100000000001,10,9,"LB",0,0,0,0,0,0,0,0,0,null,0,1,"IND",0,0,0,1,"   ",null,"Job","   ",1,"   ",null,null,0,0,0,0,0,0,0,null,0,"     ",0,"     ","     ",1,1,0,"No Time Fence",0,null,1,1,5,5,0,"        ","        ",null,0,null,0,null,"    ",null,"LOC","Active",null,null,null,1,"A102",null,0,0,0,0,null,"   ","   ",0,0,"   ",null,null,null,null,null,null,null,0,0,0,0,"        ",0,0,"Never",null,0,null,null,null,null,1,"7306.40.50.15",null,null,null,null,0,null,0,0,null,null,1,0.7,1,44.01,43.992100000000001]
["VC-06A1A26A264","12\" LONGUEUR AJUSTABLE",null,0,0,"27-01-2012 MT",null,null,0,1,"CH","Material","Manufactured","IN10V6-8","C","Actual","Average",0,56.60416,10,9,"LB",0,0,0,0,0,0,0,0,0,null,0,1,"IND",0,0,0,1,"   ",null,"Job","   ",1,"   ",null,null,0,0,0,0,0,0,0,null,0,"     ",0,"     ","     ",1,1,0,"No Time Fence",0,null,1,1,5,5,0,"        ","        ",null,0,null,0,null,"    ",null,"LOC","Active",null,null,null,1,"A102",null,0,0,0,0,null,"   ","   ",0,0,"   ",null,null,null,null,null,null,null,0,0,0,0,0,0,0,"Never",null,0,null,null,null,null,1,"7306.40.50.15",null,null,null,null,0,null,0,0,null,"0 - None",1,0,1,0,56.60416]
["VC-06A1A26C241","12\" LONGUEUR AJUSTABLE",null,0,0,"vérif.comp. 10-01-06 LM",null,null,0,1,"CH","Material","Manufactured","IN10V6-8","C","Actual","Average",30.338380000000001,30.421199999999999,10,7,"LB",0,0,0,0,0,0,0,0,0,null,0,1,"IND",0,0,0,1,"   ",null,"Job","   ",1,"   ",null,null,0,0,0,0,0,0,0,null,0,"     ",0,"     ","     ",1,1,0,"No Time Fence",0,null,1,1,"    5,000.00",5,0,"        ","        ",null,0,null,0,null,"    ",null,"LOC","Active",null,null,null,1,"A102",null,0,0,0,0,null,"   ","   ",0,0,"   ",null,null,null,null,null,null,null,0,2,0,2,"        ",0,0,"Never",null,0,null,null,null,null,1,"7306.40.50.15",null,null,null,null,0,null,0,0,null,null,1,0.44,1,30.338382710000001,30.421199999999999]
["VC-06A1A26C242","12\" LONGUEUR AJUSTABLE",null,0,0,"vérif.comp. 10-01-06 LM",null,null,0,1,"CH","Material","Manufactured","IN10V6-8","C","Actual","Average",0,40.228029999999997,10,9,"LB",0,0,0,0,0,0,0,0,0,null,0,1,"IND",0,0,0,1,"   ",null,"Job","   ",1,"   ",null,null,0,0,0,0,0,0,0,null,0,"     ",0,"     ","     ",1,1,0,"No Time Fence",0,null,1,1,5,5,0,"        ","        ",null,0,null,0,null,"    ",null,"LOC","Active",null,null,null,1,"A102",null,0,0,0,0,null,"   ","   ",0,0,"   ",null,null,null,null,null,null,null,0,0,0,0,"        ",0,0,"Never",null,0,null,null,null,null,1,"7306.40.50.15",null,null,null,null,0,null,0,0,null,null,1,0.7,1,0,40.228029999999997]
["VC-06A1A26C264","12\" LONGUEUR AJUSTABLE #",null,0,0,"27-01-2012 MT",null,null,0,1,"CH","Material","Manufactured","IN10V6-8","C","Actual","Average",0,0,10,9,"LB",0,0,0,0,0,0,0,0,0,null,0,1,"IND",0,0,0,0,"   ",null,"Job","   ",1,"   ",null,null,0,0,0,0,0,0,0,null,0,"     ",0,"     ","     ",1,1,0,"No Time Fence",0,null,1,1,5,5,0,"        ","        ",null,0,null,0,null,"    ",null,"LOC","Active",null,null,null,1,"A102",null,0,0,0,0,null,"   ","   ",0,0,"   ",null,null,null,null,null,null,null,0,0,0,0,0,0,0,"Never",null,0,null,null,null,null,1,"7306.40.50.15",null,null,null,null,0,null,0,0,null,"0 - None",1,0,1,0,0]
["VC-06A1B20A201","12\" LONGUEUR  AJUSTABLE",null,0,0,"08/07/2009 MT",null,null,0,1,"CH","Material","Manufactured","IN10V6-8","C","Actual","Average",0,39.066049999999997,10,7,"LB",0,0,0,0,0,0,0,0,0,null,0,1,"IND",0,0,0,1,"   ",null,"Job","   ",1,"   ",null,null,0,0,0,0,0,0,0,null,0,"     ",0,"     ","     ",1,1,0,"No Time Fence",0,null,1,1,"    5,000.00",5,0,"        ","        ",null,0,null,0,null,"    ",null,"LOC","Active",null,null,null,1,"A102",null,0,0,0,0,null,"   ","   ",0,0,"   ",null,null,null,null,null,null,null,0,0,0,0,0,0,0,"Never",null,0,null,null,null,null,1,"7306.40.50.15",null,null,null,null,0,null,0,0,null,"0 - None",1,0.44,1,0,39.066049999999997]
["VC-06A1B20A202","12\" LONGUEUR AJUSTABLE #",null,0,0,null,null,null,0,1,"CH","Material","Manufactured","IN10V6-8","C","Actual","Average",0,0,10,12,"LB",0,0,0,0,0,0,0,0,0,null,0,1,"IND",0,0,0,0,"   ",null,"Job","   ",1,"   ",null,null,0,0,0,0,0,0,0,null,0,"     ",0,"     ","     ",1,1,0,"No Time Fence",0,null,1,1,5,5,0,"        ","        ",null,0,null,0,null,"    ",null,"LOC","Active",null,null,null,1,"A102",null,0,0,0,0,null,"   ","   ",0,0,"   ",null,null,null,null,null,null,null,0,0,0,0,"        ",0,0,"Never",null,0,null,null,null,null,1,"7306.40.50.15",null,null,null,null,0,null,0,0,null,null,1,0,1,0,0]
["VC-06A1B20A241","12\" LONGUEUR  AJUSTABLE #",null,0,0,"15-09-06 LM",null,null,0,1,"CH","Material","Manufactured","IN10V6-8","C","Actual","Average",0,0,10,7,"LB",0,0,0,0,0,0,0,0,0,null,0,1,"IND",0,0,0,0,"   ",null,"Job","   ",1,"   ",null,null,0,0,0,0,0,0,0,null,0,"     ",0,"     ","     ",1,1,0,"No Time Fence",0,null,1,1,"    5,000.00",5,0,"        ","        ",null,0,null,0,null,"    ",null,"LOC","Active",null,null,null,1,"A102",null,0,0,0,0,null,"   ","   ",0,0,"   ",null,null,null,null,null,null,null,0,0,0,0,0,0,0,"Never",null,0,null,null,null,null,1,"7306.40.50.15",null,null,null,null,0,null,0,0,null,"0 - None",1,0.44,1,0,0]
["VC-06A1B20A261","12\" LONGUEUR  AJUSTABLE",null,0,0,"15-09-06 LM",null,null,0,1,"CH","Material","Manufactured","IN10V6-8","C","Actual","Average",34.74,37.24597,10,7,"LB",0,0,0,0,0,0,0,0,0,null,0,1,"IND",0,0,0,1,"   ",null,"Job","   ",1,"   ",null,null,0,0,0,0,0,0,0,null,0,"     ",0,"     ","     ",1,1,0,"No Time Fence",0,null,1,1,"    5,000.00",5,0,"        ","        ",null,0,null,0,null,"    ",null,"LOC","Active",null,null,null,1,"A102",null,0,0,0,0,null,"   ","   ",0,0,"   ",null,null,null,null,null,null,null,0,0,0,0,"        ",0,0,"Never",null,0,null,null,null,null,1,"7306.40.50.15",null,null,null,null,0,null,0,0,null,null,1,0.44,1,34.74,37.24597]
["VC-06A1B20A262","12\" LONGUEUR AJUSTABLE",null,0,0,"22-07-2009 MT",null,null,0,1,"CH","Material","Manufactured","IN10V6-8","C","Actual","Average",38.1,51.064140000000002,10,12,"LB",0,0,0,0,0,0,0,0,0,null,0,1,"IND",0,0,0,1,"   ",null,"Job","   ",1,"   ",null,null,0,0,0,0,0,0,0,null,0,"     ",0,"     ","     ",1,1,0,"No Time Fence",0,null,1,1,5,5,0,"        ","        ",null,0,null,0,null,"    ",null,"LOC","Active",null,null,null,1,"A102",null,0,0,0,0,null,"   ","   ",0,0,"   ",null,null,null,null,null,null,null,0,0,0,0,"        ",0,0,"Never",null,0,null,null,null,null,1,"7306.40.50.15",null,null,null,null,0,null,0,0,null,null,1,0,1,38.1,51.064140000000002]
["VC-06A1B20B201","12\" LONGUEUR AJUSTABLE",null,0,0,"vérif.comp. 10-01-06 LM",null,null,0,1,"CH","Material","Manufactured","IN10V6-8","C","Actual","Average",0,44.12209,10,9,"LB",0,0,0,0,0,0,0,0,0,null,0,1,"IND",0,0,0,1,"   ",null,"Job","   ",1,"   ",null,null,0,0,0,0,0,0,0,null,0,"     ",0,"     ","     ",1,1,0,"No Time Fence",0,null,1,1,"    5,000.00",5,0,"        ","        ",null,0,null,0,null,"    ",null,"LOC","Active",null,null,null,1,"A102",null,0,0,0,0,null,"   ","   ",0,0,"   ",null,null,null,null,null,null,null,0,0,0,0,"        ",0,0,"Never",null,0,null,null,null,null,1,"7306.40.50.15",null,null,null,null,0,null,0,0,null,null,1,0.44,1,0,44.12209]
["VC-06A1B20B202","12\" LONGUEUR AJUSTABLE",null,0,0,"vérif.comp. 10-01-06 LM",null,null,0,1,"CH","Material","Manufactured","IN10V6-8","C","Actual","Average",0,56.302520000000001,10,12,"LB",0,0,0,0,0,0,0,0,0,null,0,1,"IND",0,0,0,1,"   ",null,"Job","   ",1,"   ",null,null,0,0,0,0,0,0,0,null,0,"     ",0,"     ","     ",1,1,0,"No Time Fence",0,null,1,1,5,5,0,"        ","        ",null,0,null,0,null,"    ",null,"LOC","Active",null,null,null,1,"A102",null,0,0,0,0,null,"   ","   ",0,0,"   ",null,null,null,null,null,null,null,0,0,0,0,"        ",0,0,"Never",null,0,null,null,null,null,1,"7306.40.50.15",null,null,null,null,0,null,0,0,null,null,1,0,1,0,56.302520000000001]
["VC-06A1B20B241","12\" LONGUEUR AJUSTABLE #",null,0,0,null,null,null,0,1,"CH","Material","Manufactured","IN10V6-8","C","Actual","Average",0,0,10,9,"LB",0,0,0,0,0,0,0,0,0,null,0,1,"IND",0,0,0,0,"   ",null,"Job","   ",1,"   ",null,null,0,0,0,0,0,0,0,null,0,"     ",0,"     ","     ",1,1,0,"No Time Fence",0,null,1,1,"    5,000.00",5,0,"        ","        ",null,0,null,0,null,"    ",null,"LOC","Active",null,null,null,1,"A102",null,0,0,0,0,null,"   ","   ",0,0,"   ",null,null,null,null,null,null,null,0,0,0,0,"        ",0,0,"Never",null,0,null,null,null,null,1,"7306.40.50.15",null,null,null,null,0,null,0,0,null,null,1,0.44,1,0,0]
["VC-06A1B20B242","12\" LONGUEUR AJUSTABLE #",null,0,0,null,null,null,0,1,"CH","Material","Manufactured","IN10V6-8","C","Actual","Average",0,0,10,10,"LB",0,0,0,0,0,0,0,0,0,null,0,1,"IND",0,0,0,0,"   ",null,"Job","   ",1,"   ",null,null,0,0,0,0,0,0,0,null,0,"     ",0,"     ","     ",1,1,0,"No Time Fence",0,null,1,1,5,5,0,"        ","        ",null,0,null,0,null,"    ",null,"LOC","Active",null,null,null,1,"A102",null,0,0,0,0,null,"   ","   ",0,0,"   ",null,null,null,null,null,null,null,0,0,0,0,0,0,0,"Never",null,0,null,null,null,null,1,"7306.40.50.15",null,null,null,null,0,null,0,0,null,"0 - None",1,0,1,0,0]
["VC-06A1B24A242","12\" LONGUEUR AJUSTABLE #",null,0,0,null,null,null,0,1,"CH","Material","Manufactured","IN10V6-8","C","Actual","Average",0,0,10,9,"LB",0,0,0,0,0,0,0,0,0,null,0,1,"IND",0,0,0,0,"   ",null,"Job","   ",1,"   ",null,null,0,0,0,0,0,0,0,null,0,"     ",0,"     ","     ",1,1,0,"No Time Fence",0,null,1,1,5,5,0,"        ","        ",null,0,null,0,null,"    ",null,"LOC","Active",null,null,null,1,"A102",null,0,0,0,0,null,"   ","   ",0,0,"   ",null,null,null,null,null,null,null,0,0,0,0,0,0,0,"Never",null,0,null,null,null,null,1,"7306.40.50.15",null,null,null,null,0,null,0,0,null,"0 - None",1,0,1,0,0]
["VC-06A1B24A261","12\" LONGUEUR AJUSTABLE",null,0,0,"vérif.comp. 10-01-06 LM",null,null,0,1,"CH","Material","Manufactured","IN10V6-8","C","Actual","Average",32.11,35.398449999999997,10,7,"LB",0,0,0,0,0,0,0,0,0,null,0,1,"IND",0,0,0,1,"   ",null,"Job","   ",1,"   ",null,null,0,0,0,0,0,0,0,null,0,"     ",0,"     ","     ",1,1,0,"No Time Fence",0,null,1,1,"    5,000.00",5,0,"        ","        ",null,0,null,0,null,"    ",null,"LOC","Active",null,null,null,1,"A102",null,0,0,0,0,null,"   ","   ",0,0,"   ",null,null,null,null,null,null,null,0,1,0,1,"        ",0,0,"Never",null,0,null,null,null,null,1,"7306.40.50.15",null,null,null,null,0,null,0,0,null,null,1,0.44,1,32.11,35.398449999999997]
["VC-06A1B24A262","12\" LONGUEUR AJUSTABLE",null,0,0,"vérif.comp. 10-01-06 LM",null,null,0,1,"CH","Material","Manufactured","IN10V6-8","C","Actual","Average",0,66.339169999999996,10,9,"LB",0,0,0,0,0,0,0,0,0,null,0,1,"IND",0,0,0,1,"   ",null,"Job","   ",1,"   ",null,null,0,0,0,0,0,0,0,null,0,"     ",0,"     ","     ",1,1,0,"No Time Fence",0,null,1,1,5,5,0,"        ","        ",null,0,null,0,null,"    ",null,"LOC","Active",null,null,null,1,"A102",null,0,0,0,0,null,"   ","   ",0,0,"   ",null,null,null,null,null,null,null,0,0,0,0,"        ",0,0,"Never",null,0,null,null,null,null,1,"7306.40.50.15",null,null,null,null,0,null,0,0,null,null,1,0,1,0,66.339169999999996]
["VC-06A1B24A264","12\" LONGUEUR AJUSTABLE#",null,0,0,"vérif.comp. 10-01-06 LM",null,null,0,1,"CH","Material","Manufactured","IN10V6-8","C","Actual","Average",0,0,10,9,"LB",0,0,0,0,0,0,0,0,0,null,0,1,"IND",0,0,0,0,"   ",null,"Job","   ",1,"   ",null,null,0,0,0,0,0,0,0,null,0,"     ",0,"     ","     ",1,1,0,"No Time Fence",0,null,1,1,5,5,0,"        ","        ",null,0,null,0,null,"    ",null,"LOC","Active",null,null,null,1,"A102",null,0,0,0,0,null,"   ","   ",0,0,"   ",null,null,null,null,null,null,null,0,0,0,0,0,0,0,"Never",null,0,null,null,null,null,1,"7306.40.50.15",null,null,null,null,0,null,0,0,null,"0 - None",1,0,1,0,0]
["VC-06A1B24B241","12\" LONGUEUR AJUSTABLE",null,0,0,"vérif.comp. 10-01-06 LM",null,null,0,1,"CH","Material","Manufactured","IN10V6-8","C","Actual","Average",39.15,39.426000000000002,10,9,"LB",0,0,0,0,0,0,0,0,0,null,0,1,"IND",0,0,0,1,"   ",null,"Job","   ",1,"   ",null,null,0,0,0,0,0,0,0,null,0,"     ",0,"     ","     ",1,1,0,"No Time Fence",0,null,1,1,"    5,000.00",5,0,"        ","        ",null,0,null,0,null,"    ",null,"LOC","Active",null,null,null,1,"A102",null,0,0,0,0,null,"   ","   ",0,0,"   ",null,null,null,null,null,null,null,0,0,0,0,"        ",0,0,"Never",null,0,null,null,null,null,1,"7306.40.50.15",null,null,null,null,0,null,0,0,null,null,1,0.44,1,39.15,39.426000000000002]
["VC-06A1B24B242","12\" LONGUEUR AJUSTABLE",null,0,0,"vérif.comp. 10-01-06 LM",null,null,0,1,"CH","Material","Manufactured","IN10V6-8","C","Actual","Average",0,51.026690000000002,10,10,"LB",0,0,0,0,0,0,0,0,0,null,0,1,"IND",0,0,0,1,"   ",null,"Job","   ",1,"   ",null,null,0,0,0,0,0,0,0,null,0,"     ",0,"     ","     ",1,1,0,"No Time Fence",0,null,1,1,5,5,0,"        ","        ",null,0,null,0,null,"    ",null,"LOC","Active",null,null,null,1,"A102",null,0,0,0,0,null,"   ","   ",0,0,"   ",null,null,null,null,null,null,null,0,0,0,0,"        ",0,0,"Never",null,0,null,null,null,null,1,"7306.40.50.15",null,null,null,null,0,null,0,0,null,null,1,0,1,0,51.026690000000002]
["VC-06A1B24B244","12\" LONGUEUR  AJUSTABLE#",null,0,0,null,null,null,0,1,"CH","Material","Manufactured","IN10V6-8","C","Actual","Average",0,0,10,24,"LB",0,0,0,0,0,0,0,0,0,null,0,1,"IND",0,0,0,0,"   ",null,"Job","   ",1,"   ",null,null,0,0,0,0,0,0,0,null,0,"     ",0,"     ","     ",1,1,0,"No Time Fence",0,null,1,1,5,5,0,"        ","        ",null,0,null,0,null,"    ",null,"LOC","Active",null,null,null,1,"A102",null,0,0,0,0,null,"   ","   ",0,0,"   ",null,null,null,null,null,null,null,0,0,0,0,"        ",0,0,"Never",null,0,null,null,null,null,1,"7306.40.50.15",null,null,null,null,0,null,0,0,null,null,1,2.9,1,0,0]
["VC-06A1B24C241","12\" LONGUEUR AJUSTABLE",null,0,0,"vérif.comp. 10-01-06 LM",null,null,0,1,"CH","Material","Manufactured","IN10V6-8","C","Actual","Average",0,32.246389999999998,10,9,"LB",0,0,0,0,0,0,0,0,0,null,0,1,"IND",0,0,0,1,"   ",null,"Job","   ",1,"   ",null,null,0,0,0,0,0,0,0,null,0,"     ",0,"     ","     ",1,1,0,"No Time Fence",0,null,1,1,"    5,000.00",5,0,"        ","        ",null,0,null,0,null,"    ",null,"LOC","Active",null,null,null,1,"A102",null,0,0,0,0,null,"   ","   ",0,0,"   ",null,null,null,null,null,null,null,0,0,0,0,"        ",0,0,"Never",null,0,null,null,null,null,1,"7306.40.50.15",null,null,null,null,0,null,0,0,null,null,1,0.44,1,0,32.246389999999998]
["VC-06A1B24C242","12\" LONGUEUR AJUSTABLE",null,0,0,"vérif.comp. 10-01-06 LM",null,null,0,1,"CH","Material","Manufactured","IN10V6-8","C","Actual","Average",0,42.053220000000003,10,10,"LB",0,0,0,0,0,0,0,0,0,null,0,1,"IND",0,0,0,1,"   ",null,"Job","   ",1,"   ",null,null,0,0,0,0,0,0,0,null,0,"     ",0,"     ","     ",1,1,0,"No Time Fence",0,null,1,1,5,5,0,"        ","        ",null,0,null,0,null,"    ",null,"LOC","Active",null,null,null,1,"A102",null,0,0,0,0,null,"   ","   ",0,0,"   ",null,null,null,null,null,null,null,0,0,0,0,"        ",0,0,"Never",null,0,null,null,null,null,1,"7306.40.50.15",null,null,null,null,0,null,0,0,null,null,1,0,1,0,42.053220000000003]
["VC-06A2A20A201","24\" LONGUEUR AJUSTABLE",null,0,0,"verif.comp. 10-01-06 LM",null,null,0,1,"CH","Material","Manufactured","IN10V6-8","C","Actual","Average",0,45.859850000000002,10,16,"LB",0,0,0,0,0,0,0,0,0,null,0,1,"IND",0,0,0,1,"   ",null,"Job","   ",1,"   ",null,null,0,0,0,0,0,0,0,null,0,"     ",0,"     ","     ",1,1,0,"No Time Fence",0,null,1,1,"    5,000.00",5,0,"        ","        ",null,0,null,0,null,"    ",null,"LOC","Active",null,null,null,1,"A102",null,0,0,0,0,null,"   ","   ",0,0,"   ",null,null,null,null,null,null,null,0,0,0,0,"        ",0,0,"Never",null,0,null,null,null,null,1,"7306.40.50.15",null,null,null,null,0,null,0,0,null,null,1,0.9,1,0,45.859850000000002]
["VC-06A2A20A202","24\" LONGUEUR AJUSTABLE",null,0,0,"verif.comp. 10-01-06 LM",null,null,0,1,"CH","Material","Manufactured","IN10V6-8","C","Actual","Average",0,58.493340000000003,10,20,"LB",0,0,0,0,0,0,0,0,0,null,0,1,"IND",0,0,0,1,"   ",null,"Job","   ",1,"   ",null,null,0,0,0,0,0,0,0,null,0,"     ",0,"     ","     ",1,1,0,"No Time Fence",0,null,1,1,5,5,0,"        ","        ",null,0,null,0,null,"    ",null,"LOC","Active",null,null,null,1,"A102",null,0,0,0,0,null,"   ","   ",0,0,"   ",null,null,null,null,null,null,null,0,0,0,0,"        ",0,0,"Never",null,0,null,null,null,null,1,"7306.40.50.15",null,null,null,null,0,null,0,0,null,null,1,1.5,1,0,58.493340000000003]
["VC-06A2A20A204","24\" LONGUEUR AJUSTABLE #",null,0,0,null,null,null,0,1,"CH","Material","Manufactured","IN10V6-8","C","Actual","Average",0,0,10,16,"LB",0,0,0,0,0,0,0,0,0,null,0,1,"IND",0,0,0,0,"   ",null,"Job","   ",1,"   ",null,null,0,0,0,0,0,0,0,null,0,"     ",0,"     ","     ",1,1,0,"No Time Fence",0,null,1,1,"    5,000.00",5,0,"        ","        ",null,0,null,0,null,"    ",null,"LOC","Active",null,null,null,1,"A102",null,0,0,0,0,null,"   ","   ",0,0,"   ",null,null,null,null,null,null,null,0,0,0,0,0,0,0,"Never",null,0,null,null,null,null,1,"7306.40.50.15",null,null,null,null,0,null,0,0,null,"0 - None",1,0.9,1,0,0]
["VC-06A2A20A242","24\" LONGUEUR AJUSTABLE",null,0,0,"12-06-2009 MT",null,null,0,1,"CH","Material","Manufactured","IN10V6-8","C","Actual","Average",58.995089999999998,55.964350000000003,10,13,"LB",0,0,0,0,0,0,0,0,0,null,0,1,"IND",0,0,0,1,"   ",null,"Job","   ",1,"   ",null,null,0,0,0,0,0,0,0,null,0,"     ",0,"     ","     ",1,1,0,"No Time Fence",0,null,1,1,"    5,000.00",5,0,"        ","        ",null,0,null,0,null,"    ",null,"LOC","Active",null,null,null,1,"A102",null,0,0,0,0,null,"   ","   ",0,0,"   ",null,null,null,null,null,null,null,0,0,0,0,"        ",0,0,"Never",null,0,null,null,null,null,1,"7306.40.50.15",null,null,null,null,0,null,0,0,null,null,1,0.9,1,58.995090040000001,55.964350000000003]
["VC-06A2A20A261","24\" LONGUEUR AJUSTABLE",null,0,0,"verif.comp. 10-01-06 LM",null,null,0,1,"CH","Material","Manufactured","IN10V6-8","C","Actual","Average",0,42.21463,10,13,"LB",0,0,0,0,0,0,0,0,0,null,0,1,"IND",0,0,0,1,"   ",null,"Job","   ",1,"   ",null,null,0,0,0,0,0,0,0,null,0,"     ",0,"     ","     ",1,1,0,"No Time Fence",0,null,1,1,"    5,000.00",5,0,"        ","        ",null,0,null,0,null,"    ",null,"LOC","Active",null,null,null,1,"A102",null,0,0,0,0,null,"   ","   ",0,0,"   ",null,null,null,null,null,null,null,0,0,0,0,"        ",0,0,"Never",null,0,null,null,null,null,1,"7306.40.50.15",null,null,null,null,0,null,0,0,null,null,1,0.9,1,0,42.21463]
["VC-06A2A20A262","24\" LONGUEUR AJUSTABLE",null,0,0,"verif.comp. 10-01-06 LM",null,null,0,1,"CH","Material","Manufactured","IN10V6-8","C","Actual","Average",0,53.661499999999997,10,16,"LB",0,0,0,0,0,0,0,0,0,null,0,1,"IND",0,0,0,1,"   ",null,"Job","   ",1,"   ",null,null,0,0,0,0,0,0,0,null,0,"     ",0,"     ","     ",1,1,0,"No Time Fence",0,null,1,1,5,5,0,"        ","        ",null,0,null,0,null,"    ",null,"LOC","Active",null,null,null,1,"A102",null,0,0,0,0,null,"   ","   ",0,0,"   ",null,null,null,null,null,null,null,0,0,0,0,"        ",0,0,"Never",null,0,null,null,null,null,1,"7306.40.50.15",null,null,null,null,0,null,0,0,null,null,1,1.5,1,0,53.661499999999997]
["VC-06A2A20C221","24\" LONGUEUR AJUSTABLE",null,0,0,"verif.comp. 10-01-06 LM",null,null,0,1,"CH","Material","Manufactured","IN10V6-8","C","Actual","Average",0,37.69014,10,16,"LB",0,0,0,0,0,0,0,0,0,null,0,1,"IND",0,0,0,1,"   ",null,"Job","   ",1,"   ",null,null,0,0,0,0,0,0,0,null,0,"     ",0,"     ","     ",1,1,0,"No Time Fence",0,null,1,1,"    5,000.00",5,0,"        ","        ",null,0,null,0,null,"    ",null,"LOC","Active",null,null,null,1,"A102",null,0,0,0,0,null,"   ","   ",0,0,"   ",null,null,null,null,null,null,null,0,0,0,0,"        ",0,0,"Never",null,0,null,null,null,null,1,"7306.40.50.15",null,null,null,null,0,null,0,0,null,null,1,0.9,1,0,37.69014]
["VC-06A2A20C222","24\" LONGUEUR AJUSTABLE",null,0,0,"verif.comp. 10-01-06 LM",null,null,0,1,"CH","Material","Manufactured","IN10V6-8","C","Actual","Average",0,48.413069999999998,10,20,"LB",0,0,0,0,0,0,0,0,0,null,0,1,"IND",0,0,0,1,"   ",null,"Job","   ",1,"   ",null,null,0,0,0,0,0,0,0,null,0,"     ",0,"     ","     ",1,1,0,"No Time Fence",0,null,1,1,5,5,0,"        ","        ",null,0,null,0,null,"    ",null,"LOC","Active",null,null,null,1,"A102",null,0,0,0,0,null,"   ","   ",0,0,"   ",null,null,null,null,null,null,null,0,0,0,0,"        ",0,0,"Never",null,0,null,null,null,null,1,"7306.40.50.15",null,null,null,null,0,null,0,0,null,null,1,1.5,1,0,48.413069999999998]
["VC-06A2A20C241","24\" LONGUEUR AJUSTABLE",null,0,0,"verif.comp. 10-01-06 LM",null,null,0,1,"CH","Material","Manufactured","IN10V6-8","C","Actual","Average",0,37.527659999999997,10,14,"LB",0,0,0,0,0,0,0,0,0,null,0,1,"IND",0,0,0,1,"   ",null,"Job","   ",1,"   ",null,null,0,0,0,0,0,0,0,null,0,"     ",0,"     ","     ",1,1,0,"No Time Fence",0,null,1,1,"    5,000.00",5,0,"        ","        ",null,0,null,0,null,"    ",null,"LOC","Active",null,null,null,1,"A102",null,0,0,0,0,null,"   ","   ",0,0,"   ",null,null,null,null,null,null,null,0,0,0,0,"        ",0,0,"Never",null,0,null,null,null,null,1,"7306.40.50.15",null,null,null,null,0,null,0,0,null,null,1,0.9,1,0,37.527659999999997]
["VC-06A2A20C242","24\" LONGUEUR AJUSTABLE",null,0,0,"verif.comp. 10-01-06 LM",null,null,0,1,"CH","Material","Manufactured","IN10V6-8","C","Actual","Average",47.45,48.023290000000003,10,18,"LB",0,0,0,0,0,0,0,0,0,null,0,1,"IND",0,0,0,1,"   ",null,"Job","   ",1,"   ",null,null,0,0,0,0,0,0,0,null,0,"     ",0,"     ","     ",1,1,0,"No Time Fence",0,null,1,1,5,5,0,"        ","        ",null,0,null,0,null,"    ",null,"LOC","Active",null,null,null,1,"A102",null,0,0,0,0,null,"   ","   ",0,0,"   ",null,null,null,null,null,null,null,0,0,0,0,"        ",0,0,"Never",null,0,null,null,null,null,1,"7306.40.50.15",null,null,null,null,0,null,0,0,null,null,1,1.5,1,47.45,48.023290000000003]
["VC-06A2A26A261","24\" LONGUEUR AJUSTABLE",null,0,0,"verif.comp. 10-01-06 LM",null,null,0,1,"CH","Material","Manufactured","IN10V6-8","C","Actual","Average",38.82,38.581069999999997,10,11,"LB",0,0,0,0,0,0,0,0,0,null,0,1,"IND",0,0,0,1,"   ",null,"Job","   ",1,"   ",null,null,0,0,0,0,0,0,0,null,0,"     ",0,"     ","     ",1,1,0,"No Time Fence",0,null,1,1,"    5,000.00",5,0,"        ","        ",null,0,null,0,null,"    ",null,"LOC","Active",null,null,null,1,"A102",null,0,0,0,0,null,"   ","   ",0,0,"   ",null,null,null,null,null,null,null,0,6,0,6,"        ",0,0,"Never",null,0,null,null,null,null,1,"7306.40.50.15",null,null,null,null,0,null,0,0,null,null,1,0.9,1,38.82,38.581069999999997]
["VC-06A2A26A262","24\" LONGUEUR AJUSTABLE",null,0,0,"verif.comp. 10-01-06 LM",null,null,0,1,"CH","Material","Manufactured","IN10V6-8","C","Actual","Average",50.52,50.027940000000001,10,14,"LB",0,0,0,0,0,0,0,0,0,null,0,1,"IND",0,0,0,1,"   ",null,"Job","   ",1,"   ",null,null,0,0,0,0,0,0,0,null,0,"     ",0,"     ","     ",1,1,0,"No Time Fence",0,null,1,1,5,5,0,"        ","        ",null,0,null,0,null,"    ",null,"LOC","Active",null,null,null,1,"A102",null,0,0,0,0,null,"   ","   ",0,0,"   ",null,null,null,null,null,null,null,0,0,0,0,"        ",0,0,"Never",null,0,null,null,null,null,1,"7306.40.50.15",null,null,null,null,0,null,0,0,null,null,1,1.5,1,50.52,50.027940000000001]
["VC-06A2A26A264","24\" LONGUEUR AJUSTABLE",null,0,0,"27-01-2012 MT",null,null,0,1,"CH","Material","Manufactured","IN10V6-8","C","Actual","Average",0,66.205190000000002,10,14,"LB",0,0,0,0,0,0,0,0,0,null,0,1,"IND",0,0,0,1,"   ",null,"Job","   ",1,"   ",null,null,0,0,0,0,0,0,0,null,0,"     ",0,"     ","     ",1,1,0,"No Time Fence",0,null,1,1,5,5,0,"        ","        ",null,0,null,0,null,"    ",null,"LOC","Active",null,null,null,1,"A102",null,0,0,0,0,null,"   ","   ",0,0,"   ",null,null,null,null,null,null,null,0,0,0,0,"        ",0,0,"Never",null,0,null,null,null,null,1,"7306.40.50.15",null,null,null,null,0,null,0,0,null,null,1,1.5,1,0,66.205190000000002]
["VC-06A2A26C241","24\" LONGUEUR AJUSTABLE",null,0,0,"verif.comp. 10-01-06 LM",null,null,0,1,"CH","Material","Manufactured","IN10V6-8","C","Actual","Average",34.331009999999999,33.894100000000002,10,12,"LB",0,0,0,0,0,0,0,0,0,null,0,1,"IND",0,0,0,1,"   ",null,"Job","   ",1,"   ",null,null,0,0,0,0,0,0,0,null,0,"     ",0,"     ","     ",1,1,0,"No Time Fence",0,null,1,1,"    5,000.00",5,0,"        ","        ",null,0,null,0,null,"    ",null,"LOC","Active",null,null,null,1,"A102",null,0,0,0,0,null,"   ","   ",0,0,"   ",null,null,null,null,null,null,null,0,1,0,1,"        ",0,0,"Never",null,0,null,null,null,null,1,"7306.40.50.15",null,null,null,null,0,null,0,0,null,null,1,0.9,1,34.331012690000001,33.894100000000002]
["VC-06A2A26C242","24\" LONGUEUR AJUSTABLE",null,0,0,"verif.comp. 10-01-06 LM",null,null,0,1,"CH","Material","Manufactured","IN10V6-8","C","Actual","Average",0,44.38973,10,16,"LB",0,0,0,0,0,0,0,0,0,null,0,1,"IND",0,0,0,1,"   ",null,"Job","   ",1,"   ",null,null,0,0,0,0,0,0,0,null,0,"     ",0,"     ","     ",1,1,0,"No Time Fence",0,null,1,1,5,5,0,"        ","        ",null,0,null,0,null,"    ",null,"LOC","Active",null,null,null,1,"A102",null,0,0,0,0,null,"   ","   ",0,0,"   ",null,null,null,null,null,null,null,0,0,0,0,"        ",0,0,"Never",null,0,null,null,null,null,1,"7306.40.50.15",null,null,null,null,0,null,0,0,null,null,1,1.5,1,0,44.38973]
["VC-06A2A26C244","24\" LONGUEUR AJUSTABLE #",null,0,0,null,null,null,0,1,"CH","Material","Manufactured","IN10V6-8","C","Actual","Average",0,0,10,12,"LB",0,0,0,0,0,0,0,0,0,null,0,1,"IND",0,0,0,0,"   ",null,"Job","   ",1,"   ",null,null,0,0,0,0,0,0,0,null,0,"     ",0,"     ","     ",1,1,0,"No Time Fence",0,null,1,1,"    5,000.00",5,0,"        ","        ",null,0,null,0,null,"    ",null,"LOC","Active",null,null,null,1,"A102",null,0,0,0,0,null,"   ","   ",0,0,"   ",null,null,null,null,null,null,null,0,0,0,0,0,0,0,"Never",null,0,null,null,null,null,1,"7306.40.50.15",null,null,null,null,0,null,0,0,null,"0 - None",1,0.9,1,0,0]
["VC-06A2B20A201","24\" LONGUEUR AJUSTABLE#",null,0,0,null,null,null,0,1,"CH","Material","Manufactured","IN10V6-8","C","Actual","Average",0,0,10,16,"LB",0,0,0,0,0,0,0,0,0,null,0,1,"IND",0,0,0,0,"   ",null,"Job","   ",1,"   ",null,null,0,0,0,0,0,0,0,null,0,"     ",0,"     ","     ",1,1,0,"No Time Fence",0,null,1,1,"    5,000.00",5,0,"        ","        ",null,0,null,0,null,"    ",null,"LOC","Active",null,null,null,1,"A102",null,0,0,0,0,null,"   ","   ",0,0,"   ",null,null,null,null,null,null,null,0,0,0,0,0,0,0,"Never",null,0,null,null,null,null,1,"7306.40.50.15",null,null,null,null,0,null,0,0,null,"0 - None",1,0.9,1,0,0]
["VC-06A2B20A241","24\" LONGUEUR AJUSTABLE #",null,0,0,null,null,null,0,1,"CH","Material","Manufactured","IN10V6-8","C","Actual","Average",0,0,10,11,"LB",0,0,0,0,0,0,0,0,0,null,0,1,"IND",0,0,0,0,"   ",null,"Job","   ",1,"   ",null,null,0,0,0,0,0,0,0,null,0,"     ",0,"     ","     ",1,1,0,"No Time Fence",0,null,1,1,"    5,000.00",5,0,"        ","        ",null,0,null,0,null,"    ",null,"LOC","Active",null,null,null,1,"A102",null,0,0,0,0,null,"   ","   ",0,0,"   ",null,null,null,null,null,null,null,0,0,0,0,0,0,0,"Never",null,0,null,null,null,null,1,"7306.40.50.15",null,null,null,null,0,null,0,0,null,"0 - None",1,0.9,1,0,0]
["VC-06A2B20A242","24\" LONGUEUR AJUSTABLE",null,0,0,null,null,null,0,1,"CH","Material","Manufactured","IN10V6-8","C","Actual","Average",0,0,10,11,"LB",0,0,0,0,0,0,0,0,0,null,0,1,"IND",0,0,0,0,"   ",null,"Job","   ",1,"   ",null,null,0,0,0,0,0,0,0,null,0,"     ",0,"     ","     ",1,1,0,"No Time Fence",0,null,1,1,"    5,000.00",5,0,"        ","        ",null,0,null,0,null,"    ",null,"LOC","Active",null,null,null,1,"A102",null,0,0,0,0,null,"   ","   ",0,0,"   ",null,null,null,null,null,null,null,0,0,0,0,0,0,0,"Never",null,0,null,null,null,null,1,"7306.40.50.15",null,null,null,null,0,null,0,0,null,"0 - None",1,0.9,1,0,0]
["VC-06A2B20A244","24\" LONGUEUR AJUSTABLE#",null,0,0,"verif.comp. 10-01-06 LM",null,null,0,1,"CH","Material","Manufactured","IN10V6-8","C","Actual","Average",0,0,10,15,"LB",0,0,0,0,0,0,0,0,0,null,0,1,"IND",0,0,0,0,"   ",null,"Job","   ",1,"   ",null,null,0,0,0,0,0,0,0,null,0,"     ",0,"     ","     ",1,1,0,"No Time Fence",0,null,1,1,5,5,0,"        ","        ",null,0,null,0,null,"    ",null,"LOC","Active",null,null,null,1,"A102",null,0,0,0,0,null,"   ","   ",0,0,"   ",null,null,null,null,null,null,null,0,0,0,0,0,0,0,"Never",null,0,null,null,null,null,1,"7306.40.50.15",null,null,null,null,0,null,0,0,null,"0 - None",1,1.5,1,0,0]
["VC-06A2B20A261","24\" LONGUEUR AJUSTABLE",null,0,0,null,null,null,0,1,"CH","Material","Manufactured","IN10V6-8","C","Actual","Average",69.03,47.345970000000001,10,11,"LB",0,0,0,0,0,0,0,0,0,null,0,1,"IND",0,0,0,1,"   ",null,"Job","   ",1,"   ",null,null,0,0,0,0,0,0,0,null,0,"     ",0,"     ","     ",1,1,0,"No Time Fence",0,null,1,1,"    5,000.00",5,0,"        ","        ",null,0,null,0,null,"    ",null,"LOC","Active",null,null,null,1,"A102",null,0,0,0,0,null,"   ","   ",0,0,"   ",null,null,null,null,null,null,null,0,0,0,0,"        ",0,0,"Never",null,0,null,null,null,null,1,"7306.40.50.15",null,null,null,null,0,null,0,0,null,null,1,0.9,1,69.03,47.345970000000001]
["VC-06A2B20A262","24\" LONGUEUR AJUSTABLE #",null,0,0,null,null,null,0,1,"CH","Material","Manufactured","IN10V6-8","C","Actual","Average",0,0,10,11,"LB",0,0,0,0,0,0,0,0,0,null,0,1,"IND",0,0,0,0,"   ",null,"Job","   ",1,"   ",null,null,0,0,0,0,0,0,0,null,0,"     ",0,"     ","     ",1,1,0,"No Time Fence",0,null,1,1,"    5,000.00",5,0,"        ","        ",null,0,null,0,null,"    ",null,"LOC","Active",null,null,null,1,"A102",null,0,0,0,0,null,"   ","   ",0,0,"   ",null,null,null,null,null,null,null,0,0,0,0,0,0,0,"Never",null,0,null,null,null,null,1,"7306.40.50.15",null,null,null,null,0,null,0,0,null,"0 - None",1,0.9,1,0,0]
["VC-06A2B20B201","24\" LONGUEUR AJUSTABLE",null,0,0,"verif.comp. 10-01-06 LM",null,null,0,1,"CH","Material","Manufactured","IN10V6-8","C","Actual","Average",0,59.504959999999997,10,16,"LB",0,0,0,0,0,0,0,0,0,null,0,1,"IND",0,0,0,1,"   ",null,"Job","   ",1,"   ",null,null,0,0,0,0,0,0,0,null,0,"     ",0,"     ","     ",1,1,0,"No Time Fence",0,null,1,1,"    5,000.00",5,0,"        ","        ",null,0,null,0,null,"    ",null,"LOC","Active",null,null,null,1,"A102",null,0,0,0,0,null,"   ","   ",0,0,"   ",null,null,null,null,null,null,null,0,0,0,0,"        ",0,0,"Never",null,0,null,null,null,null,1,"7306.40.50.15",null,null,null,null,0,null,0,0,null,null,1,0.9,1,0,59.504959999999997]
["VC-06A2B20B202","24\" LONGUEUR AJUSTABLE",null,0,0,"verif.comp. 10-01-06 LM",null,null,0,1,"CH","Material","Manufactured","IN10V6-8","C","Actual","Average",0,74.228120000000004,10,20,"LB",0,0,0,0,0,0,0,0,0,null,0,1,"IND",0,0,0,1,"   ",null,"Job","   ",1,"   ",null,null,0,0,0,0,0,0,0,null,0,"     ",0,"     ","     ",1,1,0,"No Time Fence",0,null,1,1,5,5,0,"        ","        ",null,0,null,0,null,"    ",null,"LOC","Active",null,null,null,1,"A102",null,0,0,0,0,null,"   ","   ",0,0,"   ",null,null,null,null,null,null,null,0,0,0,0,"        ",0,0,"Never",null,0,null,null,null,null,1,"7306.40.50.15",null,null,null,null,0,null,0,0,null,null,1,1.5,1,0,74.228120000000004]
["VC-06A2B20B242","24\" LONGUEUR AJUSTABLE #",null,0,0,"verif.comp. 10-01-06 LM",null,null,0,1,"CH","Material","Manufactured","IN10V6-8","C","Actual","Average",0,43.527749999999997,10,11,"LB",0,0,0,0,0,0,0,0,0,null,0,1,"IND",0,0,0,1,"   ",null,"Job","   ",1,"   ",null,null,0,0,0,0,0,0,0,null,0,"     ",0,"     ","     ",1,1,0,"No Time Fence",0,null,1,1,"    5,000.00",5,0,"        ","        ",null,0,null,0,null,"    ",null,"LOC","Active",null,null,null,1,"A102",null,0,0,0,0,null,"   ","   ",0,0,"   ",null,null,null,null,null,null,null,0,0,0,0,"        ",0,0,"Never",null,0,null,null,null,null,1,"7306.40.50.15",null,null,null,null,0,null,0,0,null,null,1,0.9,1,0,43.527749999999997]
["VC-06A2B24A242","24\" LONGUEUR AJUSTABLE#",null,0,0,"verif.comp. 10-01-06 LM",null,null,0,1,"CH","Material","Manufactured","IN10V6-8","C","Actual","Average",54.788820000000001,54.974620000000002,10,15,"LB",0,0,0,0,0,0,0,0,0,null,0,1,"IND",0,0,0,1,"   ",null,"Job","   ",1,"   ",null,null,0,0,0,0,0,0,0,null,0,"     ",0,"     ","     ",1,1,0,"No Time Fence",0,null,1,1,5,5,0,"        ","        ",null,0,null,0,null,"    ",null,"LOC","Active",null,null,null,1,"A102",null,0,0,0,0,null,"   ","   ",0,0,"   ",null,null,null,null,null,null,null,0,1,0,1,"        ",0,0,"Never",null,0,null,null,null,null,1,"7306.40.50.15",null,null,null,null,0,null,0,0,null,null,1,1.5,1,54.788820000000001,54.974620000000002]
["VC-06A2B24A261","24\" LONGUEUR AJUSTABLE",null,0,0,"verif.comp. 10-01-06 LM",null,null,0,1,"CH","Material","Manufactured","IN10V6-8","C","Actual","Average",0,0,10,15,"LB",0,0,0,0,0,0,0,0,0,null,0,1,"IND",0,0,0,0,"   ",null,"Job","   ",1,"   ",null,null,0,0,0,0,0,0,0,null,0,"     ",0,"     ","     ",1,1,0,"No Time Fence",0,null,1,1,5,5,0,"        ","        ",null,0,null,0,null,"    ",null,"LOC","Active",null,null,null,1,"A102",null,0,0,0,0,null,"   ","   ",0,0,"   ",null,null,null,null,null,null,null,0,0,0,0,0,0,0,"Never",null,0,null,null,null,null,1,"7306.40.50.15",null,null,null,null,0,null,0,0,null,"0 - None",1,1.5,1,0,0]
["VC-06A2B24A262","24\" LONGUEUR AJUSTABLE",null,0,0,"verif.comp. 10-01-06 LM",null,null,0,1,"CH","Material","Manufactured","IN10V6-8","C","Actual","Average",56.033329999999999,50.20411,10,13,"LB",0,0,0,0,0,0,0,0,0,null,0,1,"IND",0,0,0,1,"   ",null,"Job","   ",1,"   ",null,null,0,0,0,0,0,0,0,null,0,"     ",0,"     ","     ",1,1,0,"No Time Fence",0,null,1,1,"    5,000.00",5,0,"        ","        ",null,0,null,0,null,"    ",null,"LOC","Active",null,null,null,1,"A102",null,0,0,0,0,null,"   ","   ",0,0,"   ",null,null,null,null,null,null,null,0,0,0,0,"        ",0,0,"Never",null,0,null,null,null,null,1,"7306.40.50.15",null,null,null,null,0,null,0,0,null,null,1,0.9,1,56.033333329999998,50.20411]
["VC-06A2B24A264","24\" LONGUEUR AJUSTABLE#",null,0,0,"verif.comp. 10-01-06 LM",null,null,0,1,"CH","Material","Manufactured","IN10V6-8","C","Actual","Average",0,63.690629999999999,10,16,"LB",0,0,0,0,0,0,0,0,0,null,0,1,"IND",0,0,0,1,"   ",null,"Job","   ",1,"   ",null,null,0,0,0,0,0,0,0,null,0,"     ",0,"     ","     ",1,1,0,"No Time Fence",0,null,1,1,5,5,0,"        ","        ",null,0,null,0,null,"    ",null,"LOC","Active",null,null,null,1,"A102",null,0,0,0,0,null,"   ","   ",0,0,"   ",null,null,null,null,null,null,null,0,0,0,0,"        ",0,0,"Never",null,0,null,null,null,null,1,"7306.40.50.15",null,null,null,null,0,null,0,0,null,null,1,1.5,1,0,63.690629999999999]
["VC-06A2B24B241","24\" LONGUEUR AJUSTABLE",null,0,0,null,null,null,0,1,"CH","Material","Manufactured","IN10V6-8","C","Actual","Average",0,0,10,24,"LB",0,0,0,0,0,0,0,0,0,null,0,1,"IND",0,0,0,0,"   ",null,"Job","   ",1,"   ",null,null,0,0,0,0,0,0,0,null,0,"     ",0,"     ","     ",1,1,0,"No Time Fence",0,null,1,1,5,5,0,"        ","        ",null,0,null,0,null,"    ",null,"LOC","Active",null,null,null,1,"A102",null,0,0,0,0,null,"   ","   ",0,0,"   ",null,null,null,null,null,null,null,0,0,0,0,"        ",0,0,"Never",null,0,null,null,null,null,1,"7306.40.50.15",null,null,null,null,0,null,0,0,null,null,1,2.9,1,0,0]
["VC-06A2B24B242","24\" LONGUEUR AJUSTABLE",null,0,0,"verif.comp. 10-01-06 LM",null,null,0,1,"CH","Material","Manufactured","IN10V6-8","C","Actual","Average",0,38.840780000000002,10,13,"LB",0,0,0,0,0,0,0,0,0,null,0,1,"IND",0,0,0,1,"   ",null,"Job","   ",1,"   ",null,null,0,0,0,0,0,0,0,null,0,"     ",0,"     ","     ",1,1,0,"No Time Fence",0,null,1,1,"    5,000.00",5,0,"        ","        ",null,0,null,0,null,"    ",null,"LOC","Active",null,null,null,1,"A102",null,0,0,0,0,null,"   ","   ",0,0,"   ",null,null,null,null,null,null,null,0,0,0,0,"        ",0,0,"Never",null,0,null,null,null,null,1,"7306.40.50.15",null,null,null,null,0,null,0,0,null,null,1,0.9,1,0,38.840780000000002]
["VC-06A2B24B244","24\" LONGUEUR  AJUSTABLE#",null,0,0,"verif.comp. 10-01-06 LM",null,null,0,1,"CH","Material","Manufactured","IN10V6-8","C","Actual","Average",0,49.336410000000001,10,16,"LB",0,0,0,0,0,0,0,0,0,null,0,1,"IND",0,0,0,1,"   ",null,"Job","   ",1,"   ",null,null,0,0,0,0,0,0,0,null,0,"     ",0,"     ","     ",1,1,0,"No Time Fence",0,null,1,1,5,5,0,"        ","        ",null,0,null,0,null,"    ",null,"LOC","Active",null,null,null,1,"A102",null,0,0,0,0,null,"   ","   ",0,0,"   ",null,null,null,null,null,null,null,0,0,0,0,"        ",0,0,"Never",null,0,null,null,null,null,1,"7306.40.50.15",null,null,null,null,0,null,0,0,null,null,1,1.5,1,0,49.336410000000001]
["VC-06A2B24C241","24\" LONGUEUR AJUSTABLE",null,0,0,"18-09-08 LM",null,null,0,1,"CH","Material","Manufactured","IN10V6-8","C","Actual","Average",35.33,34.655529999999999,10,7,"LB",0,0,0,0,0,0,0,0,0,null,0,1,"IND",0,0,0,1,"   ",null,"Job","   ",1,"   ",null,null,0,0,0,0,0,0,0,null,0,"     ",0,"     ","     ",1,1,0,"No Time Fence",0,null,1,1,"    5,000.00",5,0,"        ","        ",null,0,null,0,null,"    ",null,"LOC","Active",null,null,null,1,"A102",null,0,0,0,0,null,"   ","   ",0,0,"   ",null,null,null,null,null,null,null,0,2,0,2,"        ",0,0,"Never",null,0,null,null,null,null,1,"7306.40.50.15",null,null,null,null,0,null,0,0,null,null,1,0.55000000000000004,1,35.33,34.655529999999999]
["VC-06A2B24C242","24\" LONGUEUR AJUSTABLE",null,0,0,"20-10-08 LM",null,null,0,1,"CH","Material","Manufactured","IN10V6-8","C","Actual","Average",0,32.483339999999998,10,7,"LB",0,0,0,0,0,0,0,0,0,null,0,1,"IND",0,0,0,1,"   ",null,"Job","   ",1,"   ",null,null,0,0,0,0,0,0,0,null,0,"     ",0,"     ","     ",1,1,0,"No Time Fence",0,null,1,1,"    5,000.00",5,0,"        ","        ",null,0,null,0,null,"    ",null,"LOC","Active",null,null,null,1,"A102",null,0,0,0,0,null,"   ","   ",0,0,"   ",null,null,null,null,null,null,null,0,0,0,0,"        ",0,0,"Never",null,0,null,null,null,null,1,"7306.40.50.15",null,null,null,null,0,null,0,0,null,null,1,0.55000000000000004,1,0,32.483339999999998]
["VC-06D1A20A242","12\" LONGUEUR DRAIN #",null,0,0,"2011-04-05 DWD",null,null,0,1,"CH","Material","Manufactured","IN10V6-8","C","Actual","Average",0,0,10,4.8,"LB",0,0,0,0,0,0,0,0,0,null,0,1,"IND",0,0,0,0,"   ",null,"Job","   ",1,"   ",null,null,0,0,0,0,0,0,0,null,0,"     ",0,"     ","     ",1,1,0,"No Time Fence",0,null,1,1,"    5,000.00",5,0,"        ","        ",null,0,null,0,null,"    ",null,"LOC","Active",null,null,null,1,"A102",null,0,0,0,0,null,"   ","   ",0,0,"   ",null,null,null,null,null,null,null,0,0,0,0,0,0,0,"Never",null,0,null,null,null,null,1,"7306.40.50.15",null,null,null,null,0,null,0,0,null,"0 - None",1,0.7,1,0,0]
["VC-06D1A20A261","12\" LONGUEUR DRAIN",null,0,0,null,null,null,0,1,"CH","Material","Manufactured","IN10V6-8","C","Actual","Average",0,0,10,4.8,"LB",0,0,0,0,0,0,0,0,0,null,0,1,"IND",0,0,0,0,"   ",null,"Job","   ",1,"   ",null,null,0,0,0,0,0,0,0,null,0,"     ",0,"     ","     ",1,1,0,"No Time Fence",0,null,1,1,"    5,000.00",5,0,"        ","        ",null,0,null,0,null,"    ",null,"LOC","Active",null,null,null,1,"A102",null,0,0,0,0,null,"   ","   ",0,0,"   ",null,null,null,null,null,null,null,0,0,0,0,"        ",0,0,"Never",null,0,null,null,null,null,1,"7306.40.50.15",null,null,null,null,0,null,0,0,null,null,1,0.7,1,0,0]
["VC-06D1A20A262","12\" LONGUEUR DRAIN",null,0,0,null,null,null,0,1,"CH","Material","Manufactured","IN10V6-8","C","Actual","Average",0,0,10,4.8,"LB",0,0,0,0,0,0,0,0,0,null,0,1,"IND",0,0,0,0,"   ",null,"Job","   ",1,"   ",null,null,0,0,0,0,0,0,0,null,0,"     ",0,"     ","     ",1,1,0,"No Time Fence",0,null,1,1,"    5,000.00",5,0,"        ","        ",null,0,null,0,null,"    ",null,"LOC","Active",null,null,null,1,"A102",null,0,0,0,0,null,"   ","   ",0,0,"   ",null,null,null,null,null,null,null,0,0,0,0,0,0,0,"Never",null,0,null,null,null,null,1,"7306.40.50.15",null,null,null,null,0,null,0,0,null,"0 - None",1,0.7,1,0,0]
["VC-06D1A20A264","12\" LONGUEUR DRAIN #",null,0,0,"2011-04-05 DWD",null,null,0,1,"CH","Material","Manufactured","IN10V6-8","C","Actual","Average",0,46.278770000000002,10,4.8,"LB",0,0,0,0,0,0,0,0,0,null,0,1,"IND",0,0,0,1,"   ",null,"Job","   ",1,"   ",null,null,0,0,0,0,0,0,0,null,0,"     ",0,"     ","     ",1,1,0,"No Time Fence",0,null,1,1,"    5,000.00",5,0,"        ","        ",null,0,null,0,null,"    ",null,"LOC","Active",null,null,null,1,"A102",null,0,0,0,0,null,"   ","   ",0,0,"   ",null,null,null,null,null,null,null,0,0,0,0,0,0,0,"Never",null,0,null,null,null,null,1,"7306.40.50.15",null,null,null,null,0,null,0,0,null,"0 - None",1,0.7,1,0,46.278770000000002]
["VC-06D1A20C241","12\" LONGUEUR DRAIN",null,0,0,"verif.comp.20-12-05 LM",null,null,0,1,"CH","Material","Manufactured","IN10V6-8","C","Actual","Average",0,28.666789999999999,10,9,"LB",0,0,0,0,0,0,0,0,0,null,0,1,"IND",0,0,0,1,"   ",null,"Job","   ",1,"   ",null,null,0,0,0,0,0,0,0,null,0,"     ",0,"     ","     ",1,1,0,"No Time Fence",0,null,1,1,"    5,000.00",5,0,"        ","        ",null,0,null,0,null,"    ",null,"LOC","Active",null,null,null,1,"A102",null,0,0,0,0,null,"   ","   ",0,0,"   ",null,null,null,null,null,null,null,0,0,0,0,"        ",0,0,"Never",null,0,null,null,null,null,1,"7306.40.50.15",null,null,null,null,0,null,0,0,null,null,1,0.5,1,0,28.666789999999999]
["VC-06D1A20C242","12\" LONGUEUR DRAIN #",null,0,0,"verif.comp.20-12-05 LM",null,null,0,1,"CH","Material","Manufactured","IN10V6-8","C","Actual","Average",0,40.38814,10,11,"LB",0,0,0,0,0,0,0,0,0,null,0,1,"IND",0,0,0,1,"   ",null,"Job","   ",1,"   ",null,null,0,0,0,0,0,0,0,null,0,"     ",0,"     ","     ",1,1,0,"No Time Fence",0,null,1,1,5,5,0,"        ","        ",null,0,null,0,null,"    ",null,"LOC","Active",null,null,null,1,"A102",null,0,0,0,0,null,"   ","   ",0,0,"   ",null,null,null,null,null,null,null,0,0,0,0,"        ",0,0,"Never",null,0,null,null,null,null,1,"7306.40.50.15",null,null,null,null,0,null,0,0,null,null,1,0.7,1,0,40.38814]
["VC-06D1B20A261","12\" LONGUEUR DRAIN",null,0,0,null,null,null,0,1,"CH","Material","Manufactured","IN10V6-8","C","Actual","Average",0,0,10,23,"LB",0,0,0,0,0,0,0,0,0,null,0,1,"IND",0,0,0,0,"   ",null,"Job","   ",1,"   ",null,null,0,0,0,0,0,0,0,null,0,"     ",0,"     ","     ",1,1,0,"No Time Fence",0,null,1,1,"    5,000.00",5,0,"        ","        ",null,0,null,0,null,"    ",null,"LOC","Active",null,null,null,1,"A102",null,0,0,0,0,null,"   ","   ",0,0,"   ",null,null,null,null,null,null,null,0,0,0,0,"        ",0,0,"Never",null,0,null,null,null,null,1,"7306.40.50.15",null,null,null,null,0,null,0,0,null,null,1,1.77,1,0,0]
["VC-06DBA20A242","12\" LONGUEUR DRAIN DE BASE #",null,0,0,null,null,null,0,1,"CH","Material","Manufactured","IN10V6-8","C","Actual","Average",0,0,10,9,"LB",0,0,0,0,0,0,0,0,0,null,0,1,"IND",0,0,0,0,"   ",null,"Job","   ",1,"   ",null,null,0,0,0,0,0,0,0,null,0,"     ",0,"     ","     ",1,1,0,"No Time Fence",0,null,1,1,5,5,0,"        ","        ",null,0,null,0,null,"    ",null,"LOC","Active",null,null,null,1,"A102",null,0,0,0,0,null,"   ","   ",0,0,"   ",null,null,null,null,null,null,null,0,0,0,0,"        ",0,0,"Never",null,0,null,null,null,null,1,"7306.40.50.15",null,null,null,null,0,null,0,0,null,null,1,0.7,1,0,0]
["VC-06DBA20A261","12\" LONGUEUR DRAIN DE BASE #",null,0,0,"11-03-2009 MT",null,null,0,1,"CH","Material","Manufactured","IN10V6-8","C","Actual","Average",38.496499999999997,37.341639999999998,10,9,"LB",0,0,0,0,0,0,0,0,0,null,0,1,"IND",0,0,0,1,"   ",null,"Job","   ",1,"   ",null,null,0,0,0,0,0,0,0,null,0,"     ",0,"     ","     ",1,1,0,"No Time Fence",0,null,1,1,5,5,0,"        ","        ",null,0,null,0,null,"    ",null,"LOC","Active",null,null,null,1,"A102",null,0,0,0,0,null,"   ","   ",0,0,"   ",null,null,null,null,null,null,null,0,0,0,0,"        ",0,0,"Never",null,0,null,null,null,null,1,"7306.40.50.15",null,null,null,null,0,null,0,0,null,null,1,0.7,1,38.496498389999999,37.341639999999998]
["VC-06DBA20C241","12\" LONGUEUR DRAIN DE BASE #",null,0,0,"verif.comp.20-12-05 LM",null,null,0,1,"CH","Material","Manufactured","IN10V6-8","C","Actual","Average",0,26.458130000000001,10,7,"LB",0,0,0,0,0,0,0,0,0,null,0,1,"IND",0,0,0,1,"   ",null,"Job","   ",1,"   ",null,null,0,0,0,0,0,0,0,null,0,"     ",0,"     ","     ",1,1,0,"No Time Fence",0,null,1,1,"    5,000.00",5,0,"        ","        ",null,0,null,0,null,"    ",null,"LOC","Active",null,null,null,1,"A102",null,0,0,0,0,null,"   ","   ",0,0,"   ",null,null,null,null,null,null,null,0,0,0,0,"        ",0,0,"Never",null,0,null,null,null,null,1,"7306.40.50.15",null,null,null,null,0,null,0,0,null,null,1,0.5,1,0,26.458130000000001]
["VC-06DBA20C242","12\" LONGUEUR DRAIN DE BASE",null,0,0,"verif.comp.20-12-05 LM",null,null,0,1,"CH","Material","Manufactured","IN10V6-8","C","Actual","Average",0,37.631509999999999,10,9,"LB",0,0,0,0,0,0,0,0,0,null,0,1,"IND",0,0,0,1,"   ",null,"Job","   ",1,"   ",null,null,0,0,0,0,0,0,0,null,0,"     ",0,"     ","     ",1,1,0,"No Time Fence",0,null,1,1,5,5,0,"        ","        ",null,0,null,0,null,"    ",null,"LOC","Active",null,null,null,1,"A102",null,0,0,0,0,null,"   ","   ",0,0,"   ",null,null,null,null,null,null,null,0,0,0,0,"        ",0,0,"Never",null,0,null,null,null,null,1,"7306.40.50.15",null,null,null,null,0,null,0,0,null,null,1,0.7,1,0,37.631509999999999]
["VC-06L1A20A201","12\" LONGUEUR",null,0,0,"verif.comp.20-12-05 LM",null,null,0,1,"CH","Material","Manufactured","IN10V6-8","C","Actual","Average",0,24.6069,10,9,"LB",0,0,0,0,0,0,0,0,0,null,0,1,"IND",0,0,0,1,"   ",null,"Job","   ",1,"   ",null,null,0,0,0,0,0,0,0,null,0,"     ",0,"     ","     ",1,1,0,"No Time Fence",0,null,1,1,"    5,000.00",5,0,"        ","        ",null,0,null,0,null,"    ",null,"LOC","Active",null,null,null,1,"A102",null,0,0,0,0,null,"   ","   ",0,0,"   ",null,null,null,null,null,null,null,0,0,0,0,"        ",0,0,"Never",null,0,null,null,null,null,1,"7306.40.50.15",null,null,null,null,0,null,0,0,null,null,1,0.5,1,0,24.6069]
["VC-06L1A20A202","12\" LONGUEUR",null,0,0,"verif.comp.20-12-05 LM",null,null,0,1,"CH","Material","Manufactured","IN10V6-8","C","Actual","Average",0,35.372959999999999,10,11,"LB",0,0,0,0,0,0,0,0,0,null,0,1,"IND",0,0,0,1,"   ",null,"Job","   ",1,"   ",null,null,0,0,0,0,0,0,0,null,0,"     ",0,"     ","     ",1,1,0,"No Time Fence",0,null,1,1,5,5,0,"        ","        ",null,0,null,0,null,"    ",null,"LOC","Active",null,null,null,1,"A102",null,0,0,0,0,null,"   ","   ",0,0,"   ",null,null,null,null,null,null,null,0,0,0,0,"        ",0,0,"Never",null,0,null,null,null,null,1,"7306.40.50.15",null,null,null,null,0,null,0,0,null,null,1,0.7,1,0,35.372959999999999]
["VC-06L1A20A204","12\" LONGUEUR #",null,0,0,"verif.comp.20-12-05 LM",null,null,0,1,"CH","Material","Manufactured","IN10V6-8","C","Actual","Average",0,24.28594,10,8,"LB",0,0,0,0,0,0,0,0,0,null,0,1,"IND",0,0,0,1,"   ",null,"Job","   ",1,"   ",null,null,0,0,0,0,0,0,0,null,0,"     ",0,"     ","     ",1,1,0,"No Time Fence",0,null,1,1,"    5,000.00",5,0,"        ","        ",null,0,null,0,null,"    ",null,"LOC","Active",null,null,null,1,"A102",null,0,0,0,0,null,"   ","   ",0,0,"   ",null,null,null,null,null,null,null,0,0,0,0,"        ",0,0,"Never",null,0,null,null,null,null,1,"7306.40.50.15",null,null,null,null,0,null,0,0,null,null,1,0.5,1,0,24.28594]
["VC-06L1A20A241","12\" LONGUEUR#",null,0,0,"verif.comp.20-12-05 LM",null,null,0,1,"CH","Material","Manufactured","IN10V6-8","C","Actual","Average",0,34.980339999999998,10,10,"LB",0,0,0,0,0,0,0,0,0,null,0,1,"IND",0,0,0,1,"   ",null,"Job","   ",1,"   ",null,null,0,0,0,0,0,0,0,null,0,"     ",0,"     ","     ",1,1,0,"No Time Fence",0,null,1,1,5,5,0,"        ","        ",null,0,null,0,null,"    ",null,"LOC","Active",null,null,null,1,"A102",null,0,0,0,0,null,"   ","   ",0,0,"   ",null,null,null,null,null,null,null,0,0,0,0,"        ",0,0,"Never",null,0,null,null,null,null,1,"7306.40.50.15",null,null,null,null,0,null,0,0,null,null,1,0.7,1,0,34.980339999999998]
["VC-06L1A20A242","12\" LONGUEUR",null,0,0,"verif.comp.20-12-05 LM",null,null,0,1,"CH","Material","Manufactured","IN10V6-8","C","Actual","Average",25.56,25.268319999999999,10,6,"LB",0,0,0,0,0,0,0,0,0,null,0,1,"IND",0,0,0,1,"   ",null,"Job","   ",1,"   ",null,null,0,0,0,0,0,0,0,null,0,"     ",0,"     ","     ",1,1,0,"No Time Fence",0,null,1,1,"    5,000.00",5,0,"        ","        ",null,0,null,0,null,"    ",null,"LOC","Active",null,null,null,1,"A102",null,0,0,0,0,null,"   ","   ",0,0,"   ",null,null,null,null,null,null,null,0,6,0,6,"        ",0,0,"Never",null,0,null,null,null,null,1,"7306.40.50.15",null,null,null,null,0,null,0,0,null,null,1,0.5,1,25.56,25.268319999999999]
["VC-06L1A20A261","12\" LONGUEUR",null,0,0,"verif.comp.20-12-05 LM",null,null,0,1,"CH","Material","Manufactured","IN10V6-8","C","Actual","Average",37.01,36.441699999999997,10,8,"LB",0,0,0,0,0,0,0,0,0,null,0,1,"IND",0,0,0,1,"   ",null,"Job","   ",1,"   ",null,null,0,0,0,0,0,0,0,null,0,"     ",0,"     ","     ",1,1,0,"No Time Fence",0,null,1,1,5,5,0,"        ","        ",null,0,null,0,null,"    ",null,"LOC","Active",null,null,null,1,"A102",null,0,0,0,0,null,"   ","   ",0,0,"   ",null,null,null,null,null,null,null,0,0,0,0,"        ",0,0,"Never",null,0,null,null,null,null,1,"7306.40.50.15",null,null,null,null,0,null,0,0,null,null,1,0.7,1,37.01,36.441699999999997]
["VC-06L1A20A262","12\" LONGUEUR",null,0,0,"verif.comp.20-12-05 LM",null,null,0,1,"CH","Material","Manufactured","IN10V6-8","C","Actual","Average",23.165120000000002,23.096129999999999,10,7,"LB",0,0,0,0,0,0,0,0,0,null,0,1,"IND",0,0,0,1,"   ",null,"Job","   ",1,"   ",null,null,0,0,0,0,0,0,0,null,0,"     ",0,"     ","     ",1,1,0,"No Time Fence",0,null,1,1,"    5,000.00",5,0,"        ","        ",null,0,null,0,null,"    ",null,"LOC","Active",null,null,null,1,"A102",null,0,0,0,0,null,"   ","   ",0,0,"   ",null,null,null,null,null,null,null,0,0,0,0,"        ",0,0,"Never",null,0,null,null,null,null,1,"7306.40.50.15",null,null,null,null,0,null,0,0,null,null,1,0.5,1,23.16512397,23.096129999999999]
["VC-06L1A20C221","12\" LONGUEUR",null,0,0,"verif.comp.20-12-05 LM",null,null,0,1,"CH","Material","Manufactured","IN10V6-8","C","Actual","Average",0,33.790529999999997,10,9,"LB",0,0,0,0,0,0,0,0,0,null,0,1,"IND",0,0,0,1,"   ",null,"Job","   ",1,"   ",null,null,0,0,0,0,0,0,0,null,0,"     ",0,"     ","     ",1,1,0,"No Time Fence",0,null,1,1,5,5,0,"        ","        ",null,0,null,0,null,"    ",null,"LOC","Active",null,null,null,1,"A102",null,0,0,0,0,null,"   ","   ",0,0,"   ",null,null,null,null,null,null,null,0,0,0,0,"        ",0,0,"Never",null,0,null,null,null,null,1,"7306.40.50.15",null,null,null,null,0,null,0,0,null,null,1,0.7,1,0,33.790529999999997]
["VC-06L1A20C222","12\" LONGUEUR",null,0,0,"verif.comp.20-12-05 LM",null,null,0,1,"CH","Material","Manufactured","IN10V6-8","C","Actual","Average",0,0,10,7,"LB",0,0,0,0,0,0,0,0,0,null,0,1,"IND",0,0,0,0,"   ",null,"Job","   ",1,"   ",null,null,0,0,0,0,0,0,0,null,0,"     ",0,"     ","     ",1,1,0,"No Time Fence",0,null,1,1,"    5,000.00",5,0,"        ","        ",null,0,null,0,null,"    ",null,"LOC","Active",null,null,null,1,"A102",null,0,0,0,0,null,"   ","   ",0,0,"   ",null,null,null,null,null,null,null,0,0,0,0,0,0,0,"Never",null,0,null,null,null,null,1,"7306.40.50.15",null,null,null,null,0,null,0,0,null,"0 - None",1,0.5,1,0,0]
["VC-06L1A20C241","12\" LONGUEUR",null,0,0,null,null,null,0,1,"CH","Material","Manufactured","IN10V6-8","C","Actual","Average",0,0,10,3.8,"LB",0,0,0,0,0,0,0,0,0,null,0,1,"IND",0,0,0,0,"   ",null,"Job","   ",1,"   ",null,null,0,0,0,0,0,0,0,null,0,"     ",0,"     ","     ",1,1,0,"No Time Fence",0,null,1,1,"    5,000.00",5,0,"        ","        ",null,0,null,0,null,"    ",null,"LOC","Active",null,null,null,1,"A102",null,0,0,0,0,null,"   ","   ",0,0,"   ",null,null,null,null,null,null,null,0,0,0,0,"        ",0,0,"Never",null,0,null,null,null,null,1,"7306.40.50.15",null,null,null,null,0,null,0,0,null,null,1,0.5,1,0,0]
["VC-06L1A20C242","12\" LONGUEUR",null,0,0,"08/07/2009 MT",null,null,0,1,"CH","Material","Manufactured","IN10V6-8","C","Actual","Average",0,31.06748,10,9,"LB",0,0,0,0,0,0,0,0,0,null,0,1,"IND",0,0,0,1,"   ",null,"Job","   ",1,"   ",null,null,0,0,0,0,0,0,0,null,0,"     ",0,"     ","     ",1,1,0,"No Time Fence",0,null,1,1,"    5,000.00",5,0,"        ","        ",null,0,null,0,null,"    ",null,"LOC","Active",null,null,null,1,"A102",null,0,0,0,0,null,"   ","   ",0,0,"   ",null,null,null,null,null,null,null,0,0,0,0,0,0,0,"Never",null,0,null,null,null,null,1,"7306.40.50.15",null,null,null,null,0,null,0,0,null,"0 - None",1,0.5,1,0,31.06748]
["VC-06L1A26A261","12\" LONGUEUR",null,0,0,null,null,null,0,1,"CH","Material","Manufactured","IN10V6-8","C","Actual","Average",0,0,10,11,"LB",0,0,0,0,0,0,0,0,0,null,0,1,"IND",0,0,0,0,"   ",null,"Job","   ",1,"   ",null,null,0,0,0,0,0,0,0,null,0,"     ",0,"     ","     ",1,1,0,"No Time Fence",0,null,1,1,5,5,0,"        ","        ",null,0,null,0,null,"    ",null,"LOC","Active",null,null,null,1,"A102",null,0,0,0,0,null,"   ","   ",0,0,"   ",null,null,null,null,null,null,null,0,0,0,0,"        ",0,0,"Never",null,0,null,null,null,null,1,"7306.40.50.15",null,null,null,null,0,null,0,0,null,null,1,0.7,1,0,0]
["VC-06L1A26A262","12\" LONGUEUR",null,0,0,"22-07-2009 MT",null,null,0,1,"CH","Material","Manufactured","IN10V6-8","C","Actual","Average",0,0,10,11,"LB",0,0,0,0,0,0,0,0,0,null,0,1,"IND",0,0,0,0,"   ",null,"Job","   ",1,"   ",null,null,0,0,0,0,0,0,0,null,0,"     ",0,"     ","     ",1,1,0,"No Time Fence",0,null,1,1,5,5,0,"        ","        ",null,0,null,0,null,"    ",null,"LOC","Active",null,null,null,1,"A102",null,0,0,0,0,null,"   ","   ",0,0,"   ",null,null,null,null,null,null,null,0,0,0,0,0,0,0,"Never",null,0,null,null,null,null,1,"7306.40.50.15",null,null,null,null,0,null,0,0,null,"0 - None",1,0.7,1,0,0]
["VC-06L1A26A264","12\" LONGUEUR",null,0,0,"15-09-06 LM",null,null,0,1,"CH","Material","Manufactured","IN10V6-8","C","Actual","Average",18.375,28.941030000000001,10,7,"LB",0,0,0,0,0,0,0,0,0,null,0,1,"IND",0,0,0,1,"   ",null,"Job","   ",1,"   ",null,null,0,0,0,0,0,0,0,null,0,"     ",0,"     ","     ",1,1,0,"No Time Fence",0,null,1,1,"    5,000.00",5,0,"        ","        ",null,0,null,0,null,"    ",null,"LOC","Active",null,null,null,1,"A102",null,0,0,0,0,null,"   ","   ",0,0,"   ",null,null,null,null,null,null,null,0,0,0,0,"        ",0,0,"Never",null,0,null,null,null,null,1,"7306.40.50.15",null,null,null,null,0,null,0,0,null,null,1,0.5,1,18.375,28.941030000000001]
["VC-06L1A26C241","12\" LONGUEUR",null,0,0,"22-07-2009 MT",null,null,0,1,"CH","Material","Manufactured","IN10V6-8","C","Actual","Average",31.75,40.251779999999997,10,11,"LB",0,0,0,0,0,0,0,0,0,null,0,1,"IND",0,0,0,1,"   ",null,"Job","   ",1,"   ",null,null,0,0,0,0,0,0,0,null,0,"     ",0,"     ","     ",1,1,0,"No Time Fence",0,null,1,1,5,5,0,"        ","        ",null,0,null,0,null,"    ",null,"LOC","Active",null,null,null,1,"A102",null,0,0,0,0,null,"   ","   ",0,0,"   ",null,null,null,null,null,null,null,0,0,0,0,"        ",0,0,"Never",null,0,null,null,null,null,1,"7306.40.50.15",null,null,null,null,0,null,0,0,null,null,1,0.7,1,31.75,40.251779999999997]
["VC-06L1A26C242","12\" LONGUEUR",null,0,0,"verif.comp.20-12-05 LM",null,null,0,1,"CH","Material","Manufactured","IN10V6-8","C","Actual","Average",0,35.408169999999998,10,9,"LB",0,0,0,0,0,0,0,0,0,null,0,1,"IND",0,0,0,1,"   ",null,"Job","   ",1,"   ",null,null,0,0,0,0,0,0,0,null,0,"     ",0,"     ","     ",1,1,0,"No Time Fence",0,null,1,1,"    5,000.00",5,0,"        ","        ",null,0,null,0,null,"    ",null,"LOC","Active",null,null,null,1,"A102",null,0,0,0,0,null,"   ","   ",0,0,"   ",null,null,null,null,null,null,null,0,0,0,0,"        ",0,0,"Never",null,0,null,null,null,null,1,"7306.40.50.15",null,null,null,null,0,null,0,0,null,null,1,0.5,1,0,35.408169999999998]
["VC-06L1A26C244","12\" LONGUEUR #",null,0,0,"verif.comp.20-12-05 LM",null,null,0,1,"CH","Material","Manufactured","IN10V6-8","C","Actual","Average",0,48.174349999999997,10,11,"LB",0,0,0,0,0,0,0,0,0,null,0,1,"IND",0,0,0,1,"   ",null,"Job","   ",1,"   ",null,null,0,0,0,0,0,0,0,null,0,"     ",0,"     ","     ",1,1,0,"No Time Fence",0,null,1,1,5,5,0,"        ","        ",null,0,null,0,null,"    ",null,"LOC","Active",null,null,null,1,"A102",null,0,0,0,0,null,"   ","   ",0,0,"   ",null,null,null,null,null,null,null,0,0,0,0,"        ",0,0,"Never",null,0,null,null,null,null,1,"7306.40.50.15",null,null,null,null,0,null,0,0,null,null,1,0.7,1,0,48.174349999999997]
["VC-06L1A26C261","12\" LONGUEUR #",null,0,0,null,null,null,0,1,"CH","Material","Manufactured","IN10V6-8","C","Actual","Average",0,0,10,9,"LB",0,0,0,0,0,0,0,0,0,null,0,1,"IND",0,0,0,0,"   ",null,"Job","   ",1,"   ",null,null,0,0,0,0,0,0,0,null,0,"     ",0,"     ","     ",1,1,0,"No Time Fence",0,null,1,1,"    5,000.00",5,0,"        ","        ",null,0,null,0,null,"    ",null,"LOC","Active",null,null,null,1,"A102",null,0,0,0,0,null,"   ","   ",0,0,"   ",null,null,null,null,null,null,null,0,0,0,0,"        ",0,0,"Never",null,0,null,null,null,null,1,"7306.40.50.15",null,null,null,null,0,null,0,0,null,null,1,0.5,1,0,0]
["VC-06L1B20A201","12\" LONGUEUR",null,0,0,null,null,null,0,1,"CH","Material","Manufactured","IN10V6-8","C","Actual","Average",0,0,10,9,"LB",0,0,0,0,0,0,0,0,0,null,0,1,"IND",0,0,0,0,"   ",null,"Job","   ",1,"   ",null,null,0,0,0,0,0,0,0,null,0,"     ",0,"     ","     ",1,1,0,"No Time Fence",0,null,1,1,5,5,0,"        ","        ",null,0,null,0,null,"    ",null,"LOC","Active",null,null,null,1,"A102",null,0,0,0,0,null,"   ","   ",0,0,"   ",null,null,null,null,null,null,null,0,0,0,0,0,0,0,"Never",null,0,null,null,null,null,1,"7306.40.50.15",null,null,null,null,0,null,0,0,null,"0 - None",1,0.7,1,0,0]
["VC-06L1B20A202","12\" LONGUEUR #",null,0,0,null,null,null,0,1,"CH","Material","Manufactured","IN10V6-8","C","Actual","Average",0,0,10,8,"LB",0,0,0,0,0,0,0,0,0,null,0,1,"IND",0,0,0,0,"   ",null,"Job","   ",1,"   ",null,null,0,0,0,0,0,0,0,null,0,"     ",0,"     ","     ",1,1,0,"No Time Fence",0,null,1,1,5,5,0,"        ","        ",null,0,null,0,null,"    ",null,"LOC","Active",null,null,null,1,"A102",null,0,0,0,0,null,"   ","   ",0,0,"   ",null,null,null,null,null,null,null,0,0,0,0,0,0,0,"Never",null,0,null,null,null,null,1,"7306.40.50.15",null,null,null,null,0,null,0,0,null,"0 - None",1,0.7,1,0,0]
["VC-06L1B20A241","12\" LONGUEUR #",null,0,0,"verif.comp.20-12-05 LM",null,null,0,1,"CH","Material","Manufactured","IN10V6-8","C","Actual","Average",26.998280000000001,27.093509999999998,10,7,"LB",0,0,0,0,0,0,0,0,0,null,0,1,"IND",0,0,0,1,"   ",null,"Job","   ",1,"   ",null,null,0,0,0,0,0,0,0,null,0,"     ",0,"     ","     ",1,1,0,"No Time Fence",0,null,1,1,"    5,000.00",5,0,"        ","        ",null,0,null,0,null,"    ",null,"LOC","Active",null,null,null,1,"A102",null,0,0,0,0,null,"   ","   ",0,0,"   ",null,null,null,null,null,null,null,0,0,0,0,"        ",0,0,"Never",null,0,null,null,null,null,1,"7306.40.50.15",null,null,null,null,0,null,0,0,null,null,1,0.5,1,26.998280000000001,27.093509999999998]
["VC-06L1B20A242","12\" LONGUEUR",null,0,0,"verif.comp.20-12-05 LM",null,null,0,1,"CH","Material","Manufactured","IN10V6-8","C","Actual","Average",37.97625,38.266889999999997,10,8,"LB",0,0,0,0,0,0,0,0,0,null,0,1,"IND",0,0,0,1,"   ",null,"Job","   ",1,"   ",null,null,0,0,0,0,0,0,0,null,0,"     ",0,"     ","     ",1,1,0,"No Time Fence",0,null,1,1,5,5,0,"        ","        ",null,0,null,0,null,"    ",null,"LOC","Active",null,null,null,1,"A102",null,0,0,0,0,null,"   ","   ",0,0,"   ",null,null,null,null,null,null,null,0,1,0,1,"        ",0,0,"Never",null,0,null,null,null,null,1,"7306.40.50.15",null,null,null,null,0,null,0,0,null,null,1,0.7,1,37.97625,38.266889999999997]
["VC-06L1B20A261","12\" LONGUEUR",null,0,0,"verif.comp.20-12-05 LM",null,null,0,1,"CH","Material","Manufactured","IN10V6-8","C","Actual","Average",0,0,10,8,"LB",0,0,0,0,0,0,0,0,0,null,0,1,"IND",0,0,0,0,"   ",null,"Job","   ",1,"   ",null,null,0,0,0,0,0,0,0,null,0,"     ",0,"     ","     ",1,1,0,"No Time Fence",0,null,1,1,5,5,0,"        ","        ",null,0,null,0,null,"    ",null,"LOC","Active",null,null,null,1,"A102",null,0,0,0,0,null,"   ","   ",0,0,"   ",null,null,null,null,null,null,null,0,0,0,0,0,0,0,"Never",null,0,null,null,null,null,1,"7306.40.50.15",null,null,null,null,0,null,0,0,null,"0 - None",1,0.7,1,0,0]
["VC-06L1B20A262","12\" LONGUEUR",null,0,0,"verif.comp.20-12-05 LM",null,null,0,1,"CH","Material","Manufactured","IN10V6-8","C","Actual","Average",31.65,30.731400000000001,10,7,"LB",0,0,0,0,0,0,0,0,0,null,0,1,"IND",0,0,0,1,"   ",null,"Job","   ",1,"   ",null,null,0,0,0,0,0,0,0,null,0,"     ",0,"     ","     ",1,1,0,"No Time Fence",0,null,1,1,"    5,000.00",5,0,"        ","        ",null,0,null,0,null,"    ",null,"LOC","Active",null,null,null,1,"A102",null,0,0,0,0,null,"   ","   ",0,0,"   ",null,null,null,null,null,null,null,0,0,0,0,"        ",0,0,"Never",null,0,null,null,null,null,1,"7306.40.50.15",null,null,null,null,0,null,0,0,null,null,1,0.5,1,31.65,30.731400000000001]
["VC-06L1B20B201","12\" LONGUEUR",null,0,0,"verif.comp.20-12-05 LM",null,null,0,1,"CH","Material","Manufactured","IN10V6-8","C","Actual","Average",0,42.917839999999998,10,9,"LB",0,0,0,0,0,0,0,0,0,null,0,1,"IND",0,0,0,1,"   ",null,"Job","   ",1,"   ",null,null,0,0,0,0,0,0,0,null,0,"     ",0,"     ","     ",1,1,0,"No Time Fence",0,null,1,1,5,5,0,"        ","        ",null,0,null,0,null,"    ",null,"LOC","Active",null,null,null,1,"A102",null,0,0,0,0,null,"   ","   ",0,0,"   ",null,null,null,null,null,null,null,0,0,0,0,"        ",0,0,"Never",null,0,null,null,null,null,1,"7306.40.50.15",null,null,null,null,0,null,0,0,null,null,1,0.7,1,0,42.917839999999998]
["VC-06L1B20B202","12\" LONGUEUR",null,0,0,null,null,null,0,1,"CH","Material","Manufactured","IN10V6-8","C","Actual","Average",0,0,10,23,"LB",0,0,0,0,0,0,0,0,0,null,0,1,"IND",0,0,0,0,"   ",null,"Job","   ",1,"   ",null,null,0,0,0,0,0,0,0,null,0,"     ",0,"     ","     ",1,1,0,"No Time Fence",0,null,1,1,"    5,000.00",5,0,"        ","        ",null,0,null,0,null,"    ",null,"LOT","Active",null,null,null,1,"A102",null,0,0,0,0,null,"   ","   ",0,0,"   ",null,null,null,null,null,null,null,0,0,0,0,"        ",0,0,"Never",null,0,null,null,null,null,1,"7306.40.50.15",null,null,null,null,0,null,0,0,null,null,1,1.77,1,0,0]
["VC-06L1B20B241","12\" LONGUEUR#",null,0,0,"verif.comp.20-12-05 LM",null,null,0,1,"CH","Material","Manufactured","IN10V6-8","C","Actual","Average",0,24.921320000000001,10,7,"LB",0,0,0,0,0,0,0,0,0,null,0,1,"IND",0,0,0,1,"   ",null,"Job","   ",1,"   ",null,null,0,0,0,0,0,0,0,null,0,"     ",0,"     ","     ",1,1,0,"No Time Fence",0,null,1,1,"    5,000.00",5,0,"        ","        ",null,0,null,0,null,"    ",null,"LOC","Active",null,null,null,1,"A102",null,0,0,0,0,null,"   ","   ",0,0,"   ",null,null,null,null,null,null,null,0,0,0,0,"        ",0,0,"Never",null,0,null,null,null,null,1,"7306.40.50.15",null,null,null,null,0,null,0,0,null,null,1,0.5,1,0,24.921320000000001]
["VC-06L1B20B242","12\" LONGUEUR #",null,0,0,"verif.comp.20-12-05 LM",null,null,0,1,"CH","Material","Manufactured","IN10V6-8","C","Actual","Average",0,35.615720000000003,10,9,"LB",0,0,0,0,0,0,0,0,0,null,0,1,"IND",0,0,0,1,"   ",null,"Job","   ",1,"   ",null,null,0,0,0,0,0,0,0,null,0,"     ",0,"     ","     ",1,1,0,"No Time Fence",0,null,1,1,5,5,0,"        ","        ",null,0,null,0,null,"    ",null,"LOC","Active",null,null,null,1,"A102",null,0,0,0,0,null,"   ","   ",0,0,"   ",null,null,null,null,null,null,null,0,0,0,0,"        ",0,0,"Never",null,0,null,null,null,null,1,"7306.40.50.15",null,null,null,null,0,null,0,0,null,null,1,0.7,1,0,35.615720000000003]
["VC-06L1B24A242","12\" LONGUEUR #",null,0,0,"verif.comp.22-12-05 LM",null,null,0,1,"CH","Material","Manufactured","IN10V6-8","C","Actual","Average",0,38.755949999999999,10,15,"LB",0,0,0,0,0,0,0,0,0,null,0,1,"IND",0,0,0,1,"   ",null,"Job","   ",1,"   ",null,null,0,0,0,0,0,0,0,null,0,"     ",0,"     ","     ",1,1,0,"No Time Fence",0,null,1,1,"    5,000.00",5,0,"        ","        ",null,0,null,0,null,"    ",null,"LOC","Active",null,null,null,1,"A102",null,0,0,0,0,null,"   ","   ",0,0,"   ",null,null,null,null,null,null,null,0,0,0,0,"        ",0,0,"Never",null,0,null,null,null,null,1,"7306.40.50.15",null,null,null,null,0,null,0,0,null,null,1,0.9,1,0,38.755949999999999]
["VC-06L1B24A261","12\" LONGUEUR",null,0,0,"verif.comp.22-12-05 LM",null,null,0,1,"CH","Material","Manufactured","IN10V6-8","C","Actual","Average",0,53.087569999999999,10,19,"LB",0,0,0,0,0,0,0,0,0,null,0,1,"IND",0,0,0,1,"   ",null,"Job","   ",1,"   ",null,null,0,0,0,0,0,0,0,null,0,"     ",0,"     ","     ",1,1,0,"No Time Fence",0,null,1,1,5,5,0,"        ","        ",null,0,null,0,null,"    ",null,"LOC","Active",null,null,null,1,"A102",null,0,0,0,0,null,"   ","   ",0,0,"   ",null,null,null,null,null,null,null,0,0,0,0,"        ",0,0,"Never",null,0,null,null,null,null,1,"7306.40.50.15",null,null,null,null,0,null,0,0,null,null,1,1.5,1,0,53.087569999999999]
["VC-06L1B24A262","12\" LONGUEUR",null,0,0,null,null,null,0,1,"CH","Material","Manufactured","IN10V6-8","C","Actual","Average",0,0,10,15,"LB",0,0,0,0,0,0,0,0,0,null,0,1,"IND",0,0,0,0,"   ",null,"Job","   ",1,"   ",null,null,0,0,0,0,0,0,0,null,0,"     ",0,"     ","     ",1,1,0,"No Time Fence",0,null,1,1,"    5,000.00",5,0,"        ","        ",null,0,null,0,null,"    ",null,"LOC","Active",null,null,null,1,"A102",null,0,0,0,0,null,"   ","   ",0,0,"   ",null,null,null,null,null,null,null,0,0,0,0,"        ",0,0,"Never",null,0,null,null,null,null,1,"7306.40.50.15",null,null,null,null,0,null,0,0,null,null,1,0.9,1,0,0]
["VC-06L1B24A264","12\" LONGUEUR#",null,0,0,"11-03-2009 MT",null,null,0,1,"CH","Material","Manufactured","IN10V6-8","C","Actual","Average",51.730980000000002,48.882480000000001,10,15,"LB",0,0,0,0,0,0,0,0,0,null,0,1,"IND",0,0,0,1,"   ",null,"Job","   ",1,"   ",null,null,0,0,0,0,0,0,0,null,0,"     ",0,"     ","     ",1,1,0,"No Time Fence",0,null,1,1,5,5,0,"        ","        ",null,0,null,0,null,"    ",null,"LOC","Active",null,null,null,1,"A102",null,0,0,0,0,null,"   ","   ",0,0,"   ",null,null,null,null,null,null,null,0,0,0,0,"        ",0,0,"Never",null,0,null,null,null,null,1,"7306.40.50.15",null,null,null,null,0,null,0,0,null,null,1,1.5,1,51.730980639999999,48.882480000000001]
["VC-06L1B24B241","12\" LONGUEUR",null,0,0,"verif.comp.22-12-05 LM",null,null,0,1,"CH","Material","Manufactured","IN10V6-8","C","Actual","Average",0,33.620080000000002,10,12,"LB",0,0,0,0,0,0,0,0,0,null,0,1,"IND",0,0,0,1,"   ",null,"Job","   ",1,"   ",null,null,0,0,0,0,0,0,0,null,0,"     ",0,"     ","     ",1,1,0,"No Time Fence",0,null,1,1,"    5,000.00",5,0,"        ","        ",null,0,null,0,null,"    ",null,"LOC","Active",null,null,null,1,"A102",null,0,0,0,0,null,"   ","   ",0,0,"   ",null,null,null,null,null,null,null,0,0,0,0,"        ",0,0,"Never",null,0,null,null,null,null,1,"7306.40.50.15",null,null,null,null,0,null,0,0,null,null,1,0.9,1,0,33.620080000000002]
["VC-06L1B24B242","12\" LONGUEUR",null,0,0,"verif.comp.22-12-05 LM",null,null,0,1,"CH","Material","Manufactured","IN10V6-8","C","Actual","Average",0,46.77861,10,15,"LB",0,0,0,0,0,0,0,0,0,null,0,1,"IND",0,0,0,1,"   ",null,"Job","   ",1,"   ",null,null,0,0,0,0,0,0,0,null,0,"     ",0,"     ","     ",1,1,0,"No Time Fence",0,null,1,1,5,5,0,"        ","        ",null,0,null,0,null,"    ",null,"LOC","Active",null,null,null,1,"A102",null,0,0,0,0,null,"   ","   ",0,0,"   ",null,null,null,null,null,null,null,0,0,0,0,"        ",0,0,"Never",null,0,null,null,null,null,1,"7306.40.50.15",null,null,null,null,0,null,0,0,null,null,1,1.5,1,0,46.77861]
["VC-06L1B24B244","12\" LONGUEUR #",null,0,0,"verif.comp.22-12-05 LM",null,null,0,1,"CH","Material","Manufactured","IN10V6-8","C","Actual","Average",0,31.318090000000002,10,15,"LB",0,0,0,0,0,0,0,0,0,null,0,1,"IND",0,0,0,1,"   ",null,"Job","   ",1,"   ",null,null,0,0,0,0,0,0,0,null,0,"     ",0,"     ","     ",1,1,0,"No Time Fence",0,null,1,1,"    5,000.00",5,0,"        ","        ",null,0,null,0,null,"    ",null,"LOC","Active",null,null,null,1,"A102",null,0,0,0,0,null,"   ","   ",0,0,"   ",null,null,null,null,null,null,null,0,0,0,0,"        ",0,0,"Never",null,0,null,null,null,null,1,"7306.40.50.15",null,null,null,null,0,null,0,0,null,null,1,0.9,1,0,31.318090000000002]
["VC-06L1B24C241","12\" LONGUEUR",null,0,0,"verif.comp.22-12-05 LM",null,null,0,1,"CH","Material","Manufactured","IN10V6-8","C","Actual","Average",0,43.825150000000001,10,19,"LB",0,0,0,0,0,0,0,0,0,null,0,1,"IND",0,0,0,1,"   ",null,"Job","   ",1,"   ",null,null,0,0,0,0,0,0,0,null,0,"     ",0,"     ","     ",1,1,0,"No Time Fence",0,null,1,1,5,5,0,"        ","        ",null,0,null,0,null,"    ",null,"LOC","Active",null,null,null,1,"A102",null,0,0,0,0,null,"   ","   ",0,0,"   ",null,null,null,null,null,null,null,0,0,0,0,"        ",0,0,"Never",null,0,null,null,null,null,1,"7306.40.50.15",null,null,null,null,0,null,0,0,null,null,1,1.5,1,0,43.825150000000001]
["VC-06L1B24C242","12\" LONGUEUR",null,0,0,"verif.comp.22-12-05 LM",null,null,0,1,"CH","Material","Manufactured","IN10V6-8","C","Actual","Average",0,30.08426,10,13,"LB",0,0,0,0,0,0,0,0,0,null,0,1,"IND",0,0,0,1,"   ",null,"Job","   ",1,"   ",null,null,0,0,0,0,0,0,0,null,0,"     ",0,"     ","     ",1,1,0,"No Time Fence",0,null,1,1,"    5,000.00",5,0,"        ","        ",null,0,null,0,null,"    ",null,"LOC","Active",null,null,null,1,"A102",null,0,0,0,0,null,"   ","   ",0,0,"   ",null,null,null,null,null,null,null,0,0,0,0,"        ",0,0,"Never",null,0,null,null,null,null,1,"7306.40.50.15",null,null,null,null,0,null,0,0,null,null,1,0.9,1,0,30.08426]
["VC-06L2A20A201","24\" LONGUEUR",null,0,0,"verif.comp.22-12-05 LM",null,null,0,1,"CH","Material","Manufactured","IN10V6-8","C","Actual","Average",0,42.400590000000001,10,17,"LB",0,0,0,0,0,0,0,0,0,null,0,1,"IND",0,0,0,1,"   ",null,"Job","   ",1,"   ",null,null,0,0,0,0,0,0,0,null,0,"     ",0,"     ","     ",1,1,0,"No Time Fence",0,null,1,1,5,5,0,"        ","        ",null,0,null,0,null,"    ",null,"LOC","Active",null,null,null,1,"A102",null,0,0,0,0,null,"   ","   ",0,0,"   ",null,null,null,null,null,null,null,0,0,0,0,"        ",0,0,"Never",null,0,null,null,null,null,1,"7306.40.50.15",null,null,null,null,0,null,0,0,null,null,1,1.5,1,0,42.400590000000001]
["VC-06L2A20A202","24\" LONGUEUR",null,0,0,"verif.comp.22-12-05 LM",null,null,0,1,"CH","Material","Manufactured","IN10V6-8","C","Actual","Average",30.05,29.986519999999999,10,10,"LB",0,0,0,0,0,0,0,0,0,null,0,1,"IND",0,0,0,1,"   ",null,"Job","   ",1,"   ",null,null,0,0,0,0,0,0,0,null,0,"     ",0,"     ","     ",1,1,0,"No Time Fence",0,null,1,1,"    5,000.00",5,0,"        ","        ",null,0,null,0,null,"    ",null,"LOC","Active",null,null,null,1,"A102",null,0,0,0,0,null,"   ","   ",0,0,"   ",null,null,null,null,null,null,null,0,11,0,11,"        ",0,0,"Never",null,0,null,null,null,null,1,"7306.40.50.15",null,null,null,null,0,null,0,0,null,null,1,0.9,1,30.05,29.986519999999999]
["VC-06L2A20A204","24\" LONGUEUR #",null,0,0,"verif.comp.22-12-05 LM",null,null,0,1,"CH","Material","Manufactured","IN10V6-8","C","Actual","Average",44.015000000000001,43.124420000000001,10,13,"LB",0,0,0,0,0,0,0,0,0,null,0,1,"IND",0,0,0,1,"   ",null,"Job","   ",1,"   ",null,null,0,0,0,0,0,0,0,null,0,"     ",0,"     ","     ",1,1,0,"No Time Fence",0,null,1,1,5,5,0,"        ","        ",null,0,null,0,null,"    ",null,"LOC","Active",null,null,null,1,"A102",null,0,0,0,0,null,"   ","   ",0,0,"   ",null,null,null,null,null,null,null,0,0,0,0,"        ",0,0,"Never",null,0,null,null,null,null,1,"7306.40.50.15",null,null,null,null,0,null,0,0,null,null,1,1.5,1,44.015000000000001,43.124420000000001]
["VC-06L2A20A241","24\" LONGUEUR #",null,0,0,"27-01-2012 MT",null,null,0,1,"CH","Material","Manufactured","IN10V6-8","C","Actual","Average",0,56.944380000000002,10,13,"LB",0,0,0,0,0,0,0,0,0,null,0,1,"IND",0,0,0,1,"   ",null,"Job","   ",1,"   ",null,null,0,0,0,0,0,0,0,null,0,"     ",0,"     ","     ",1,1,0,"No Time Fence",0,null,1,1,5,5,0,"        ","        ",null,0,null,0,null,"    ",null,"LOC","Active",null,null,null,1,"A102",null,0,0,0,0,null,"   ","   ",0,0,"   ",null,null,null,null,null,null,null,0,0,0,0,"        ",0,0,"Never",null,0,null,null,null,null,1,"7306.40.50.15",null,null,null,null,0,null,0,0,null,null,1,1.5,1,0,56.944380000000002]
["VC-06L2A20A242","24\" LONGUEUR",null,0,0,"verif.comp.22-12-05 LM",null,null,0,1,"CH","Material","Manufactured","IN10V6-8","C","Actual","Average",26.61,26.450700000000001,10,11,"LB",0,0,0,0,0,0,0,0,0,null,0,1,"IND",0,0,0,1,"   ",null,"Job","   ",1,"   ",null,null,0,0,0,0,0,0,0,null,0,"     ",0,"     ","     ",1,1,0,"No Time Fence",0,null,1,1,"    5,000.00",5,0,"        ","        ",null,0,null,0,null,"    ",null,"LOC","Active",null,null,null,1,"A102",null,0,0,0,0,null,"   ","   ",0,0,"   ",null,null,null,null,null,null,null,0,0,0,0,"        ",0,0,"Never",null,0,null,null,null,null,1,"7306.40.50.15",null,null,null,null,0,null,0,0,null,null,1,0.9,1,26.61,26.450700000000001]
["VC-06L2A20A261","24\" LONGUEUR",null,0,0,"verif.comp.22-12-05 LM",null,null,0,1,"CH","Material","Manufactured","IN10V6-8","C","Actual","Average",0,38.767029999999998,10,15,"LB",0,0,0,0,0,0,0,0,0,null,0,1,"IND",0,0,0,1,"   ",null,"Job","   ",1,"   ",null,null,0,0,0,0,0,0,0,null,0,"     ",0,"     ","     ",1,1,0,"No Time Fence",0,null,1,1,5,5,0,"        ","        ",null,0,null,0,null,"    ",null,"LOC","Active",null,null,null,1,"A102",null,0,0,0,0,null,"   ","   ",0,0,"   ",null,null,null,null,null,null,null,0,0,0,0,"        ",0,0,"Never",null,0,null,null,null,null,1,"7306.40.50.15",null,null,null,null,0,null,0,0,null,null,1,1.5,1,0,38.767029999999998]
["VC-06L2A20A262","24\" LONGUEUR",null,0,0,null,null,null,0,1,"CH","Material","Manufactured","IN10V6-8","C","Actual","Average",0,0,10,11,"LB",0,0,0,0,0,0,0,0,0,null,0,1,"IND",0,0,0,0,"   ",null,"Job","   ",1,"   ",null,null,0,0,0,0,0,0,0,null,0,"     ",0,"     ","     ",1,1,0,"No Time Fence",0,null,1,1,"    5,000.00",5,0,"        ","        ",null,0,null,0,null,"    ",null,"LOC","Active",null,null,null,1,"A102",null,0,0,0,0,null,"   ","   ",0,0,"   ",null,null,null,null,null,null,null,0,0,0,0,0,0,0,"Never",null,0,null,null,null,null,1,"7306.40.50.15",null,null,null,null,0,null,0,0,null,"0 - None",1,0.9,1,0,0]
["VC-06L2A20C221","24\" LONGUEUR",null,0,0,"08/07/2009 MT",null,null,0,1,"CH","Material","Manufactured","IN10V6-8","C","Actual","Average",0,43.805100000000003,10,19,"LB",0,0,0,0,0,0,0,0,0,null,0,1,"IND",0,0,0,1,"   ",null,"Job","   ",1,"   ",null,null,0,0,0,0,0,0,0,null,0,"     ",0,"     ","     ",1,1,0,"No Time Fence",0,null,1,1,5,5,0,"        ","        ",null,0,null,0,null,"    ",null,"LOC","Active",null,null,null,1,"A102",null,0,0,0,0,null,"   ","   ",0,0,"   ",null,null,null,null,null,null,null,0,0,0,0,0,0,0,"Never",null,0,null,null,null,null,1,"7306.40.50.15",null,null,null,null,0,null,0,0,null,"0 - None",1,1.5,1,0,43.805100000000003]
["VC-06L2A20C222","24\" LONGUEUR",null,0,0,"15-09-06 LM",null,null,0,1,"CH","Material","Manufactured","IN10V6-8","C","Actual","Average",0,0,10,11,"LB",0,0,0,0,0,0,0,0,0,null,0,1,"IND",0,0,0,0,"   ",null,"Job","   ",1,"   ",null,null,0,0,0,0,0,0,0,null,0,"     ",0,"     ","     ",1,1,0,"No Time Fence",0,null,1,1,"    5,000.00",5,0,"        ","        ",null,0,null,0,null,"    ",null,"LOC","Active",null,null,null,1,"A102",null,0,0,0,0,null,"   ","   ",0,0,"   ",null,null,null,null,null,null,null,0,0,0,0,0,0,0,"Never",null,0,null,null,null,null,1,"7306.40.50.15",null,null,null,null,0,null,0,0,null,"0 - None",1,0.9,1,0,0]
["VC-06L2A20C241","24\" LONGUEUR",null,0,0,"22-07-2009 MT",null,null,0,1,"CH","Material","Manufactured","IN10V6-8","C","Actual","Average",0,0,10,19,"LB",0,0,0,0,0,0,0,0,0,null,0,1,"IND",0,0,0,0,"   ",null,"Job","   ",1,"   ",null,null,0,0,0,0,0,0,0,null,0,"     ",0,"     ","     ",1,1,0,"No Time Fence",0,null,1,1,5,5,0,"        ","        ",null,0,null,0,null,"    ",null,"LOC","Active",null,null,null,1,"A102",null,0,0,0,0,null,"   ","   ",0,0,"   ",null,null,null,null,null,null,null,0,0,0,0,0,0,0,"Never",null,0,null,null,null,null,1,"7306.40.50.15",null,null,null,null,0,null,0,0,null,"0 - None",1,1.5,1,0,0]
["VC-06L2A20C242","24\" LONGUEUR",null,0,0,"15-09-06 LM",null,null,0,1,"CH","Material","Manufactured","IN10V6-8","C","Actual","Average",18.734999999999999,38.751420000000003,10,11,"LB",0,0,0,0,0,0,0,0,0,null,0,1,"IND",0,0,0,1,"   ",null,"Job","   ",1,"   ",null,null,0,0,0,0,0,0,0,null,0,"     ",0,"     ","     ",1,1,0,"No Time Fence",0,null,1,1,"    5,000.00",5,0,"        ","        ",null,0,null,0,null,"    ",null,"LOC","Active",null,null,null,1,"A102",null,0,0,0,0,null,"   ","   ",0,0,"   ",null,null,null,null,null,null,null,0,0,0,0,"        ",0,0,"Never",null,0,null,null,null,null,1,"7306.40.50.15",null,null,null,null,0,null,0,0,null,null,1,0.9,1,18.734999999999999,38.751420000000003]
["VC-06L2A26A261","24\" LONGUEUR",null,0,0,"22-07-2009 MT",null,null,0,1,"CH","Material","Manufactured","IN10V6-8","C","Actual","Average",42.774999999999999,52.026719999999997,10,19,"LB",0,0,0,0,0,0,0,0,0,null,0,1,"IND",0,0,0,1,"   ",null,"Job","   ",1,"   ",null,null,0,0,0,0,0,0,0,null,0,"     ",0,"     ","     ",1,1,0,"No Time Fence",0,null,1,1,5,5,0,"        ","        ",null,0,null,0,null,"    ",null,"LOC","Active",null,null,null,1,"A102",null,0,0,0,0,null,"   ","   ",0,0,"   ",null,null,null,null,null,null,null,0,0,0,0,"        ",0,0,"Never",null,0,null,null,null,null,1,"7306.40.50.15",null,null,null,null,0,null,0,0,null,null,1,1.5,1,42.774999999999999,52.026719999999997]
["VC-06L2A26A262","24\" LONGUEUR",null,0,0,"verif.comp.22-12-05 LM",null,null,0,1,"CH","Material","Manufactured","IN10V6-8","C","Actual","Average",0,51.659759999999999,10,15,"LB",0,0,0,0,0,0,0,0,0,null,0,1,"IND",0,0,0,1,"   ",null,"Job","   ",1,"   ",null,null,0,0,0,0,0,0,0,null,0,"     ",0,"     ","     ",1,1,0,"No Time Fence",0,null,1,1,"    5,000.00",5,0,"        ","        ",null,0,null,0,null,"    ",null,"LOC","Active",null,null,null,1,"A102",null,0,0,0,0,null,"   ","   ",0,0,"   ",null,null,null,null,null,null,null,0,0,0,0,"        ",0,0,"Never",null,0,null,null,null,null,1,"7306.40.50.15",null,null,null,null,0,null,0,0,null,null,1,0.9,1,0,51.659759999999999]
["VC-06L2A26A264","24\" LONGUEUR",null,0,0,"verif.comp.22-12-05 LM",null,null,0,1,"CH","Material","Manufactured","IN10V6-8","C","Actual","Average",0,67.898399999999995,10,19,"LB",0,0,0,0,0,0,0,0,0,null,0,1,"IND",0,0,0,1,"   ",null,"Job","   ",1,"   ",null,null,0,0,0,0,0,0,0,null,0,"     ",0,"     ","     ",1,1,0,"No Time Fence",0,null,1,1,5,5,0,"        ","        ",null,0,null,0,null,"    ",null,"LOC","Active",null,null,null,1,"A102",null,0,0,0,0,null,"   ","   ",0,0,"   ",null,null,null,null,null,null,null,0,0,0,0,"        ",0,0,"Never",null,0,null,null,null,null,1,"7306.40.50.15",null,null,null,null,0,null,0,0,null,null,1,1.5,1,0,67.898399999999995]
["VC-06L2A26C241","24\" LONGUEUR",null,0,0,null,null,null,0,1,"CH","Material","Manufactured","IN10V6-8","C","Actual","Average",0,0,10,15,"LB",0,0,0,0,0,0,0,0,0,null,0,1,"IND",0,0,0,0,"   ",null,"Job","   ",1,"   ",null,null,0,0,0,0,0,0,0,null,0,"     ",0,"     ","     ",1,1,0,"No Time Fence",0,null,1,1,"    5,000.00",5,0,"        ","        ",null,0,null,0,null,"    ",null,"LOC","Active",null,null,null,1,"A102",null,0,0,0,0,null,"   ","   ",0,0,"   ",null,null,null,null,null,null,null,0,0,0,0,"        ",0,0,"Never",null,0,null,null,null,null,1,"7306.40.50.15",null,null,null,null,0,null,0,0,null,null,1,0.9,1,0,0]
["VC-06L2A26C242","24\" LONGUEUR",null,0,0,null,null,null,0,1,"CH","Material","Manufactured","IN10V6-8","C","Actual","Average",0,0,10,16,"LB",0,0,0,0,0,0,0,0,0,null,0,1,"IND",0,0,0,0,"   ",null,"Job","   ",1,"   ",null,null,0,0,0,0,0,0,0,null,0,"     ",0,"     ","     ",1,1,0,"No Time Fence",0,null,1,1,5,5,0,"        ","        ",null,0,null,0,null,"    ",null,"LOC","Active",null,null,null,1,"A102",null,0,0,0,0,null,"   ","   ",0,0,"   ",null,null,null,null,null,null,null,0,0,0,0,0,0,0,"Never",null,0,null,null,null,null,1,"7306.40.50.15",null,null,null,null,0,null,0,0,null,"0 - None",1,1.5,1,0,0]
["VC-06L2A26C244","24\" LONGUEUR #",null,0,0,null,null,null,0,1,"CH","Material","Manufactured","IN10V6-8","C","Actual","Average",0,0,10,14,"LB",0,0,0,0,0,0,0,0,0,null,0,1,"IND",0,0,0,0,"   ",null,"Job","   ",1,"   ",null,null,0,0,0,0,0,0,0,null,0,"     ",0,"     ","     ",1,1,0,"No Time Fence",0,null,1,1,5,5,0,"        ","        ",null,0,null,0,null,"    ",null,"LOC","Active",null,null,null,1,"A102",null,0,0,0,0,null,"   ","   ",0,0,"   ",null,null,null,null,null,null,null,0,0,0,0,0,0,0,"Never",null,0,null,null,null,null,1,"7306.40.50.15",null,null,null,null,0,null,0,0,null,"0 - None",1,1.5,1,0,0]
["VC-06L2B20A201","24\" LONGUEUR",null,0,0,"verif.comp.22-12-05 LM",null,null,0,1,"CH","Material","Manufactured","IN10V6-8","C","Actual","Average",0,34.933199999999999,10,11,"LB",0,0,0,0,0,0,0,0,0,null,0,1,"IND",0,0,0,1,"   ",null,"Job","   ",1,"   ",null,null,0,0,0,0,0,0,0,null,0,"     ",0,"     ","     ",1,1,0,"No Time Fence",0,null,1,1,"    5,000.00",5,0,"        ","        ",null,0,null,0,null,"    ",null,"LOC","Active",null,null,null,1,"A102",null,0,0,0,0,null,"   ","   ",0,0,"   ",null,null,null,null,null,null,null,0,1,0,1,"        ",0,0,"Never",null,0,null,null,null,null,1,"7306.40.50.15",null,null,null,null,0,null,0,0,null,null,1,0.9,1,0,34.933199999999999]
["VC-06L2B20A202","24\" LONGUEUR #",null,0,0,"verif.comp.22-12-05 LM",null,null,0,1,"CH","Material","Manufactured","IN10V6-8","C","Actual","Average",0,48.071100000000001,10,14,"LB",0,0,0,0,0,0,0,0,0,null,0,1,"IND",0,0,0,1,"   ",null,"Job","   ",1,"   ",null,null,0,0,0,0,0,0,0,null,0,"     ",0,"     ","     ",1,1,0,"No Time Fence",0,null,1,1,5,5,0,"        ","        ",null,0,null,0,null,"    ",null,"LOC","Active",null,null,null,1,"A102",null,0,0,0,0,null,"   ","   ",0,0,"   ",null,null,null,null,null,null,null,0,0,0,0,"        ",0,0,"Never",null,0,null,null,null,null,1,"7306.40.50.15",null,null,null,null,0,null,0,0,null,null,1,1.5,1,0,48.071100000000001]
["VC-06L2B20A241","24\" LONGUEUR #",null,0,0,"verif.comp.22-12-05 LM",null,null,0,1,"CH","Material","Manufactured","IN10V6-8","C","Actual","Average",0,0,10,14,"LB",0,0,0,0,0,0,0,0,0,null,0,1,"IND",0,0,0,0,"   ",null,"Job","   ",1,"   ",null,null,0,0,0,0,0,0,0,null,0,"     ",0,"     ","     ",1,1,0,"No Time Fence",0,null,1,1,5,5,0,"        ","        ",null,0,null,0,null,"    ",null,"LOC","Active",null,null,null,1,"A102",null,0,0,0,0,null,"   ","   ",0,0,"   ",null,null,null,null,null,null,null,0,0,0,0,0,0,0,"Never",null,0,null,null,null,null,1,"7306.40.50.15",null,null,null,null,0,null,0,0,null,"0 - None",1,1.5,1,0,0]
["VC-06L2B20A242","24\" LONGUEUR",null,0,0,"verif.comp.22-12-05 LM",null,null,0,1,"CH","Material","Manufactured","IN10V6-8","C","Actual","Average",49.16,42.397539999999999,10,12,"LB",0,0,0,0,0,0,0,0,0,null,0,1,"IND",0,0,0,1,"   ",null,"Job","   ",1,"   ",null,null,0,0,0,0,0,0,0,null,0,"     ",0,"     ","     ",1,1,0,"No Time Fence",0,null,1,1,"    5,000.00",5,0,"        ","        ",null,0,null,0,null,"    ",null,"LOC","Active",null,null,null,1,"A102",null,0,0,0,0,null,"   ","   ",0,0,"   ",null,null,null,null,null,null,null,0,0,0,0,"        ",0,0,"Never",null,0,null,null,null,null,1,"7306.40.50.15",null,null,null,null,0,null,0,0,null,null,1,0.9,1,49.16,42.397539999999999]
["VC-06L2B20A261","24\" LONGUEUR",null,0,0,"verif.comp.22-12-05 LM",null,null,0,1,"CH","Material","Manufactured","IN10V6-8","C","Actual","Average",0,57.399540000000002,10,16,"LB",0,0,0,0,0,0,0,0,0,null,0,1,"IND",0,0,0,1,"   ",null,"Job","   ",1,"   ",null,null,0,0,0,0,0,0,0,null,0,"     ",0,"     ","     ",1,1,0,"No Time Fence",0,null,1,1,5,5,0,"        ","        ",null,0,null,0,null,"    ",null,"LOC","Active",null,null,null,1,"A102",null,0,0,0,0,null,"   ","   ",0,0,"   ",null,null,null,null,null,null,null,0,0,0,0,"        ",0,0,"Never",null,0,null,null,null,null,1,"7306.40.50.15",null,null,null,null,0,null,0,0,null,null,1,1.5,1,0,57.399540000000002]
["VC-06L2B20A262","24\" LONGUEUR",null,0,0,null,null,null,0,1,"CH","Material","Manufactured","IN10V6-8","C","Actual","Average",0,0,10,24,"LB",0,0,0,0,0,0,0,0,0,null,0,1,"IND",0,0,0,0,"   ",null,"Job","   ",1,"   ",null,null,0,0,0,0,0,0,0,null,0,"     ",0,"     ","     ",1,1,0,"No Time Fence",0,null,1,1,5,5,0,"        ","        ",null,0,null,0,null,"    ",null,"LOC","Active",null,null,null,1,"A102",null,0,0,0,0,null,"   ","   ",0,0,"   ",null,null,null,null,null,null,null,0,0,0,0,"        ",0,0,"Never",null,0,null,null,null,null,1,"7306.40.50.15",null,null,null,null,0,null,0,0,null,null,1,2.9,1,0,0]
["VC-06L2B20B201","24\" LONGUEUR",null,0,0,"verif.comp.22-12-05 LM",null,null,0,1,"CH","Material","Manufactured","IN10V6-8","C","Actual","Average",0,31.397379999999998,10,12,"LB",0,0,0,0,0,0,0,0,0,null,0,1,"IND",0,0,0,1,"   ",null,"Job","   ",1,"   ",null,null,0,0,0,0,0,0,0,null,0,"     ",0,"     ","     ",1,1,0,"No Time Fence",0,null,1,1,"    5,000.00",5,0,"        ","        ",null,0,null,0,null,"    ",null,"LOC","Active",null,null,null,1,"A102",null,0,0,0,0,null,"   ","   ",0,0,"   ",null,null,null,null,null,null,null,0,0,0,0,"        ",0,0,"Never",null,0,null,null,null,null,1,"7306.40.50.15",null,null,null,null,0,null,0,0,null,null,1,0.9,1,0,31.397379999999998]
["VC-06L2B20B202","24\" LONGUEUR",null,0,0,"verif.comp.22-12-05 LM",null,null,0,1,"CH","Material","Manufactured","IN10V6-8","C","Actual","Average",0,43.713709999999999,10,16,"LB",0,0,0,0,0,0,0,0,0,null,0,1,"IND",0,0,0,1,"   ",null,"Job","   ",1,"   ",null,null,0,0,0,0,0,0,0,null,0,"     ",0,"     ","     ",1,1,0,"No Time Fence",0,null,1,1,5,5,0,"        ","        ",null,0,null,0,null,"    ",null,"LOC","Active",null,null,null,1,"A102",null,0,0,0,0,null,"   ","   ",0,0,"   ",null,null,null,null,null,null,null,0,0,0,0,"        ",0,0,"Never",null,0,null,null,null,null,1,"7306.40.50.15",null,null,null,null,0,null,0,0,null,null,1,1.5,1,0,43.713709999999999]
["VC-06L2B20B241","24\" LONGUEUR#",null,0,0,"verif.comp.06-01-06 LM",null,null,0,1,"CH","Material","Manufactured","IN10V6-8","C","Actual","Average",0,58.418579999999999,10,28,"LB",0,0,0,0,0,0,0,0,0,null,0,1,"IND",0,0,0,1,"   ",null,"Job","   ",1,"   ",null,null,0,0,0,0,0,0,0,null,0,"     ",0,"     ","     ",1,1,0,"No Time Fence",0,null,1,1,"    5,000.00",5,0,"        ","        ",null,0,null,0,null,"    ",null,"LOC","Active",null,null,null,1,"A102",null,0,0,0,0,null,"   ","   ",0,0,"   ",null,null,null,null,null,null,null,0,0,0,0,"        ",0,0,"Never",null,0,null,null,null,null,1,"7306.40.50.15",null,null,null,null,0,null,0,0,null,null,1,1.9,1,0,58.418579999999999]
["VC-06L2B20B242","24\" LONGUEUR #",null,0,0,"verif.comp.06-01-06 LM",null,null,0,1,"CH","Material","Manufactured","IN10V6-8","C","Actual","Average",0,77.849450000000004,10,36,"LB",0,0,0,0,0,0,0,0,0,null,0,1,"IND",0,0,0,1,"   ",null,"Job","   ",1,"   ",null,null,0,0,0,0,0,0,0,null,0,"     ",0,"     ","     ",1,1,0,"No Time Fence",0,null,1,1,5,5,0,"        ","        ",null,0,null,0,null,"    ",null,"LOC","Active",null,null,null,1,"A102",null,0,0,0,0,null,"   ","   ",0,0,"   ",null,null,null,null,null,null,null,0,0,0,0,"        ",0,0,"Never",null,0,null,null,null,null,1,"7306.40.50.15",null,null,null,null,0,null,0,0,null,null,1,2.9,1,0,77.849450000000004]
["VC-06L2B24A242","24\" LONGUEUR #",null,0,0,"verif.comp.06-01-06 LM",null,null,0,1,"CH","Material","Manufactured","IN10V6-8","C","Actual","Average",0,0,10,28,"LB",0,0,0,0,0,0,0,0,0,null,0,1,"IND",0,0,0,0,"   ",null,"Job","   ",1,"   ",null,null,0,0,0,0,0,0,0,null,0,"     ",0,"     ","     ",1,1,0,"No Time Fence",0,null,1,1,"    5,000.00",5,0,"        ","        ",null,0,null,0,null,"    ",null,"LOC","Active",null,null,null,1,"A102",null,0,0,0,0,null,"   ","   ",0,0,"   ",null,null,null,null,null,null,null,0,0,0,0,"        ",0,0,"Never",null,0,null,null,null,null,1,"7306.40.50.15",null,null,null,null,0,null,0,0,null,null,1,1.9,1,0,0]
["VC-06L2B24A261","24\" LONGUEUR",null,0,0,"11-05-06 LM",null,null,0,1,"CH","Material","Manufactured","IN10V6-8","C","Actual","Average",0,51.537709999999997,10,22,"LB",0,0,0,0,0,0,0,0,0,null,0,1,"IND",0,0,0,1,"   ",null,"Job","   ",1,"   ",null,null,0,0,0,0,0,0,0,null,0,"     ",0,"     ","     ",1,1,0,"No Time Fence",0,null,1,1,"    5,000.00",5,0,"        ","        ",null,0,null,0,null,"    ",null,"LOC","Active",null,null,null,1,"A102",null,0,0,0,0,null,"   ","   ",0,0,"   ",null,null,null,null,null,null,null,0,0,0,0,"        ",0,0,"Never",null,0,null,null,null,null,1,"7306.40.50.15",null,null,null,null,0,null,0,0,null,null,1,1.9,1,0,51.537709999999997]
["VC-06L2B24A262","24\" LONGUEUR",null,0,0,"11-03-2009 MT",null,null,0,1,"CH","Material","Manufactured","IN10V6-8","C","Actual","Average",75.694490000000002,69.439260000000004,10,28,"LB",0,0,0,0,0,0,0,0,0,null,0,1,"IND",0,0,0,1,"   ",null,"Job","   ",1,"   ",null,null,0,0,0,0,0,0,0,null,0,"     ",0,"     ","     ",1,1,0,"No Time Fence",0,null,1,1,5,5,0,"        ","        ",null,0,null,0,null,"    ",null,"LOC","Active",null,null,null,1,"A102",null,0,0,0,0,null,"   ","   ",0,0,"   ",null,null,null,null,null,null,null,0,0,0,0,"        ",0,0,"Never",null,0,null,null,null,null,1,"7306.40.50.15",null,null,null,null,0,null,0,0,null,null,1,2.9,1,75.694490860000002,69.439260000000004]
["VC-06L2B24A264","24\" LONGUEUR#",null,0,0,"verif.comp.06-01-06 LM",null,null,0,1,"CH","Material","Manufactured","IN10V6-8","C","Actual","Average",0,48.30621,10,22,"LB",0,0,0,0,0,0,0,0,0,null,0,1,"IND",0,0,0,1,"   ",null,"Job","   ",1,"   ",null,null,0,0,0,0,0,0,0,null,0,"     ",0,"     ","     ",1,1,0,"No Time Fence",0,null,1,1,"    5,000.00",5,0,"        ","        ",null,0,null,0,null,"    ",null,"LOC","Active",null,null,null,1,"A102",null,0,0,0,0,null,"   ","   ",0,0,"   ",null,null,null,null,null,null,null,0,0,0,0,"        ",0,0,"Never",null,0,null,null,null,null,1,"7306.40.50.15",null,null,null,null,0,null,0,0,null,null,1,1.9,1,0,48.30621]
["VC-06L2B24B241","24\" LONGUEUR",null,0,0,"verif.comp.06-01-06 LM",null,null,0,1,"CH","Material","Manufactured","IN10V6-8","C","Actual","Average",0,65.313720000000004,10,28,"LB",0,0,0,0,0,0,0,0,0,null,0,1,"IND",0,0,0,1,"   ",null,"Job","   ",1,"   ",null,null,0,0,0,0,0,0,0,null,0,"     ",0,"     ","     ",1,1,0,"No Time Fence",0,null,1,1,5,5,0,"        ","        ",null,0,null,0,null,"    ",null,"LOC","Active",null,null,null,1,"A102",null,0,0,0,0,null,"   ","   ",0,0,"   ",null,null,null,null,null,null,null,0,0,0,0,"        ",0,0,"Never",null,0,null,null,null,null,1,"7306.40.50.15",null,null,null,null,0,null,0,0,null,null,1,2.9,1,0,65.313720000000004]
["VC-06L2B24B242","24\" LONGUEUR",null,0,0,"verif.comp.06-01-06 LM",null,null,0,1,"CH","Material","Manufactured","IN10V6-8","C","Actual","Average",0,44.224780000000003,10,28,"LB",0,0,0,0,0,0,0,0,0,null,0,1,"IND",0,0,0,1,"   ",null,"Job","   ",1,"   ",null,null,0,0,0,0,0,0,0,null,0,"     ",0,"     ","     ",1,1,0,"No Time Fence",0,null,1,1,"    5,000.00",5,0,"        ","        ",null,0,null,0,null,"    ",null,"LOC","Active",null,null,null,1,"A102",null,0,0,0,0,null,"   ","   ",0,0,"   ",null,null,null,null,null,null,null,0,0,0,0,"        ",0,0,"Never",null,0,null,null,null,null,1,"7306.40.50.15",null,null,null,null,0,null,0,0,null,null,1,1.9,1,0,44.224780000000003]
["VC-06L2B24B244","24\" LONGUEUR #",null,0,0,"verif.comp.06-01-06 LM",null,null,0,1,"CH","Material","Manufactured","IN10V6-8","C","Actual","Average",51.923900000000003,60.154409999999999,10,36,"LB",0,0,0,0,0,0,0,0,0,null,0,1,"IND",0,0,0,1,"   ",null,"Job","   ",1,"   ",null,null,0,0,0,0,0,0,0,null,0,"     ",0,"     ","     ",1,1,0,"No Time Fence",0,null,1,1,5,5,0,"        ","        ",null,0,null,0,null,"    ",null,"LOC","Active",null,null,null,1,"A102",null,0,0,0,0,null,"   ","   ",0,0,"   ",null,null,null,null,null,null,null,0,0,0,0,"        ",0,0,"Never",null,0,null,null,null,null,1,"7306.40.50.15",null,null,null,null,0,null,0,0,null,null,1,2.9,1,51.92390099,60.154409999999999]
["VC-06L2B24C241","24\" LONGUEUR",null,0,0,"verif.comp.06-01-06 LM",null,null,0,1,"CH","Material","Manufactured","IN10V6-8","C","Actual","Average",0,42.043129999999998,10,24,"LB",0,0,0,0,0,0,0,0,0,null,0,1,"IND",0,0,0,1,"   ",null,"Job","   ",1,"   ",null,null,0,0,0,0,0,0,0,null,0,"     ",0,"     ","     ",1,1,0,"No Time Fence",0,null,1,1,"    5,000.00",5,0,"        ","        ",null,0,null,0,null,"    ",null,"LOC","Active",null,null,null,1,"A102",null,0,0,0,0,null,"   ","   ",0,0,"   ",null,null,null,null,null,null,null,0,0,0,0,"        ",0,0,"Never",null,0,null,null,null,null,1,"7306.40.50.15",null,null,null,null,0,null,0,0,null,null,1,1.9,1,0,42.043129999999998]
["VC-06L2B24C242","24\" LONGUEUR",null,0,0,"verif.comp.06-01-06 LM",null,null,0,1,"CH","Material","Manufactured","IN10V6-8","C","Actual","Average",57.863329999999998,57.543909999999997,10,31,"LB",0,0,0,0,0,0,0,0,0,null,0,1,"IND",0,0,0,1,"   ",null,"Job","   ",1,"   ",null,null,0,0,0,0,0,0,0,null,0,"     ",0,"     ","     ",1,1,0,"No Time Fence",0,null,1,1,5,5,0,"        ","        ",null,0,null,0,null,"    ",null,"LOC","Active",null,null,null,1,"A102",null,0,0,0,0,null,"   ","   ",0,0,"   ",null,null,null,null,null,null,null,0,0,0,0,"        ",0,0,"Never",null,0,null,null,null,null,1,"7306.40.50.15",null,null,null,null,0,null,0,0,null,null,1,2.9,1,57.863333330000003,57.543909999999997]
["VC-06L4A20A201","48\" LONGUEUR",null,0,0,"verif.comp.06-01-06 LM",null,null,0,1,"CH","Material","Manufactured","IN10V6-8","C","Actual","Average",42.28,40.921880000000002,10,17,"LB",0,0,0,0,0,0,0,0,0,null,0,1,"IND",0,0,0,1,"   ",null,"Job","   ",1,"   ",null,null,0,0,0,0,0,0,0,null,0,"     ",0,"     ","     ",1,1,0,"No Time Fence",0,null,1,1,"    5,000.00",5,0,"        ","        ",null,0,null,0,null,"    ",null,"LOC","Active",null,null,null,1,"A102",null,0,0,0,0,null,"   ","   ",0,0,"   ",null,null,null,null,null,null,null,0,89,0,89,"        ",0,0,"Never",null,0,null,null,null,null,1,"7306.40.50.15",null,null,null,null,0,null,0,0,null,null,1,1.9,1,42.28,40.921880000000002]
["VC-06L4A20A202","48\" LONGUEUR",null,0,0,"verif.comp.06-01-06 LM",null,null,0,1,"CH","Material","Manufactured","IN10V6-8","C","Actual","Average",60.102499999999999,57.929380000000002,10,24,"LB",0,0,0,0,0,0,0,0,0,null,0,1,"IND",0,0,0,1,"   ",null,"Job","   ",1,"   ",null,null,0,0,0,0,0,0,0,null,0,"     ",0,"     ","     ",1,1,0,"No Time Fence",0,null,1,1,5,5,0,"        ","        ",null,0,null,0,null,"    ",null,"LOC","Active",null,null,null,1,"A102",null,0,0,0,0,null,"   ","   ",0,0,"   ",null,null,null,null,null,null,null,0,0,0,0,"        ",0,0,"Never",null,0,null,null,null,null,1,"7306.40.50.15",null,null,null,null,0,null,0,0,null,null,1,2.9,1,60.102499999999999,57.929380000000002]
["VC-06L4A20A204","48\" LONGUEUR",null,0,0,"27-01-2012 MT",null,null,0,1,"CH","Material","Manufactured","IN10V6-8","C","Actual","Average",0,80.981269999999995,10,24,"LB",0,0,0,0,0,0,0,0,0,null,0,1,"IND",0,0,0,1,"   ",null,"Job","   ",1,"   ",null,null,0,0,0,0,0,0,0,null,0,"     ",0,"     ","     ",1,1,0,"No Time Fence",0,null,1,1,5,5,0,"        ","        ",null,0,null,0,null,"    ",null,"LOC","Active",null,null,null,1,"A102",null,0,0,0,0,null,"   ","   ",0,0,"   ",null,null,null,null,null,null,null,0,0,0,0,"        ",0,0,"Never",null,0,null,null,null,null,1,"7306.40.50.15",null,null,null,null,0,null,0,0,null,null,1,2.9,1,0,80.981269999999995]
["VC-06L4A20A241","48\" LONGUEUR",null,0,0,"verif.comp.06-01-06 LM",null,null,0,1,"CH","Material","Manufactured","IN10V6-8","C","Actual","Average",36.0075,34.875660000000003,10,20,"LB",0,0,0,0,0,0,0,0,0,null,0,1,"IND",0,0,0,1,"   ",null,"Job","   ",1,"   ",null,null,0,0,0,0,0,0,0,null,0,"     ",0,"     ","     ",1,1,0,"No Time Fence",0,null,1,1,"    5,000.00",5,0,"        ","        ",null,0,null,0,null,"    ",null,"LOC","Active",null,null,null,1,"A102",null,0,0,0,0,null,"   ","   ",0,0,"   ",null,null,null,null,null,null,null,0,12,0,12,"        ",0,0,"Never",null,0,null,null,null,null,1,"7306.40.50.15",null,null,null,null,0,null,0,0,null,null,1,1.9,1,36.0075,34.875660000000003]
["VC-06L4A20A242","48\" LONGUEUR",null,0,0,"verif.comp.06-01-06 LM",null,null,0,1,"CH","Material","Manufactured","IN10V6-8","C","Actual","Average",0,50.159570000000002,10,27,"LB",0,0,0,0,0,0,0,0,0,null,0,1,"IND",0,0,0,1,"   ",null,"Job","   ",1,"   ",null,null,0,0,0,0,0,0,0,null,0,"     ",0,"     ","     ",1,1,0,"No Time Fence",0,null,1,1,5,5,0,"        ","        ",null,0,null,0,null,"    ",null,"LOC","Active",null,null,null,1,"A102",null,0,0,0,0,null,"   ","   ",0,0,"   ",null,null,null,null,null,null,null,0,0,0,0,"        ",0,0,"Never",null,0,null,null,null,null,1,"7306.40.50.15",null,null,null,null,0,null,0,0,null,null,1,2.9,1,0,50.159570000000002]
["VC-06L4A20A261","48\" LONGUEUR",null,0,0,null,null,null,0,1,"CH","Material","Manufactured","IN10V6-8","C","Actual","Average",0,0,10,20,"LB",0,0,0,0,0,0,0,0,0,null,0,1,"IND",0,0,0,0,"   ",null,"Job","   ",1,"   ",null,null,0,0,0,0,0,0,0,null,0,"     ",0,"     ","     ",1,1,0,"No Time Fence",0,null,1,1,"    5,000.00",5,0,"        ","        ",null,0,null,0,null,"    ",null,"LOC","Active",null,null,null,1,"A102",null,0,0,0,0,null,"   ","   ",0,0,"   ",null,null,null,null,null,null,null,0,0,0,0,0,0,0,"Never",null,0,null,null,null,null,1,"7306.40.50.15",null,null,null,null,0,null,0,0,null,"0 - None",1,1.9,1,0,0]
["VC-06L4A20A262","48\" LONGUEUR",null,0,0,"08/07/2009 MT",null,null,0,1,"CH","Material","Manufactured","IN10V6-8","C","Actual","Average",0,68.901989999999998,10,28,"LB",0,0,0,0,0,0,0,0,0,null,0,1,"IND",0,0,0,1,"   ",null,"Job","   ",1,"   ",null,null,0,0,0,0,0,0,0,null,0,"     ",0,"     ","     ",1,1,0,"No Time Fence",0,null,1,1,"    5,000.00",5,0,"        ","        ",null,0,null,0,null,"    ",null,"LOC","Active",null,null,null,1,"A102",null,0,0,0,0,null,"   ","   ",0,0,"   ",null,null,null,null,null,null,null,0,0,0,0,0,0,0,"Never",null,0,null,null,null,null,1,"7306.40.50.15",null,null,null,null,0,null,0,0,null,"0 - None",1,1.9,1,0,68.901989999999998]
["VC-06L4A20C221","48\" LONGUEUR",null,0,0,null,null,null,0,1,"CH","Material","Manufactured","IN10V6-8","C","Actual","Average",0,0,10,36,"LB",0,0,0,0,0,0,0,0,0,null,0,1,"IND",0,0,0,0,"   ",null,"Job","   ",1,"   ",null,null,0,0,0,0,0,0,0,null,0,"     ",0,"     ","     ",1,1,0,"No Time Fence",0,null,1,1,5,5,0,"        ","        ",null,0,null,0,null,"    ",null,"LOC","Active",null,null,null,1,"A102",null,0,0,0,0,null,"   ","   ",0,0,"   ",null,null,null,null,null,null,null,0,0,0,0,"        ",0,0,"Never",null,0,null,null,null,null,1,"7306.40.50.15",null,null,null,null,0,null,0,0,null,null,1,2.9,1,0,0]
["VC-06L4A20C222","48\" LONGUEUR",null,0,0,null,null,null,0,1,"CH","Material","Manufactured","IN10V6-8","C","Actual","Average",0,0,10,19,"LB",0,0,0,0,0,0,0,0,0,null,0,1,"IND",0,0,0,0,"   ",null,"Job","   ",1,"   ",null,null,0,0,0,0,0,0,0,null,0,"     ",0,"     ","     ",1,1,0,"No Time Fence",0,null,1,1,"    5,000.00",5,0,"        ","        ",null,0,null,0,null,"    ",null,"LOC","Active",null,null,null,1,"A102",null,0,0,0,0,null,"   ","   ",0,0,"   ",null,null,null,null,null,null,null,0,0,0,0,0,0,0,"Never",null,0,null,null,null,null,1,"7306.40.50.15",null,null,null,null,0,null,0,0,null,"0 - None",1,1.9,1,0,0]
["VC-06L4A20C241","48\" LONGUEUR",null,0,0,"22-07-2009 MT",null,null,0,1,"CH","Material","Manufactured","IN10V6-8","C","Actual","Average",0,0,10,36,"LB",0,0,0,0,0,0,0,0,0,null,0,1,"IND",0,0,0,0,"   ",null,"Job","   ",1,"   ",null,null,0,0,0,0,0,0,0,null,0,"     ",0,"     ","     ",1,1,0,"No Time Fence",0,null,1,1,5,5,0,"        ","        ",null,0,null,0,null,"    ",null,"LOC","Active",null,null,null,1,"A102",null,0,0,0,0,null,"   ","   ",0,0,"   ",null,null,null,null,null,null,null,0,0,0,0,0,0,0,"Never",null,0,null,null,null,null,1,"7306.40.50.15",null,null,null,null,0,null,0,0,null,"0 - None",1,2.9,1,0,0]
["VC-06L4A20C242","48\" LONGUEUR",null,0,0,"verif.comp.06-01-06 LM",null,null,0,1,"CH","Material","Manufactured","IN10V6-8","C","Actual","Average",0,0,10,26,"LB",0,0,0,0,0,0,0,0,0,null,0,1,"IND",0,0,0,0,"   ",null,"Job","   ",1,"   ",null,null,0,0,0,0,0,0,0,null,0,"     ",0,"     ","     ",1,1,0,"No Time Fence",0,null,1,1,5,5,0,"        ","        ",null,0,null,0,null,"    ",null,"LOC","Active",null,null,null,1,"A102",null,0,0,0,0,null,"   ","   ",0,0,"   ",null,null,null,null,null,null,null,0,0,0,0,0,0,0,"Never",null,0,null,null,null,null,1,"7306.40.50.15",null,null,null,null,0,null,0,0,null,"0 - None",1,2.9,1,0,0]
["VC-06L4A26A261","48\" LONGUEUR",null,0,0,null,null,null,0,1,"CH","Material","Manufactured","IN10V6-8","C","Actual","Average",0,0,10,19,"LB",0,0,0,0,0,0,0,0,0,null,0,1,"IND",0,0,0,0,"   ",null,"Job","   ",1,"   ",null,null,0,0,0,0,0,0,0,null,0,"     ",0,"     ","     ",1,1,0,"No Time Fence",0,null,1,1,"    5,000.00",5,0,"        ","        ",null,0,null,0,null,"    ",null,"LOC","Active",null,null,null,1,"A102",null,0,0,0,0,null,"   ","   ",0,0,"   ",null,null,null,null,null,null,null,0,0,0,0,"        ",0,0,"Never",null,0,null,null,null,null,1,"7306.40.50.15",null,null,null,null,0,null,0,0,null,null,1,1.9,1,0,0]
["VC-06L4A26A262","48\" LONGUEUR",null,0,0,"22-07-2009 MT",null,null,0,1,"CH","Material","Manufactured","IN10V6-8","C","Actual","Average",66.200909999999993,75.879310000000004,10,36,"LB",0,0,0,0,0,0,0,0,0,null,0,1,"IND",0,0,0,1,"   ",null,"Job","   ",1,"   ",null,null,0,0,0,0,0,0,0,null,0,"     ",0,"     ","     ",1,1,0,"No Time Fence",0,null,1,1,5,5,0,"        ","        ",null,0,null,0,null,"    ",null,"LOC","Active",null,null,null,1,"A102",null,0,0,0,0,null,"   ","   ",0,0,"   ",null,null,null,null,null,null,null,0,0,0,0,"        ",0,0,"Never",null,0,null,null,null,null,1,"7306.40.50.15",null,null,null,null,0,null,0,0,null,null,1,2.9,1,66.200909080000002,75.879310000000004]
["VC-06L4A26A264","48\" LONGUEUR",null,0,0,"verif.comp.06-01-06 LM",null,null,0,1,"CH","Material","Manufactured","IN10V6-8","C","Actual","Average",0,0,10,26,"LB",0,0,0,0,0,0,0,0,0,null,0,1,"IND",0,0,0,0,"   ",null,"Job","   ",1,"   ",null,null,0,0,0,0,0,0,0,null,0,"     ",0,"     ","     ",1,1,0,"No Time Fence",0,null,1,1,5,5,0,"        ","        ",null,0,null,0,null,"    ",null,"LOC","Active",null,null,null,1,"A102",null,0,0,0,0,null,"   ","   ",0,0,"   ",null,null,null,null,null,null,null,0,0,0,0,0,0,0,"Never",null,0,null,null,null,null,1,"7306.40.50.15",null,null,null,null,0,null,0,0,null,"0 - None",1,2.9,1,0,0]
["VC-06L4A26C241","48\" LONGUEUR",null,0,0,"verif.comp.06-01-06 LM",null,null,0,1,"CH","Material","Manufactured","IN10V6-8","C","Actual","Average",0,83.647130000000004,10,28,"LB",0,0,0,0,0,0,0,0,0,null,0,1,"IND",0,0,0,1,"   ",null,"Job","   ",1,"   ",null,null,0,0,0,0,0,0,0,null,0,"     ",0,"     ","     ",1,1,0,"No Time Fence",0,null,1,1,"    5,000.00",5,0,"        ","        ",null,0,null,0,null,"    ",null,"LOC","Active",null,null,null,1,"A102",null,0,0,0,0,null,"   ","   ",0,0,"   ",null,null,null,null,null,null,null,0,0,0,0,"        ",0,0,"Never",null,0,null,null,null,null,1,"7306.40.50.15",null,null,null,null,0,null,0,0,null,null,1,1.9,1,0,83.647130000000004]
["VC-06L4A26C242","48\" LONGUEUR",null,0,0,"verif.comp.06-01-06 LM",null,null,0,1,"CH","Material","Manufactured","IN10V6-8","C","Actual","Average",0,106.77126,10,36,"LB",0,0,0,0,0,0,0,0,0,null,0,1,"IND",0,0,0,1,"   ",null,"Job","   ",1,"   ",null,null,0,0,0,0,0,0,0,null,0,"     ",0,"     ","     ",1,1,0,"No Time Fence",0,null,1,1,5,5,0,"        ","        ",null,0,null,0,null,"    ",null,"LOC","Active",null,null,null,1,"A102",null,0,0,0,0,null,"   ","   ",0,0,"   ",null,null,null,null,null,null,null,0,0,0,0,"        ",0,0,"Never",null,0,null,null,null,null,1,"7306.40.50.15",null,null,null,null,0,null,0,0,null,null,1,2.9,1,0,106.77126]
["VC-06L4A26C244","48\" LONGUEUR #",null,0,0,"verif.comp.06-01-06 LM",null,null,0,1,"CH","Material","Manufactured","IN10V6-8","C","Actual","Average",109.24625,72.973740000000006,10,28,"LB",0,0,0,0,0,0,0,0,0,null,0,1,"IND",0,0,0,1,"   ",null,"Job","   ",1,"   ",null,null,0,0,0,0,0,0,0,null,0,"     ",0,"     ","     ",1,1,0,"No Time Fence",0,null,1,1,"    5,000.00",5,0,"        ","        ",null,0,null,0,null,"    ",null,"LOC","Active",null,null,null,1,"A102",null,0,0,0,0,null,"   ","   ",0,0,"   ",null,null,null,null,null,null,null,0,0,0,0,"        ",0,0,"Never",null,0,null,null,null,null,1,"7306.40.50.15",null,null,null,null,0,null,0,0,null,null,1,1.9,1,109.24625,72.973740000000006]
["VC-06L4A26C252","48\" LONGUEUR (OBSOLETE)",null,0,0,null,null,null,0,1,"CH","Material","Manufactured","IN10V6-8","C","Actual","Average",0,0,10,29,"LB",0,0,0,0,0,0,0,0,0,null,0,1,"IND",0,0,0,0,"   ",null,"Job","   ",1,"   ",null,null,0,0,0,0,0,0,0,null,0,"     ",0,"     ","     ",1,1,0,"No Time Fence",0,null,1,1,5,5,0,"        ","        ",null,0,null,0,null,"    ",null,"LOC","Active",null,null,null,1,"A102",null,0,0,0,0,null,"   ","   ",0,0,"   ",null,null,null,null,null,null,null,0,0,0,0,0,0,0,"Never",null,0,null,null,null,null,1,"7306.40.50.15",null,null,null,null,0,null,0,0,null,"0 - None",1,2.9,1,0,0]
["VC-06L4B20A201","48\" LONGUEUR",null,0,0,"verif.comp.06-01-06 LM",null,null,0,1,"CH","Material","Manufactured","IN10V6-8","C","Actual","Average",51.466180000000001,50.974809999999998,10,19,"LB",0,0,0,0,0,0,0,0,0,null,0,1,"IND",0,0,0,1,"   ",null,"Job","   ",1,"   ",null,null,0,0,0,0,0,0,0,null,0,"     ",0,"     ","     ",1,1,0,"No Time Fence",0,null,1,1,"    5,000.00",5,0,"        ","        ",null,0,null,0,null,"    ",null,"LOC","Active",null,null,null,1,"A102",null,0,0,0,0,null,"   ","   ",0,0,"   ",null,null,null,null,null,null,null,0,0,0,0,"        ",0,0,"Never",null,0,null,null,null,null,1,"7306.40.50.15",null,null,null,null,0,null,0,0,null,null,1,1.9,1,51.466180000000001,50.974809999999998]
["VC-06L4B20A202","48\" LONGUEUR #",null,0,0,"verif.comp.06-01-06 LM",null,null,0,1,"CH","Material","Manufactured","IN10V6-8","C","Actual","Average",68.424350000000004,67.982320000000001,10,26,"LB",0,0,0,0,0,0,0,0,0,null,0,1,"IND",0,0,0,1,"   ",null,"Job","   ",1,"   ",null,null,0,0,0,0,0,0,0,null,0,"     ",0,"     ","     ",1,1,0,"No Time Fence",0,null,1,1,5,5,0,"        ","        ",null,0,null,0,null,"    ",null,"LOC","Active",null,null,null,1,"A102",null,0,0,0,0,null,"   ","   ",0,0,"   ",null,null,null,null,null,null,null,0,2,0,2,"        ",0,0,"Never",null,0,null,null,null,null,1,"7306.40.50.15",null,null,null,null,0,null,0,0,null,null,1,2.9,1,68.424350000000004,67.982320000000001]
["VC-06L4B20A241","48\" LONGUEUR#",null,0,0,"verif.comp.06-01-06 LM",null,null,0,1,"CH","Material","Manufactured","IN10V6-8","C","Actual","Average",0,0,10,26,"LB",0,0,0,0,0,0,0,0,0,null,0,1,"IND",0,0,0,0,"   ",null,"Job","   ",1,"   ",null,null,0,0,0,0,0,0,0,null,0,"     ",0,"     ","     ",1,1,0,"No Time Fence",0,null,1,1,5,5,0,"        ","        ",null,0,null,0,null,"    ",null,"LOC","Active",null,null,null,1,"A102",null,0,0,0,0,null,"   ","   ",0,0,"   ",null,null,null,null,null,null,null,0,0,0,0,0,0,0,"Never",null,0,null,null,null,null,1,"7306.40.50.15",null,null,null,null,0,null,0,0,null,"0 - None",1,2.9,1,0,0]
["VC-06L4B20A242","48\" LONGUEUR",null,0,0,"verif.comp.06-01-06 LM",null,null,0,1,"CH","Material","Manufactured","IN10V6-8","C","Actual","Average",83.685000000000002,65.214110000000005,10,22,"LB",0,0,0,0,0,0,0,0,0,null,0,1,"IND",0,0,0,1,"   ",null,"Job","   ",1,"   ",null,null,0,0,0,0,0,0,0,null,0,"     ",0,"     ","     ",1,1,0,"No Time Fence",0,null,1,1,"    5,000.00",5,0,"        ","        ",null,0,null,0,null,"    ",null,"LOC","Active",null,null,null,1,"A102",null,0,0,0,0,null,"   ","   ",0,0,"   ",null,null,null,null,null,null,null,0,0,0,0,"        ",0,0,"Never",null,0,null,null,null,null,1,"7306.40.50.15",null,null,null,null,0,null,0,0,null,null,1,1.9,1,83.685000000000002,65.214110000000005]
["VC-06L4B20A244","48\" LONGUEUR#",null,0,0,"verif.comp.06-01-06 LM",null,null,0,1,"CH","Material","Manufactured","IN10V6-8","C","Actual","Average",122.62,85.787809999999993,10,29,"LB",0,0,0,0,0,0,0,0,0,null,0,1,"IND",0,0,0,1,"   ",null,"Job","   ",1,"   ",null,null,0,0,0,0,0,0,0,null,0,"     ",0,"     ","     ",1,1,0,"No Time Fence",0,null,1,1,5,5,0,"        ","        ",null,0,null,0,null,"    ",null,"LOC","Active",null,null,null,1,"A102",null,0,0,0,0,null,"   ","   ",0,0,"   ",null,null,null,null,null,null,null,0,0,0,0,"        ",0,0,"Never",null,0,null,null,null,null,1,"7306.40.50.15",null,null,null,null,0,null,0,0,null,null,1,2.9,1,122.62,85.787809999999993]
["VC-06L4B20A261","48\" LONGUEUR#",null,0,0,null,null,null,0,1,"CH","Material","Manufactured","IN10V6-8","C","Actual","Average",0,0,10,24,"LB",0,0,0,0,0,0,0,0,0,null,0,1,"IND",0,0,0,0,"   ",null,"Job","   ",1,"   ",null,null,0,0,0,0,0,0,0,null,0,"     ",0,"     ","     ",1,1,0,"No Time Fence",0,null,1,1,5,5,0,"        ","        ",null,0,null,0,null,"    ",null,"LOC","Active",null,null,null,1,"A102",null,0,0,0,0,null,"   ","   ",0,0,"   ",null,null,null,null,null,null,null,0,0,0,0,"        ",0,0,"Never",null,0,null,null,null,null,1,"7306.40.50.15",null,null,null,null,0,null,0,0,null,null,1,2.9,1,0,0]
["VC-06L4B20A262","48\" LONGUEUR",null,0,0,"verif.comp.06-01-06 LM",null,null,0,1,"CH","Material","Manufactured","IN10V6-8","C","Actual","Average",0,44.711730000000003,10,22,"LB",0,0,0,0,0,0,0,0,0,null,0,1,"IND",0,0,0,1,"   ",null,"Job","   ",1,"   ",null,null,0,0,0,0,0,0,0,null,0,"     ",0,"     ","     ",1,1,0,"No Time Fence",0,null,1,1,"    5,000.00",5,0,"        ","        ",null,0,null,0,null,"    ",null,"LOC","Active",null,null,null,1,"A102",null,0,0,0,0,null,"   ","   ",0,0,"   ",null,null,null,null,null,null,null,0,0,0,0,"        ",0,0,"Never",null,0,null,null,null,null,1,"7306.40.50.15",null,null,null,null,0,null,0,0,null,null,1,1.9,1,0,44.711730000000003]
["VC-06L4B20A264","48\" LONGUEUR#",null,0,0,"verif.comp.06-01-06 LM",null,null,0,1,"CH","Material","Manufactured","IN10V6-8","C","Actual","Average",0,60.212510000000002,10,29,"LB",0,0,0,0,0,0,0,0,0,null,0,1,"IND",0,0,0,1,"   ",null,"Job","   ",1,"   ",null,null,0,0,0,0,0,0,0,null,0,"     ",0,"     ","     ",1,1,0,"No Time Fence",0,null,1,1,5,5,0,"        ","        ",null,0,null,0,null,"    ",null,"LOC","Active",null,null,null,1,"A102",null,0,0,0,0,null,"   ","   ",0,0,"   ",null,null,null,null,null,null,null,0,0,0,0,"        ",0,0,"Never",null,0,null,null,null,null,1,"7306.40.50.15",null,null,null,null,0,null,0,0,null,null,1,2.9,1,0,60.212510000000002]
["VC-06L4B20B201","48\" LONGUEUR",null,0,0,"verif.comp.10-01-06 LM",null,null,0,1,"CH","Material","Manufactured","IN10V6-8","C","Actual","Average",0,24.571660000000001,10,6,"LB",0,0,0,0,0,0,0,0,0,null,0,1,"IND",0,0,0,1,"   ",null,"Job","   ",1,"   ",null,null,0,0,0,0,0,0,0,null,0,"     ",0,"     ","     ",1,1,0,"No Time Fence",0,null,1,1,"    5,000.00",5,0,"        ","        ",null,0,null,0,null,"    ",null,"LOC","Active",null,null,null,1,"A102",null,0,0,0,0,null,"   ","   ",0,0,"   ",null,null,null,null,null,null,null,0,0,0,0,"        ",0,0,"Never",null,0,null,null,null,null,1,"7306.40.50.15",null,null,null,null,0,null,0,0,null,null,1,0.2,1,0,24.571660000000001]
["VC-06L4B20B202","48\" LONGUEUR",null,0,0,"verif.comp.10-01-06 LM",null,null,0,1,"CH","Material","Manufactured","IN10V6-8","C","Actual","Average",0,34.996670000000002,10,7,"LB",0,0,0,0,0,0,0,0,0,null,0,1,"IND",0,0,0,1,"   ",null,"Job","   ",1,"   ",null,null,0,0,0,0,0,0,0,null,0,"     ",0,"     ","     ",1,1,0,"No Time Fence",0,null,1,1,5,5,0,"        ","        ",null,0,null,0,null,"    ",null,"LOC","Active",null,null,null,1,"A102",null,0,0,0,0,null,"   ","   ",0,0,"   ",null,null,null,null,null,null,null,0,0,0,0,"        ",0,0,"Never",null,0,null,null,null,null,1,"7306.40.50.15",null,null,null,null,0,null,0,0,null,null,1,0.4,1,0,34.996670000000002]
["VC-06L4B20B241","48\" LONGUEUR",null,0,0,null,null,null,0,1,"CH","Material","Manufactured","IN10V6-8","C","Actual","Average",0,0,10,6,"LB",0,0,0,0,0,0,0,0,0,null,0,1,"IND",0,0,0,0,"   ",null,"Job","   ",1,"   ",null,null,0,0,0,0,0,0,0,null,0,"     ",0,"     ","     ",1,1,0,"No Time Fence",0,null,1,1,"    5,000.00",5,0,"        ","        ",null,0,null,0,null,"    ",null,"LOC","Active",null,null,null,1,"A102",null,0,0,0,0,null,"   ","   ",0,0,"   ",null,null,null,null,null,null,null,0,0,0,0,0,0,0,"Never",null,0,null,null,null,null,1,"7306.40.50.15",null,null,null,null,0,null,0,0,null,"0 - None",1,0.2,1,0,0]
["VC-06L4B20B242","48\" LONGUEUR #",null,0,0,null,null,null,0,1,"CH","Material","Manufactured","IN10V6-8","C","Actual","Average",0,0,10,10,"LB",0,0,0,0,0,0,0,0,0,null,0,1,"IND",0,0,0,0,"   ",null,"Job","   ",1,"   ",null,null,0,0,0,0,0,0,0,null,0,"     ",0,"     ","     ",1,1,0,"No Time Fence",0,null,1,1,5,5,0,"        ","        ",null,0,null,0,null,"    ",null,"LOC","Active",null,null,null,1,"A102",null,0,0,0,0,null,"   ","   ",0,0,"   ",null,null,null,null,null,null,null,0,0,0,0,"        ",0,0,"Never",null,0,null,null,null,null,1,"7306.40.50.15",null,null,null,null,0,null,0,0,null,null,1,0.7,1,0,0]
["VC-06L4B24A261","48\" LONGUEUR",null,0,0,"11-03-2009 MT",null,null,0,1,"CH","Material","Manufactured","IN10V6-8","C","Actual","Average",34.216990000000003,33.945399999999999,10,10,"LB",0,0,0,0,0,0,0,0,0,null,0,1,"IND",0,0,0,1,"   ",null,"Job","   ",1,"   ",null,null,0,0,0,0,0,0,0,null,0,"     ",0,"     ","     ",1,1,0,"No Time Fence",0,null,1,1,5,5,0,"        ","        ",null,0,null,0,null,"    ",null,"LOC","Active",null,null,null,1,"A102",null,0,0,0,0,null,"   ","   ",0,0,"   ",null,null,null,null,null,null,null,0,0,0,0,"        ",0,0,"Never",null,0,null,null,null,null,1,"7306.40.50.15",null,null,null,null,0,null,0,0,null,null,1,0.7,1,34.216994880000001,33.945399999999999]
["VC-06L4B24A262","48\" LONGUEUR",null,0,0,"verif.comp.10-01-06 LM",null,null,0,1,"CH","Material","Manufactured","IN10V6-8","C","Actual","Average",0,23.387650000000001,10,5,"LB",0,0,0,0,0,0,0,0,0,null,0,1,"IND",0,0,0,1,"   ",null,"Job","   ",1,"   ",null,null,0,0,0,0,0,0,0,null,0,"     ",0,"     ","     ",1,1,0,"No Time Fence",0,null,1,1,"    5,000.00",5,0,"        ","        ",null,0,null,0,null,"    ",null,"LOC","Active",null,null,null,1,"A102",null,0,0,0,0,null,"   ","   ",0,0,"   ",null,null,null,null,null,null,null,0,0,0,0,"        ",0,0,"Never",null,0,null,null,null,null,1,"7306.40.50.15",null,null,null,null,0,null,0,0,null,null,1,0.2,1,0,23.387650000000001]
["VC-06L4B24A264","48\" LONGUEUR#",null,0,0,"verif.comp.10-01-06 LM",null,null,0,1,"CH","Material","Manufactured","IN10V6-8","C","Actual","Average",0,33.577260000000003,10,6,"LB",0,0,0,0,0,0,0,0,0,null,0,1,"IND",0,0,0,1,"   ",null,"Job","   ",1,"   ",null,null,0,0,0,0,0,0,0,null,0,"     ",0,"     ","     ",1,1,0,"No Time Fence",0,null,1,1,5,5,0,"        ","        ",null,0,null,0,null,"    ",null,"LOC","Active",null,null,null,1,"A102",null,0,0,0,0,null,"   ","   ",0,0,"   ",null,null,null,null,null,null,null,0,0,0,0,"        ",0,0,"Never",null,0,null,null,null,null,1,"7306.40.50.15",null,null,null,null,0,null,0,0,null,null,1,0.4,1,0,33.577260000000003]
["VC-06L4B24B241","48\" LONGUEUR",null,0,0,"verif.comp.10-01-06 LM",null,null,0,1,"CH","Material","Manufactured","IN10V6-8","C","Actual","Average",0,22.566680000000002,10,6,"LB",0,0,0,0,0,0,0,0,0,null,0,1,"IND",0,0,0,1,"   ",null,"Job","   ",1,"   ",null,null,0,0,0,0,0,0,0,null,0,"     ",0,"     ","     ",1,1,0,"No Time Fence",0,null,1,1,"    5,000.00",5,0,"        ","        ",null,0,null,0,null,"    ",null,"LOC","Active",null,null,null,1,"A102",null,0,0,0,0,null,"   ","   ",0,0,"   ",null,null,null,null,null,null,null,0,0,0,0,"        ",0,0,"Never",null,0,null,null,null,null,1,"7306.40.50.15",null,null,null,null,0,null,0,0,null,null,1,0.2,1,0,22.566680000000002]
["VC-06L4B24B242","48\" LONGUEUR",null,0,0,"verif.comp.10-01-06 LM",null,null,0,1,"CH","Material","Manufactured","IN10V6-8","C","Actual","Average",40.914999999999999,32.094810000000003,10,7,"LB",0,0,0,0,0,0,0,0,0,null,0,1,"IND",0,0,0,1,"   ",null,"Job","   ",1,"   ",null,null,0,0,0,0,0,0,0,null,0,"     ",0,"     ","     ",1,1,0,"No Time Fence",0,null,1,1,5,5,0,"        ","        ",null,0,null,0,null,"    ",null,"LOC","Active",null,null,null,1,"A102",null,0,0,0,0,null,"   ","   ",0,0,"   ",null,null,null,null,null,null,null,0,0,0,0,"        ",0,0,"Never",null,0,null,null,null,null,1,"7306.40.50.15",null,null,null,null,0,null,0,0,null,null,1,0.4,1,40.914999999999999,32.094810000000003]
["VC-06L4B24B244","48\" LONGUEUR #",null,0,0,"verif.comp.10-01-06 LM",null,null,0,1,"CH","Material","Manufactured","IN10V6-8","C","Actual","Average",0,21.897269999999999,10,5,"LB",0,0,0,0,0,0,0,0,0,null,0,1,"IND",0,0,0,1,"   ",null,"Job","   ",1,"   ",null,null,0,0,0,0,0,0,0,null,0,"     ",0,"     ","     ",1,1,0,"No Time Fence",0,null,1,1,"    5,000.00",5,0,"        ","        ",null,0,null,0,null,"    ",null,"LOC","Active",null,null,null,1,"A102",null,0,0,0,0,null,"   ","   ",0,0,"   ",null,null,null,null,null,null,null,0,0,0,0,"        ",0,0,"Never",null,0,null,null,null,null,1,"7306.40.50.15",null,null,null,null,0,null,0,0,null,null,1,0.2,1,0,21.897269999999999]
["VC-06L4B24C241","48\" LONGUEUR",null,0,0,"verif.comp.10-01-06 LM",null,null,0,1,"CH","Material","Manufactured","IN10V6-8","C","Actual","Average",0,31.77919,10,6,"LB",0,0,0,0,0,0,0,0,0,null,0,1,"IND",0,0,0,1,"   ",null,"Job","   ",1,"   ",null,null,0,0,0,0,0,0,0,null,0,"     ",0,"     ","     ",1,1,0,"No Time Fence",0,null,1,1,5,5,0,"        ","        ",null,0,null,0,null,"    ",null,"LOC","Active",null,null,null,1,"A102",null,0,0,0,0,null,"   ","   ",0,0,"   ",null,null,null,null,null,null,null,0,0,0,0,"        ",0,0,"Never",null,0,null,null,null,null,1,"7306.40.50.15",null,null,null,null,0,null,0,0,null,null,1,0.4,1,0,31.77919]
["VC-06L4B24C242","48\" LONGUEUR",null,0,0,"verif.comp.10-01-06 LM",null,null,0,1,"CH","Material","Manufactured","IN10V6-8","C","Actual","Average",22.89,22.75545,10,4,"LB",0,0,0,0,0,0,0,0,0,null,0,1,"IND",0,0,0,1,"   ",null,"Job","   ",1,"   ",null,null,0,0,0,0,0,0,0,null,0,"     ",0,"     ","     ",1,1,0,"No Time Fence",0,null,1,1,"    5,000.00",5,0,"        ","        ",null,0,null,0,null,"    ",null,"LOC","Active",null,null,null,1,"A102",null,0,0,0,0,null,"   ","   ",0,0,"   ",null,null,null,null,null,null,null,0,6,0,6,"        ",0,0,"Never",null,0,null,null,null,null,1,"7306.40.50.15",null,null,null,null,0,null,0,0,null,null,1,0.2,1,22.89,22.75545]
["VC-06L6A20A201","6\" LONGUEUR",null,0,0,"verif.comp.10-01-06 LM",null,null,0,1,"CH","Material","Manufactured","IN10V6-8","C","Actual","Average",32.950000000000003,32.945059999999998,10,5,"LB",0,0,0,0,0,0,0,0,0,null,0,1,"IND",0,0,0,1,"   ",null,"Job","   ",1,"   ",null,null,0,0,0,0,0,0,0,null,0,"     ",0,"     ","     ",1,1,0,"No Time Fence",0,null,1,1,5,5,0,"        ","        ",null,0,null,0,null,"    ",null,"LOC","Active",null,null,null,1,"A102",null,0,0,0,0,null,"   ","   ",0,0,"   ",null,null,null,null,null,null,null,0,0,0,0,"        ",0,0,"Never",null,0,null,null,null,null,1,"7306.40.50.15",null,null,null,null,0,null,0,0,null,null,1,0.4,1,32.950000000000003,32.945059999999998]
["VC-06L6A20A202","6\" LONGUEUR",null,0,0,"verif.comp.10-01-06 LM",null,null,0,1,"CH","Material","Manufactured","IN10V6-8","C","Actual","Average",21.044889999999999,21.265070000000001,10,5,"LB",0,0,0,0,0,0,0,0,0,null,0,1,"IND",0,0,0,1,"   ",null,"Job","   ",1,"   ",null,null,0,0,0,0,0,0,0,null,0,"     ",0,"     ","     ",1,1,0,"No Time Fence",0,null,1,1,"    5,000.00",5,0,"        ","        ",null,0,null,0,null,"    ",null,"LOC","Active",null,null,null,1,"A102",null,0,0,0,0,null,"   ","   ",0,0,"   ",null,null,null,null,null,null,null,0,0,0,0,"        ",0,0,"Never",null,0,null,null,null,null,1,"7306.40.50.15",null,null,null,null,0,null,0,0,null,null,1,0.2,1,21.044885659999998,21.265070000000001]
["VC-06L6A20A204","6\" LONGUEUR #",null,0,0,"verif.comp.10-01-06 LM",null,null,0,1,"CH","Material","Manufactured","IN10V6-8","C","Actual","Average",0,31.146989999999999,10,6,"LB",0,0,0,0,0,0,0,0,0,null,0,1,"IND",0,0,0,1,"   ",null,"Job","   ",1,"   ",null,null,0,0,0,0,0,0,0,null,0,"     ",0,"     ","     ",1,1,0,"No Time Fence",0,null,1,1,5,5,0,"        ","        ",null,0,null,0,null,"    ",null,"LOC","Active",null,null,null,1,"A102",null,0,0,0,0,null,"   ","   ",0,0,"   ",null,null,null,null,null,null,null,0,0,0,0,"        ",0,0,"Never",null,0,null,null,null,null,1,"7306.40.50.15",null,null,null,null,0,null,0,0,null,null,1,0.4,1,0,31.146989999999999]
["VC-06L6A20A241","6\" LONGUEUR  #",null,0,0,"08/07/2009 MT",null,null,0,1,"CH","Material","Manufactured","IN10V6-8","C","Actual","Average",0,25.785530000000001,10,5,"LB",0,0,0,0,0,0,0,0,0,null,0,1,"IND",0,0,0,1,"   ",null,"Job","   ",1,"   ",null,null,0,0,0,0,0,0,0,null,0,"     ",0,"     ","     ",1,1,0,"No Time Fence",0,null,1,1,"    5,000.00",5,0,"        ","        ",null,0,null,0,null,"    ",null,"LOC","Active",null,null,null,1,"A102",null,0,0,0,0,null,"   ","   ",0,0,"   ",null,null,null,null,null,null,null,0,0,0,0,0,0,0,"Never",null,0,null,null,null,null,1,"7306.40.50.15",null,null,null,null,0,null,0,0,null,"0 - None",1,0.2,1,0,25.785530000000001]
["VC-06L6A20A242","6\" LONGUEUR",null,0,0,"22-07-2009 MT",null,null,0,1,"CH","Material","Manufactured","IN10V6-8","C","Actual","Average",0,0,10,5,"LB",0,0,0,0,0,0,0,0,0,null,0,1,"IND",0,0,0,0,"   ",null,"Job","   ",1,"   ",null,null,0,0,0,0,0,0,0,null,0,"     ",0,"     ","     ",1,1,0,"No Time Fence",0,null,1,1,5,5,0,"        ","        ",null,0,null,0,null,"    ",null,"LOC","Active",null,null,null,1,"A102",null,0,0,0,0,null,"   ","   ",0,0,"   ",null,null,null,null,null,null,null,0,0,0,0,0,0,0,"Never",null,0,null,null,null,null,1,"7306.40.50.15",null,null,null,null,0,null,0,0,null,"0 - None",1,0.4,1,0,0]
["VC-06L6A20A261","6\" LONGUEUR",null,0,0,null,null,null,0,1,"CH","Material","Manufactured","IN10V6-8","C","Actual","Average",0,0,10,5,"LB",0,0,0,0,0,0,0,0,0,null,0,1,"IND",0,0,0,0,"   ",null,"Job","   ",1,"   ",null,null,0,0,0,0,0,0,0,null,0,"     ",0,"     ","     ",1,1,0,"No Time Fence",0,null,1,1,"    5,000.00",5,0,"        ","        ",null,0,null,0,null,"    ",null,"LOC","Active",null,null,null,1,"A102",null,0,0,0,0,null,"   ","   ",0,0,"   ",null,null,null,null,null,null,null,0,0,0,0,"        ",0,0,"Never",null,0,null,null,null,null,1,"7306.40.50.15",null,null,null,null,0,null,0,0,null,null,1,0.2,1,0,0]
["VC-06L6A20A262","6\" LONGUEUR",null,0,0,"22-07-2009 MT",null,null,0,1,"CH","Material","Manufactured","IN10V6-8","C","Actual","Average",26.2,34.873339999999999,10,5,"LB",0,0,0,0,0,0,0,0,0,null,0,1,"IND",0,0,0,1,"   ",null,"Job","   ",1,"   ",null,null,0,0,0,0,0,0,0,null,0,"     ",0,"     ","     ",1,1,0,"No Time Fence",0,null,1,1,5,5,0,"        ","        ",null,0,null,0,null,"    ",null,"LOC","Active",null,null,null,1,"A102",null,0,0,0,0,null,"   ","   ",0,0,"   ",null,null,null,null,null,null,null,0,0,0,0,"        ",0,0,"Never",null,0,null,null,null,null,1,"7306.40.50.15",null,null,null,null,0,null,0,0,null,null,1,0.4,1,26.2,34.873339999999999]
["VC-06L6A20C221","6\" LONGUEUR",null,0,0,"verif.comp.10-01-06 LM",null,null,0,1,"CH","Material","Manufactured","IN10V6-8","C","Actual","Average",0,28.23188,10,6,"LB",0,0,0,0,0,0,0,0,0,null,0,1,"IND",0,0,0,1,"   ",null,"Job","   ",1,"   ",null,null,0,0,0,0,0,0,0,null,0,"     ",0,"     ","     ",1,1,0,"No Time Fence",0,null,1,1,"    5,000.00",5,0,"        ","        ",null,0,null,0,null,"    ",null,"LOC","Active",null,null,null,1,"A102",null,0,0,0,0,null,"   ","   ",0,0,"   ",null,null,null,null,null,null,null,0,0,0,0,"        ",0,0,"Never",null,0,null,null,null,null,1,"7306.40.50.15",null,null,null,null,0,null,0,0,null,null,1,0.2,1,0,28.23188]
["VC-06L6A20C222","6\" LONGUEUR",null,0,0,"verif.comp.10-01-06 LM",null,null,0,1,"CH","Material","Manufactured","IN10V6-8","C","Actual","Average",0,39.26032,10,7,"LB",0,0,0,0,0,0,0,0,0,null,0,1,"IND",0,0,0,1,"   ",null,"Job","   ",1,"   ",null,null,0,0,0,0,0,0,0,null,0,"     ",0,"     ","     ",1,1,0,"No Time Fence",0,null,1,1,5,5,0,"        ","        ",null,0,null,0,null,"    ",null,"LOC","Active",null,null,null,1,"A102",null,0,0,0,0,null,"   ","   ",0,0,"   ",null,null,null,null,null,null,null,0,0,0,0,"        ",0,0,"Never",null,0,null,null,null,null,1,"7306.40.50.15",null,null,null,null,0,null,0,0,null,null,1,0.4,1,0,39.26032]
["VC-06L6A20C241","6\" LONGUEUR",null,0,0,null,null,null,0,1,"CH","Material","Manufactured","IN10V6-8","C","Actual","Average",0,0,10,6,"LB",0,0,0,0,0,0,0,0,0,null,0,1,"IND",0,0,0,0,"   ",null,"Job","   ",1,"   ",null,null,0,0,0,0,0,0,0,null,0,"     ",0,"     ","     ",1,1,0,"No Time Fence",0,null,1,1,5,5,0,"        ","        ",null,0,null,0,null,"    ",null,"LOC","Active",null,null,null,1,"A102",null,0,0,0,0,null,"   ","   ",0,0,"   ",null,null,null,null,null,null,null,0,0,0,0,0,0,0,"Never",null,0,null,null,null,null,1,"7306.40.50.15",null,null,null,null,0,null,0,0,null,"0 - None",1,0.4,1,0,0]
["VC-06L6A20C242","6\" LONGUEUR",null,0,0,"verif.comp.10-01-06 LM",null,null,0,1,"CH","Material","Manufactured","IN10V6-8","C","Actual","Average",0,23.684159999999999,10,5,"LB",0,0,0,0,0,0,0,0,0,null,0,1,"IND",0,0,0,1,"   ",null,"Job","   ",1,"   ",null,null,0,0,0,0,0,0,0,null,0,"     ",0,"     ","     ",1,1,0,"No Time Fence",0,null,1,1,"    5,000.00",5,0,"        ","        ",null,0,null,0,null,"    ",null,"LOC","Active",null,null,null,1,"A102",null,0,0,0,0,null,"   ","   ",0,0,"   ",null,null,null,null,null,null,null,0,0,0,0,"        ",0,0,"Never",null,0,null,null,null,null,1,"7306.40.50.15",null,null,null,null,0,null,0,0,null,null,1,0.2,1,0,23.684159999999999]
["VC-06L6A26A261","6\" LONGUEUR",null,0,0,"verif.comp.10-01-06 LM",null,null,0,1,"CH","Material","Manufactured","IN10V6-8","C","Actual","Average",33.446350000000002,33.87377,10,5,"LB",0,0,0,0,0,0,0,0,0,null,0,1,"IND",0,0,0,1,"   ",null,"Job","   ",1,"   ",null,null,0,0,0,0,0,0,0,null,0,"     ",0,"     ","     ",1,1,0,"No Time Fence",0,null,1,1,5,5,0,"        ","        ",null,0,null,0,null,"    ",null,"LOC","Active",null,null,null,1,"A102",null,0,0,0,0,null,"   ","   ",0,0,"   ",null,null,null,null,null,null,null,0,1,0,1,"        ",0,0,"Never",null,0,null,null,null,null,1,"7306.40.50.15",null,null,null,null,0,null,0,0,null,null,1,0.4,1,33.446350000000002,33.87377]
["VC-06L6A26A262","6\" LONGUEUR",null,0,0,"verif.comp.10-01-06 LM",null,null,0,1,"CH","Material","Manufactured","IN10V6-8","C","Actual","Average",0,0,10,5,"LB",0,0,0,0,0,0,0,0,0,null,0,1,"IND",0,0,0,0,"   ",null,"Job","   ",1,"   ",null,null,0,0,0,0,0,0,0,null,0,"     ",0,"     ","     ",1,1,0,"No Time Fence",0,null,1,1,5,5,0,"        ","        ",null,0,null,0,null,"    ",null,"LOC","Active",null,null,null,1,"A102",null,0,0,0,0,null,"   ","   ",0,0,"   ",null,null,null,null,null,null,null,0,0,0,0,0,0,0,"Never",null,0,null,null,null,null,1,"7306.40.50.15",null,null,null,null,0,null,0,0,null,"0 - None",1,0.4,1,0,0]
["VC-06L6A26A264","6\" LONGUEUR",null,0,0,"verif.comp.10-01-06 LM",null,null,0,1,"CH","Material","Manufactured","IN10V6-8","C","Actual","Average",23.563330000000001,25.84779,10,5,"LB",0,0,0,0,0,0,0,0,0,null,0,1,"IND",0,0,0,1,"   ",null,"Job","   ",1,"   ",null,null,0,0,0,0,0,0,0,null,0,"     ",0,"     ","     ",1,1,0,"No Time Fence",0,null,1,1,"    5,000.00",5,0,"        ","        ",null,0,null,0,null,"    ",null,"LOC","Active",null,null,null,1,"A102",null,0,0,0,0,null,"   ","   ",0,0,"   ",null,null,null,null,null,null,null,0,0,0,0,"        ",0,0,"Never",null,0,null,null,null,null,1,"7306.40.50.15",null,null,null,null,0,null,0,0,null,null,1,0.2,1,23.563333329999999,25.84779]
["VC-06L6A26C241","6\" LONGUEUR",null,0,0,"verif.comp.10-01-06 LM",null,null,0,1,"CH","Material","Manufactured","IN10V6-8","C","Actual","Average",0,36.624940000000002,10,6,"LB",0,0,0,0,0,0,0,0,0,null,0,1,"IND",0,0,0,1,"   ",null,"Job","   ",1,"   ",null,null,0,0,0,0,0,0,0,null,0,"     ",0,"     ","     ",1,1,0,"No Time Fence",0,null,1,1,5,5,0,"        ","        ",null,0,null,0,null,"    ",null,"LOC","Active",null,null,null,1,"A102",null,0,0,0,0,null,"   ","   ",0,0,"   ",null,null,null,null,null,null,null,0,0,0,0,"        ",0,0,"Never",null,0,null,null,null,null,1,"7306.40.50.15",null,null,null,null,0,null,0,0,null,null,1,0.4,1,0,36.624940000000002]
["VC-06L6A26C242","6\" LONGUEUR",null,0,0,null,null,null,0,1,"CH","Material","Manufactured","IN10V6-8","C","Actual","Average",0,0,10,24,"LB",0,0,0,0,0,0,0,0,0,null,0,1,"IND",0,0,0,0,"   ",null,"Job","   ",1,"   ",null,null,0,0,0,0,0,0,0,null,0,"     ",0,"     ","     ",1,1,0,"No Time Fence",0,null,1,1,5,5,0,"        ","        ",null,0,null,0,null,"    ",null,"LOC","Active",null,null,null,1,"A102",null,0,0,0,0,null,"   ","   ",0,0,"   ",null,null,null,null,null,null,null,0,0,0,0,"        ",0,0,"Never",null,0,null,null,null,null,1,"7306.40.50.15",null,null,null,null,0,null,0,0,null,null,1,2.9,1,0,0]
["VC-06L6A26C244","6\" LONGUEUR #",null,0,0,"verif.comp.10-01-06 LM",null,null,0,1,"CH","Material","Manufactured","IN10V6-8","C","Actual","Average",0,22.19378,10,5,"LB",0,0,0,0,0,0,0,0,0,null,0,1,"IND",0,0,0,1,"   ",null,"Job","   ",1,"   ",null,null,0,0,0,0,0,0,0,null,0,"     ",0,"     ","     ",1,1,0,"No Time Fence",0,null,1,1,"    5,000.00",5,0,"        ","        ",null,0,null,0,null,"    ",null,"LOC","Active",null,null,null,1,"A102",null,0,0,0,0,null,"   ","   ",0,0,"   ",null,null,null,null,null,null,null,0,0,0,0,"        ",0,0,"Never",null,0,null,null,null,null,1,"7306.40.50.15",null,null,null,null,0,null,0,0,null,null,1,0.2,1,0,22.19378]
["VC-06L6B20A201","6\" LONGUEUR",null,0,0,"verif.comp.10-01-06 LM",null,null,0,1,"CH","Material","Manufactured","IN10V6-8","C","Actual","Average",0,32.075699999999998,10,6,"LB",0,0,0,0,0,0,0,0,0,null,0,1,"IND",0,0,0,1,"   ",null,"Job","   ",1,"   ",null,null,0,0,0,0,0,0,0,null,0,"     ",0,"     ","     ",1,1,0,"No Time Fence",0,null,1,1,5,5,0,"        ","        ",null,0,null,0,null,"    ",null,"LOC","Active",null,null,null,1,"A102",null,0,0,0,0,null,"   ","   ",0,0,"   ",null,null,null,null,null,null,null,0,0,0,0,"        ",0,0,"Never",null,0,null,null,null,null,1,"7306.40.50.15",null,null,null,null,0,null,0,0,null,null,1,0.4,1,0,32.075699999999998]
["VC-06L6B20A202","6\" LONGUEUR #",null,0,0,"vérif.comp. 10-01-06 LM",null,null,0,1,"CH","Material","Manufactured","IN10V6-8","C","Actual","Average",29.067920000000001,40.967359999999999,10,11,"LB",0,0,0,0,0,0,0,0,0,null,0,1,"IND",0,0,0,1,"   ",null,"Job","   ",1,"   ",null,null,0,0,0,0,0,0,0,null,0,"     ",0,"     ","     ",1,1,0,"No Time Fence",0,null,1,1,"    5,000.00",5,0,"        ","        ",null,0,null,0,null,"    ",null,"LOC","Active",null,null,null,1,"A102",null,0,0,0,0,null,"   ","   ",0,0,"   ",null,null,null,null,null,null,null,0,0,0,0,"        ",0,0,"Never",null,0,null,null,null,null,1,"7306.40.50.15",null,null,null,null,0,null,0,0,null,null,1,0.7,1,29.067923090000001,40.967359999999999]
["VC-06L6B20A241","6\" LONGUEUR#",null,0,0,"vérif.comp. 10-01-06 LM",null,null,0,1,"CH","Material","Manufactured","IN10V6-8","C","Actual","Average",0,50.966099999999997,10,12,"LB",0,0,0,0,0,0,0,0,0,null,0,1,"IND",0,0,0,1,"   ",null,"Job","   ",1,"   ",null,null,0,0,0,0,0,0,0,null,0,"     ",0,"     ","     ",1,1,0,"No Time Fence",0,null,1,1,"    5,000.00",5,0,"        ","        ",null,0,null,0,null,"    ",null,"LOC","Active",null,null,null,1,"A102",null,0,0,0,0,null,"   ","   ",0,0,"   ",null,null,null,null,null,null,null,0,0,0,0,"        ",0,0,"Never",null,0,null,null,null,null,1,"7306.40.50.15",null,null,null,null,0,null,0,0,null,null,1,1,1,0,50.966099999999997]
["VC-06L6B20A242","6\" LONGUEUR",null,0,0,"vérif.comp. 18-04-06 LM",null,null,0,1,"CH","Material","Manufactured","IN10V6-8","C","Actual","Average",0,58.737560000000002,10,22,"LB",0,0,0,0,0,0,0,0,0,null,0,1,"IND",0,0,0,1,"   ",null,"Job","   ",1,"   ",null,null,0,0,0,0,0,0,0,null,0,"     ",0,"     ","     ",1,1,0,"No Time Fence",0,null,1,1,"    5,000.00",5,0,"        ","        ",null,0,null,0,null,"    ",null,"LOC","Active",null,null,null,1,"A102",null,0,0,0,0,null,"   ","   ",0,0,"   ",null,null,null,null,null,null,null,0,0,0,0,"        ",0,0,"Never",null,0,null,null,null,null,1,"7306.40.50.15",null,null,null,null,0,null,0,0,null,null,1,1.778,1,0,58.737560000000002]
["VC-06L6B20A261","6\" LONGUEUR#",null,0,0,"05-05-06 LM",null,null,0,1,"CH","Material","Manufactured","IN10V6-8","C","Actual","Average",45.7,38.852400000000003,10,11,"LB",0,0,0,0,0,0,0,0,0,null,0,1,"IND",0,0,0,1,"   ",null,"Job","   ",1,"   ",null,null,0,0,0,0,0,0,0,null,0,"     ",0,"     ","     ",1,1,0,"No Time Fence",0,null,1,1,"    5,000.00",5,0,"        ","        ",null,0,null,0,null,"    ",null,"LOC","Active",null,null,null,1,"A102",null,0,0,0,0,null,"   ","   ",0,0,"   ",null,null,null,null,null,null,null,0,0,0,0,"        ",0,0,"Never",null,0,null,null,null,null,1,"7306.40.50.15",null,null,null,null,0,null,0,0,null,null,1,0.7,1,45.7,38.852400000000003]
["VC-06L6B20A262","6\" LONGUEUR",null,0,0,"04-07-07 LM",null,null,0,1,"CH","Material","Manufactured","IN10V6-8","C","Actual","Average",34.585000000000001,48.328200000000002,10,11,"LB",0,0,0,0,0,0,0,0,0,null,0,1,"IND",0,0,0,1,"   ",null,"Job","   ",1,"   ",null,null,0,0,0,0,0,0,0,null,0,"     ",0,"     ","     ",1,1,0,"No Time Fence",0,null,1,1,"    5,000.00",5,0,"        ","        ",null,0,null,0,null,"    ",null,"LOC","Active",null,null,null,1,"A102",null,0,0,0,0,null,"   ","   ",0,0,"   ",null,null,null,null,null,null,null,0,0,0,0,"        ",0,0,"Never",null,0,null,null,null,null,1,"7306.40.50.15",null,null,null,null,0,null,0,0,null,null,1,1,1,34.585000000000001,48.328200000000002]
["VC-06L6B20B201","6\" LONGUEUR",null,0,0,"05-05-06 LM",null,null,0,1,"CH","Material","Manufactured","IN10V6-8","C","Actual","Average",0,0,10,11,"LB",0,0,0,0,0,0,0,0,0,null,0,1,"IND",0,0,0,0,"   ",null,"Job","   ",1,"   ",null,null,0,0,0,0,0,0,0,null,0,"     ",0,"     ","     ",1,1,0,"No Time Fence",0,null,1,1,"    5,000.00",5,0,"        ","        ",null,0,null,0,null,"    ",null,"LOC","Active",null,null,null,1,"A102",null,0,0,0,0,null,"   ","   ",0,0,"   ",null,null,null,null,null,null,null,0,0,0,0,0,0,0,"Never",null,0,null,null,null,null,1,"7306.40.50.15",null,null,null,null,0,null,0,0,null,"0 - None",1,0.7,1,0,0]
["VC-06L6B20B202","6\" LONGUEUR",null,0,0,"vérif.comp. 10-01-06 LM",null,null,0,1,"CH","Material","Manufactured","IN10V6-8","C","Actual","Average",0,38.406329999999997,10,10,"LB",0,0,0,0,0,0,0,0,0,null,0,1,"IND",0,0,0,1,"   ",null,"Job","   ",1,"   ",null,null,0,0,0,0,0,0,0,null,0,"     ",0,"     ","     ",1,1,0,"No Time Fence",0,null,1,1,"    5,000.00",5,0,"        ","        ",null,0,null,0,null,"    ",null,"LOC","Active",null,null,null,1,"A102",null,0,0,0,0,null,"   ","   ",0,0,"   ",null,null,null,null,null,null,null,0,0,0,0,"        ",0,0,"Never",null,0,null,null,null,null,1,"7306.40.50.15",null,null,null,null,0,null,0,0,null,null,1,0.7,1,0,38.406329999999997]
["VC-06L6B20B242","6\" LONGUEUR #",null,0,0,"vérif.comp. 10-01-06 LM",null,null,0,1,"CH","Material","Manufactured","IN10V6-8","C","Actual","Average",0,47.331890000000001,10,11,"LB",0,0,0,0,0,0,0,0,0,null,0,1,"IND",0,0,0,1,"   ",null,"Job","   ",1,"   ",null,null,0,0,0,0,0,0,0,null,0,"     ",0,"     ","     ",1,1,0,"No Time Fence",0,null,1,1,"    5,000.00",5,0,"        ","        ",null,0,null,0,null,"    ",null,"LOC","Active",null,null,null,1,"A102",null,0,0,0,0,null,"   ","   ",0,0,"   ",null,null,null,null,null,null,null,0,0,0,0,"        ",0,0,"Never",null,0,null,null,null,null,1,"7306.40.50.15",null,null,null,null,0,null,0,0,null,null,1,1,1,0,47.331890000000001]
["VC-06L6B24A242","6\" LONGUEUR #",null,0,0,"vérif.comp. 10-01-06 LM",null,null,0,1,"CH","Material","Manufactured","IN10V6-8","C","Actual","Average",0,40.186819999999997,10,11,"LB",0,0,0,0,0,0,0,0,0,null,0,1,"IND",0,0,0,1,"   ",null,"Job","   ",1,"   ",null,null,0,0,0,0,0,0,0,null,0,"     ",0,"     ","     ",1,1,0,"No Time Fence",0,null,1,1,"    5,000.00",5,0,"        ","        ",null,0,null,0,null,"    ",null,"LOT","Active",null,null,null,1,"A102",null,0,0,0,0,null,"   ","   ",0,0,"   ",null,null,null,null,null,null,null,0,0,0,0,"        ",0,0,"Never",null,0,null,null,null,null,1,"7306.40.50.15",null,null,null,null,0,null,0,0,null,null,1,0.7,1,0,40.186819999999997]
["VC-06L6B24A261","6\" LONGUEUR",null,0,0,"vérif.comp. 10-01-06 LM",null,null,0,1,"CH","Material","Manufactured","IN10V6-8","C","Actual","Average",0,43.913400000000003,10,12,"LB",0,0,0,0,0,3,0,3,0,null,0,1,"IND",0,0,0,1,"   ",null,"Job","   ",1,"   ",null,null,0,0,0,0,0,0,0,null,0,"     ",0,"     ","     ",1,1,0,"No Time Fence",0,null,1,1,"    5,000.00",5,0,"        ","        ",null,0,null,0,null,"    ",null,"LOC","Active",null,null,null,1,"A102",null,0,0,0,0,null,"   ","   ",0,0,"   ",null,null,null,null,null,null,null,0,0,0,0,"        ",0,0,"Never",null,0,null,null,null,null,1,"7306.40.50.15",null,null,null,null,0,null,0,0,null,null,1,1,1,0,43.913400000000003]
["VC-06L6B24A262","6\" LONGUEUR",null,0,0,"vérif.comp. 10-01-06 LM",null,null,0,1,"CH","Material","Manufactured","IN10V6-8","C","Actual","Average",0,39.69041,10,10,"LB",0,0,0,0,0,0,0,0,0,null,0,1,"IND",0,0,0,1,"   ",null,"Job","   ",1,"   ",null,null,0,0,0,0,0,0,0,null,0,"     ",0,"     ","     ",1,1,0,"No Time Fence",0,null,1,1,"    5,000.00",5,0,"        ","        ",null,0,null,0,null,"    ",null,"LOT","Active",null,null,null,1,"A102",null,0,0,0,0,null,"   ","   ",0,0,"   ",null,null,null,null,null,null,null,0,0,0,0,"        ",0,0,"Never",null,0,null,null,null,null,1,"7306.40.50.15",null,null,null,null,0,null,0,0,null,null,1,0.7,1,0,39.69041]
["VC-06L6B24A264","6\" LONGUEUR#",null,0,0,"vérif.comp. 10-01-06 LM",null,null,0,1,"CH","Material","Manufactured","IN10V6-8","C","Actual","Average",0,42.902900000000002,10,11,"LB",0,0,0,0,0,0,0,0,0,null,0,1,"IND",0,0,0,1,"   ",null,"Job","   ",1,"   ",null,null,0,0,0,0,0,0,0,null,0,"     ",0,"     ","     ",1,1,0,"No Time Fence",0,null,1,1,"    5,000.00",5,0,"        ","        ",null,0,null,0,null,"    ",null,"LOC","Active",null,null,null,1,"A102",null,0,0,0,0,null,"   ","   ",0,0,"   ",null,null,null,null,null,null,null,0,0,0,0,"        ",0,0,"Never",null,0,null,null,null,null,1,"7306.40.50.15",null,null,null,null,0,null,0,0,null,null,1,1,1,0,42.902900000000002]
["VC-06L6B24B241","6\" LONGUEUR",null,0,0,null,null,null,0,1,"CH","Material","Manufactured","IN10V6-8","C","Actual","Average",0,0,10,9,"LB",0,0,0,0,0,0,0,0,0,null,0,1,"IND",0,0,0,0,"   ",null,"Job","   ",1,"   ",null,null,0,0,0,0,0,0,0,null,0,"     ",0,"     ","     ",1,1,0,"No Time Fence",0,null,1,1,"    5,000.00",5,0,"        ","        ",null,0,null,0,null,"    ",null,"LOC","Active",null,null,null,1,"A102",null,0,0,0,0,null,"   ","   ",0,0,"   ",null,null,null,null,null,null,null,0,0,0,0,0,0,0,"Never",null,0,null,null,null,null,1,"7306.40.50.15",null,null,null,null,0,null,0,0,null,"0 - None",1,0.7,1,0,0]
["VC-06L6B24B242","6\" LONGUEUR",null,0,0,"vérif.comp. 10-01-06 LM",null,null,0,1,"CH","Material","Manufactured","IN10V6-8","C","Actual","Average",36.48048,36.480350000000001,10,8,"LB",1,1,0,0,0,1,0,2,0,null,0,1,"IND",0,0,0,1,"   ",null,"Job","   ",1,"   ",null,null,0,0,0,0,0,0,0,null,0,"     ",0,"     ","     ",1,1,0,"No Time Fence",0,null,1,1,"    5,000.00",5,0,"        ","        ",null,0,null,0,null,"    ",null,"LOC","Active",null,null,null,1,"A102",null,0,0,0,0,null,"   ","   ",0,0,"   ",null,null,null,null,null,null,null,0,7,0,6,"        ",0,0,"Never",null,0,null,null,null,null,1,"7306.40.50.15",null,null,null,null,0,null,0,0,null,null,1,0.7,1,36.48048,36.480350000000001]
["VC-06L6B24B244","6\" LONGUEUR#",null,0,0,"vérif.comp. 10-01-06 LM",null,null,0,1,"CH","Material","Manufactured","IN10V6-8","C","Actual","Average",45.62668,45.405909999999999,10,9,"LB",3,0,0,0,0,3,0,6,0,3,0,1,"IND",0,0,0,1,"   ",null,"Job","   ",1,"   ",null,null,0,0,0,0,0,0,0,null,0,"     ",0,"     ","     ",1,1,0,"No Time Fence",0,null,1,1,"    5,000.00",5,0,"        ","        ",null,0,null,0,null,"    ",null,"LOC","Active",null,null,null,1,"A102",null,0,0,0,0,null,"   ","   ",0,0,"   ",null,null,null,null,null,null,null,0,6,0,3,"        ",0,0,"Never",null,0,null,null,null,null,1,"7306.40.50.15",null,null,null,null,0,null,0,0,null,null,1,1,1,45.62668,45.405909999999999]
["VC-06L6B24C241","6\" LONGUEUR",null,0,0,"vérif.comp. 10-01-06 LM",null,null,0,1,"CH","Material","Manufactured","IN10V6-8","C","Actual","Average",0,46.737900000000003,10,4.8,"LB",0,0,0,0,0,0,0,0,0,null,0,1,"IND",0,0,0,1,"   ",null,"Job","   ",1,"   ",null,null,0,0,0,0,0,0,0,null,0,"     ",0,"     ","     ",1,1,0,"No Time Fence",0,null,1,1,"    5,000.00",5,0,"        ","        ",null,0,null,0,null,"    ",null,"LOT","Active",null,null,null,1,"A102",null,0,0,0,0,null,"   ","   ",0,0,"   ",null,null,null,null,null,null,null,0,0,0,0,"        ",0,0,"Never",null,0,null,null,null,null,1,"7306.40.50.15",null,null,null,null,0,null,0,0,null,null,1,0.7,1,0,46.737900000000003]
["VC-06L6B24C242","6\" LONGUEUR",null,0,0,"vérif.comp. 10-01-06 LM",null,null,0,1,"CH","Material","Manufactured","IN10V6-8","C","Actual","Average",37.659999999999997,37.764429999999997,10,9,"LB",0,0,0,0,0,0,0,0,0,null,0,1,"IND",0,0,0,1,"   ",null,"Job","   ",1,"   ",null,null,0,0,0,0,0,0,0,null,0,"     ",0,"     ","     ",1,1,0,"No Time Fence",0,null,1,1,"    5,000.00",5,0,"        ","        ",null,0,null,0,null,"    ",null,"LOT","Active",null,null,null,1,"A102",null,0,0,0,0,null,"   ","   ",0,0,"   ",null,null,null,null,null,null,null,0,0,0,0,"        ",0,0,"Never",null,0,null,null,null,null,1,"7306.40.50.15",null,null,null,null,0,null,0,0,null,null,1,0.7,1,37.659999999999997,37.764429999999997]
["VC-08A1A20A201","12\" LONGUEUR AJUSTABLE",null,0,0,"vérif.comp. 10-01-06 LM",null,null,0,1,"CH","Material","Manufactured","IN10V6-8","C","Actual","Average",0,40.976520000000001,10,10,"LB",0,0,0,0,0,0,0,0,0,null,0,1,"IND",0,0,0,1,"   ",null,"Job","   ",1,"   ",null,null,0,0,0,0,0,0,0,null,0,"     ",0,"     ","     ",1,1,0,"No Time Fence",0,null,1,1,5,5,0,"        ","        ",null,0,null,0,null,"    ",null,"LOC","Active",null,null,null,1,"A102",null,0,0,0,0,null,"   ","   ",0,0,"   ",null,null,null,null,null,null,null,0,0,0,0,"        ",0,0,"Never",null,0,null,null,null,null,1,"7306.40.50.15",null,null,null,null,0,null,0,0,null,null,1,1,1,0,40.976520000000001]
["VC-08A1A20A202","12\" LONGUEUR AJUSTABLE",null,0,0,"08/07/2009 MT",null,null,0,1,"CH","Material","Manufactured","IN10V6-8","C","Actual","Average",0,44.334910000000001,10,11,"LB",0,0,0,0,0,0,0,0,0,null,0,1,"IND",0,0,0,1,"   ",null,"Job","   ",1,"   ",null,null,0,0,0,0,0,0,0,null,0,"     ",0,"     ","     ",1,1,0,"No Time Fence",0,null,1,1,"    5,000.00",5,0,"        ","        ",null,0,null,0,null,"    ",null,"LOC","Active",null,null,null,1,"A102",null,0,0,0,0,null,"   ","   ",0,0,"   ",null,null,null,null,null,null,null,0,0,0,0,0,0,0,"Never",null,0,null,null,null,null,1,"7306.40.50.15",null,null,null,null,0,null,0,0,null,"0 - None",1,0.7,1,0,44.334910000000001]
["VC-08A1A20A204","12\" LONGUEUR AJUSTABLE",null,0,0,null,null,null,0,1,"CH","Material","Manufactured","IN10V6-8","C","Actual","Average",0,0,10,9,"LB",0,0,0,0,0,0,0,0,0,null,0,1,"IND",0,0,0,0,"   ",null,"Job","   ",1,"   ",null,null,0,0,0,0,0,0,0,null,0,"     ",0,"     ","     ",1,1,0,"No Time Fence",0,null,1,1,"    5,000.00",5,0,"        ","        ",null,0,null,0,null,"    ",null,"LOC","Active",null,null,null,1,"A102",null,0,0,0,0,null,"   ","   ",0,0,"   ",null,null,null,null,null,null,null,0,0,0,0,"        ",0,0,"Never",null,0,null,null,null,null,1,"7306.40.50.15",null,null,null,null,0,null,0,0,null,null,1,0.7,1,0,0]
["VC-08A1A20A241","12\" LONGUEUR AJUSTABLE",null,0,0,"28-08-07 LM",null,null,0,1,"CH","Material","Manufactured","IN10V6-8","C","Actual","Average",36.293329999999997,42.219949999999997,10,11,"LB",0,0,0,0,0,0,0,0,0,null,0,1,"IND",0,0,0,1,"   ",null,"Job","   ",1,"   ",null,null,0,0,0,0,0,0,0,null,0,"     ",0,"     ","     ",1,1,0,"No Time Fence",0,null,1,1,"    5,000.00",5,0,"        ","        ",null,0,null,0,null,"    ",null,"LOC","Active",null,null,null,1,"A102",null,0,0,0,0,null,"   ","   ",0,0,"   ",null,null,null,null,null,null,null,0,0,0,0,"        ",0,0,"Never",null,0,null,null,null,null,1,"7306.40.50.15",null,null,null,null,0,null,0,0,null,null,1,0.7,1,36.293333320000002,42.219949999999997]
["VC-08A1A20A242","12\" LONGUEUR AJUSTABLE",null,0,0,"27-08-08 LM",null,null,0,1,"CH","Material","Manufactured","IN10V6-8","C","Actual","Average",38.08,51.622529999999998,10,10,"LB",0,0,0,0,0,0,0,0,0,null,0,1,"IND",0,0,0,1,"   ",null,"Job","   ",1,"   ",null,null,0,0,0,0,0,0,0,null,0,"     ",0,"     ","     ",1,1,0,"No Time Fence",0,null,1,1,"    5,000.00",5,0,"        ","        ",null,0,null,0,null,"    ",null,"LOT","Active",null,null,null,1,"A102",null,0,0,0,0,null,"   ","   ",0,0,"   ",null,null,null,null,null,null,null,0,0,0,0,"        ",0,0,"Never",null,0,null,null,null,null,1,"7306.40.50.15",null,null,null,null,0,null,0,0,null,null,1,1,1,38.08,51.622529999999998]
["VC-08A1A20A244","12\" LONGUEUR AJUSTABLE#",null,0,0,"15-09-2009 MT",null,null,0,1,"CH","Material","Manufactured","IN10V6-8","C","Actual","Average",41.03416,41.882930000000002,10,10,"LB",0,0,0,0,0,0,0,0,0,null,0,1,"IND",0,0,0,1,"   ",null,"Job","   ",1,"   ",null,null,0,0,0,0,0,0,0,null,0,"     ",0,"     ","     ",1,1,0,"No Time Fence",0,null,1,1,"    5,000.00",5,0,"        ","        ",null,0,null,0,null,"    ",null,"LOC","Active",null,null,null,1,"A102",null,0,0,0,0,null,"   ","   ",0,0,"   ",null,null,null,null,null,null,null,0,0,0,0,0,0,0,"Never",null,0,null,null,null,null,1,"7306.40.50.15",null,null,null,null,0,null,0,0,null,"0 - None",1,0.7,1,41.034163190000001,41.882930000000002]
["VC-08A1A20A261","12\" LONGUEUR AJUSTABLE",null,0,0,"19-07-2012 MT",null,null,0,1,"CH","Material","Manufactured","IN10V6-8","C","Actual","Average",0,50.626220000000004,10,10,"LB",0,0,0,0,0,0,0,0,0,null,0,1,"IND",0,0,0,1,"   ",null,"Job","   ",1,"   ",null,null,0,0,0,0,0,0,0,null,0,"     ",0,"     ","     ",1,1,0,"No Time Fence",0,null,1,1,"    5,000.00",5,0,"        ","        ",null,0,null,0,null,"    ",null,"LOT","Active",null,null,null,1,"A102",null,0,0,0,0,null,"   ","   ",0,0,"   ",null,null,null,null,null,null,null,0,0,0,0,"        ",0,0,"Never",null,0,null,null,null,null,1,"7306.40.50.15",null,null,null,null,0,null,0,0,null,null,1,1,1,0,50.626220000000004]
["VC-08A1A20A262","12\" LONGUEUR AJUSTABLE",null,0,0,"vérif.comp. 10-01-06 LM",null,null,0,1,"CH","Material","Manufactured","IN10V6-8","C","Actual","Average",0,55.508580000000002,10,11,"LB",0,0,0,0,0,0,0,0,0,null,0,1,"IND",0,0,0,1,"   ",null,"Job","   ",1,"   ",null,null,0,0,0,0,0,0,0,null,0,"     ",0,"     ","     ",1,1,0,"No Time Fence",0,null,1,1,"    5,000.00",5,0,"        ","        ",null,0,null,0,null,"    ",null,"LOT","Active",null,null,null,1,"A102",null,0,0,0,0,null,"   ","   ",0,0,"   ",null,null,null,null,null,null,null,0,0,0,0,"        ",0,0,"Never",null,0,null,null,null,null,1,"7306.40.50.15",null,null,null,null,0,null,0,0,null,null,1,0.7,1,0,55.508580000000002]
["VC-08A1A20C221","12\" LONGUEUR AJUSTABLE",null,0,0,"vérif.comp. 10-01-06 LM",null,null,0,1,"CH","Material","Manufactured","IN10V6-8","C","Actual","Average",58.12,61.64235,10,12,"LB",0,0,0,0,0,0,0,0,0,null,0,1,"IND",0,0,0,1,"   ",null,"Job","   ",1,"   ",null,null,0,0,0,0,0,0,0,null,0,"     ",0,"     ","     ",1,1,0,"No Time Fence",0,null,1,1,"    5,000.00",5,0,"        ","        ",null,0,null,0,null,"    ",null,"LOC","Active",null,null,null,1,"A102",null,0,0,0,0,null,"   ","   ",0,0,"   ",null,null,null,null,null,null,null,0,0,0,0,"        ",0,0,"Never",null,0,null,null,null,null,1,"7306.40.50.15",null,null,null,null,0,null,0,0,null,null,1,0,1,58.12,61.64235]
["VC-08A1A20C222","12\" LONGUEUR AJUSTABLE",null,0,0,null,null,null,0,1,"CH","Material","Manufactured","IN10V6-8","C","Actual","Average",0,0,10,11,"LB",0,0,0,0,0,0,0,0,0,null,0,1,"IND",0,0,0,0,"   ",null,"Job","   ",1,"   ",null,null,0,0,0,0,0,0,0,null,0,"     ",0,"     ","     ",1,1,0,"No Time Fence",0,null,1,1,"    5,000.00",5,0,"        ","        ",null,0,null,0,null,"    ",null,"LOT","Active",null,null,null,1,"A102",null,0,0,0,0,null,"   ","   ",0,0,"   ",null,null,null,null,null,null,null,0,0,0,0,"        ",0,0,"Never",null,0,null,null,null,null,1,"7306.40.50.15",null,null,null,null,0,null,0,0,null,null,1,2.9,1,0,0]
["VC-08A1A20C241","12\" LONGUEUR AJUSTABLE",null,0,0,"14-01-08 LM",null,null,0,1,"CH","Material","Manufactured","IN10V6-8","C","Actual","Average",54.476669999999999,57.525120000000001,10,11,"LB",0,0,0,0,0,0,0,0,0,null,0,1,"IND",0,0,0,1,"   ",null,"Job","   ",1,"   ",null,null,0,0,0,0,0,0,0,null,0,"     ",0,"     ","     ",1,1,0,"No Time Fence",0,null,1,1,"    5,000.00",5,0,"        ","        ",null,0,null,0,null,"    ",null,"LOT","Active",null,null,null,1,"A102",null,0,0,0,0,null,"   ","   ",0,0,"   ",null,null,null,null,null,null,null,0,0,0,0,"        ",0,0,"Never",null,0,null,null,null,null,1,"7306.40.50.15",null,null,null,null,0,null,0,0,null,null,1,1,1,54.47666667,57.525120000000001]
["VC-08A1A20C242","12\" LONGUEUR AJUSTABLE",null,0,0,"vérif.comp. 10-01-06 LM",null,null,0,1,"CH","Material","Manufactured","IN10V6-8","C","Actual","Average",0,46.197229999999998,10,9.6,"LB",0,0,0,0,0,0,0,0,0,null,0,1,"IND",0,0,0,1,"   ",null,"Job","   ",1,"   ",null,null,0,0,0,0,0,0,0,null,0,"     ",0,"     ","     ",1,1,0,"No Time Fence",0,null,1,1,"    5,000.00",5,0,"        ","        ",null,0,null,0,null,"    ",null,"LOC","Active",null,null,null,1,"A102",null,0,0,0,0,null,"   ","   ",0,0,"   ",null,null,null,null,null,null,null,0,0,0,0,"        ",0,0,"Never",null,0,null,null,null,null,1,"7306.40.50.15",null,null,null,null,0,null,0,0,null,null,1,1,1,0,46.197229999999998]
["VC-08A1A26A244","12\" LONGUEUR AJUSTABLE #",null,0,0,null,null,null,0,1,"CH","Material","Manufactured","IN10V6-8","C","Actual","Average",0,0,10,10,"LB",0,0,0,0,0,0,0,0,0,null,0,1,"IND",0,0,0,0,"   ",null,"Job","   ",1,"   ",null,null,0,0,0,0,0,0,0,null,0,"     ",0,"     ","     ",1,1,0,"No Time Fence",0,null,1,1,"    5,000.00",5,0,"        ","        ",null,0,null,0,null,"    ",null,"LOC","Active",null,null,null,1,"A102",null,0,0,0,0,null,"   ","   ",0,0,"   ",null,null,null,null,null,null,null,0,0,0,0,0,0,0,"Never",null,0,null,null,null,null,1,"7306.40.50.15",null,null,null,null,0,null,0,0,null,"0 - None",1,0,1,0,0]
["VC-08A1A26A261","12\" LONGUEUR AJUSTABLE",null,0,0,null,null,null,0,1,"CH","Material","Manufactured","IN10V6-8","C","Actual","Average",0,0,10,9,"LB",0,0,0,0,0,0,0,0,0,null,0,1,"IND",0,0,0,0,"   ",null,"Job","   ",1,"   ",null,null,0,0,0,0,0,0,0,null,0,"     ",0,"     ","     ",1,1,0,"No Time Fence",0,null,1,1,"    5,000.00",5,0,"        ","        ",null,0,null,0,null,"    ",null,"LOC","Active",null,null,null,1,"A102",null,0,0,0,0,null,"   ","   ",0,0,"   ",null,null,null,null,null,null,null,0,0,0,0,"        ",0,0,"Never",null,0,null,null,null,null,1,"7306.40.50.15",null,null,null,null,0,null,0,0,null,null,1,0.7,1,0,0]
["VC-08A1A26A262","12\" LONGUEUR AJUSTABLE",null,0,0,"vérif.comp. 10-01-06 LM",null,null,0,1,"CH","Material","Manufactured","IN10V6-8","C","Actual","Average",36.681669999999997,39.249360000000003,10,9,"LB",0,0,0,0,0,0,0,0,0,null,0,1,"IND",0,0,0,1,"   ",null,"Job","   ",1,"   ",null,null,0,0,0,0,0,0,0,null,0,"     ",0,"     ","     ",1,1,0,"No Time Fence",0,null,1,1,"    5,000.00",5,0,"        ","        ",null,0,null,0,null,"    ",null,"LOC","Active",null,null,null,1,"A102",null,0,0,0,0,null,"   ","   ",0,0,"   ",null,null,null,null,null,null,null,0,0,0,0,"        ",0,0,"Never",null,0,null,null,null,null,1,"7306.40.50.15",null,null,null,null,0,null,0,0,null,null,1,0.7,1,36.681666649999997,39.249360000000003]
["VC-08A1A26B241","12\" LONGUEUR AJUSTABLE",null,0,0,"vérif.comp. 10-01-06 LM",null,null,0,1,"CH","Material","Manufactured","IN10V6-8","C","Actual","Average",0,48.17492,10,10,"LB",0,0,0,0,0,0,0,0,0,null,0,1,"IND",0,0,0,1,"   ",null,"Job","   ",1,"   ",null,null,0,0,0,0,0,0,0,null,0,"     ",0,"     ","     ",1,1,0,"No Time Fence",0,null,1,1,"    5,000.00",5,0,"        ","        ",null,0,null,0,null,"    ",null,"LOC","Active",null,null,null,1,"A102",null,0,0,0,0,null,"   ","   ",0,0,"   ",null,null,null,null,null,null,null,0,2,0,2,"        ",0,0,"Never",null,0,null,null,null,null,1,"7306.40.50.15",null,null,null,null,0,null,0,0,null,null,1,0,1,0,48.17492]
["VC-08A1A26C241","12\" LONGUEUR AJUSTABLE",null,0,0,"16/02/2009 MT",null,null,0,1,"CH","Material","Manufactured","IN10V6-8","C","Actual","Average",0,54.552570000000003,10,32,"LB",0,0,0,0,0,0,0,0,0,null,0,1,"IND",0,0,0,1,"   ",null,"Job","   ",1,"   ",null,null,0,0,0,0,0,0,0,null,0,"     ",0,"     ","     ",1,1,0,"No Time Fence",0,null,1,1,5,5,0,"        ","        ",null,0,null,0,null,"    ",null,"LOC","Active",null,null,null,1,"A102",null,0,0,0,0,null,"   ","   ",0,0,"   ",null,null,null,null,null,null,null,0,0,0,0,"        ",0,0,"Never",null,0,null,null,null,null,1,"7306.40.50.15",null,null,null,null,0,null,0,0,null,null,1,4.2,1,0,54.552570000000003]
["VC-08A1A26C242","12\" LONGUEUR AJUSTABLE",null,0,0,"vérif.comp. 10-01-06 LM",null,null,0,1,"CH","Material","Manufactured","IN10V6-8","C","Actual","Average",48.7,49.506909999999998,10,9,"LB",0,0,0,0,0,0,0,0,0,null,0,1,"IND",0,0,0,1,"   ",null,"Job","   ",1,"   ",null,null,0,0,0,0,0,0,0,null,0,"     ",0,"     ","     ",1,1,0,"No Time Fence",0,null,1,1,"    5,000.00",5,0,"        ","        ",null,0,null,0,null,"    ",null,"LOT","Active",null,null,null,1,"A102",null,0,0,0,0,null,"   ","   ",0,0,"   ",null,null,null,null,null,null,null,0,0,0,0,"        ",0,0,"Never",null,0,null,null,null,null,1,"7306.40.50.15",null,null,null,null,0,null,0,0,null,null,1,0.7,1,48.7,49.506909999999998]
["VC-08A1A26C251","12\" LONGUEUR AJUSTABLE (OBSOLETE)",null,0,0,"vérif.comp. 10-01-06 LM",null,null,0,1,"CH","Material","Manufactured","IN10V6-8","C","Actual","Average",163.71,55.073819999999998,10,10,"LB",0,0,0,0,0,0,0,0,0,null,0,1,"IND",0,0,0,1,"   ",null,"Job","   ",1,"   ",null,null,0,0,0,0,0,0,0,null,0,"     ",0,"     ","     ",1,1,0,"No Time Fence",0,null,1,1,"    5,000.00",5,0,"        ","        ",null,0,null,0,null,"    ",null,"LOC","Active",null,null,null,1,"A102",null,0,0,0,0,null,"   ","   ",0,0,"   ",null,null,null,null,null,null,null,0,0,0,0,"        ",0,0,"Never",null,0,null,null,null,null,1,"7306.40.50.15",null,null,null,null,0,null,0,0,null,null,1,0,1,163.71,55.073819999999998]
["VC-08A1A26C252","12\" LONGUEUR AJUSTABLE (OBSOLETE)",null,0,0,"vérif.comp. 10-01-06 LM",null,null,0,1,"CH","Material","Manufactured","IN10V6-8","C","Actual","Average",0,40.533439999999999,10,9,"LB",0,0,0,0,0,0,0,0,0,null,0,1,"IND",0,0,0,1,"   ",null,"Job","   ",1,"   ",null,null,0,0,0,0,0,0,0,null,0,"     ",0,"     ","     ",1,1,0,"No Time Fence",0,null,1,1,"    5,000.00",5,0,"        ","        ",null,0,null,0,null,"    ",null,"LOT","Active",null,null,null,1,"A102",null,0,0,0,0,null,"   ","   ",0,0,"   ",null,null,null,null,null,null,null,0,0,0,0,"        ",0,0,"Never",null,0,null,null,null,null,1,"7306.40.50.15",null,null,null,null,0,null,0,0,null,null,1,0.7,1,0,40.533439999999999]
["VC-08A1B20A201","12\" LONGUEUR AJUSTABLE",null,0,0,"vérif.comp. 10-01-06 LM",null,null,0,1,"CH","Material","Manufactured","IN10V6-8","C","Actual","Average",0,43.745930000000001,10,10,"LB",0,0,0,0,0,0,0,0,0,null,0,1,"IND",0,0,0,1,"   ",null,"Job","   ",1,"   ",null,null,0,0,0,0,0,0,0,null,0,"     ",0,"     ","     ",1,1,0,"No Time Fence",0,null,1,1,"    5,000.00",5,0,"        ","        ",null,0,null,0,null,"    ",null,"LOC","Active",null,null,null,1,"A102",null,0,0,0,0,null,"   ","   ",0,0,"   ",null,null,null,null,null,null,null,0,0,0,0,"        ",0,0,"Never",null,0,null,null,null,null,1,"7306.40.50.15",null,null,null,null,0,null,0,0,null,null,1,0,1,0,43.745930000000001]
["VC-08A1B20A204","12\" LONGUEUR AJUSTABLE #",null,0,0,"verif.comp. 10-01-06 LM",null,null,0,1,"CH","Material","Manufactured","IN10V6-8","C","Actual","Average",37.083550000000002,52.979109999999999,10,20,"LB",0,0,0,0,0,0,0,0,0,null,0,1,"IND",0,0,0,1,"   ",null,"Job","   ",1,"   ",null,null,0,0,0,0,0,0,0,null,0,"     ",0,"     ","     ",1,1,0,"No Time Fence",0,null,1,1,"    5,000.00",5,0,"        ","        ",null,0,null,0,null,"    ",null,"LOC","Active",null,null,null,1,"A102",null,0,0,0,0,null,"   ","   ",0,0,"   ",null,null,null,null,null,null,null,0,0,0,0,"        ",0,0,"Never",null,0,null,null,null,null,1,"7306.40.50.15",null,null,null,null,0,null,0,0,null,null,1,1.5,1,37.083548120000003,52.979109999999999]
["VC-08A1B20A241","12\" LONGUEUR AJUSTABLE",null,0,0,"verif.comp. 10-01-06 LM",null,null,0,1,"CH","Material","Manufactured","IN10V6-8","C","Actual","Average",66.279769999999999,66.279629999999997,10,24,"LB",0,0,0,0,0,0,0,0,0,null,0,1,"IND",0,0,0,1,"   ",null,"Job","   ",1,"   ",null,null,0,0,0,0,0,0,0,null,0,"     ",0,"     ","     ",1,1,0,"No Time Fence",0,null,1,1,"    5,000.00",5,0,"        ","        ",null,0,null,0,null,"    ",null,"LOC","Active",null,null,null,1,"A102",null,0,0,0,0,null,"   ","   ",0,0,"   ",null,null,null,null,null,null,null,0,5,0,5,"        ",0,0,"Never",null,0,null,null,null,null,1,"7306.40.50.15",null,null,null,null,0,null,0,0,null,null,1,2.1,1,66.279769999999999,66.279629999999997]
["VC-08A1B20B201","12\" LONGUEUR AJUSTABLE",null,0,0,"verif.comp. 10-01-06 LM",null,null,0,1,"CH","Material","Manufactured","IN10V6-8","C","Actual","Average",0,48.043230000000001,10,16,"LB",0,0,0,0,0,0,0,0,0,null,0,1,"IND",0,0,0,1,"   ",null,"Job","   ",1,"   ",null,null,0,0,0,0,0,0,0,null,0,"     ",0,"     ","     ",1,1,0,"No Time Fence",0,null,1,1,"    5,000.00",5,0,"        ","        ",null,0,null,0,null,"    ",null,"LOC","Active",null,null,null,1,"A102",null,0,0,0,0,null,"   ","   ",0,0,"   ",null,null,null,null,null,null,null,0,0,0,0,"        ",0,0,"Never",null,0,null,null,null,null,1,"7306.40.50.15",null,null,null,null,0,null,0,0,null,null,1,1.5,1,0,48.043230000000001]
["VC-08A2B20A242","24\" LONGUEUR AJUSTABLE",null,0,0,"09-05-07 LM",null,null,0,1,"CH","Material","Manufactured","IN10V6-8","C","Actual","Average",42.64,41.440829999999998,10,4.8,"LB",0,0,0,0,0,0,0,0,0,null,0,1,"IND",0,0,0,1,"   ",null,"Job","   ",1,"   ",null,null,0,0,0,0,0,0,0,null,0,"     ",0,"     ","     ",1,1,0,"No Time Fence",0,null,1,1,"    5,000.00",5,0,"        ","        ",null,0,null,0,null,"    ",null,"LOC","Active",null,null,null,1,"A102",null,0,0,0,0,null,"   ","   ",0,0,"   ",null,null,null,null,null,null,null,0,0,0,0,"        ",0,0,"Never",null,0,null,null,null,null,1,"7306.40.50.15",null,null,null,null,0,null,0,0,null,null,1,0.7,1,42.64,41.440829999999998]
["VC-08L1B20A204","12\" LONGUEUR#",null,0,0,null,null,null,0,1,"CH","Material","Manufactured","IN10V6-8","C","Actual","Average",0,0,10,15,"LB",0,0,0,0,0,0,0,0,0,null,0,1,"IND",0,0,0,0,"   ",null,"Job","   ",1,"   ",null,null,0,0,0,0,0,0,0,null,0,"     ",0,"     ","     ",1,1,0,"No Time Fence",0,null,1,1,"    5,000.00",5,0,"        ","        ",null,0,null,0,null,"    ",null,"LOC","Active",null,null,null,1,"A102",null,0,0,0,0,null,"   ","   ",0,0,"   ",null,null,null,null,null,null,null,0,0,0,0,"        ",0,0,"Never",null,0,null,null,null,null,1,"7306.40.50.15",null,null,null,null,0,null,0,0,null,null,1,1.5,1,0,0]
["VC-08L2B20A201","24\" LONGUEUR#",null,0,0,"verif.comp.06-01-06 LM",null,null,0,1,"CH","Material","Manufactured","IN10V6-8","C","Actual","Average",70.901179999999997,63.09469,10,28,"LB",0,0,0,0,0,0,0,0,0,null,0,1,"IND",0,0,0,1,"   ",null,"Job","   ",1,"   ",null,null,0,0,0,0,0,0,0,null,0,"     ",0,"     ","     ",1,1,0,"No Time Fence",0,null,1,1,"    5,000.00",5,0,"        ","        ",null,0,null,0,null,"    ",null,"LOT","Active",null,null,null,1,"A102",null,0,0,0,0,null,"   ","   ",0,0,"   ",null,null,null,null,null,null,null,0,0,0,0,"        ",0,0,"Never",null,0,null,null,null,null,1,"7306.40.50.15",null,null,null,null,0,null,0,0,null,null,1,2.9,1,70.901176469999996,63.09469]
["VC-08L2B20B242","24\" LONGUEUR",null,0,0,"verif.comp.06-01-06 LM",null,null,0,1,"CH","Material","Manufactured","IN10V6-8","C","Actual","Average",55.825000000000003,54.112409999999997,10,22,"LB",0,0,0,0,0,7,0,9,0,null,0,1,"IND",0,0,0,1,"   ",null,"Job","   ",1,"   ",null,null,0,0,0,0,0,0,0,null,0,"     ",0,"     ","     ",1,1,0,"No Time Fence",0,null,1,1,"    5,000.00",5,0,"        ","        ",null,0,null,0,null,"    ",null,"LOC","Active",null,null,null,1,"A102",null,0,0,0,0,null,"   ","   ",0,0,"   ",null,null,null,null,null,null,null,0,57,0,57,"        ",0,0,"Never",null,0,null,null,null,null,1,"7306.40.50.15",null,null,null,null,0,null,0,0,null,null,1,2.9,1,55.825000000000003,54.112409999999997]
["VC-08L4B24B242","48\" LONGUEUR",null,0,0,"14-07-2009 MT",null,null,0,1,"CH","Material","Manufactured","IN10V6-8","C","Actual","Average",0,45.368729999999999,10,7,"LB",0,0,0,0,0,0,0,0,0,null,0,1,"IND",0,0,0,1,"   ",null,"Job","   ",1,"   ",null,null,0,0,0,0,0,0,0,null,0,"     ",0,"     ","     ",1,1,0,"No Time Fence",0,null,1,1,"    5,000.00",5,0,"        ","        ",null,0,null,0,null,"    ",null,"LOC","Active",null,null,null,1,"A102",null,0,0,0,0,null,"   ","   ",0,0,"   ",null,null,null,null,null,null,null,0,0,0,0,"        ",0,0,"Never",null,0,null,null,null,null,1,"7306.40.50.15",null,null,null,null,0,null,0,0,null,null,1,0.5,1,0,45.368729999999999]
["VC-08L6B20B201","6\" LONGUEUR",null,0,0,"28-08-07 LM",null,null,0,1,"CH","Material","Manufactured","IN10V","C","Actual","Average",45.78,47.801479999999998,10,11,"LB",0,0,0,0,0,0,0,0,0,null,0,1,"IND",0,0,0,1,"   ",null,"Job","   ",1,"   ",null,null,0,0,0,0,0,0,0,null,0,"     ",0,"     ","     ",1,1,0,"No Time Fence",0,null,1,1,"    5,000.00",5,0,"        ","        ",null,0,null,0,null,"    ",null,"LOC","Active",null,null,null,1,"A102",null,0,0,0,0,null,"   ","   ",0,0,"   ",null,null,null,null,null,null,null,0,0,0,0,"        ",0,0,"Never",null,0,null,null,null,null,1,"7306.40.50.15",null,null,null,null,0,null,0,0,null,null,1,1,1,45.78,47.801479999999998]
["VC-10A1A20A264","12\" LONGUEUR AJUSTABLE #",null,0,0,"verif.comp. 10-01-06 LM",null,null,0,1,"CH","Material","Manufactured","IN10V","C","Actual","Average",0,67.065669999999997,10,23,"LB",0,0,0,0,0,0,0,0,0,null,0,1,"IND",0,0,0,1,"   ",null,"Job","   ",1,"   ",null,null,0,0,0,0,0,0,0,null,0,"     ",0,"     ","     ",1,1,0,"No Time Fence",0,null,1,1,"    5,000.00",5,0,"        ","        ",null,0,null,0,null,"    ",null,"LOC","Active",null,null,null,1,"A102",null,0,0,0,0,null,"   ","   ",0,0,"   ",null,null,null,null,null,null,null,0,0,0,0,"        ",0,0,"Never",null,0,null,null,null,null,1,"7306.40.50.15",null,null,null,null,0,null,0,0,null,null,1,2.8,1,0,67.065669999999997]
["VC-10A2A20A262","24\" LONGUEUR AJUSTABLE",null,0,0,null,null,null,0,1,"CH","Material","Manufactured","IN10V","C","Actual","Average",0,0,10,11.9,"LB",0,0,0,0,0,0,0,0,0,null,0,1,"IND",0,0,0,0,"   ",null,"Job","   ",1,"   ",null,null,0,0,0,0,0,0,0,null,0,"     ",0,"     ","     ",1,1,0,"No Time Fence",0,null,1,1,"    5,000.00",5,0,"        ","        ",null,0,null,0,null,"    ",null,"LOC","Active",null,null,null,1,"A102",null,0,0,0,0,null,"   ","   ",0,0,"   ",null,null,null,null,null,null,null,0,0,0,0,0,0,0,"Never",null,0,null,null,null,null,1,"7306.40.50.15",null,null,null,null,0,null,0,0,null,"0 - None",1,1.704,1,0,0]
["VC-10L1A20C221","12\" LONGUEUR",null,0,0,"verif.comp.06-01-06 LM",null,null,0,1,"CH","Material","Manufactured","IN10V","C","Actual","Average",55.20449,55.204329999999999,10,19,"LB",0,0,0,0,0,0,0,0,0,null,0,1,"IND",0,0,0,1,"   ",null,"Job","   ",1,"   ",null,null,0,0,0,0,0,0,0,null,0,"     ",0,"     ","     ",1,1,0,"No Time Fence",0,null,1,1,"    5,000.00",5,0,"        ","        ",null,0,null,0,null,"    ",null,"LOC","Active",null,null,null,1,"A102",null,0,0,0,0,null,"   ","   ",0,0,"   ",null,null,null,null,null,null,null,0,5,0,5,"        ",0,0,"Never",null,0,null,null,null,null,1,"7306.40.50.15",null,null,null,null,0,null,0,0,null,null,1,2.8,1,55.20449,55.204329999999999]
["VC-10L1B24A262","12\" LONGUEUR",null,0,0,"verif.comp.06-01-06 LM",null,null,0,1,"CH","Material","Manufactured","IN10V","C","Actual","Average",0,107.00103,10,52,"LB",0,0,0,0,0,0,0,0,0,null,0,1,"IND",0,0,0,1,"   ",null,"Job","   ",1,"   ",null,null,0,0,0,0,0,0,0,null,0,"     ",0,"     ","     ",1,1,0,"No Time Fence",0,null,1,1,"    5,000.00",5,0,"        ","        ",null,0,null,0,null,"    ",null,"LOC","Active",null,null,null,1,"A102",null,0,0,0,0,null,"   ","   ",0,0,"   ",null,null,null,null,null,null,null,0,0,0,0,"        ",0,0,"Never",null,0,null,null,null,null,1,"7306.40.50.15",null,null,null,null,0,null,0,0,null,null,1,4.0999999999999996,1,0,107.00103]
["VC-10L2B20A244","24\" LONGUEUR#",null,0,0,"26-11-2010 MT",null,null,0,1,"CH","Material","Manufactured","IN10V","C","Actual","Average",0,125.80271999999999,10,42,"LB",0,0,0,0,0,0,0,0,0,null,0,1,"IND",0,0,0,1,"   ",null,"Job","   ",1,"   ",null,null,0,0,0,0,0,0,0,null,0,"     ",0,"     ","     ",1,1,0,"No Time Fence",0,null,1,1,"    5,000.00",5,0,"        ","        ",null,0,null,0,null,"    ",null,"LOC","Active",null,null,null,1,"A102",null,0,0,0,0,null,"   ","   ",0,0,"   ",null,null,null,null,null,null,null,0,0,0,0,"        ",0,0,"Never",null,0,null,null,null,null,1,"7306.40.50.15",null,null,null,null,0,null,0,0,null,null,1,4.0999999999999996,1,0,125.80271999999999]
["VC-10L4B24A244","48\" LONGUEUR",null,0,0,"vérif.comp. 10-01-06 LM",null,null,0,1,"CH","Material","Manufactured","IN10V","C","Actual","Average",0,41.753740000000001,10,14,"LB",0,0,0,0,0,0,0,0,0,null,0,1,"IND",0,0,0,1,"   ",null,"Job","   ",1,"   ",null,null,0,0,0,0,0,0,0,null,0,"     ",0,"     ","     ",1,1,0,"No Time Fence",0,null,1,1,"    5,000.00",5,0,"        ","        ",null,0,null,0,null,"    ",null,"LOC","Active",null,null,null,1,"A102",null,0,0,0,0,null,"   ","   ",0,0,"   ",null,null,null,null,null,null,null,0,0,0,0,"        ",0,0,"Never",null,0,null,null,null,null,1,"7306.40.50.15",null,null,null,null,0,null,0,0,null,null,1,1.4,1,0,41.753740000000001]
["VC-10L6A20A261","6\" LONGUEUR",null,0,0,"06-06-07 LM",null,null,0,1,"CH","Material","Manufactured","IN10V","C","Actual","Average",0,51.49991,10,26,"LB",0,0,0,0,0,0,0,0,0,null,0,1,"IND",0,0,0,1,"   ",null,"Job","   ",1,"   ",null,null,0,0,0,0,0,0,0,null,0,"     ",0,"     ","     ",1,1,0,"No Time Fence",0,null,1,1,"    5,000.00",5,0,"        ","        ",null,0,null,0,null,"    ",null,"LOC","Active",null,null,null,1,"A102",null,0,0,0,0,null,"   ","   ",0,0,"   ",null,null,null,null,null,null,null,0,0,0,0,"        ",0,0,"Never",null,0,null,null,null,null,1,"7306.40.50.15",null,null,null,null,0,null,0,0,null,null,1,1.4,1,0,51.49991]
["VC-12A1A20C241","12\" LONGUEUR AJUSTABLE",null,0,0,null,null,null,0,1,"CH","Material","Manufactured","IN10V","C","Actual","Average",0,0,10,24,"LB",0,0,0,0,0,0,0,0,0,null,0,1,"IND",0,0,0,0,"   ",null,"Job","   ",1,"   ",null,null,0,0,0,0,0,0,0,null,0,"     ",0,"     ","     ",1,1,0,"No Time Fence",0,null,1,1,"    5,000.00",5,0,"        ","        ",null,0,null,0,null,"    ",null,"LOT","Active",null,null,null,1,"A102",null,0,0,0,0,null,"   ","   ",0,0,"   ",null,null,null,null,null,null,null,0,0,0,0,"        ",0,0,"Never",null,0,null,null,null,null,1,"7306.40.50.15",null,null,null,null,0,null,0,0,null,null,1,3.7,1,0,0]
["VC-12A2B20B201","24\" LONGUEUR AJUSTABLE",null,0,0,null,null,null,0,1,"CH","Material","Manufactured","IN10V","C","Actual","Average",0,0,10,43,"LB",0,0,0,0,0,0,0,0,0,null,0,1,"IND",0,0,0,0,"   ",null,"Job","   ",1,"   ",null,null,0,0,0,0,0,0,0,null,0,"     ",0,"     ","     ",1,1,0,"No Time Fence",0,null,1,1,"    5,000.00",5,0,"        ","        ",null,0,null,0,null,"    ",null,"LOT","Active",null,null,null,1,"A102",null,0,0,0,0,null,"   ","   ",0,0,"   ",null,null,null,null,null,null,null,0,0,0,0,"        ",0,0,"Never",null,0,null,null,null,null,1,"7306.40.50.15",null,null,null,null,0,null,0,0,null,null,1,7.3,1,0,0]
["VC-12L1A20A242","12\" LONGUEUR",null,0,0,"verif.comp.06-01-06 LM",null,null,0,1,"CH","Material","Manufactured","IN10V","C","Actual","Average",86.007999999999996,74.941209999999998,10,55.6,"LB",0,0,0,0,0,0,0,0,0,null,0,1,"IND",0,0,0,1,"   ",null,"Job","   ",1,"   ",null,null,0,0,0,0,0,0,0,null,0,"     ",0,"     ","     ",1,1,0,"No Time Fence",0,null,1,1,"    5,000.00",5,0,"        ","        ",null,0,null,0,null,"    ",null,"LOT","Active",null,null,null,1,"A102",null,0,0,0,0,null,"   ","   ",0,0,"   ",null,null,null,null,null,null,null,0,0,0,0,"        ",0,0,"Never",null,0,null,null,null,null,1,"7306.40.50.15",null,null,null,null,0,null,0,0,null,null,1,3.7,1,86.007999999999996,74.941209999999998]
["VC-12L1B20A261","12\" LONGUEUR",null,0,0,"verif.comp.06-01-06 LM",null,null,0,1,"CH","Material","Manufactured","IN10V","C","Actual","Average",86.007999999999996,95.810230000000004,10,61,"LB",0,0,0,0,0,0,0,0,0,null,0,1,"IND",0,0,0,1,"   ",null,"Job","   ",1,"   ",null,null,0,0,0,0,0,0,0,null,0,"     ",0,"     ","     ",1,1,0,"No Time Fence",0,null,1,1,"    5,000.00",5,0,"        ","        ",null,0,null,0,null,"    ",null,"LOT","Active",null,null,null,1,"A102",null,0,0,0,0,null,"   ","   ",0,0,"   ",null,null,null,null,null,null,null,0,0,0,0,"        ",0,0,"Never",null,0,null,null,null,null,1,"7306.40.50.15",null,null,null,null,0,null,0,0,null,null,1,7.3,1,86.007999999999996,95.810230000000004]
["VC-12L4A20A201","48\" LONGUEUR",null,0,0,"04/06/2009 MT",null,null,0,1,"CH","Material","Manufactured","IN10V","C","Actual","Average",33.865000000000002,38.80057,10,9,"LB",0,0,0,0,0,0,0,0,0,null,0,1,"IND",0,0,0,1,"   ",null,"Job","   ",1,"   ",null,null,0,0,0,0,0,0,0,null,0,"     ",0,"     ","     ",1,1,0,"No Time Fence",0,null,1,1,"    5,000.00",5,0,"        ","        ",null,0,null,0,null,"    ",null,"LOT","Active",null,null,null,1,"A102",null,0,0,0,0,null,"   ","   ",0,0,"   ",null,null,null,null,null,null,null,0,0,0,0,"        ",0,0,"Never",null,0,null,null,null,null,1,"7306.40.50.15",null,null,null,null,0,null,0,0,null,null,1,0.9,1,33.865000000000002,38.80057]
["VC-12L4B24B241","48\" LONGUEUR",null,0,0,null,null,null,0,1,"CH","Material","Manufactured","IN10V","C","Actual","Average",0,0,10,43,"LB",0,0,0,0,0,0,0,0,0,null,0,1,"IND",0,0,0,0,"   ",null,"Job","   ",1,"   ",null,null,0,0,0,0,0,0,0,null,0,"     ",0,"     ","     ",1,1,0,"No Time Fence",0,null,1,1,"    5,000.00",5,0,"        ","        ",null,0,null,0,null,"    ",null,"LOT","Active",null,null,null,1,"A102",null,0,0,0,0,null,"   ","   ",0,0,"   ",null,null,null,null,null,null,null,0,0,0,0,0,0,0,"Never",null,0,null,null,null,null,1,"7306.40.50.15",null,null,null,null,0,null,0,0,null,"0 - None",1,7.3,1,0,0]
["VC-12L6B20B241","6\" LONGUEUR",null,0,0,"verif.comp. 10-01-06 LM",null,null,0,1,"CH","Material","Manufactured","IN10V","C","Actual","Average",86.007999999999996,123.72933,10,37,"LB",0,0,0,0,0,0,0,0,0,null,0,1,"IND",0,0,0,1,"   ",null,"Job","   ",1,"   ",null,null,0,0,0,0,0,0,0,null,0,"     ",0,"     ","     ",1,1,0,"No Time Fence",0,null,1,1,"    5,000.00",5,0,"        ","        ",null,0,null,0,null,"    ",null,"LOT","Active",null,null,null,1,"A102",null,0,0,0,0,null,"   ","   ",0,0,"   ",null,null,null,null,null,null,null,0,0,0,0,"        ",0,0,"Never",null,0,null,null,null,null,1,"7306.40.50.15",null,null,null,null,0,null,0,0,null,null,1,4.5999999999999996,1,86.007999999999996,123.72933]
["VC-14A1A20C241","12\" LONGUEUR AJUSTABLE",null,0,0,"verif.comp.20-12-05 LM",null,null,0,1,"CH","Material","Manufactured","IN10V","C","Actual","Average",44.75,44.305700000000002,10,13,"LB",0,0,0,0,0,0,0,0,0,null,0,1,"IND",0,0,0,1,"   ",null,"Job","   ",1,"   ",null,null,0,0,0,0,0,0,0,null,0,"     ",0,"     ","     ",1,1,0,"No Time Fence",0,null,1,1,"    5,000.00",5,0,"        ","        ",null,0,null,0,null,"    ",null,"LOC","Active",null,null,null,1,"A102",null,0,0,0,0,null,"   ","   ",0,0,"   ",null,null,null,null,null,null,null,0,1,0,1,"        ",0,0,"Never",null,0,null,null,null,null,1,"7306.40.50.15",null,null,null,null,0,null,0,0,null,null,1,2.2999999999999998,1,44.75,44.305700000000002]
["VC-14A2B20A241","24\" LONGUEUR AJUSTABLE #",null,0,0,null,null,null,0,1,"CH","Material","Manufactured","IN10V","C","Actual","Average",0,0,10,30,"LB",0,0,0,0,0,0,0,0,0,null,0,1,"IND",0,0,0,0,"   ",null,"Job","   ",1,"   ",null,null,0,0,0,0,0,0,0,null,0,"     ",0,"     ","     ",1,1,0,"No Time Fence",0,null,1,1,"    5,000.00",5,0,"        ","        ",null,0,null,0,null,"    ",null,"LOC","Active",null,null,null,1,"A102",null,0,0,0,0,null,"   ","   ",0,0,"   ",null,null,null,null,null,null,null,0,0,0,0,"        ",0,0,"Never",null,0,null,null,null,null,1,"7306.40.50.15",null,null,null,null,0,null,0,0,null,null,1,4.5999999999999996,1,0,0]
["VC-14D1A20C221","12\" LONGUEUR DRAIN #",null,0,0,"verif.comp. 10-01-06 LM",null,null,0,1,"CH","Material","Manufactured","IN10V","C","Actual","Average",0,85.375960000000006,10,57,"LB",0,0,0,0,0,0,0,0,0,null,0,1,"IND",0,0,0,1,"   ",null,"Job","   ",1,"   ",null,null,0,0,0,0,0,0,0,null,0,"     ",0,"     ","     ",1,1,0,"No Time Fence",0,null,1,1,"    5,000.00",5,0,"        ","        ",null,0,null,0,null,"    ",null,"LOC","Active",null,null,null,1,"A102",null,0,0,0,0,null,"   ","   ",0,0,"   ",null,null,null,null,null,null,null,0,0,0,0,"        ",0,0,"Never",null,0,null,null,null,null,1,"7306.40.50.15",null,null,null,null,0,null,0,0,null,null,1,7.3,1,0,85.375960000000006]
["VC-14L1B20A204","12\" LONGUEUR #",null,0,0,"vérif.comp. 10-01-06 LM",null,null,0,1,"CH","Material","Manufactured","IN10V","C","Actual","Average",41.31,33.601300000000002,10,10,"LB",0,0,0,0,0,0,0,0,0,null,0,1,"IND",0,0,0,1,"   ",null,"Job","   ",1,"   ",null,null,0,0,0,0,0,0,0,null,0,"     ",0,"     ","     ",1,1,0,"No Time Fence",0,null,1,1,"    5,000.00",5,0,"        ","        ",null,0,null,0,null,"    ",null,"LOC","Active",null,null,null,1,"A102",null,0,0,0,0,null,"   ","   ",0,0,"   ",null,null,null,null,null,null,null,0,0,0,0,"        ",0,0,"Never",null,0,null,null,null,null,1,"7306.40.50.15",null,null,null,null,0,null,0,0,null,null,1,1.2,1,41.31,33.601300000000002]
["VC-14L2B24A262","24\" LONGUEUR (OBSOLETE)",null,0,0,"verif.comp. 10-01-06 LM",null,null,0,1,"CH","Material","Manufactured","IN10V","C","Actual","Average",0,86.511380000000003,10,35,"LB",0,0,0,0,0,0,0,0,0,null,0,1,"IND",0,0,0,1,"   ",null,"Job","   ",1,"   ",null,null,0,0,0,0,0,0,0,null,0,"     ",0,"     ","     ",1,1,0,"No Time Fence",0,null,1,1,"    5,000.00",5,0,"        ","        ",null,0,null,0,null,"    ",null,"LOC","Active",null,null,null,1,"A102",null,0,0,0,0,null,"   ","   ",0,0,"   ",null,null,null,null,null,null,null,0,0,0,0,"        ",0,0,"Never",null,0,null,null,null,null,1,"7306.40.50.15",null,null,null,null,0,null,0,0,null,null,1,5.7,1,0,86.511380000000003]
["VC-14L2B26C241","24\" LONGUEUR (OBSOLETE)",null,0,0,null,null,null,0,1,"CH","Material","Manufactured","IN10V","C","Actual","Average",0,0,10,31,"LB",0,0,0,0,0,0,0,0,0,null,0,1,"IND",0,0,0,0,"   ",null,"Job","   ",1,"   ",null,null,0,0,0,0,0,0,0,null,0,"     ",0,"     ","     ",1,1,0,"No Time Fence",0,null,1,1,"    5,000.00",5,0,"        ","        ",null,0,null,0,null,"    ",null,"LOC","Active",null,null,null,1,"A102",null,0,0,0,0,null,"   ","   ",0,0,"   ",null,null,null,null,null,null,null,0,0,0,0,"        ",0,0,"Never",null,0,null,null,null,null,1,"7306.40.50.15",null,null,null,null,0,null,0,0,null,null,1,5.7,1,0,0]
["VC-14L6A20A262","6\" LONGUEUR (OBSOLETE)",null,0,0,"verif.comp.20-12-05 LM",null,null,0,1,"CH","Material","Manufactured","IN10V","C","Actual","Average",44.994999999999997,58.748280000000001,10,19,"LB",0,0,0,0,0,0,0,0,0,null,0,1,"IND",0,0,0,1,"   ",null,"Job","   ",1,"   ",null,null,0,0,0,0,0,0,0,null,0,"     ",0,"     ","     ",1,1,0,"No Time Fence",0,null,1,1,"    5,000.00",5,0,"        ","        ",null,0,null,0,null,"    ",null,"LOC","Active",null,null,null,1,"A102",null,0,0,0,0,null,"   ","   ",0,0,"   ",null,null,null,null,null,null,null,0,0,0,0,"        ",0,0,"Never",null,0,null,null,null,null,1,"7306.40.50.15",null,null,null,null,0,null,0,0,null,null,1,2.8,1,44.994999999999997,58.748280000000001]
["VC-16A1B20B241","12\" LONGUEUR AJUSTABLE #",null,0,0,null,null,null,0,1,"CH","Material","Manufactured","IN10V","C","Actual","Average",0,0,10,57,"LB",0,0,0,0,0,0,0,0,0,null,0,1,"IND",0,0,0,0,"   ",null,"Job","   ",1,"   ",null,null,0,0,0,0,0,0,0,null,0,"     ",0,"     ","     ",1,1,0,"No Time Fence",0,null,1,1,"    5,000.00",5,0,"        ","        ",null,0,null,0,null,"    ",null,"LOC","Active",null,null,null,1,"A102",null,0,0,0,0,null,"   ","   ",0,0,"   ",null,null,null,null,null,null,null,0,0,0,0,"        ",0,0,"Never",null,0,null,null,null,null,1,"7306.40.50.15",null,null,null,null,0,null,0,0,null,null,1,11.4,1,0,0]
["VC-16A2B24A242","24\" LONGUEUR AJUSTABLE",null,0,0,"vérif.comp. 10-01-06 LM",null,null,0,1,"CH","Material","Manufactured","IN10V","C","Actual","Average",27.85,36.25658,10,10,"LB",0,0,0,0,0,0,0,0,0,null,0,1,"IND",0,0,0,1,"   ",null,"Job","   ",1,"   ",null,null,0,0,0,0,0,0,0,null,0,"     ",0,"     ","     ",1,1,0,"No Time Fence",0,null,1,1,"    5,000.00",5,0,"        ","        ",null,0,null,0,null,"    ",null,"LOC","Active",null,null,null,1,"A102",null,0,0,0,0,null,"   ","   ",0,0,"   ",null,null,null,null,null,null,null,0,0,0,0,"        ",0,0,"Never",null,0,null,null,null,null,1,"7306.40.50.15",null,null,null,null,0,null,0,0,null,null,1,1.4,1,27.85,36.25658]
["VC-16A2B24B241","24\" LONGUEUR AJUSTABLE",null,0,0,"vérif.comp. 10-01-06 LM",null,null,0,1,"CH","Material","Manufactured","IN10V","C","Actual","Average",39.90699,41.293480000000002,10,8,"LB",0,0,0,0,0,0,0,0,0,null,0,1,"IND",0,0,0,1,"   ",null,"Job","   ",1,"   ",null,null,0,0,0,0,0,0,0,null,0,"     ",0,"     ","     ",1,1,0,"No Time Fence",0,null,1,1,"    5,000.00",5,0,"        ","        ",null,0,null,0,null,"    ",null,"LOC","Active",null,null,null,1,"A102",null,0,0,0,0,null,"   ","   ",0,0,"   ",null,null,null,null,null,null,null,0,0,0,0,"        ",0,0,"Never",null,0,null,null,null,null,1,"7306.40.50.15",null,null,null,null,0,null,0,0,null,null,1,1.4,1,39.906994089999998,41.293480000000002]
["VC-16L2A20C242","24\" LONGUEUR",null,0,0,"18-07-2012 MT",null,null,0,1,"CH","Material","Manufactured","IN10V","C","Actual","Average",0,118.22848,10,30,"LB",0,0,0,0,0,0,0,0,0,null,0,1,"IND",0,0,0,1,"   ",null,"Job","   ",1,"   ",null,null,0,0,0,0,0,0,0,null,0,"     ",0,"     ","     ",1,1,0,"No Time Fence",0,null,1,1,"    5,000.00",5,0,"        ","        ",null,0,null,0,null,"    ",null,"LOC","Active",null,null,null,1,"A102",null,0,0,0,0,null,"   ","   ",0,0,"   ",null,null,null,null,null,null,null,0,0,0,0,"        ",0,0,"Never",null,0,null,null,null,null,1,"7306.40.50.15",null,null,null,null,0,null,0,0,null,null,1,6.9,1,0,118.22848]
["VC-16L4A20C244","48\" LONGUEUR #",null,0,0,"verif.comp.20-12-05 LM",null,null,0,1,"CH","Material","Manufactured","IN10V","C","Actual","Average",0,68.530810000000002,10,19,"LB",0,0,0,0,0,0,0,0,0,null,0,1,"IND",0,0,0,1,"   ",null,"Job","   ",1,"   ",null,null,0,0,0,0,0,0,0,null,0,"     ",0,"     ","     ",1,1,0,"No Time Fence",0,null,1,1,"    5,000.00",5,0,"        ","        ",null,0,null,0,null,"    ",null,"LOC","Active",null,null,null,1,"A102",null,0,0,0,0,null,"   ","   ",0,0,"   ",null,null,null,null,null,null,null,0,0,0,0,"        ",0,0,"Never",null,0,null,null,null,null,1,"7306.40.50.15",null,null,null,null,0,null,0,0,null,null,1,3.4,1,0,68.530810000000002]
["VC-16L4B24C242","48\" LONGUEUR",null,0,0,"verif.comp.06-01-06 LM",null,null,0,1,"CH","Material","Manufactured","IN10V","C","Actual","Average",0,76.473129999999998,10,33,"LB",0,0,0,0,0,0,0,0,0,null,0,1,"IND",0,0,0,1,"   ",null,"Job","   ",1,"   ",null,null,0,0,0,0,0,0,0,null,0,"     ",0,"     ","     ",1,1,0,"No Time Fence",0,null,1,1,"    5,000.00",5,0,"        ","        ",null,0,null,0,null,"    ",null,"LOC","Active",null,null,null,1,"A102",null,0,0,0,0,null,"   ","   ",0,0,"   ",null,null,null,null,null,null,null,0,0,0,0,"        ",0,0,"Never",null,0,null,null,null,null,1,"7306.40.50.15",null,null,null,null,0,null,0,0,null,null,1,6.9,1,0,76.473129999999998]
["VC-18A1B20A201","12\" LONGUEUR AJUSTABLE",null,0,0,"verif.comp.06-01-06 LM",null,null,0,1,"CH","Material","Manufactured","IN10V","C","Actual","Average",93.761539999999997,110.67995000000001,10,68,"LB",0,0,0,0,0,0,0,0,0,null,0,1,"IND",0,0,0,1,"   ",null,"Job","   ",1,"   ",null,null,0,0,0,0,0,0,0,null,0,"     ",0,"     ","     ",1,1,0,"No Time Fence",0,null,1,1,"    5,000.00",5,0,"        ","        ",null,0,null,0,null,"    ",null,"LOC","Active",null,null,null,1,"A102",null,0,0,0,0,null,"   ","   ",0,0,"   ",null,null,null,null,null,null,null,0,0,0,0,"        ",0,0,"Never",null,0,null,null,null,null,1,"7306.40.50.15",null,null,null,null,0,null,0,0,null,null,1,13.8,1,93.761538459999997,110.67995000000001]
["VC-18A1B20A204","12\" LONGUEUR AJUSTABLE#",null,0,0,null,null,null,0,1,"CH","Material","Manufactured","IN10V","C","Actual","Average",0,131.92266000000001,10,55,"LB",0,0,0,0,0,0,0,0,0,null,0,1,"IND",0,0,0,1,"   ",null,"Job","   ",1,"   ",null,null,0,0,0,0,0,0,0,null,0,"     ",0,"     ","     ",1,1,0,"No Time Fence",0,null,1,1,"    5,000.00",5,0,"        ","        ",null,0,null,0,null,"    ",null,"LOT","Active",null,null,null,1,"A102",null,0,0,0,0,null,"   ","   ",0,0,"   ",null,null,null,null,null,null,null,0,0,0,0,0,0,0,"Never",null,0,null,null,null,null,1,"7306.40.50.15",null,null,null,null,0,null,0,0,null,"0 - None",1,13.8,1,0,131.92266000000001]
["VC-18A2B24C242","24\" LONGUEUR AJUSTABLE",null,0,0,null,null,null,0,1,"CH","Material","Manufactured","IN10V","C","Actual","Average",0,73.730159999999998,10,24,"LB",0,0,0,0,0,0,0,0,0,null,0,1,"IND",0,0,0,1,"   ",null,"Job","   ",1,"   ",null,null,0,0,0,0,0,0,0,null,0,"     ",0,"     ","     ",1,1,0,"No Time Fence",0,null,1,1,"    5,000.00",5,0,"        ","        ",null,0,null,0,null,"    ",null,"LOC","Active",null,null,null,1,"A102",null,0,0,0,0,null,"   ","   ",0,0,"   ",null,null,null,null,null,null,null,0,0,0,0,"        ",0,0,"Never",null,0,null,null,null,null,1,"7306.40.50.15",null,null,null,null,0,null,0,0,null,null,1,4.0999999999999996,1,0,73.730159999999998]
["VC-18L1B24A241","12\" LONGUEUR",null,0,0,null,null,null,0,1,"CH","Material","Manufactured","IN10V","C","Actual","Average",0,0,10,33,"LB",0,0,0,0,0,0,0,0,0,null,0,1,"IND",0,0,0,0,"   ",null,"Job","   ",1,"   ",null,null,0,0,0,0,0,0,0,null,0,"     ",0,"     ","     ",1,1,0,"No Time Fence",0,null,1,1,"    5,000.00",5,0,"        ","        ",null,0,null,0,null,"    ",null,"LOC","Active",null,null,null,1,"A102",null,0,0,0,0,null,"   ","   ",0,0,"   ",null,null,null,null,null,null,null,0,0,0,0,0,0,0,"Never",null,0,null,null,null,null,1,"7306.40.50.15",null,null,null,null,0,null,0,0,null,"0 - None",1,8.1999999999999993,1,0,0]
["VC-18L2A20C242","24\" LONGUEUR",null,0,0,"17-07-08 LM",null,null,0,1,"CH","Material","Manufactured","IN10V","C","Actual","Average",0,102.1647,10,13.8,"LB",0,0,0,0,0,0,0,0,0,null,0,1,"IND",0,0,0,1,"   ",null,"Job","   ",1,"   ",null,null,0,0,0,0,0,0,0,null,0,"     ",0,"     ","     ",1,1,0,"No Time Fence",0,null,1,1,"    5,000.00",5,0,"        ","        ",null,0,null,0,null,"    ",null,"LOC","Active",null,null,null,1,"A102",null,0,0,0,0,null,"   ","   ",0,0,"   ",null,null,null,null,null,null,null,0,0,0,0,"        ",0,0,"Never",null,0,null,null,null,null,1,"7326.90.85.87",null,null,null,null,0,null,0,0,null,null,1,5.4450000000000003,1,0,102.1647]
["VC-18L4B24B241","48\" LONGUEUR",null,0,0,"vérif.comp. 27-01-06 LM",null,null,0,1,"CH","Material","Manufactured","IN10V","C","Actual","Average",0,0,10,41,"LB",0,0,0,0,0,0,0,0,0,null,0,1,"IND",0,0,0,0,"   ",null,"Job","   ",1,"   ",null,null,0,0,0,0,0,0,0,null,0,"     ",0,"     ","     ",1,1,0,"No Time Fence",0,null,1,1,"    5,000.00",5,0,"        ","        ",null,0,null,0,null,"    ",null,"LOC","Active",null,null,null,1,"A102",null,0,0,0,0,null,"   ","   ",0,0,"   ",null,null,null,null,null,null,null,0,0,0,0,0,0,0,"Never",null,0,null,null,null,null,1,"7306.40.50.15",null,null,null,null,0,null,0,0,null,"0 - None",1,8.1999999999999993,1,0,0]
["VC-18L6B24A241","6\" LONGUEUR",null,0,0,"vérif.comp. 30-01-06 LM",null,null,0,1,"CH","Material","Manufactured","IN10V","C","Actual","Average",115.66789,120.17883999999999,10,75,"LB",0,0,0,0,0,0,0,0,0,null,0,1,"IND",0,0,0,1,"   ",null,"Job","   ",1,"   ",null,null,0,0,0,0,0,0,0,null,0,"     ",0,"     ","     ",1,1,0,"No Time Fence",0,null,1,1,"    5,000.00",5,0,"        ","        ",null,0,null,0,null,"    ",null,"LOC","Active",null,null,null,1,"A102",null,0,0,0,0,null,"   ","   ",0,0,"   ",null,null,null,null,null,null,null,0,0,0,0,"        ",0,0,"Never",null,0,null,null,null,null,1,"7306.40.50.15",null,null,null,null,0,null,0,0,null,null,1,16.3,1,115.66789473999999,120.17883999999999]
["VC-20A1B20A201","12\" LONGUEUR AJUSTABLE#",null,0,0,"vérif.comp. 30-01-06 LM",null,null,0,1,"CH","Material","Manufactured","IN10V","C","Actual","Average",46.68,46.172400000000003,10,10,"LB",0,0,0,0,0,0,0,0,0,null,0,1,"IND",0,0,0,1,"   ",null,"Job","   ",1,"   ",null,null,0,0,0,0,0,0,0,null,0,"     ",0,"     ","     ",1,1,0,"No Time Fence",0,null,1,1,"    5,000.00",5,0,"        ","        ",null,0,null,0,null,"    ",null,"LOC","Active",null,null,null,1,"A102",null,0,0,0,0,null,"   ","   ",0,0,"   ",null,null,null,null,null,null,null,0,1,0,1,"        ",0,0,"Never",null,0,null,null,null,null,1,"7306.40.50.15",null,null,null,null,0,null,0,0,null,null,1,2,1,46.68,46.172400000000003]
["VC-20A2B24A241","24\" LONGUEUR AJUSTABLE",null,0,0,null,null,null,0,1,"CH","Material","Manufactured","IN10V","C","Actual","Average",0,0,10,21,"LB",0,0,0,0,0,0,0,0,0,null,0,1,"IND",0,0,0,0,"   ",null,"Job","   ",1,"   ",null,null,0,0,0,0,0,0,0,null,0,"     ",0,"     ","     ",1,1,0,"No Time Fence",0,null,1,1,"    5,000.00",5,0,"        ","        ",null,0,null,0,null,"    ",null,"LOC","Active",null,null,null,1,"A102",null,0,0,0,0,null,"   ","   ",0,0,"   ",null,null,null,null,null,null,null,0,0,0,0,0,0,0,"Never",null,0,null,null,null,null,1,"7306.40.50.15",null,null,null,null,0,null,0,0,null,"0 - None",1,4.79,1,0,0]
["VC-20L2B20A241","24\" LONGUEUR#",null,0,0,"vérif.comp. 26-01-06 LM",null,null,0,1,"CH","Material","Manufactured","IN10V","C","Actual","Average",0,76.729200000000006,10,19,"LB",0,0,0,0,0,0,0,0,0,null,0,1,"IND",0,0,0,1,"   ",null,"Job","   ",1,"   ",null,null,0,0,0,0,0,0,0,null,0,"     ",0,"     ","     ",1,1,0,"No Time Fence",0,null,1,1,"    5,000.00",5,0,"        ","        ",null,0,null,0,null,"    ",null,"LOC","Active",null,null,null,1,"A102",null,0,0,0,0,null,"   ","   ",0,0,"   ",null,null,null,null,null,null,null,0,0,0,0,"        ",0,0,"Never",null,0,null,null,null,null,1,"7306.40.50.15",null,null,null,null,0,null,0,0,null,null,1,4.79,1,0,76.729200000000006]
["VC-20L2B24A241","24\" LONGUEUR",null,0,0,"vérif.comp. 27-01-06 LM",null,null,0,1,"CH","Material","Manufactured","IN10V","C","Actual","Average",0,102.33411,10,44,"LB",0,0,0,0,0,0,0,0,0,null,0,1,"IND",0,0,0,1,"   ",null,"Job","   ",1,"   ",null,null,0,0,0,0,0,0,0,null,0,"     ",0,"     ","     ",1,1,0,"No Time Fence",0,null,1,1,"    5,000.00",5,0,"        ","        ",null,0,null,0,null,"    ",null,"LOC","Active",null,null,null,1,"A102",null,0,0,0,0,null,"   ","   ",0,0,"   ",null,null,null,null,null,null,null,0,0,0,0,"        ",0,0,"Never",null,0,null,null,null,null,1,"7306.40.50.15",null,null,null,null,0,null,0,0,null,null,1,9.57,1,0,102.33411]
["VC-20L4B24B201","48\" LONGUEUR #",null,0,0,null,null,null,0,1,"CH","Material","Manufactured","IN10V","C","Actual","Average",0,0,10,66,"LB",0,0,0,0,0,0,0,0,0,null,0,1,"IND",0,0,0,0,"   ",null,"Job","   ",1,"   ",null,null,0,0,0,0,0,0,0,null,0,"     ",0,"     ","     ",1,1,0,"No Time Fence",0,null,1,1,"    5,000.00",5,0,"        ","        ",null,0,null,0,null,"    ",null,"LOC","Active",null,null,null,1,"A102",null,0,0,0,0,null,"   ","   ",0,0,"   ",null,null,null,null,null,null,null,0,0,0,0,"        ",0,0,"Never",null,0,null,null,null,null,1,"7306.40.50.15",null,null,null,null,0,null,0,0,null,null,1,25,1,0,0]
["VC-22A1B20B202","12\" LONGUEUR AJUSTABLE",null,0,0,"15-08-05 LC",null,null,0,1,"CH","Material","Manufactured","IN10V","C","Actual","Average",0,83.174289999999999,10,29,"LB",0,0,0,0,0,0,0,0,0,null,0,1,"IND",0,0,0,1,"   ",null,"Job","   ",1,"   ",null,null,0,0,0,0,0,0,0,null,0,"     ",0,"     ","     ",1,1,0,"No Time Fence",0,null,1,1,"    5,000.00",5,0,"        ","        ",null,0,null,0,null,"    ",null,"LOC","Active",null,null,null,1,"A102",null,0,0,0,0,null,"   ","   ",0,0,"   ",null,null,null,null,null,null,null,0,0,0,0,"        ",0,0,"Never",null,0,null,null,null,null,1,"7306.40.50.15",null,null,null,null,0,null,0,0,null,null,1,5.5,1,0,83.174289999999999]
["VC-22A2A20C242","24\" LONGUEUR AJUSTABLE",null,0,0,null,null,null,0,1,"CH","Material","Manufactured","IN10V","C","Actual","Average",0,66.337569999999999,10,22,"LB",0,0,0,0,0,0,0,0,0,null,0,1,"IND",0,0,0,1,"   ",null,"Job","   ",1,"   ",null,null,0,0,0,0,0,0,0,null,0,"     ",0,"     ","     ",1,1,0,"No Time Fence",0,null,1,1,"    5,000.00",5,0,"        ","        ",null,0,null,0,null,"    ",null,"LOC","Active",null,null,null,1,"A102",null,0,0,0,0,null,"   ","   ",0,0,"   ",null,null,null,null,null,null,null,0,0,0,0,"        ",0,0,"Never",null,0,null,null,null,null,1,"7306.40.50.15",null,null,null,null,0,null,0,0,null,null,1,5.5,1,0,66.337569999999999]
["VC-22L1A20C222","12\" LONGUEUR",null,0,0,"26-08-08 LM",null,null,0,1,"CH","Material","Manufactured","IN10V","C","Actual","Average",0,78.019620000000003,10,13.4,"LB",0,0,0,0,0,0,0,0,0,null,0,1,"IND",0,0,0,1,"   ",null,"Job","   ",1,"   ",null,null,0,0,0,0,0,0,0,null,0,"     ",0,"     ","     ",1,1,0,"No Time Fence",0,null,1,1,"    5,000.00",5,0,"        ","        ",null,0,null,0,null,"    ",null,"LOC","Active",null,null,null,1,"A102",null,0,0,0,0,null,"   ","   ",0,0,"   ",null,null,null,null,null,null,null,0,0,0,0,"        ",0,0,"Never",null,0,null,null,null,null,1,"7326.90.85.87",null,null,null,null,0,null,0,0,null,null,1,5.3250000000000002,1,0,78.019620000000003]
["VC-22L4A20A242","48\" LONGUEUR",null,0,0,"vérif.comp. 27-01-06 LM",null,null,0,1,"CH","Material","Manufactured","IN10V","C","Actual","Average",0,103.75275000000001,10,51,"LB",0,0,0,0,0,0,0,0,0,null,0,1,"IND",0,0,0,1,"   ",null,"Job","   ",1,"   ",null,null,0,0,0,0,0,0,0,null,0,"     ",0,"     ","     ",1,1,0,"No Time Fence",0,null,1,1,5,5,0,"        ","        ",null,0,null,0,null,"    ",null,"LOC","Active",null,null,null,1,"A102",null,0,0,0,0,null,"   ","   ",0,0,"   ",null,null,null,null,null,null,null,0,0,0,0,"        ",0,0,"Never",null,0,null,null,null,null,1,"7306.40.50.15",null,null,null,null,0,null,0,0,null,null,1,11.1,1,0,103.75275000000001]
["VC-22L6A24A242","6\" LONGUEUR",null,0,0,null,null,null,0,1,"CH","Material","Manufactured","IN10V","C","Actual","Average",0,0,10,68,"LB",0,0,0,0,0,0,0,0,0,null,0,1,"IND",0,0,0,0,"   ",null,"Job","   ",1,"   ",null,null,0,0,0,0,0,0,0,null,0,"     ",0,"     ","     ",1,1,0,"No Time Fence",0,null,1,1,"    5,000.00",5,0,"        ","        ",null,0,null,0,null,"    ",null,"LOC","Active",null,null,null,1,"A102",null,0,0,0,0,null,"   ","   ",0,0,"   ",null,null,null,null,null,null,null,0,0,0,0,"        ",0,0,"Never",null,0,null,null,null,null,1,"7306.40.50.15",null,null,null,null,0,null,0,0,null,null,1,13.8,1,0,0]
["VC-24A1A20A202","12\" LONGUEUR AJUSTABLE",null,0,0,null,null,null,0,1,"CH","Material","Manufactured","IN10V","C","Actual","Average",0,0,10,44.1,"LB",0,0,0,0,0,0,0,0,0,null,0,1,"IND",0,0,0,0,"   ",null,"Job","   ",1,"   ",null,null,0,0,0,0,0,0,0,null,0,"     ",0,"     ","     ",1,1,0,"No Time Fence",0,null,1,1,"    5,000.00",5,0,"        ","        ",null,0,null,0,null,"    ",null,"LOC","Active",null,null,null,1,"A102",null,0,0,0,0,null,"   ","   ",0,0,"   ",null,null,null,null,null,null,null,0,0,0,0,"        ",0,0,"Never",null,0,null,null,null,null,1,"7306.40.50.15",null,null,null,null,0,null,0,0,null,null,1,11.1,1,0,0]
["VC-24A2B20B202","24\" LONGUEUR AJUSTABLE",null,0,0,null,null,null,0,1,"CH","Material","Manufactured","IN10V","C","Actual","Average",0,123.18525,10,54,"LB",0,0,0,0,0,0,0,0,0,null,0,1,"IND",0,0,0,1,"   ",null,"Job","   ",1,"   ",null,null,0,0,0,0,0,0,0,null,0,"     ",0,"     ","     ",1,1,0,"No Time Fence",0,null,1,1,"    5,000.00",5,0,"        ","        ",null,0,null,0,null,"    ",null,"LOC","Active",null,null,null,1,"A102",null,0,0,0,0,null,"   ","   ",0,0,"   ",null,null,null,null,null,null,null,0,0,0,0,"        ",0,0,"Never",null,0,null,null,null,null,1,"7306.40.50.15",null,null,null,null,0,null,0,0,null,null,1,12.7,1,0,123.18525]
["VC-24DBA20A241","12\" LONGUEUR DRAIN DE BASE #",null,0,0,"15-08-05 LC",null,null,0,1,"CH","Material","Manufactured","IN10V","C","Actual","Average",0,137.15979999999999,10,51,"LB",0,0,0,0,0,0,0,0,0,null,0,1,"IND",0,0,0,1,"   ",null,"Job","   ",1,"   ",null,null,0,0,0,0,0,0,0,null,0,"     ",0,"     ","     ",1,1,0,"No Time Fence",0,null,1,1,"    5,000.00",5,0,"        ","        ",null,0,null,0,null,"    ",null,"LOC","Active",null,null,null,1,"A102",null,0,0,0,0,null,"   ","   ",0,0,"   ",null,null,null,null,null,null,null,0,0,0,0,"        ",0,0,"Never",null,0,null,null,null,null,1,"7306.40.50.15",null,null,null,null,0,null,0,0,null,null,1,12.7,1,0,137.15979999999999]
["VC-24L1B24B241","12\" LONGUEUR",null,0,0,null,null,null,0,1,"CH","Material","Manufactured","IN10V","C","Actual","Average",0,0,10,119,"LB",0,0,0,0,0,0,0,0,0,null,0,1,"IND",0,0,0,0,"   ",null,"Job","   ",1,"   ",null,null,0,0,0,0,0,0,0,null,0,"     ",0,"     ","     ",1,1,0,"No Time Fence",0,null,1,1,"    5,000.00",5,0,"        ","        ",null,0,null,0,null,"    ",null,"LOC","Active",null,null,null,1,"A102",null,0,0,0,0,null,"   ","   ",0,0,"   ",null,null,null,null,null,null,null,0,0,0,0,"        ",0,0,"Never",null,0,null,null,null,null,1,"7306.40.50.15",null,null,null,null,0,null,0,0,null,null,1,25.4,1,0,0]
["VC-24L2B24C242","24\" LONGUEUR",null,0,0,"vérif.comp. 30-01-06 LM",null,null,0,1,"CH","Material","Manufactured","IN10V","C","Actual","Average",0,118.76117000000001,10,49,"LB",0,0,0,0,0,0,0,0,0,null,0,1,"IND",0,0,0,1,"   ",null,"Job","   ",1,"   ",null,null,0,0,0,0,0,0,0,null,0,"     ",0,"     ","     ",1,1,0,"No Time Fence",0,null,1,1,"    5,000.00",5,0,"        ","        ",null,0,null,0,null,"    ",null,"LOC","Active",null,null,null,1,"A102",null,0,0,0,0,null,"   ","   ",0,0,"   ",null,null,null,null,null,null,null,0,0,0,0,"        ",0,0,"Never",null,0,null,null,null,null,1,"7306.40.50.15",null,null,null,null,0,null,0,0,null,null,1,12.7,1,0,118.76117000000001]
["VC-24L6B24B241","6\" LONGUEUR",null,0,0,null,null,null,0,1,"CH","Material","Manufactured","IN10V","C","Actual","Average",0,0,10,127,"LB",0,0,0,0,0,0,0,0,0,null,0,1,"IND",0,0,0,0,"   ",null,"Job","   ",1,"   ",null,null,0,0,0,0,0,0,0,null,0,"     ",0,"     ","     ",1,1,0,"No Time Fence",0,null,1,1,"    5,000.00",5,0,"        ","        ",null,0,null,0,null,"    ",null,"LOC","Active",null,null,null,1,"A102",null,0,0,0,0,null,"   ","   ",0,0,"   ",null,null,null,null,null,null,null,0,0,0,0,"        ",0,0,"Never",null,0,null,null,null,null,1,"7306.40.50.15",null,null,null,null,0,null,0,0,null,null,1,28.9,1,0,0]
["VC-26A1A20C241","12\" LONGUEUR AJUSTABLE",null,0,0,"24/08/2009 MT",null,null,0,1,"CH","Material","Manufactured","IN10V","C","Actual","Average",98.78,125.58038000000001,10,37,"LB",0,0,0,0,0,0,0,0,0,null,0,1,"IND",0,0,0,1,"   ",null,"Job","   ",1,"   ",null,null,0,0,0,0,0,0,0,null,0,"     ",0,"     ","     ",1,1,0,"No Time Fence",0,null,1,1,"    5,000.00",5,0,"        ","        ",null,0,null,0,null,"    ",null,"LOC","Active",null,null,null,1,"A102",null,0,0,0,0,null,"   ","   ",0,0,"   ",null,null,null,null,null,null,null,0,0,0,0,"        ",0,0,"Never",null,0,null,null,null,null,1,"7306.40.50.15",null,null,null,null,0,null,0,0,null,null,1,7.2,1,98.78,125.58038000000001]
["VC-26A2A24C241","24\" LONGUEUR AJUSTABLE",null,0,0,"12-11-07 LM",null,null,0,1,"CH","Material","Manufactured","IN10V","C","Actual","Average",169.9,136.7319,10,26,"LB",0,0,0,0,0,0,0,0,0,null,0,1,"IND",0,0,0,1,"   ",null,"Job","   ",1,"   ",null,null,0,0,0,0,0,0,0,null,0,"     ",0,"     ","     ",1,1,0,"No Time Fence",0,null,1,1,"    5,000.00",5,0,"        ","        ",null,0,null,0,null,"    ",null,"LOC","Active",null,null,null,1,"A102",null,0,0,0,0,null,"   ","   ",0,0,"   ",null,null,null,null,null,null,null,0,0,0,0,"        ",0,0,"Never",null,0,null,null,null,null,1,"7306.40.50.15",null,null,null,null,0,null,0,0,null,null,1,7.2,1,169.9,136.7319]
["VC-26L2A20A201","24\" LONGUEUR",null,0,0,"vérif.comp. 30-01-06 LM",null,null,0,1,"CH","Material","Manufactured","IN10V","C","Actual","Average",275.04333000000003,219.90387000000001,10,100,"LB",0,0,0,0,0,0,0,0,0,null,0,1,"IND",0,0,0,1,"   ",null,"Job","   ",1,"   ",null,null,0,0,0,0,0,0,0,null,0,"     ",0,"     ","     ",1,1,0,"No Time Fence",0,null,1,1,"    5,000.00",5,0,"        ","        ",null,0,null,0,null,"    ",null,"LOC","Active",null,null,null,1,"A102",null,0,0,0,0,null,"   ","   ",0,0,"   ",null,null,null,null,null,null,null,0,0,0,0,"        ",0,0,"Never",null,0,null,null,null,null,1,"7306.40.50.15",null,null,null,null,0,null,0,0,null,null,1,28.9,1,275.04333334,219.90387000000001]
["VC-26L4A24A201","48\" LONGUEUR #",null,0,0,"vérif.comp. 30-01-06 LM",null,null,0,1,"CH","Material","Manufactured","IN10V","C","Actual","Average",46.47,56.702089999999998,10,13,"LB",0,0,0,0,0,0,0,0,0,null,0,1,"IND",0,0,0,1,"   ",null,"Job","   ",1,"   ",null,null,0,0,0,0,0,0,0,null,0,"     ",0,"     ","     ",1,1,0,"No Time Fence",0,null,1,1,"    5,000.00",5,0,"        ","        ",null,0,null,0,null,"    ",null,"LOC","Active",null,null,null,1,"A102",null,0,0,0,0,null,"   ","   ",0,0,"   ",null,null,null,null,null,null,null,0,0,0,0,"        ",0,0,"Never",null,0,null,null,null,null,1,"7306.40.50.15",null,null,null,null,0,null,0,0,null,null,1,3.6,1,46.47,56.702089999999998]
["VC-26L4B24B202","48\" LONGUEUR #",null,0,0,"15-08-05 LC",null,null,0,1,"CH","Material","Manufactured","IN10V","C","Actual","Average",0,226.63726,10,74,"LB",0,0,0,0,0,0,0,0,0,null,0,1,"IND",0,0,0,1,"   ",null,"Job","   ",1,"   ",null,null,0,0,0,0,0,0,0,null,0,"     ",0,"     ","     ",1,1,0,"No Time Fence",0,null,1,1,"    5,000.00",5,0,"        ","        ",null,0,null,0,null,"    ",null,"LOC","Active",null,null,null,1,"A102",null,0,0,0,0,null,"   ","   ",0,0,"   ",null,null,null,null,null,null,null,0,0,0,0,"        ",0,0,"Never",null,0,null,null,null,null,1,"7306.40.50.15",null,null,null,null,0,null,0,0,null,null,1,16.3,1,0,226.63726]
["VC-28A1B24C222","12\" LONGUEUR AJUSTABLE",null,0,0,"23-08-05 LC",null,null,0,1,"CH","Material","Manufactured","IN10V","C","Actual","Average",0,96.883070000000004,10,38,"LB",0,0,0,0,0,0,0,0,0,null,0,1,"IND",0,0,0,1,"   ",null,"Job","   ",1,"   ",null,null,0,0,0,0,0,0,0,null,0,"     ",0,"     ","     ",1,1,0,"No Time Fence",0,null,1,1,"    5,000.00",5,0,"        ","        ",null,0,null,0,null,"    ",null,"LOC","Active",null,null,null,1,"A102",null,0,0,0,0,null,"   ","   ",0,0,"   ",null,null,null,null,null,null,null,0,0,0,0,"        ",0,0,"Never",null,0,null,null,null,null,1,"7306.40.50.15",null,null,null,null,0,null,0,0,null,null,1,8.1,1,0,96.883070000000004]
["VC-28D1A20A241","12\" LONGUEUR DRAIN",null,0,0,null,null,null,0,1,"CH","Material","Manufactured","IN10V","C","Actual","Average",0,0,10,39,"LB",0,0,0,0,0,0,0,0,0,null,0,1,"IND",0,0,0,1,"   ",null,"Job","   ",1,"   ",null,null,0,0,0,0,0,0,0,null,0,"     ",0,"     ","     ",1,1,0,"No Time Fence",0,null,1,1,"    5,000.00",5,0,"        ","        ",null,0,null,0,null,"    ",null,"LOC","Active",null,null,null,1,"A102",null,0,0,0,0,null,"   ","   ",0,0,"   ",null,null,null,null,null,null,null,0,0,0,0,"        ",0,0,"Never",null,0,null,null,null,null,1,"7306.40.50.15",null,null,null,null,0,null,0,0,null,null,1,9,1,0,0]
["VC-28L1B24C241","12\" LONGUEUR",null,0,0,null,null,null,0,1,"CH","Material","Manufactured","IN10V","C","Actual","Average",0,67.98912,10,19,"LB",0,0,0,0,0,0,0,0,0,null,0,1,"IND",0,0,0,1,"   ",null,"Job","   ",1,"   ",null,null,0,0,0,0,0,0,0,null,0,"     ",0,"     ","     ",1,1,0,"No Time Fence",0,null,1,1,"    5,000.00",5,0,"        ","        ",null,0,null,0,null,"    ",null,"LOC","Active",null,null,null,1,"A102",null,0,0,0,0,null,"   ","   ",0,0,"   ",null,null,null,null,null,null,null,0,0,0,0,"        ",0,0,"Never",null,0,null,null,null,null,1,"7306.40.50.15",null,null,null,null,0,null,0,0,null,null,1,4.0999999999999996,1,0,67.98912]
["VC-28L6A20A241","6\" LONGUEUR",null,0,0,null,null,null,0,1,"CH","Material","Manufactured","IN10V","C","Actual","Average",0,0,1,0,null,0,0,0,0,0,0,0,0,0,null,0,1,"IND",0,0,0,0,"   ",null,"Job","   ",1,"   ",null,null,0,0,0,0,0,0,0,null,0,"     ",0,"     ","     ",1,1,0,"No Time Fence",0,null,0,0,0,1,0,"        ","        ",null,0,null,0,null,"    ",null,"LOT","Active",null,null,null,1,"A102",null,0,0,0,0,null,"   ","   ",0,0,"   ",null,null,null,null,null,null,null,0,0,0,0,"        ",0,0,"Never",null,0,null,null,null,null,1,"7306.40.50.15",null,null,null,null,0,null,0,0,null,null,1,0,1,0,0]
["VC-28L6B24A241","6\" LONGUEUR",null,0,0,"15-08-05 LC",null,null,0,1,"CH","Material","Manufactured","IN10V","C","Actual","Average",157.04333,155.79139000000001,10,87,"LB",0,0,0,0,0,0,0,0,0,null,0,1,"IND",0,0,0,1,"   ",null,"Job","   ",1,"   ",null,null,0,0,0,0,0,0,0,null,0,"     ",0,"     ","     ",1,1,0,"No Time Fence",0,null,1,1,"    5,000.00",5,0,"        ","        ",null,0,null,0,null,"    ",null,"LOC","Active",null,null,null,1,"A102",null,0,0,0,0,null,"   ","   ",0,0,"   ",null,null,null,null,null,null,null,0,0,0,0,"        ",0,0,"Never",null,0,null,null,null,null,1,"7306.40.50.15",null,null,null,null,0,null,0,0,null,null,1,22.5,1,157.04333333,155.79139000000001]
["VC-30L1B20B202","12\" LONGUEUR",null,0,0,"26-06-06 LM",null,null,0,1,"CH","Material","Manufactured","IN10V","C","Actual","Average",103.81085,153.94882000000001,10,34.6,"LB",0,0,0,0,0,0,0,0,0,null,0,1,"IND",0,0,0,1,"   ",null,"Job","   ",1,"   ",null,null,0,0,0,0,0,0,0,null,0,"     ",0,"     ","     ",1,1,0,"No Time Fence",0,null,1,1,"    5,000.00",5,0,"        ","        ",null,0,null,0,null,"    ",null,"LOC","Active",null,null,null,1,"A102",null,0,0,0,0,null,"   ","   ",0,0,"   ",null,null,null,null,null,null,null,0,0,0,0,"        ",0,0,"Never",null,0,null,null,null,null,1,"7306.40.50.15",null,null,null,null,0,null,0,0,null,null,1,11.1,1,103.81084986,153.94882000000001]
["VC-32A2B20B201","24\" LONGUEUR AJUSTABLE",null,0,0,null,null,null,0,1,"CH","Material","Manufactured","IN10V","C","Actual","Average",0,0,10,0,"LB",0,0,0,0,0,0,0,0,0,null,0,1,"IND",0,0,0,0,"   ",null,"Job","   ",1,"   ",null,null,0,0,0,0,0,0,0,null,0,"     ",0,"     ","     ",1,1,0,"No Time Fence",0,null,1,1,"    5,000.00",5,0,"        ","        ",null,0,null,0,null,"    ",null,"LOC","Active",null,null,null,1,"A102",null,0,0,0,0,null,"   ","   ",0,0,"   ",null,null,null,null,null,null,null,0,0,0,0,"        ",0,0,"Never",null,0,null,null,null,null,1,"7306.40.50.15",null,null,null,null,0,null,0,0,null,null,1,0,1,0,0]
["VC-32L4A20C221","48\" LONGUEUR",null,0,0,null,null,null,0,1,"CH","Material","Manufactured","IN10V","C","Actual","Average",0,0,10,44.3,"LB",0,0,0,0,0,0,0,0,0,null,0,1,"IND",0,0,0,0,"   ",null,"Job","   ",1,"   ",null,null,0,0,0,0,0,0,0,null,0,"     ",0,"     ","     ",1,1,0,"No Time Fence",0,null,1,1,"    5,000.00",5,0,"        ","        ",null,0,null,0,null,"    ",null,"LOC","Active",null,null,null,1,"A102",null,0,0,0,0,null,"   ","   ",0,0,"   ",null,null,null,null,null,null,null,0,0,0,0,0,0,0,"Never",null,0,null,null,null,null,1,"7306.40.50.15",null,null,null,null,0,null,0,0,null,"0 - None",1,16,1,0,0]
["VC-32L4B20C222","48\" LONGUEUR #",null,0,0,null,null,null,0,1,"CH","Material","Manufactured","IN10V","C","Actual","Average",0,0,10,0,"LB",0,0,0,0,0,0,0,0,0,null,0,1,"IND",0,0,0,0,"   ",null,"Job","   ",1,"   ",null,null,0,0,0,0,0,0,0,null,0,"     ",0,"     ","     ",1,1,0,"No Time Fence",0,null,1,1,"    5,000.00",5,0,"        ","        ",null,0,null,0,null,"    ",null,"LOC","Active",null,null,null,1,"A102",null,0,0,0,0,null,"   ","   ",0,0,"   ",null,null,null,null,null,null,null,0,0,0,0,"        ",0,0,"Never",null,0,null,null,null,null,1,"7306.40.50.15",null,null,null,null,0,null,0,0,null,null,1,0,1,0,0]
["VC-34L2B20A204","24\" LONGUEUR #",null,0,0,null,null,null,0,1,"CH","Material","Manufactured","IN10V6-8","C","Actual","Average",0,0,10,8,"LB",0,0,0,0,0,0,0,0,0,null,0,1,"IND",0,0,0,0,"   ",null,"Job","   ",1,"   ",null,null,0,0,0,0,0,0,0,null,0,"     ",0,"     ","     ",1,1,0,"No Time Fence",0,null,1,1,"    5,000.00",5,0,"        ","        ",null,0,null,0,null,"    ",null,"LOC","Active",null,null,null,1,"A102",null,0,0,0,0,null,"   ","   ",0,0,"   ",null,null,null,null,null,null,null,0,0,0,0,0,0,0,"Never",null,0,null,null,null,null,1,"7307.29.00.90",null,null,null,null,0,null,0,0,null,"0 - None",1,0.9,1,0,0]
["VC-36L4A20C221","48\" LONGUEUR #",null,0,0,null,null,null,0,1,"CH","Material","Manufactured","IN10V6-8","C","Actual","Average",0,0,10,0.2,"LB",0,0,0,0,0,0,0,0,0,null,0,1,"IND",0,0,0,0,"   ",null,"Job","   ",1,"   ",null,null,0,0,0,0,0,0,0,null,0,"     ",0,"     ","     ",1,1,0,"No Time Fence",0,null,1,1,"    5,000.00",5,0,"        ","        ",null,0,null,0,null,"    ",null,"LOC","Active",null,null,null,1,"A102",null,0,0,0,0,null,"   ","   ",0,0,"   ",null,null,null,null,null,null,null,0,0,0,0,"        ",0,0,"Never",null,0,null,null,null,null,1,"7326.90.85.87",null,null,null,null,0,null,0,0,null,null,1,0.19,1,0,0]
["VC-38L1A20A202","12\" LONGUEUR",null,0,0,"vérif.comp. 13-01-06 LM",null,null,0,1,"CH","Material","Manufactured","IN10V6-8","C","Actual","Average",57.7,83.467160000000007,10,5.0999999999999996,"LB",0,0,0,0,0,0,0,0,0,null,0,1,"IND",0,0,0,1,"   ",null,"Job","   ",1,"   ",null,null,0,0,0,0,0,0,0,null,0,"     ",0,"     ","     ",1,1,0,"No Time Fence",0,null,1,1,"    5,000.00",5,0,"        ","        ",null,0,null,0,null,"    ",null,"LOC","Active",null,null,null,1,"A102",null,0,0,0,0,null,"   ","   ",0,0,"   ",null,null,null,null,null,null,null,0,0,0,0,"        ",0,0,"Never",null,0,null,null,null,null,1,"7326.90.85.87",null,null,null,null,0,null,0,0,null,null,1,0,1,57.7,83.467160000000007]
["VC-40A2A20A201","24\" LONGUEUR AJUSTABLE#",null,0,0,"vérif.comp. 24-01-06 LM",null,null,0,1,"CH","Material","Manufactured","IN10V6-8","C","Actual","Average",0,50.070619999999998,10,3.2,"LB",0,0,0,0,0,0,0,0,0,null,0,1,"IND",0,0,0,1,"   ",null,"Job","   ",1,"   ",null,null,0,0,0,0,0,0,0,null,0,"     ",0,"     ","     ",1,1,0,"No Time Fence",0,null,1,1,"    5,000.00",5,0,"        ","        ",null,0,null,0,null,"    ",null,"LOT","Active",null,null,null,1,"A102",null,0,0,0,0,null,"   ","   ",0,0,"   ",null,null,null,null,null,null,null,0,0,0,0,"        ",0,0,"Never",null,0,null,null,null,null,1,"7307.29.00.90",null,null,null,null,0,null,0,0,null,null,1,0.7,1,0,50.070619999999998]
["VC-42L4A20A201","48\" LONGUEUR # OBS",null,0,0,"27-09-05 LC",null,null,0,1,"CH","Material","Manufactured","IN10V6-8","C","Actual","Average",20.77,24.847819999999999,10,0.7,"LB",0,0,0,0,0,0,0,0,0,null,0,1,"IND",0,0,0,1,"   ",null,"Job","   ",1,"   ",null,null,0,0,0,0,0,0,0,null,0,"     ",0,"     ","     ",1,1,0,"No Time Fence",0,null,1,1,"    5,000.00",5,0,"        ","        ",null,0,null,0,null,"    ",null,"LOC","Active",null,null,null,1,"A102",null,0,0,0,0,null,"   ","   ",0,0,"   ",null,null,null,null,null,null,null,0,0,0,0,"        ",0,0,"Never",null,0,null,null,null,null,1,"7326.90.85.87",null,null,null,null,0,null,0,0,null,null,1,0.25,1,20.77,24.847819999999999]
["VC-46A2B20A201","24\" LONGUEUR AJUSTABLE #",null,0,0,null,null,null,0,1,"CH","Material","Manufactured","IN10V6-8","C","Actual","Average",0,0,10,11.4,"LB",0,0,0,0,0,0,0,0,0,null,0,1,"IND",0,0,0,0,"   ",null,"Job","   ",1,"   ",null,null,0,0,0,0,0,0,0,null,0,"     ",0,"     ","     ",1,1,0,"No Time Fence",0,null,1,1,"    5,000.00",5,0,"        ","        ",null,0,null,0,null,"    ",null,"LOC","Active",null,null,null,1,"A102",null,0,0,0,0,null,"   ","   ",0,0,"   ",null,null,null,null,null,null,null,0,0,0,0,"        ",0,0,"Never",null,0,null,null,null,null,1,"7326.90.85.87",null,null,null,null,0,null,0,0,null,null,1,1.85,1,0,0]
["VC-48L2B20B201","24\" LONGUEUR #",null,0,0,"27-06-09 LM",null,null,0,1,"CH","Material","Manufactured","IN10V6-8","C","Actual","Average",106.81138,102.27441,10,11,"LB",0,0,0,0,0,0,0,0,0,null,0,1,"IND",0,0,0,1,"   ",null,"Job","   ",1,"   ",null,null,0,0,0,0,0,0,0,null,0,"     ",0,"     ","     ",1,1,0,"No Time Fence",0,null,1,1,"    5,000.00",5,0,"        ","        ",null,0,null,0,null,"    ",null,"LOC","Active",null,null,null,1,"A102",null,0,0,0,0,null,"   ","   ",0,0,"   ",null,null,null,null,null,null,null,0,0,0,0,"        ",0,0,"Never",null,0,null,null,null,null,1,"7326.90.85.87",null,null,null,null,0,null,0,0,null,null,1,2.25,1,106.81138,102.27441]
["VE-06E4B20A202","COUDE 45°#",null,0,0,"vérif.comp. 25-01-06 LM",null,null,0,1,"CH","Material","Manufactured","IN10V","C","Actual","Average",0,61.846170000000001,10,12,"LB",0,0,0,0,0,0,0,0,0,null,0,1,"IND",0,0,0,1,"   ",null,"Job","   ",1,"   ",null,null,0,0,0,0,0,0,0,null,0,"     ",0,"     ","     ",1,1,0,"No Time Fence",0,null,1,1,"    5,000.00",5,0,"        ","        ",null,0,null,0,null,"    ",null,"LOT","Active",null,null,null,1,"A102",null,0,0,0,0,null,"   ","   ",0,0,"   ",null,null,null,null,null,null,null,0,0,0,0,"        ",0,0,"Never",null,0,null,null,null,null,1,"7307.29.00.90",null,null,null,null,0,null,0,0,null,null,1,1.4,1,0,61.846170000000001]
["VE-06E4B20A241","COUDE 45°",null,0,0,null,null,null,0,1,"CH","Material","Manufactured","IN10V","C","Actual","Average",0,0,10,12,"LB",0,0,0,0,0,0,0,0,0,null,0,1,"IND",0,0,0,0,"   ",null,"Job","   ",1,"   ",null,null,0,0,0,0,0,0,0,null,0,"     ",0,"     ","     ",1,1,0,"No Time Fence",0,null,1,1,"    5,000.00",5,0,"        ","        ",null,0,null,0,null,"    ",null,"LOT","Active",null,null,null,1,"A102",null,0,0,0,0,null,"   ","   ",0,0,"   ",null,null,null,null,null,null,null,0,0,0,0,"        ",0,0,"Never",null,0,null,null,null,null,1,"7307.29.00.90",null,null,null,null,0,null,0,0,null,null,1,1.4,1,0,0]
["VE-06TRB20A242","TÉ RÉGULIER",null,0,0,"07-02-07 LM",null,null,0,1,"CH","Material","Manufactured","IN10V","C","Actual","Average",26.95,23.298760000000001,10,1.2,"LB",0,0,0,0,0,0,0,0,0,null,0,1,"IND",0,0,0,0,"   ",null,"Job","   ",1,"   ",null,null,0,0,0,0,0,0,0,null,0,"     ",0,"     ","     ",1,1,0,"No Time Fence",0,null,1,1,"    5,000.00",5,0,"        ","        ",null,0,null,0,null,"    ",null,"LOC","Active",null,null,null,1,"A102",null,0,0,0,0,null,"   ","   ",0,0,"   ",null,null,null,null,null,null,null,0,0,0,0,"        ",0,0,"Never",null,0,null,null,null,null,1,"7326.90.85.87",null,null,null,null,0,null,0,0,null,null,1,0.56999999999999995,1,26.95,23.298760000000001]
["VE-06TYB20A242","TÉ 45°",null,0,0,null,null,null,0,1,"CH","Material","Manufactured","IN10V","C","Actual","Average",0,0,10,7.9,"LB",0,0,0,0,0,0,0,0,0,null,0,1,"IND",0,0,0,0,"   ",null,"Job","   ",1,"   ",null,null,0,0,0,0,0,0,0,null,0,"     ",0,"     ","     ",1,1,0,"No Time Fence",0,null,1,1,"    5,000.00",5,0,"        ","        ",null,0,null,0,null,"    ",null,"LOC","Active",null,null,null,1,"A102",null,0,0,0,0,null,"   ","   ",0,0,"   ",null,null,null,null,null,null,null,0,0,0,0,"        ",0,0,"Never",null,0,null,null,null,null,1,"7326.90.85.87",null,null,null,null,0,null,0,0,null,null,1,1.66,1,0,0]
["VE-08E3B20B201","COUDE 30°",null,0,0,null,null,null,0,1,"CH","Material","Manufactured","IN10V","C","Actual","Average",103.45563,104.03915000000001,10,9.8000000000000007,"LB",0,0,0,0,0,0,0,0,0,null,0,1,"IND",0,0,0,1,"   ",null,"Job","   ",1,"   ",null,null,0,0,0,0,0,0,0,null,0,"     ",0,"     ","     ",1,1,0,"No Time Fence",0,null,1,1,"    5,000.00",5,0,"        ","        ",null,0,null,0,null,"    ",null,"LOC","Active",null,null,null,1,"A102",null,0,0,0,0,null,"   ","   ",0,0,"   ",null,null,null,null,null,null,null,0,0,0,0,"        ",0,0,"Never",null,0,null,null,null,null,1,"7326.90.85.87",null,null,null,null,0,null,0,0,null,null,1,3.67,1,103.45563,104.03915000000001]
["VE-08E4B24C241","COUDE 45°",null,0,0,"VÉRIF 14-07-06 LM",null,null,0,1,"CH","Material","Manufactured","IN10V","C","Actual","Average",58.914999999999999,57.734270000000002,10,6.9,"LB",0,0,0,0,0,0,0,0,0,null,0,1,"IND",0,0,0,1,"   ",null,"Job","   ",1,"   ",null,null,0,0,0,0,0,0,0,null,0,"     ",0,"     ","     ",1,1,0,"No Time Fence",0,null,1,1,"    5,000.00",5,0,"        ","        ",null,0,null,0,null,"    ",null,"LOC","Active",null,null,null,1,"A102",null,0,0,0,0,null,"   ","   ",0,0,"   ",null,null,null,null,null,null,null,0,0,0,0,"        ",0,0,"Never",null,0,null,null,null,null,1,"7307.29.00.90",null,null,null,null,0,null,0,0,null,null,1,1,1,58.914999999999999,57.734270000000002]
["VE-08TRB20C242","TÉ RÉGULIER",null,0,0,"04-12-07 LM",null,null,0,1,"CH","Material","Manufactured","IN10V","C","Actual","Average",24.81,24.103269999999998,10,1,"LB",0,0,0,0,0,0,0,0,0,null,0,1,"IND",0,0,0,1,"   ",null,"Job","   ",1,"   ",null,null,0,0,0,0,0,0,0,null,0,"     ",0,"     ","     ",1,1,0,"No Time Fence",0,null,1,1,"    5,000.00",5,0,"        ","        ",null,0,null,0,null,"    ",null,"LOC","Active",null,null,null,1,"A102",null,0,0,0,0,null,"   ","   ",0,0,"   ",null,null,null,null,null,null,null,0,0,0,0,"        ",0,0,"Never",null,0,null,null,null,null,1,"7326.90.85.87",null,null,null,null,0,null,0,0,null,null,1,0.34,1,24.81,24.103269999999998]
["VE-08TYA20C241","TÉ 45°",null,0,0,"09-07-07 LM",null,null,0,1,"CH","Material","Manufactured","IN10V","C","Actual","Average",40.049999999999997,35.61665,10,1.6,"LB",0,0,0,0,0,0,0,0,0,null,0,1,"IND",0,0,0,1,"   ",null,"Job","   ",1,"   ",null,null,0,0,0,0,0,0,0,null,0,"     ",0,"     ","     ",1,1,0,"No Time Fence",0,null,1,1,"    5,000.00",5,0,"        ","        ",null,0,null,0,null,"    ",null,"LOC","Active",null,null,null,1,"A102",null,0,0,0,0,null,"   ","   ",0,0,"   ",null,null,null,null,null,null,null,0,0,0,0,"        ",0,0,"Never",null,0,null,null,null,null,1,"7326.90.85.87",null,null,null,null,0,null,0,0,null,null,1,0.44,1,40.049999999999997,35.61665]
["VE-10E4A20C241","COUDE 45°",null,0,0,"30-07-07 LM",null,null,0,1,"CH","Material","Manufactured","IN10V","C","Actual","Average",0,116.84457,1,12.7,"LB",0,0,0,0,0,0,0,0,0,null,0,1,"IND",0,0,0,1,"   ",null,"Job","   ",1,"   ",null,null,0,0,0,0,0,0,0,null,0,"     ",0,"     ","     ",1,1,0,"No Time Fence",0,null,1,1,"    5,000.00",5,0,"        ","        ",null,0,null,0,null,"    ",null,"LOC","Active",null,null,null,1,"A102",null,0,0,0,0,null,"   ","   ",0,0,"   ",null,null,null,null,null,null,null,0,0,0,0,"        ",0,0,"Never",null,0,null,null,null,null,1,"7326.90.85.87",null,null,null,null,0,null,0,0,null,null,1,5.45,1,0,116.84457]
["VE-10TCA24A244","COUVERCLE DE TÉ, RÉGULIER#",null,0,0,"13-09-07 LM",null,null,0,1,"CH","Material","Manufactured","IN10V","C","Actual","Average",235.785,204.9196,10,12.7,"LB",0,0,0,0,0,0,0,0,0,null,0,1,"IND",0,0,0,1,"   ",null,"Job","   ",1,"   ",null,null,0,0,0,0,0,0,0,null,0,"     ",0,"     ","     ",1,1,0,"No Time Fence",0,null,1,1,"    5,000.00",5,0,"        ","        ",null,0,null,0,null,"    ",null,"LOC","Active",null,null,null,1,"A102",null,0,0,0,0,null,"   ","   ",0,0,"   ",null,null,null,null,null,null,null,0,0,0,0,"        ",0,0,"Never",null,0,null,null,null,null,1,"7326.90.85.87",null,null,null,null,0,null,0,0,null,null,1,7.35,1,235.785,204.9196]
["VE-10TDB24B242","COUVERCLE DE TÉ, DRAIN",null,0,0,"verif.comp. 24-01-06 LM",null,null,0,1,"CH","Material","Manufactured","IN10V","C","Actual","Average",0,65.78698,10,10,"LB",0,0,0,0,0,0,0,0,0,null,0,1,"IND",0,0,0,1,"   ",null,"Job","   ",1,"   ",null,null,0,0,0,0,0,0,0,null,0,"     ",0,"     ","     ",1,1,0,"No Time Fence",0,null,1,1,"    5,000.00",5,0,"        ","        ",null,0,null,0,null,"    ",null,"LOC","Active",null,null,null,1,"A102",null,0,0,0,0,null,"   ","   ",0,0,"   ",null,null,null,null,null,null,null,0,0,0,0,"        ",0,0,"Never",null,0,null,null,null,null,1,"7307.29.00.90",null,null,null,null,0,null,0,0,null,null,1,1.4,1,0,65.78698]
["VE-10TYA20A24208-8","DOUBLE TÉ 45° MANIFOLD10/8#",null,0,0,null,null,null,0,1,"CH","Material","Manufactured","IN10V","C","Actual","Average",0,0,10,7,"LB",0,0,0,0,0,0,0,0,0,null,0,1,"IND",0,0,0,0,"   ",null,"Job","   ",1,"   ",null,null,0,0,0,0,0,0,0,null,0,"     ",0,"     ","     ",1,1,0,"No Time Fence",0,null,1,1,"    5,000.00",5,0,"        ","        ",null,0,null,0,null,"    ",null,"LOC","Active",null,null,null,1,"A102",null,0,0,0,0,null,"   ","   ",0,0,"   ",null,null,null,null,null,null,null,0,0,0,0,0,0,0,"Never",null,0,null,null,null,null,1,"7307.29.00.90",null,null,null,null,0,null,0,0,null,"0 - None",1,0.5,1,0,0]
["VE-12E1A20A201","COUDE 15°",null,0,0,null,null,null,0,1,"CH","Material","Manufactured","IN10V","C","Actual","Average",0,0,10,13.3,"LB",0,0,0,0,0,0,0,0,0,null,0,1,"IND",0,0,0,0,"   ",null,"Job","   ",1,"   ",null,null,0,0,0,0,0,0,0,null,0,"     ",0,"     ","     ",1,1,0,"No Time Fence",0,null,1,1,"    5,000.00",5,0,"        ","        ",null,0,null,0,null,"    ",null,"LOC","Active",null,null,null,1,"A102",null,0,0,0,0,null,"   ","   ",0,0,"   ",null,null,null,null,null,null,null,0,0,0,0,"        ",0,0,"Never",null,0,null,null,null,null,1,"7307.29.00.90",null,null,null,null,0,null,0,0,null,null,1,2.37,1,0,0]
["VE-12E2A24A241","COUDE 22.5°",null,0,0,"31-08-06 LM",null,null,0,1,"CH","Material","Manufactured","IN10V","C","Actual","Average",0,106.13540999999999,10,17.3,"LB",0,0,0,0,0,0,0,0,0,null,0,1,"IND",0,0,0,1,"   ",null,"Job","   ",1,"   ",null,null,0,0,0,0,0,0,0,null,0,"     ",0,"     ","     ",1,1,0,"No Time Fence",0,null,1,1,"    5,000.00",5,0,"        ","        ",null,0,null,0,null,"    ",null,"LOC","Active",null,null,null,1,"A102",null,0,0,0,0,null,"   ","   ",0,0,"   ",null,null,null,null,null,null,null,0,0,0,0,"        ",0,0,"Never",null,0,null,null,null,null,1,"7326.90.85.87",null,null,null,null,0,null,0,0,null,null,1,4.0199999999999996,1,0,106.13540999999999]
["VE-12E4B20A241","COUDE 45°",null,0,0,"vérif.comp. 13-01-06 LM",null,null,0,1,"CH","Material","Manufactured","IN10V","C","Actual","Average",110.58,110.89958,10,15,"LB",0,0,0,0,0,0,0,0,0,null,0,1,"IND",0,0,0,1,"   ",null,"Job","   ",1,"   ",null,null,0,0,0,0,0,0,0,null,0,"     ",0,"     ","     ",1,1,0,"No Time Fence",0,null,1,1,"    5,000.00",5,0,"        ","        ",null,0,null,0,null,"    ",null,"LOC","Active",null,null,null,1,"A102",null,0,0,0,0,null,"   ","   ",0,0,"   ",null,null,null,null,null,null,null,0,0,0,0,"        ",0,0,"Never",null,0,null,null,null,null,1,"7326.90.85.87",null,null,null,null,0,null,0,0,null,null,1,5.68,1,110.58,110.89958]
["VE-12TRA20A202","TÉ RÉGULIER #",null,0,0,"vérif.comp. 24-01-06 LM",null,null,0,1,"CH","Material","Manufactured","IN10V","C","Actual","Average",0,75.926540000000003,10,12,"LB",0,0,0,0,0,0,0,0,0,null,0,1,"IND",0,0,0,1,"   ",null,"Job","   ",1,"   ",null,null,0,0,0,0,0,0,0,null,0,"     ",0,"     ","     ",1,1,0,"No Time Fence",0,null,1,1,"    5,000.00",5,0,"        ","        ",null,0,null,0,null,"    ",null,"LOC","Active",null,null,null,1,"A102",null,0,0,0,0,null,"   ","   ",0,0,"   ",null,null,null,null,null,null,null,0,0,0,0,"        ",0,0,"Never",null,0,null,null,null,null,1,"7307.29.00.90",null,null,null,null,0,null,0,0,null,null,1,1.9,1,0,75.926540000000003]
["VE-12TRB20A24110","TÉ MANIFOLD 12/10",null,0,0,null,null,null,0,1,"CH","Material","Manufactured","IN10V","C","Actual","Average",0,0,10,19,"LB",0,0,0,0,0,0,0,0,0,null,0,1,"IND",0,0,0,0,"   ",null,"Job","   ",1,"   ",null,null,0,0,0,0,0,0,0,null,0,"     ",0,"     ","     ",1,1,0,"No Time Fence",0,null,1,1,"    5,000.00",5,0,"        ","        ",null,0,null,0,null,"    ",null,"LOC","Active",null,null,null,1,"A102",null,0,0,0,0,null,"   ","   ",0,0,"   ",null,null,null,null,null,null,null,0,0,0,0,"        ",0,0,"Never",null,0,null,null,null,null,1,"7307.29.00.90",null,null,null,null,0,null,0,0,null,null,1,3.8,1,0,0]
["VE-12TYA20A24288","TÉ 45° MANIFOLD 12/8/8#",null,0,0,"VÉRIF 14-07-06 LM",null,null,0,1,"CH","Material","Manufactured","IN10V","C","Actual","Average",31.331209999999999,31.331209999999999,10,1.3,"LB",0,0,0,0,0,0,0,0,0,null,0,1,"IND",0,0,0,1,"   ",null,"Job","   ",1,"   ",null,null,0,0,0,0,0,0,0,null,0,"     ",0,"     ","     ",1,1,0,"No Time Fence",0,null,1,1,"    5,000.00",5,0,"        ","        ",null,0,null,0,null,"    ",null,"LOC","Active",null,null,null,1,"A102",null,0,0,0,0,null,"   ","   ",0,0,"   ",null,null,null,null,null,null,null,0,3,0,3,"        ",0,0,"Never",null,0,null,null,null,null,1,"7326.90.85.87",null,null,null,null,0,null,0,0,null,null,1,0.94,1,31.331209999999999,31.331209999999999]
["VE-12TYB20B202","TÉ 45° #",null,0,0,"vérif.comp. 13-01-06 LM",null,null,0,1,"CH","Material","Manufactured","IN10V","C","Actual","Average",68.97,128.63547,10,26.6,"LB",0,0,0,0,0,0,0,0,0,null,0,1,"IND",0,0,0,1,"   ",null,"Job","   ",1,"   ",null,null,0,0,0,0,0,0,0,null,0,"     ",0,"     ","     ",1,1,0,"No Time Fence",0,null,1,1,"    5,000.00",5,0,"        ","        ",null,0,null,0,null,"    ",null,"LOC","Active",null,null,null,1,"A102",null,0,0,0,0,null,"   ","   ",0,0,"   ",null,null,null,null,null,null,null,0,0,0,0,"        ",0,0,"Never",null,0,null,null,null,null,1,"7326.90.85.87",null,null,null,null,0,null,0,0,null,null,1,23.6,1,68.97,128.63547]
["VE-14E4B20A201","COUDE 45° #",null,0,0,"24-04-2009 MT",null,null,0,1,"CH","Material","Manufactured","IN10V","C","Actual","Average",139.31,178.40701999999999,10,19.600000000000001,"LB",0,0,0,0,0,0,0,0,0,null,0,1,"IND",0,0,0,1,"   ",null,"Job","   ",1,"   ",null,null,0,0,0,0,0,0,0,null,0,"     ",0,"     ","     ",1,1,0,"No Time Fence",0,null,1,1,"    5,000.00",5,0,"        ","        ",null,0,null,0,null,"    ",null,"LOC","Active",null,null,null,1,"A102",null,0,0,0,0,null,"   ","   ",0,0,"   ",null,null,null,null,null,null,null,0,0,0,0,"        ",0,0,"Never",null,0,null,null,null,null,1,"7307.29.00.90",null,null,null,null,0,null,0,0,null,null,1,7.32,1,139.31,178.40701999999999]
["VE-14TCA24A241","COUVERCLE DE TÉ, RÉGULIER",null,0,0,null,null,null,0,1,"CH","Material","Manufactured","IN10V","C","Actual","Average",0,0,10,19.600000000000001,"LB",0,0,0,0,0,0,0,0,0,null,0,1,"IND",0,0,0,0,"   ",null,"Job","   ",1,"   ",null,null,0,0,0,0,0,0,0,null,0,"     ",0,"     ","     ",1,1,0,"No Time Fence",0,null,1,1,"    5,000.00",5,0,"        ","        ",null,0,null,0,null,"    ",null,"LOC","Active",null,null,null,1,"A102",null,0,0,0,0,null,"   ","   ",0,0,"   ",null,null,null,null,null,null,null,0,0,0,0,"        ",0,0,"Never",null,0,null,null,null,null,1,"7307.29.00.90",null,null,null,null,0,null,0,0,null,null,1,7.32,1,0,0]
["VE-14TRB20A204","TÉ RÉGULIER #",null,0,0,"verif.comp. 25-01-06 LM",null,null,0,1,"CH","Material","Manufactured","IN10V","C","Actual","Average",0,86.722759999999994,10,22,"LB",0,0,0,0,0,0,0,0,0,null,0,1,"IND",0,0,0,1,"   ",null,"Job","   ",1,"   ",null,null,0,0,0,0,0,0,0,null,0,"     ",0,"     ","     ",1,1,0,"No Time Fence",0,null,1,1,"    5,000.00",5,0,"        ","        ",null,0,null,0,null,"    ",null,"LOC","Active",null,null,null,1,"A102",null,0,0,0,0,null,"   ","   ",0,0,"   ",null,null,null,null,null,null,null,0,0,0,0,"        ",0,0,"Never",null,0,null,null,null,null,1,"7307.29.00.90",null,null,null,null,0,null,0,0,null,null,1,5,1,0,86.722759999999994]
["VE-14TRB20A2426","TÉ MANIFOLD 14/6#",null,0,0,"verif.comp. 25-01-06 LM",null,null,0,1,"CH","Material","Manufactured","IN10V","C","Actual","Average",65.37,88.721109999999996,10,32,"LB",0,0,0,0,0,0,0,0,0,null,0,1,"IND",0,0,0,1,"   ",null,"Job","   ",1,"   ",null,null,0,0,0,0,0,0,0,null,0,"     ",0,"     ","     ",1,1,0,"No Time Fence",0,null,1,1,"    5,000.00",5,0,"        ","        ",null,0,null,0,null,"    ",null,"LOC","Active",null,null,null,1,"A102",null,0,0,0,0,null,"   ","   ",0,0,"   ",null,null,null,null,null,null,null,0,0,0,0,"        ",0,0,"Never",null,0,null,null,null,null,1,"7307.29.00.90",null,null,null,null,0,null,0,0,null,null,1,5,1,65.37,88.721109999999996]
["VE-14TYA20C24412","TÉ 45° MANIFOLD 14/12 #",null,0,0,"26-04-2012 MT",null,null,0,1,"CH","Material","Manufactured","IN10V","C","Actual","Average",0,120.69128000000001,10,20.6,"LB",0,0,0,0,0,0,0,0,0,null,0,1,"IND",0,0,0,1,"   ",null,"Job","   ",1,"   ",null,null,0,0,0,0,0,0,0,null,0,"     ",0,"     ","     ",1,1,0,"No Time Fence",0,null,1,1,"    5,000.00",5,0,"        ","        ",null,0,null,0,null,"    ",null,"LOC","Active",null,null,null,1,"A102",null,0,0,0,0,null,"   ","   ",0,0,"   ",null,null,null,null,null,null,null,0,0,0,0,"        ",0,0,"Never",null,0,null,null,null,null,1,"7326.90.85.87",null,null,null,null,0,null,0,0,null,null,1,5.32,1,0,120.69128000000001]
["VE-16E3B24C241","COUDE 30°",null,0,0,null,null,null,0,1,"CH","Material","Manufactured","IN10V","C","Actual","Average",0,0,1,0,null,0,0,0,0,0,0,0,0,0,null,0,1,"IND",0,0,0,0,"   ",null,"Job","   ",1,"   ",null,null,0,0,0,0,0,0,0,null,0,"     ",0,"     ","     ",1,1,0,"No Time Fence",0,null,0,0,0,1,0,"        ","        ",null,0,null,0,null,"    ",null,"LOT","Active",null,null,null,1,"A102",null,0,0,0,0,null,"   ","   ",0,0,"   ",null,null,null,null,null,null,null,0,0,0,0,"        ",0,0,"Never",null,0,null,null,null,null,1,"7307.29.00.90",null,null,null,null,0,null,0,0,null,null,1,0,1,0,0]
["VE-16E4B24A242","COUDE 45°",null,0,0,null,null,null,0,1,"CH","Material","Manufactured","IN10V","C","Actual","Average",0,0,1,0,null,0,0,0,0,0,0,0,0,0,null,0,1,"IND",0,0,0,0,"   ",null,"Job","   ",1,"   ",null,null,0,0,0,0,0,0,0,null,0,"     ",0,"     ","     ",1,1,0,"No Time Fence",0,null,0,0,0,1,0,"        ","        ",null,0,null,0,null,"    ",null,"LOT","Active",null,null,null,1,"A102",null,0,0,0,0,null,"   ","   ",0,0,"   ",null,null,null,null,null,null,null,0,0,0,0,"        ",0,0,"Never",null,0,null,null,null,null,1,"7326.90.85.87",null,null,null,null,0,null,0,0,null,null,1,0,1,0,0]
["VE-16TDA24A241","COUVERCLE DE TÉ, DRAIN",null,0,0,"vérif.comp. 24-01-06 LM",null,null,0,1,"CH","Material","Manufactured","IN10V","C","Actual","Average",80.487160000000003,96.965069999999997,1,0,"LB",0,0,0,0,0,0,0,0,0,null,0,1,"IND",0,0,0,1,"   ",null,"Job","   ",1,"   ",null,null,0,0,0,0,0,0,0,null,0,"     ",0,"     ","     ",1,1,0,"No Time Fence",0,null,1,1,"    5,000.00",5,0,"        ","        ",null,0,null,0,null,"    ",null,"LOT","Active",null,null,null,1,"A102",null,0,0,0,0,null,"   ","   ",0,0,"   ",null,null,null,null,null,null,null,0,0,0,0,"        ",0,0,"Never",null,0,null,null,null,null,1,"7307.29.00.90",null,null,null,null,0,null,0,0,null,null,1,3.8,1,80.487160000000003,96.965069999999997]
["VE-16TRB20A24110","TÉ MANIFOLD 16/10",null,0,0,null,null,null,0,1,"CH","Material","Manufactured","IN10V","C","Actual","Average",0,0,10,22,"LB",0,0,0,0,0,0,0,0,0,null,0,1,"IND",0,0,0,0,"   ",null,"Job","   ",1,"   ",null,null,0,0,0,0,0,0,0,null,0,"     ",0,"     ","     ",1,1,0,"No Time Fence",0,null,1,1,"    5,000.00",5,0,"        ","        ",null,0,null,0,null,"    ",null,"LOC","Active",null,null,null,1,"A102",null,0,0,0,0,null,"   ","   ",0,0,"   ",null,null,null,null,null,null,null,0,0,0,0,0,0,0,"Never",null,0,null,null,null,null,1,"7307.29.00.90",null,null,null,null,0,null,0,0,null,"0 - None",1,8.1999999999999993,1,0,0]
["VE-16TYA20A2411214","TÉ 45° MANIFOLD DOUBLE 16/12-14#",null,0,0,"19-06-08 LM",null,null,0,1,"CH","Material","Manufactured","IN10V","C","Actual","Average",0,131.31387000000001,10,28.5,"LB",0,0,0,0,0,0,0,0,0,null,0,1,"IND",0,0,0,1,"   ",null,"Job","   ",1,"   ",null,null,0,0,0,0,0,0,0,null,0,"     ",0,"     ","     ",1,1,0,"No Time Fence",0,null,1,1,"    5,000.00",5,0,"        ","        ",null,0,null,0,null,"    ",null,"LOC","Active",null,null,null,1,"A102",null,0,0,0,0,null,"   ","   ",0,0,"   ",null,null,null,null,null,null,null,0,0,0,0,"        ",0,0,"Never",null,0,null,null,null,null,1,"7326.90.85.87",null,null,null,null,0,null,0,0,null,null,1,6.3,1,0,131.31387000000001]
["VE-16TYB20A202","TÉ 45° #",null,0,0,"vérif.comp. 12-01-06 LM",null,null,0,1,"CH","Material","Manufactured","IN10V","C","Actual","Average",0,274.60887000000002,10,31.1,"LB",0,0,0,0,0,0,0,0,0,null,0,1,"IND",0,0,0,1,"   ",null,"Job","   ",1,"   ",null,null,0,0,0,0,0,0,0,null,0,"     ",0,"     ","     ",1,1,0,"No Time Fence",0,null,1,1,"    5,000.00",5,0,"        ","        ",null,0,null,0,null,"    ",null,"LOC","Active",null,null,null,1,"A102",null,0,0,0,0,null,"   ","   ",0,0,"   ",null,null,null,null,null,null,null,0,0,0,0,"        ",0,0,"Never",null,0,null,null,null,null,1,"7326.90.85.87",null,null,null,null,0,null,0,0,null,null,1,0,1,0,274.60887000000002]
["VE-18E1A24C242","COUDE 15°",null,0,0,"05-09-06 LM",null,null,0,1,"CH","Material","Manufactured","IN10V","C","Actual","Average",161.8578,161.92849000000001,1,26,"LB",0,0,0,0,0,0,0,0,0,null,0,1,"IND",0,0,0,1,"   ",null,"Job","   ",1,"   ",null,null,0,0,0,0,0,0,0,null,0,"     ",0,"     ","     ",1,1,0,"No Time Fence",0,null,1,1,"    5,000.00",5,0,"        ","        ",null,0,null,0,null,"    ",null,"LOT","Active",null,null,null,1,"A102",null,0,0,0,0,null,"   ","   ",0,0,"   ",null,null,null,null,null,null,null,0,0,0,0,"        ",0,0,"Never",null,0,null,null,null,null,1,"7326.90.85.87",null,null,null,null,0,null,0,0,null,null,1,10,1,161.85779604000001,161.92849000000001]
["VE-18TCA20A202","COUVERCLE DE TÉ, RÉGULIER#",null,0,0,"vérif.comp. 24-01-06 LM",null,null,0,1,"CH","Material","Manufactured","IN10V","C","Actual","Average",0,0,10,20,"LB",0,0,0,0,0,0,0,0,0,null,0,1,"IND",0,0,0,0,"   ",null,"Job","   ",1,"   ",null,null,0,0,0,0,0,0,0,null,0,"     ",0,"     ","     ",1,1,0,"No Time Fence",0,null,1,1,"    5,000.00",5,0,"        ","        ",null,0,null,0,null,"    ",null,"LOC","Active",null,null,null,1,"A102",null,0,0,0,0,null,"   ","   ",0,0,"   ",null,null,null,null,null,null,null,0,0,0,0,0,0,0,"Never",null,0,null,null,null,null,1,"7307.29.00.90",null,null,null,null,0,null,0,0,null,"0 - None",1,6.2,1,0,0]
["VE-18TDA24A244","COUVERCLE DE TÉ, DRAIN #",null,0,0,"verif.comp. 25-01-06 LM",null,null,0,1,"CH","Material","Manufactured","IN10V","C","Actual","Average",92.587410000000006,91.616799999999998,10,28,"LB",0,0,0,0,0,0,0,0,0,null,0,1,"IND",0,0,0,1,"   ",null,"Job","   ",1,"   ",null,null,0,0,0,0,0,0,0,null,0,"     ",0,"     ","     ",1,1,0,"No Time Fence",0,null,1,1,"    5,000.00",5,0,"        ","        ",null,0,null,0,null,"    ",null,"LOC","Active",null,null,null,1,"A102",null,0,0,0,0,null,"   ","   ",0,0,"   ",null,null,null,null,null,null,null,0,0,0,0,"        ",0,0,"Never",null,0,null,null,null,null,1,"7307.29.00.90",null,null,null,null,0,null,0,0,null,null,1,8.1999999999999993,1,92.58741225,91.616799999999998]
["VE-18TRB20A20106","TÉ MANIFOLD 18/06",null,0,0,"22-08-08 LM",null,null,0,1,"CH","Material","Manufactured","IN10V","C","Actual","Average",0,253.36696000000001,10,52,"LB",0,0,0,0,0,0,0,0,0,null,0,1,"IND",0,0,0,1,"   ",null,"Job","   ",1,"   ",null,null,0,0,0,0,0,0,0,null,0,"     ",0,"     ","     ",1,1,0,"No Time Fence",0,null,1,1,"    5,000.00",5,0,"        ","        ",null,0,null,0,null,"    ",null,"LOC","Active",null,null,null,1,"A102",null,0,0,0,0,null,"   ","   ",0,0,"   ",null,null,null,null,null,null,null,0,0,0,0,"        ",0,0,"Never",null,0,null,null,null,null,1,"7326.90.85.87",null,null,null,null,0,null,0,0,null,null,1,13.96,1,0,253.36696000000001]
["VE-18TYA20C24116","TÉ 45° MANIFOLD 18/16",null,0,0,null,null,null,0,1,"CH","Material","Manufactured","IN10V","C","Actual","Average",0,0,10,36.6,"LB",0,0,0,0,0,0,0,0,0,null,0,1,"IND",0,0,0,0,"   ",null,"Job","   ",1,"   ",null,null,0,0,0,0,0,0,0,null,0,"     ",0,"     ","     ",1,1,0,"No Time Fence",0,null,1,1,"    5,000.00",5,0,"        ","        ",null,0,null,0,null,"    ",null,"LOC","Active",null,null,null,1,"A102",null,0,0,0,0,null,"   ","   ",0,0,"   ",null,null,null,null,null,null,null,0,0,0,0,"        ",0,0,"Never",null,0,null,null,null,null,1,"7326.90.85.87",null,null,null,null,0,null,0,0,null,null,1,24,1,0,0]
["VE-20E1A24C251","COUDE 15° (OBSOLETE)",null,0,0,null,null,null,0,1,"CH","Material","Manufactured","IN10V","C","Actual","Average",0,0,10,68.2,"LB",0,0,0,0,0,0,0,0,0,null,0,1,"IND",0,0,0,0,"   ",null,"Job","   ",1,"   ",null,null,0,0,0,0,0,0,0,null,0,"     ",0,"     ","     ",1,1,0,"No Time Fence",0,null,1,1,5,5,0,"        ","        ",null,0,null,0,null,"    ",null,"LOC","Active",null,null,null,1,"A102",null,0,0,0,0,null,"   ","   ",0,0,"   ",null,null,null,null,null,null,null,0,0,0,0,"        ",0,0,"Never",null,0,null,null,null,null,1,"7307.29.00.90",null,null,null,null,0,null,0,0,null,null,1,9.3699999999999992,1,0,0]
["VE-20E3A24A241","COUDE 30°",null,0,0,null,null,null,0,1,"CH","Material","Manufactured","IN10V","C","Actual","Average",0,0,10,68.2,"LB",0,0,0,0,0,0,0,0,0,null,0,1,"IND",0,0,0,0,"   ",null,"Job","   ",1,"   ",null,null,0,0,0,0,0,0,0,null,0,"     ",0,"     ","     ",1,1,0,"No Time Fence",0,null,1,1,5,5,0,"        ","        ",null,0,null,0,null,"    ",null,"LOC","Active",null,null,null,1,"A102",null,0,0,0,0,null,"   ","   ",0,0,"   ",null,null,null,null,null,null,null,0,0,0,0,0,0,0,"Never",null,0,null,null,null,null,1,"7307.29.00.90",null,null,null,null,0,null,0,0,null,"0 - None",1,9.3699999999999992,1,0,0]
["VE-20TDA24A241","COUVERCLE DE TÉ, DRAIN",null,0,0,null,null,null,0,1,"CH","Material","Manufactured","IN10V","C","Actual","Average",0,0,10,40,"LB",0,0,0,0,0,0,0,0,0,null,0,1,"IND",0,0,0,0,"   ",null,"Job","   ",1,"   ",null,null,0,0,0,0,0,0,0,null,0,"     ",0,"     ","     ",1,1,0,"No Time Fence",0,null,1,1,"    5,000.00",5,0,"        ","        ",null,0,null,0,null,"    ",null,"LOC","Active",null,null,null,1,"A102",null,0,0,0,0,null,"   ","   ",0,0,"   ",null,null,null,null,null,null,null,0,0,0,0,"        ",0,0,"Never",null,0,null,null,null,null,1,"7326.90.85.87",null,null,null,null,0,null,0,0,null,null,1,13.96,1,0,0]
["VE-20TRA20C241","TÉ RÉGULIER",null,0,0,"vérif.comp. 12-01-06 LM",null,null,0,1,"CH","Material","Manufactured","IN10V","C","Actual","Average",0,310.06166999999999,10,42.6,"LB",0,0,0,0,0,0,0,0,0,null,0,1,"IND",0,0,0,1,"   ",null,"Job","   ",1,"   ",null,null,0,0,0,0,0,0,0,null,0,"     ",0,"     ","     ",1,1,0,"No Time Fence",0,null,1,1,"    5,000.00",5,0,"        ","        ",null,0,null,0,null,"    ",null,"LOC","Active",null,null,null,1,"A102",null,0,0,0,0,null,"   ","   ",0,0,"   ",null,null,null,null,null,null,null,0,0,0,0,"        ",0,0,"Never",null,0,null,null,null,null,1,"7326.90.85.87",null,null,null,null,0,null,0,0,null,null,1,0,1,0,310.06166999999999]
["VE-20TRB20B24116","TÉ MANIFOLD 20/16",null,0,0,null,null,null,0,1,"CH","Material","Manufactured","IN10V","C","Actual","Average",0,0,10,96.6,"LB",0,0,0,0,0,0,0,0,0,null,0,1,"IND",0,0,0,0,"   ",null,"Job","   ",1,"   ",null,null,0,0,0,0,0,0,0,null,0,"     ",0,"     ","     ",1,1,0,"No Time Fence",0,null,1,1,"    5,000.00",5,0,"        ","        ",null,0,null,0,null,"    ",null,"LOC","Active",null,null,null,1,"A102",null,0,0,0,0,null,"   ","   ",0,0,"   ",null,null,null,null,null,null,null,0,0,0,0,0,0,0,"Never",null,0,null,null,null,null,1,"7326.90.85.87",null,null,null,null,0,null,0,0,null,"0 - None",1,36.9,1,0,0]
["VE-20TYA20C24116","TÉ 45° MANIFOLD 20/16",null,0,0,"vérif.comp. 13-01-06 LM",null,null,0,1,"CH","Material","Manufactured","IN10V","C","Actual","Average",0,375.44414999999998,10,48.3,"LB",0,0,0,0,0,0,0,0,0,null,0,1,"IND",0,0,0,1,"   ",null,"Job","   ",1,"   ",null,null,0,0,0,0,0,0,0,null,0,"     ",0,"     ","     ",1,1,0,"No Time Fence",0,null,1,1,"    5,000.00",5,0,"        ","        ",null,0,null,0,null,"    ",null,"LOC","Active",null,null,null,1,"A102",null,0,0,0,0,null,"   ","   ",0,0,"   ",null,null,null,null,null,null,null,0,0,0,0,"        ",0,0,"Never",null,0,null,null,null,null,1,"7326.90.85.87",null,null,null,null,0,null,0,0,null,null,1,30,1,0,375.44414999999998]
["VE-22E2A24C244","COUDE 22.5°#",null,0,0,null,null,null,0,1,"CH","Material","Manufactured","IN10V","C","Actual","Average",0,0,10,4.4000000000000004,"LB",0,0,0,0,0,0,0,0,0,null,0,1,"IND",0,0,0,0,"   ",null,"Job","   ",1,"   ",null,null,0,0,0,0,0,0,0,null,0,"     ",0,"     ","     ",1,1,0,"No Time Fence",0,null,1,1,"    5,000.00",5,0,"        ","        ",null,0,null,0,null,"    ",null,"LOC","Active",null,null,null,1,"A102",null,0,0,0,0,null,"   ","   ",0,0,"   ",null,null,null,null,null,null,null,0,0,0,0,"        ",0,0,"Never",null,0,null,null,null,null,1,"7326.90.85.87",null,null,null,null,0,null,0,0,null,null,1,1.36,1,0,0]
["VE-22E4A20A241","COUDE 45°",null,0,0,"10-08-2012 MT",null,null,0,1,"CH","Material","Manufactured","IN10V","C","Actual","Average",157.52489,185.70784,10,36.6,"LB",0,0,0,0,0,0,0,0,0,null,0,1,"IND",0,0,0,1,"   ",null,"Job","   ",1,"   ",null,null,0,0,0,0,0,0,0,null,0,"     ",0,"     ","     ",1,1,0,"No Time Fence",0,null,1,1,"    5,000.00",5,0,"        ","        ",null,0,null,0,null,"    ",null,"LOC","Active",null,null,null,1,"A102",null,0,0,0,0,null,"   ","   ",0,0,"   ",null,null,null,null,null,null,null,0,0,0,0,0,0,0,"Never",null,0,null,null,null,null,1,"7326.90.85.87",null,null,null,null,0,null,0,0,null,"0 - None",1,0,1,157.52488693999999,185.70784]
["VE-22TDA24A242","COUVERCLE DE TÉ, DRAIN",null,0,0,null,null,null,0,1,"CH","Material","Manufactured","IN10V","C","Actual","Average",0,0,10,32,"LB",0,0,0,0,0,0,0,0,0,null,0,1,"IND",0,0,0,0,"   ",null,"Job","   ",1,"   ",null,null,0,0,0,0,0,0,0,null,0,"     ",0,"     ","     ",1,1,0,"No Time Fence",0,null,1,1,"    5,000.00",5,0,"        ","        ",null,0,null,0,null,"    ",null,"LOC","Active",null,null,null,1,"A102",null,0,0,0,0,null,"   ","   ",0,0,"   ",null,null,null,null,null,null,null,0,0,0,0,"        ",0,0,"Never",null,0,null,null,null,null,1,"7326.90.85.87",null,null,null,null,0,null,0,0,null,null,1,32,1,0,0]
["VE-22TYA20A201","TÉ 45°",null,0,0,"vérif.comp. 24-01-06 LM",null,null,0,1,"CH","Material","Manufactured","IN10V","C","Actual","Average",34.484999999999999,98.440880000000007,10,61.4,"LB",0,0,0,0,0,0,0,0,0,null,0,1,"IND",0,0,0,1,"   ",null,"Job","   ",1,"   ",null,null,0,0,0,0,0,0,0,null,0,"     ",0,"     ","     ",1,1,0,"No Time Fence",0,null,1,1,"    5,000.00",5,0,"        ","        ",null,0,null,0,null,"    ",null,"LOC","Active",null,null,null,1,"A102",null,0,0,0,0,null,"   ","   ",0,0,"   ",null,null,null,null,null,null,null,0,0,0,0,"        ",0,0,"Never",null,0,null,null,null,null,1,"7307.29.00.90",null,null,null,null,0,null,0,0,null,null,1,14.2,1,34.484999999999999,98.440880000000007]
["VE-22TYA20A24114","TÉ 45° MANIFOLD 22/14",null,0,0,"vérif.comp. 24-01-06 LM",null,null,0,1,"CH","Material","Manufactured","IN10V","C","Actual","Average",0,105.33327,10,24,"LB",0,0,0,0,0,0,0,0,0,null,0,1,"IND",0,0,0,1,"   ",null,"Job","   ",1,"   ",null,null,0,0,0,0,0,0,0,null,0,"     ",0,"     ","     ",1,1,0,"No Time Fence",0,null,1,1,"    5,000.00",5,0,"        ","        ",null,0,null,0,null,"    ",null,"LOC","Active",null,null,null,1,"A102",null,0,0,0,0,null,"   ","   ",0,0,"   ",null,null,null,null,null,null,null,0,0,0,0,"        ",0,0,"Never",null,0,null,null,null,null,1,"7307.29.00.90",null,null,null,null,0,null,0,0,null,null,1,14.9,1,0,105.33327]
["VE-24E1A24A241","COUDE 15°",null,0,0,null,null,null,0,1,"CH","Material","Manufactured","IN10V","C","Actual","Average",0,0,10,36.6,"LB",0,0,0,0,0,0,0,0,0,null,0,1,"IND",0,0,0,0,"   ",null,"Job","   ",1,"   ",null,null,0,0,0,0,0,0,0,null,0,"     ",0,"     ","     ",1,1,0,"No Time Fence",0,null,1,1,"    5,000.00",5,0,"        ","        ",null,0,null,0,null,"    ",null,"LOC","Active",null,null,null,1,"A102",null,0,0,0,0,null,"   ","   ",0,0,"   ",null,null,null,null,null,null,null,0,0,0,0,0,0,0,"Never",null,0,null,null,null,null,1,"7326.90.85.87",null,null,null,null,0,null,0,0,null,"0 - None",1,44.92,1,0,0]
["VE-24E2A24A241","COUDE 22.5°",null,0,0,null,null,null,0,1,"CH","Material","Manufactured","IN10V","C","Actual","Average",0,0,10,36.6,"LB",0,0,0,0,0,0,0,0,0,null,0,1,"IND",0,0,0,0,"   ",null,"Job","   ",1,"   ",null,null,0,0,0,0,0,0,0,null,0,"     ",0,"     ","     ",1,1,0,"No Time Fence",0,null,1,1,"    5,000.00",5,0,"        ","        ",null,0,null,0,null,"    ",null,"LOC","Active",null,null,null,1,"A102",null,0,0,0,0,null,"   ","   ",0,0,"   ",null,null,null,null,null,null,null,0,0,0,0,"        ",0,0,"Never",null,0,null,null,null,null,1,"7326.90.85.87",null,null,null,null,0,null,0,0,null,null,1,44.92,1,0,0]
["VE-24TRA20A24114","TÉ MANIFOLD 24/14 OBS. EXT 20GA",null,0,0,null,null,null,0,1,"CH","Material","Manufactured","IN10V","C","Actual","Average",0,0,10,0,"LB",0,0,0,0,0,0,0,0,0,null,0,1,"IND",0,0,0,0,"   ",null,"Job","   ",1,"   ",null,null,0,0,0,0,0,0,0,null,0,"     ",0,"     ","     ",1,1,0,"No Time Fence",0,null,1,1,"    5,000.00",5,0,"        ","        ",null,0,null,0,null,"    ",null,"LOC","Active",null,null,null,1,"A102",null,0,0,0,0,null,"   ","   ",0,0,"   ",null,null,null,null,null,null,null,0,0,0,0,"        ",0,0,"Never",null,0,null,null,null,null,1,"7326.90.85.87",null,null,null,null,0,null,0,0,null,null,1,0,1,0,0]
["VE-24TRA20C24112","TÉ MANIFOLD 24/12  OBS. EXT 20GA",null,0,0,null,null,null,0,1,"CH","Material","Manufactured","IN10V","C","Actual","Average",0,0,10,78.5,"LB",0,0,0,0,0,0,0,0,0,null,0,1,"IND",0,0,0,0,"   ",null,"Job","   ",1,"   ",null,null,0,0,0,0,0,0,0,null,0,"     ",0,"     ","     ",1,1,0,"No Time Fence",0,null,1,1,"    5,000.00",5,0,"        ","        ",null,0,null,0,null,"    ",null,"LOC","Active",null,null,null,1,"A102",null,0,0,0,0,null,"   ","   ",0,0,"   ",null,null,null,null,null,null,null,0,0,0,0,"        ",0,0,"Never",null,0,null,null,null,null,1,"7326.90.85.87",null,null,null,null,0,null,0,0,null,null,1,34.22,1,0,0]
["VE-24TRB20A242","TÉ RÉGULIER  OBS. EXT 20GA",null,0,0,"vérif.comp. 24-01-06 LM",null,null,0,1,"CH","Material","Manufactured","IN10V","C","Actual","Average",0,106.81989,10,38,"LB",0,0,0,0,0,0,0,0,0,null,0,1,"IND",0,0,0,1,"   ",null,"Job","   ",1,"   ",null,null,0,0,0,0,0,0,0,null,0,"     ",0,"     ","     ",1,1,0,"No Time Fence",0,null,1,1,"    5,000.00",5,0,"        ","        ",null,0,null,0,null,"    ",null,"LOC","Active",null,null,null,1,"A102",null,0,0,0,0,null,"   ","   ",0,0,"   ",null,null,null,null,null,null,null,0,0,0,0,"        ",0,0,"Never",null,0,null,null,null,null,1,"7307.29.00.90",null,null,null,null,0,null,0,0,null,null,1,21,1,0,106.81989]
["VE-24TYA20C224","TÉ 45°",null,0,0,null,null,null,0,1,"CH","Material","Manufactured","IN10V","C","Actual","Average",0,0,10,78,"LB",0,0,0,0,0,0,0,0,0,null,0,1,"IND",0,0,0,0,"   ",null,"Job","   ",1,"   ",null,null,0,0,0,0,0,0,0,null,0,"     ",0,"     ","     ",1,1,0,"No Time Fence",0,null,1,1,"    5,000.00",5,0,"        ","        ",null,0,null,0,null,"    ",null,"LOC","Active",null,null,null,1,"A102",null,0,0,0,0,null,"   ","   ",0,0,"   ",null,null,null,null,null,null,null,0,0,0,0,"        ",0,0,"Never",null,0,null,null,null,null,1,"7326.90.85.87",null,null,null,null,0,null,0,0,null,null,1,31,1,0,0]
["VE-26E2A20C221","COUDE 22.5°",null,0,0,null,null,null,0,1,"CH","Material","Manufactured","IN10V","C","Actual","Average",0,0,10,78.5,"LB",0,0,0,0,0,0,0,0,0,null,0,1,"IND",0,0,0,0,"   ",null,"Job","   ",1,"   ",null,null,0,0,0,0,0,0,0,null,0,"     ",0,"     ","     ",1,1,0,"No Time Fence",0,null,1,1,"    5,000.00",5,0,"        ","        ",null,0,null,0,null,"    ",null,"LOC","Active",null,null,null,1,"A102",null,0,0,0,0,null,"   ","   ",0,0,"   ",null,null,null,null,null,null,null,0,0,0,0,"        ",0,0,"Never",null,0,null,null,null,null,1,"7326.90.85.87",null,null,null,null,0,null,0,0,null,null,1,34.22,1,0,0]
["VE-26E3B24A241","COUDE 30°",null,0,0,null,null,null,0,1,"CH","Material","Manufactured","IN10V","C","Actual","Average",0,0,1,0,null,0,0,0,0,0,0,0,0,0,null,0,1,"IND",0,0,0,0,"   ",null,"Job","   ",1,"   ",null,null,0,0,0,0,0,0,0,null,0,"     ",0,"     ","     ",1,1,0,"No Time Fence",0,null,0,0,0,1,0,"        ","        ",null,0,null,0,null,"    ",null,"LOT","Active",null,null,null,1,"A102",null,0,0,0,0,null,"   ","   ",0,0,"   ",null,null,null,null,null,null,null,0,0,0,0,"        ",0,0,"Never",null,0,null,null,null,null,1,"7326.90.85.87",null,null,null,null,0,null,0,0,null,null,1,0,1,0,0]
["VE-26TDB20B201","COUVERCLE DE TÉ, DRAIN",null,0,0,null,null,null,0,1,"CH","Material","Manufactured","IN10V","C","Actual","Average",0,0,10,78.5,"LB",0,0,0,0,0,0,0,0,0,null,0,1,"IND",0,0,0,0,"   ",null,"Job","   ",1,"   ",null,null,0,0,0,0,0,0,0,null,0,"     ",0,"     ","     ",1,1,0,"No Time Fence",0,null,1,1,"    5,000.00",5,0,"        ","        ",null,0,null,0,null,"    ",null,"LOC","Active",null,null,null,1,"A102",null,0,0,0,0,null,"   ","   ",0,0,"   ",null,null,null,null,null,null,null,0,0,0,0,0,0,0,"Never",null,0,null,null,null,null,1,"7326.90.85.87",null,null,null,null,0,null,0,0,null,"0 - None",1,34.22,1,0,0]
["VE-26TYA20A20224","TÉ 45° 26\"/24\" #",null,0,0,"vérif.comp 12-01-06 LM",null,null,0,1,"CH","Material","Manufactured","IN10V","C","Actual","Average",0,640.56158000000005,10,132,"LB",0,0,0,0,0,0,0,0,0,null,0,1,"IND",0,0,0,1,"   ",null,"Job","   ",1,"   ",null,null,0,0,0,0,0,0,0,null,0,"     ",0,"     ","     ",1,1,0,"No Time Fence",0,null,1,1,"    5,000.00",5,0,"        ","        ",null,0,null,0,null,"    ",null,"LOC","Active",null,null,null,1,"A102",null,0,0,0,0,null,"   ","   ",0,0,"   ",null,null,null,null,null,null,null,0,0,0,0,"        ",0,0,"Never",null,0,null,null,null,null,1,"7326.90.85.87",null,null,null,null,0,null,0,0,null,null,1,60,1,0,640.56158000000005]
["VE-26TYB20A24222","TÉ 45° MANIFOLD 26/22#",null,0,0,null,null,null,0,1,"CH","Material","Manufactured","IN10V","C","Actual","Average",0,0,1,0,null,0,0,0,0,0,0,0,0,0,null,0,1,"IND",0,0,0,0,"   ",null,"Job","   ",1,"   ",null,null,0,0,0,0,0,0,0,null,0,"     ",0,"     ","     ",1,1,0,"No Time Fence",0,null,0,0,0,1,0,"        ","        ",null,0,null,0,null,"    ",null,"LOT","Active",null,null,null,1,"A102",null,0,0,0,0,null,"   ","   ",0,0,"   ",null,null,null,null,null,null,null,0,0,0,0,"        ",0,0,"Never",null,0,null,null,null,null,1,"7307.29.00.90",null,null,null,null,0,null,0,0,null,null,1,0,1,0,0]
["VE-28E1A24C241","COUDE 15°",null,0,0,null,null,null,0,1,"CH","Material","Manufactured","IN10V","C","Actual","Average",0,0,10,38,"LB",0,0,0,0,0,0,0,0,0,null,0,1,"IND",0,0,0,0,"   ",null,"Job","   ",1,"   ",null,null,0,0,0,0,0,0,0,null,0,"     ",0,"     ","     ",1,1,0,"No Time Fence",0,null,1,1,"    5,000.00",5,0,"        ","        ",null,0,null,0,null,"    ",null,"LOC","Active",null,null,null,1,"A102",null,0,0,0,0,null,"   ","   ",0,0,"   ",null,null,null,null,null,null,null,0,0,0,0,"        ",0,0,"Never",null,0,null,null,null,null,1,"7307.29.00.90",null,null,null,null,0,null,0,0,null,null,1,21,1,0,0]
["VE-28E3B24C241","COUDE 30°",null,0,0,"vérif.comp. 17-01-06 LM",null,null,0,1,"CH","Material","Manufactured","IN10V6-8","C","Actual","Average",23.75,24.242650000000001,10,6.4,"LB",0,0,0,0,0,0,0,0,0,null,0,1,"IND",0,0,0,1,"   ",null,"Job","   ",1,"   ",null,null,0,0,0,0,0,0,0,null,0,"     ",0,"     ","     ",1,1,0,"No Time Fence",0,null,1,1,"    5,000.00",5,0,"        ","        ",null,0,null,0,null,"    ",null,"LOC","Active",null,null,null,1,"A102",null,0,0,0,0,null,"   ","   ",0,0,"   ",null,null,null,null,null,null,null,0,5,0,5,"        ",0,0,"Never",null,0,null,null,null,null,1,"7326.90.85.87",null,null,null,null,0,null,0,0,null,null,1,2,1,23.75,24.242650000000001]
["VE-28TYA20A202","TÉ 45° #",null,0,0,null,null,null,0,1,"CH","Material","Manufactured","IN10V","C","Actual","Average",0,0,10,20,"LB",0,0,0,0,0,0,0,0,0,null,0,1,"IND",0,0,0,0,"   ",null,"Job","   ",1,"   ",null,null,0,0,0,0,0,0,0,null,0,"     ",0,"     ","     ",1,1,0,"No Time Fence",0,null,1,1,"    5,000.00",5,0,"        ","        ",null,0,null,0,null,"    ",null,"LOC","Active",null,null,null,1,"A102",null,0,0,0,0,null,"   ","   ",0,0,"   ",null,null,null,null,null,null,null,0,0,0,0,"        ",0,0,"Never",null,0,null,null,null,null,1,"7326.90.85.87",null,null,null,null,0,null,0,0,null,null,1,10.119999999999999,1,0,0]
["VE-28TYA20C22216","TÉ 45° MANIFOLD 28/20 #",null,0,0,null,null,null,0,1,"CH","Material","Manufactured","IN10V","C","Actual","Average",0,0,1,0,null,0,0,0,0,0,0,0,0,0,null,0,1,"IND",0,0,0,0,"   ",null,"Job","   ",1,"   ",null,null,0,0,0,0,0,0,0,null,0,"     ",0,"     ","     ",1,1,0,"No Time Fence",0,null,0,0,0,1,0,"        ","        ",null,0,null,0,null,"    ",null,"LOT","Active",null,null,null,1,"A102",null,0,0,0,0,null,"   ","   ",0,0,"   ",null,null,null,null,null,null,null,0,0,0,0,"        ",0,0,"Never",null,0,null,null,null,null,1,"7326.90.85.87",null,null,null,null,0,null,0,0,null,null,1,0,1,0,0]
["VE-30E2B20A201","COUDE 22.5°",null,0,0,"13-07-07 LM",null,null,0,1,"CH","Material","Manufactured","IN10V6-8","C","Actual","Average",642.33000000000004,72.997870000000006,10,2.5,"LB",0,0,0,0,0,0,0,0,0,null,0,1,"IND",0,0,0,1,"   ",null,"Job","   ",1,"   ",null,null,0,0,0,0,0,0,0,null,0,"     ",0,"     ","     ",1,1,0,"No Time Fence",0,null,1,1,"    5,000.00",5,0,"        ","        ",null,0,null,0,null,"    ",null,"LOC","Active",null,null,null,1,"A102",null,0,0,0,0,null,"   ","   ",0,0,"   ",null,null,null,null,null,null,null,0,0,0,0,"        ",0,0,"Never",null,0,null,null,null,null,1,"7326.90.85.87",null,null,null,null,0,null,0,0,null,null,1,0.7,1,642.33000000000004,72.997870000000006]
["VE-30TRA20A20224","TÉ MANIFOLD 30/24",null,0,0,null,null,null,0,1,"CH","Material","Manufactured","IN10V6-8","C","Actual","Average",0,0,10,9.6999999999999993,"LB",0,0,0,0,0,0,0,0,0,null,0,1,"IND",0,0,0,0,"   ",null,"Job","   ",1,"   ",null,null,0,0,0,0,0,0,0,null,0,"     ",0,"     ","     ",1,1,0,"No Time Fence",0,null,1,1,"    5,000.00",5,0,"        ","        ",null,0,null,0,null,"    ",null,"LOC","Active",null,null,null,1,"A102",null,0,0,0,0,null,"   ","   ",0,0,"   ",null,null,null,null,null,null,null,0,0,0,0,"        ",0,0,"Never",null,0,null,null,null,null,1,"7326.90.85.87",null,null,null,null,0,null,0,0,null,null,1,3.55,1,0,0]
["VE-30TYA20C22116","TÉ 45° MANIFOLD 30/16",null,0,0,"vérif.comp. 16-02-06 LM",null,null,0,1,"CH","Material","Manufactured","IN10V6-8","C","Actual","Average",15,14.47911,10,1.4,"LB",0,0,0,0,0,0,0,0,0,null,0,1,"IND",0,0,0,1,"   ",null,"Job","   ",1,"   ",null,null,0,0,0,0,0,0,0,null,0,"     ",0,"     ","     ",1,1,0,"No Time Fence",0,null,1,1,"    5,000.00",5,0,"        ","        ",null,0,null,0,null,"    ",null,"LOC","Active",null,null,null,1,"A102",null,0,0,0,0,null,"   ","   ",0,0,"   ",null,null,null,null,null,null,null,0,0,0,0,"        ",0,0,"Never",null,0,null,null,null,null,1,"7326.90.85.87",null,null,null,null,0,null,0,0,null,null,1,0.35,1,15,14.47911]
["VE-32E2B20A202","COUDE 22.5°",null,0,0,"13-07-07 LM",null,null,0,1,"CH","Material","Manufactured","IN10V6-8","C","Actual","Average",46.82,55.412350000000004,10,5.4,"LB",0,0,0,0,0,0,0,0,0,null,0,1,"IND",0,0,0,1,"   ",null,"Job","   ",1,"   ",null,null,0,0,0,0,0,0,0,null,0,"     ",0,"     ","     ",1,1,0,"No Time Fence",0,null,1,1,"    5,000.00",5,0,"        ","        ",null,0,null,0,null,"    ",null,"LOC","Active",null,null,null,1,"A102",null,0,0,0,0,null,"   ","   ",0,0,"   ",null,null,null,null,null,null,null,0,0,0,0,"        ",0,0,"Never",null,0,null,null,null,null,1,"7326.90.85.87",null,null,null,null,0,null,0,0,null,null,1,0.17,1,46.82,55.412350000000004]
["VE-32TYA20A20224-22","TÉ 45° MANIFOLD 32/24 -22",null,0,0,null,null,null,0,1,"CH","Material","Manufactured","IN10V6-8","C","Actual","Average",0,0,10,1.266,"LB",0,0,0,0,0,0,0,0,0,null,0,1,"IND",0,0,0,0,"   ",null,"Job","   ",1,"   ",null,null,0,0,0,0,0,0,0,null,0,"     ",0,"     ","     ",1,1,0,"No Time Fence",0,null,1,1,"    5,000.00",5,0,"        ","        ",null,0,null,0,null,"    ",null,"LOC","Active",null,null,null,1,"A102",null,0,0,0,0,null,"   ","   ",0,0,"   ",null,null,null,null,null,null,null,0,0,0,0,"        ",0,0,"Never",null,0,null,null,null,null,1,"7326.90.85.87",null,null,null,null,0,null,0,0,null,null,1,6.9000000000000006E-2,1,0,0]
["VE-34TDB20B201","COUVERCLE DE TÉ, DRAIN #",null,0,0,null,null,null,0,1,"CH","Material","Manufactured","IN10V6-8","C","Actual","Average",0,0,10,9.6,"LB",0,0,0,0,0,0,0,0,0,null,0,1,"IND",0,0,0,0,"   ",null,"Job","   ",1,"   ",null,null,0,0,0,0,0,0,0,null,0,"     ",0,"     ","     ",1,1,0,"No Time Fence",0,null,1,1,"    5,000.00",5,0,"        ","        ",null,0,null,0,null,"    ",null,"LOC","Active",null,null,null,1,"A102",null,0,0,0,0,null,"   ","   ",0,0,"   ",null,null,null,null,null,null,null,0,0,0,0,"        ",0,0,"Never",null,0,null,null,null,null,1,"7326.90.85.87",null,null,null,null,0,null,0,0,null,null,1,2.04,1,0,0]
["VE-34TYA20A20120-20","DOUBLET É 45° MANIFOLD 34/20/20",null,0,0,"vérif.comp. 12-04-06 LM",null,null,0,1,"CH","Material","Manufactured","IN10V6-8","C","Actual","Average",28.4,34.620429999999999,1,0.2,"LB",0,0,0,0,0,0,0,0,0,null,0,1,"IND",0,0,0,1,"   ",null,"Job","   ",1,"   ",null,null,0,0,0,0,0,0,0,null,0,"     ",0,"     ","     ",1,1,0,"No Time Fence",0,null,0,0,0,1,0,"        ","        ",null,0,null,0,null,"    ",null,"LOT","Active",null,null,null,1,"A102",null,0,0,0,0,null,"   ","   ",0,0,"   ",null,null,null,null,null,null,null,0,0,0,0,"        ",0,0,"Never",null,0,null,null,null,null,1,"7326.90.85.87",null,null,null,null,0,null,0,0,null,null,1,1.25,1,28.4,34.620429999999999]
["VE-36TRA20A20216","TÉ MANIFOLD 36/16#",null,0,0,null,null,null,0,1,"CH","Material","Manufactured","IN10V","C","Actual","Average",0,0,10,4.8,"LB",0,0,0,0,0,0,0,0,0,null,0,1,"IND",0,0,0,0,"   ",null,"Job","   ",1,"   ",null,null,0,0,0,0,0,0,0,null,0,"     ",0,"     ","     ",1,1,0,"No Time Fence",0,null,1,1,"    5,000.00",5,0,"        ","        ",null,0,null,0,null,"    ",null,"LOC","Active",null,null,null,1,"A102",null,0,0,0,0,null,"   ","   ",0,0,"   ",null,null,null,null,null,null,null,0,0,0,0,0,0,0,"Never",null,0,null,null,null,null,1,"7326.90.85.87",null,null,null,null,0,null,0,0,null,"0 - None",1,0.95099999999999996,1,0,0]
["VE-38TYA20C224","TÉ 45°",null,0,0,"29-08-08 LM",null,null,0,1,"CH","Material","Manufactured","IN10V","C","Actual","Average",22.574999999999999,24.03538,10,3.9,"LB",0,0,0,0,0,0,0,0,0,null,0,1,"IND",0,0,0,1,"   ",null,"Job","   ",1,"   ",null,null,0,0,0,0,0,0,0,null,0,"     ",0,"     ","     ",1,1,0,"No Time Fence",0,null,1,1,"    5,000.00",5,0,"        ","        ",null,0,null,0,null,"    ",null,"LOC","Active",null,null,null,1,"A102",null,0,0,0,0,null,"   ","   ",0,0,"   ",null,null,null,null,null,null,null,0,0,0,0,"        ",0,0,"Never",null,0,null,null,null,null,1,"7326.90.85.87",null,null,null,null,0,null,0,0,null,null,1,0.25,1,22.574999999999999,24.03538]
["VE-40TRB20B201","TÉ RÉGULIER #",null,0,0,null,null,null,0,1,"CH","Material","Manufactured","IN10V","C","Actual","Average",0,0,10,15,"LB",0,0,0,0,0,0,0,0,0,null,0,1,"IND",0,0,0,0,"   ",null,"Job","   ",1,"   ",null,null,0,0,0,0,0,0,0,null,0,"     ",0,"     ","     ",1,1,0,"No Time Fence",0,null,1,1,"    5,000.00",5,0,"        ","        ",null,0,null,0,null,"    ",null,"LOC","Active",null,null,null,1,"A102",null,0,0,0,0,null,"   ","   ",0,0,"   ",null,null,null,null,null,null,null,0,0,0,0,0,0,0,"Never",null,0,null,null,null,null,1,"7326.90.85.87",null,null,null,null,0,null,0,0,null,"0 - None",1,4.5,1,0,0]
["VE-44TRA20C22128","TÉ MANIFOLD 44/28 #",null,0,0,"27-03-08 LM",null,null,0,1,"CH","Material","Manufactured","IN10V","C","Actual","Average",41.204999999999998,40.675420000000003,10,2.2999999999999998,"LB",0,0,0,0,0,0,0,0,0,null,0,1,"IND",0,0,0,1,"   ",null,"Job","   ",1,"   ",null,null,0,0,0,0,0,0,0,null,0,"     ",0,"     ","     ",1,1,0,"No Time Fence",0,null,1,1,"    5,000.00",5,0,"        ","        ",null,0,null,0,null,"    ",null,"LOC","Active",null,null,null,1,"A102",null,0,0,0,0,null,"   ","   ",0,0,"   ",null,null,null,null,null,null,null,0,0,0,0,"        ",0,0,"Never",null,0,null,null,null,null,1,"7326.90.85.87",null,null,null,null,0,null,0,0,null,null,1,2,1,41.204999999999998,40.675420000000003]
["VE-48E2A20C201","COUDE 22.5° #",null,0,0,"19-09-06 LM",null,null,0,1,"CH","Material","Manufactured","IN10V","C","Actual","Average",0,49.813899999999997,10,6.9,"LB",0,0,0,0,0,0,0,0,0,null,0,1,"IND",0,0,0,1,"   ",null,"Job","   ",1,"   ",null,null,0,0,0,0,0,0,0,null,0,"     ",0,"     ","     ",1,1,0,"No Time Fence",0,null,1,1,"    5,000.00",5,0,"        ","        ",null,0,null,0,null,"    ",null,"LOC","Active",null,null,null,1,"A102",null,0,0,0,0,null,"   ","   ",0,0,"   ",null,null,null,null,null,null,null,0,0,0,0,"        ",0,0,"Never",null,0,null,null,null,null,1,"7326.90.85.87",null,null,null,null,0,null,0,0,null,null,1,1.22,1,0,49.813899999999997]
["VE-GN6/8-1","PRODUIT VIP - PETIT DIAMÈTRE",null,0,0,"06-06-07 LM",null,null,0,1,"CH","Material","Manufactured","IN10V","C","Actual","Average",70.27,62.305549999999997,10,8.1,"LB",0,0,0,0,0,0,0,0,0,null,0,1,"IND",0,0,0,1,"   ",null,"Job","   ",1,"   ",null,null,0,0,0,0,0,0,0,null,0,"     ",0,"     ","     ",1,1,0,"No Time Fence",0,null,1,1,"    5,000.00",5,0,"        ","        ",null,0,null,0,null,"    ",null,"LOC","Active",null,null,null,1,"A102",null,0,0,0,0,null,"   ","   ",0,0,"   ",null,null,null,null,null,null,null,0,0,0,0,"        ",0,0,"Never",null,0,null,null,null,null,1,"7326.90.85.87",null,null,null,null,0,null,0,0,null,null,1,0.62,1,70.27,62.305549999999997]
["VF-14FB000A241","SOLIN 8/12-12/12 (S.S.) #",null,0,0,null,null,null,0,1,"CH","Material","Manufactured","IN10V","C","Actual","Average",204.18,204.39830000000001,1,1,"LB",0,0,0,0,0,0,0,0,0,null,0,1,"IND",0,0,0,1,"   ",null,"Job","   ",1,"   ",null,null,1,0,0,0,0,0,0,null,0,"     ",0,"     ","     ",1,1,0,"No Time Fence",0,null,0,0,0,1,0,"        ","        ",null,0,null,0,null,"    ",null,"LOC","Active",null,null,null,1,"A102",null,0,0,0,0,null,"   ","   ",0,0,"   ",null,null,null,null,null,null,null,0,2,0,2,"        ",0,0,"Never",null,0,null,null,null,null,1,"7326.90.85.87",null,null,null,null,0,null,0,0,null,null,1,0.29699999999999999,1,204.18,204.39830000000001]
["VF-24FF000A241","SOLIN PLAT S.S #",null,0,0,"vérif.comp. 18-01-06 LM",null,null,0,1,"CH","Material","Manufactured","IN10V","C","Actual","Average",68.03,67.445869999999999,10,7.1,"LB",0,0,0,0,0,0,0,0,0,null,0,1,"IND",0,0,0,1,"   ",null,"Job","   ",1,"   ",null,null,0,0,0,0,0,0,0,null,0,"     ",0,"     ","     ",1,1,0,"No Time Fence",0,null,1,1,"    5,000.00",5,0,"        ","        ",null,0,null,0,null,"    ",null,"LOC","Active",null,null,null,1,"A102",null,0,0,0,0,null,"   ","   ",0,0,"   ",null,null,null,null,null,null,null,0,0,0,0,"        ",0,0,"Never",null,0,null,null,null,null,1,"7326.90.85.87",null,null,null,null,0,null,0,0,null,null,1,1.88,1,68.03,67.445869999999999]
["VF-GN6/8-2","PRODUIT VIP - PETIT DIAMÈTRE",null,0,0,"08-07-08 LM",null,null,0,1,"CH","Material","Manufactured","IN10V","C","Actual","Average",79.72,69.726860000000002,10,2.8,"LB",0,0,0,0,0,0,0,0,0,null,0,1,"IND",0,0,0,1,"   ",null,"Job","   ",1,"   ",null,null,0,0,0,0,0,0,0,null,0,"     ",0,"     ","     ",1,1,0,"No Time Fence",0,null,1,1,"    5,000.00",5,0,"        ","        ",null,0,null,0,null,"    ",null,"LOC","Active",null,null,null,1,"A102",null,0,0,0,0,null,"   ","   ",0,0,"   ",null,null,null,null,null,null,null,0,0,0,0,"        ",0,0,"Never",null,0,null,null,null,null,1,"7326.90.85.87",null,null,null,null,0,null,0,0,null,null,1,4,1,79.72,69.726860000000002]
["VM-06ECB20A242","CÔNE DE SORTIE",null,0,0,"20-11-2012 MT",null,null,0,1,"CH","Material","Manufactured","IN10V","C","Actual","Average",77.89,78.698939999999993,10,11,"LB",0,0,0,0,0,0,0,0,0,null,0,1,"IND",0,0,0,1,"   ",null,"Job","   ",1,"   ",null,null,0,0,0,0,0,0,0,null,0,"     ",0,"     ","     ",1,1,0,"No Time Fence",0,null,1,1,"    5,000.00",5,0,"        ","        ",null,0,null,0,null,"    ",null,"LOC","Active",null,null,null,1,"A102",null,0,0,0,0,null,"   ","   ",0,0,"   ",null,null,null,null,null,null,null,0,0,0,0,0,0,0,"Never",null,0,null,null,null,null,1,"7326.90.85.87",null,null,null,null,0,null,0,0,null,"0 - None",1,4.3,1,77.89,78.698939999999993]
["VM-06ITA24C24112","AUGMENTEUR CONIQUE 6/12 #OBSOL=>INT=20GA",null,0,0,"verif.comp. 20-12-05 LM",null,null,1,1,"CH","Material","Manufactured","IN10V","C","Standard","Standard",14.355869999999999,14.467919999999999,10,1.4,"LB",0,0,0,0,0,0,0,0,0,null,0,1,"IND",0,0,0,0,"   ",null,"KANBAN/JIT","   ",1,"   ",null,null,0,0,0,0,0,0,0,null,0,"     ",0,"     ","     ",1,1,0,"No Time Fence",0,null,1,1,"    5,000.00",5,0,"        ","        ",null,0,null,0,null,"    ",null,"LOC","Active",null,null,null,1,"A102",null,0,0,0,0,null,"   ","   ",0,0,"   ",null,null,null,null,null,null,null,0,0,0,0,"        ",0,0,"Never",null,0,null,null,null,null,1,"7326.90.85.87",null,null,null,null,0,null,0,0,null,null,1,0.44,1,14.355869999999999,14.467919999999999]
["VM-06MCB20B202","24\"LONGUEUR,FINIE EN ANGLE #",null,0,0,"vérif.comp. 18-01-06 LM",null,null,0,1,"CH","Material","Manufactured","IN10V","C","Actual","Average",39.08,88.217470000000006,10,14,"LB",0,0,0,0,0,0,0,0,0,null,0,1,"IND",0,0,0,1,"   ",null,"Job","   ",1,"   ",null,null,0,0,0,0,0,0,0,null,0,"     ",0,"     ","     ",1,1,0,"No Time Fence",0,null,1,1,"    5,000.00",5,0,"        ","        ",null,0,null,0,null,"    ",null,"LOC","Active",null,null,null,1,"A102",null,0,0,0,0,null,"   ","   ",0,0,"   ",null,null,null,null,null,null,null,0,0,0,0,"        ",0,0,"Never",null,0,null,null,null,null,1,"7326.90.85.87",null,null,null,null,0,null,0,0,null,null,1,4.17,1,39.08,88.217470000000006]
["VM-06SIA20C24112","AUGMENTEUR 6/12 #",null,0,0,null,null,null,0,1,"CH","Material","Manufactured","IN10V","C","Actual","Average",0,0,10,13.9,"LB",0,0,0,0,0,0,0,0,0,null,0,1,"IND",0,0,0,0,"   ",null,"Job","   ",1,"   ",null,null,0,0,0,0,0,0,0,null,0,"     ",0,"     ","     ",1,1,0,"No Time Fence",0,null,1,1,"    5,000.00",5,0,"        ","        ",null,0,null,0,null,"    ",null,"LOC","Active",null,null,null,1,"A102",null,0,0,0,0,null,"   ","   ",0,0,"   ",null,null,null,null,null,null,null,0,0,0,0,0,0,0,"Never",null,0,null,null,null,null,1,"7326.90.85.87",null,null,null,null,0,null,0,0,null,"0 - None",1,2.72,1,0,0]
["VM-08EXA20A202","PROLONGEMENT DE CONDUIT",null,0,0,null,null,null,0,1,"CH","Material","Manufactured","IN10V","C","Actual","Average",0,0,10,31.8,"LB",0,0,0,0,0,0,0,0,0,null,0,1,"IND",0,0,0,0,"   ",null,"Job","   ",1,"   ",null,null,0,0,0,0,0,0,0,null,0,"     ",0,"     ","     ",1,1,0,"No Time Fence",0,null,1,1,5,5,0,"        ","        ",null,0,null,0,null,"    ",null,"LOC","Active",null,null,null,1,"A102",null,0,0,0,0,null,"   ","   ",0,0,"   ",null,null,null,null,null,null,null,0,0,0,0,0,0,0,"Never",null,0,null,null,null,null,1,"7326.90.85.87",null,null,null,null,0,null,0,0,null,"0 - None",1,1.27,1,0,0]
["VM-08GB000B201","BRIDE D'HAUBANAGE",null,0,0,null,null,null,0,1,"CH","Material","Manufactured","IN10V","C","Actual","Average",0,0,10,3.9,"LB",0,0,0,0,0,0,0,0,0,null,0,1,"IND",0,0,0,0,"   ",null,"Job","   ",1,"   ",null,null,0,0,0,0,0,0,0,null,0,"     ",0,"     ","     ",1,1,0,"No Time Fence",0,null,1,1,"    5,000.00",5,0,"        ","        ",null,0,null,0,null,"    ",null,"LOC","Active",null,null,null,1,"A102",null,0,0,0,0,null,"   ","   ",0,0,"   ",null,null,null,null,null,null,null,0,0,0,0,"        ",0,0,"Never",null,0,null,null,null,null,1,"7326.90.85.87",null,null,null,null,0,null,0,0,null,null,1,0.25,1,0,0]
["VM-08ITA24C24110","AUGMENTEUR CONIQUE 8/10",null,0,0,null,null,null,0,1,"CH","Material","Manufactured","IN10V","C","Actual","Average",0,0,10,23,"LB",0,0,0,0,0,0,0,0,0,null,0,1,"IND",0,0,0,0,"   ",null,"Job","   ",1,"   ",null,null,0,0,0,0,0,0,0,null,0,"     ",0,"     ","     ",1,1,0,"No Time Fence",0,null,1,1,"    5,000.00",5,0,"        ","        ",null,0,null,0,null,"    ",null,"LOC","Active",null,null,null,1,"A102",null,0,0,0,0,null,"   ","   ",0,0,"   ",null,null,null,null,null,null,null,0,0,0,0,"        ",0,0,"Never",null,0,null,null,null,null,1,"7326.90.85.87",null,null,null,null,0,null,0,0,null,null,1,6,1,0,0]
["VM-08RS000C241","COUPE-FEU RADIANT",null,0,0,null,null,null,0,1,"CH","Material","Manufactured","IN10V","C","Actual","Average",0,0,10,4.8,"LB",0,0,0,0,0,0,0,0,0,null,0,1,"IND",0,0,0,0,"   ",null,"Job","   ",1,"   ",null,null,0,0,0,0,0,0,0,null,0,"     ",0,"     ","     ",1,1,0,"No Time Fence",0,null,1,1,"    5,000.00",5,0,"        ","        ",null,0,null,0,null,"    ",null,"LOC","Active",null,null,null,1,"A102",null,0,0,0,0,null,"   ","   ",0,0,"   ",null,null,null,null,null,null,null,0,0,0,0,"        ",0,0,"Never",null,0,null,null,null,null,1,"7326.90.85.87",null,null,null,null,0,null,0,0,null,null,1,0.7,1,0,0]
["VM-08SC000B241","COLLET DE SOLIN SS 316",null,0,0,"13-09-07 LM",null,null,0,1,"CH","Material","Manufactured","IN10V","C","Actual","Average",105.99,94.933459999999997,10,19.2,"LB",0,0,0,0,0,0,0,0,0,null,0,1,"IND",0,0,0,1,"   ",null,"Job","   ",1,"   ",null,null,0,0,0,0,0,0,0,null,0,"     ",0,"     ","     ",1,1,0,"No Time Fence",0,null,1,1,"    5,000.00",5,0,"        ","        ",null,0,null,0,null,"    ",null,"LOC","Active",null,null,null,1,"A102",null,0,0,0,0,null,"   ","   ",0,0,"   ",null,null,null,null,null,null,null,0,0,0,0,"        ",0,0,"Never",null,0,null,null,null,null,1,"7326.90.85.87",null,null,null,null,0,null,0,0,null,null,1,2.75,1,105.99,94.933459999999997]
["VM-10APA20A202","PLAQUE D'ANCRAGE",null,0,0,null,null,null,0,1,"CH","Material","Manufactured","IN10V","C","Actual","Average",0,111.12502000000001,10,12,"LB",0,0,0,0,0,0,0,0,0,null,0,1,"IND",0,0,0,1,"   ",null,"Job","   ",1,"   ",null,null,0,0,0,0,0,0,0,null,0,"     ",0,"     ","     ",1,1,0,"No Time Fence",0,null,1,1,"    5,000.00",5,0,"        ","        ",null,0,null,0,null,"    ",null,"LOC","Active",null,null,null,1,"A102",null,0,0,0,0,null,"   ","   ",0,0,"   ",null,null,null,null,null,null,null,0,0,0,0,0,0,0,"Never",null,0,null,null,null,null,1,"7326.90.85.87",null,null,null,null,0,null,0,0,null,"0 - None",1,4.9720000000000004,1,0,111.12502000000001]
["VM-10EXB24B241","PROLONGEMENT DE CONDUIT",null,0,0,"vérif.comp. 18-01-06 LM",null,null,0,1,"CH","Material","Manufactured","IN10V","C","Actual","Average",0,94.305940000000007,10,21.5,"LB",0,0,0,0,0,0,0,0,0,null,0,1,"IND",0,0,0,1,"   ",null,"Job","   ",1,"   ",null,null,0,0,0,0,0,0,0,null,0,"     ",0,"     ","     ",1,1,0,"No Time Fence",0,null,1,1,"    5,000.00",5,0,"        ","        ",null,0,null,0,null,"    ",null,"LOC","Active",null,null,null,1,"A102",null,0,0,0,0,null,"   ","   ",0,0,"   ",null,null,null,null,null,null,null,0,0,0,0,"        ",0,0,"Never",null,0,null,null,null,null,1,"7326.90.85.87",null,null,null,null,0,null,0,0,null,null,1,6,1,0,94.305940000000007]
["VM-10ITA20A20114","AUGMENTEUR CONIQUE 10/14#",null,0,0,"vérif.comp. 18-01-06 LM",null,null,0,1,"CH","Material","Manufactured","IN10V","C","Actual","Average",0,109.40042,10,25,"LB",0,0,0,0,0,0,0,0,0,null,0,1,"IND",0,0,0,1,"   ",null,"Job","   ",1,"   ",null,null,0,0,0,0,0,0,0,null,0,"     ",0,"     ","     ",1,1,0,"No Time Fence",0,null,1,1,"    5,000.00",5,0,"        ","        ",null,0,null,0,null,"    ",null,"LOC","Active",null,null,null,1,"A102",null,0,0,0,0,null,"   ","   ",0,0,"   ",null,null,null,null,null,null,null,0,0,0,0,"        ",0,0,"Never",null,0,null,null,null,null,1,"7326.90.85.87",null,null,null,null,0,null,0,0,null,null,1,7.9169999999999998,1,0,109.40042]
["VM-10OS000A221","SUPPORT DE DEVIATION",null,0,0,"vérif.comp. 17-01-06 LM",null,null,0,1,"CH","Material","Manufactured","IN10V","C","Actual","Average",117.79143000000001,112.39700999999999,10,14.5,"LB",0,0,0,0,0,0,0,0,0,null,0,1,"IND",0,0,0,1,"   ",null,"Job","   ",1,"   ",null,null,0,0,0,0,0,0,0,null,0,"     ",0,"     ","     ",1,1,0,"No Time Fence",0,null,1,1,"    5,000.00",5,0,"        ","        ",null,0,null,0,null,"    ",null,"LOC","Active",null,null,null,1,"A102",null,0,0,0,0,null,"   ","   ",0,0,"   ",null,null,null,null,null,null,null,0,0,0,0,"        ",0,0,"Never",null,0,null,null,null,null,1,"7326.90.85.87",null,null,null,null,0,null,0,0,null,null,1,1.17,1,117.79143392,112.39700999999999]
["VM-10SIA20A24118","AUGMENTEUR 10/18 #",null,0,0,null,null,null,0,1,"CH","Material","Manufactured","IN10V","C","Actual","Average",0,0,10,4.0999999999999996,"LB",0,0,0,0,0,0,0,0,0,null,0,1,"IND",0,0,0,0,"   ",null,"Job","   ",1,"   ",null,null,0,0,0,0,0,0,0,null,0,"     ",0,"     ","     ",1,1,0,"No Time Fence",0,null,1,1,"    5,000.00",5,0,"        ","        ",null,0,null,0,null,"    ",null,"LOC","Active",null,null,null,1,"A102",null,0,0,0,0,null,"   ","   ",0,0,"   ",null,null,null,null,null,null,null,0,0,0,0,"        ",0,0,"Never",null,0,null,null,null,null,1,"7326.90.85.87",null,null,null,null,0,null,0,0,null,null,1,1.78,1,0,0]
["VM-10WB000A201","BRIDE MURALE",null,0,0,"25-07-08 LM",null,null,0,1,"CH","Material","Manufactured","IN10V","C","Actual","Average",107.51,105.5789,10,13,"LB",0,0,0,0,0,0,0,0,0,null,0,1,"IND",0,0,0,1,"   ",null,"Job","   ",1,"   ",null,null,0,0,0,0,0,0,0,null,0,"     ",0,"     ","     ",1,1,0,"No Time Fence",0,null,1,1,"    5,000.00",5,0,"        ","        ",null,0,null,0,null,"    ",null,"LOC","Active",null,null,null,1,"A102",null,0,0,0,0,null,"   ","   ",0,0,"   ",null,null,null,null,null,null,null,0,0,0,0,"        ",0,0,"Never",null,0,null,null,null,null,1,"7326.90.85.87",null,null,null,null,0,null,0,0,null,null,1,8.16,1,107.51,105.5789]
["VM-12FS000C242","COUPE-FEU (obselete)",null,0,0,"11-10-2012 MT",null,null,0,1,"CH","Material","Manufactured","IN10V","C","Actual","Average",69.069999999999993,69.324809999999999,10,20,"LB",0,0,0,0,0,0,0,0,0,null,0,1,"IND",0,0,0,1,"   ",null,"Job","   ",1,"   ",null,null,0,0,0,0,0,0,0,null,0,"     ",0,"     ","     ",1,1,0,"No Time Fence",0,null,1,1,"    5,000.00",5,0,"        ","        ",null,0,null,0,null,"    ",null,"LOC","Active",null,null,null,1,"A102",null,0,0,0,0,null,"   ","   ",0,0,"   ",null,null,null,null,null,null,null,0,0,0,0,0,0,0,"Never",null,0,null,null,null,null,1,"7326.90.85.87",null,null,null,null,0,null,0,0,null,"0 - None",1,1.49,1,69.069999999999993,69.324809999999999]
["VM-12ITA20C22214","AUGMENTEUR CONIQUE 12/14",null,0,0,"22-08-08 LM",null,null,0,1,"CH","Material","Manufactured","IN10V","C","Actual","Average",32.43,30.66339,10,3.3,"LB",0,0,0,0,0,0,0,0,0,null,0,1,"IND",0,0,0,1,"   ",null,"Job","   ",1,"   ",null,null,0,0,0,0,0,0,0,null,0,"     ",0,"     ","     ",1,1,0,"No Time Fence",0,null,1,1,"    5,000.00",5,0,"        ","        ",null,0,null,0,null,"    ",null,"LOC","Active",null,null,null,1,"A102",null,0,0,0,0,null,"   ","   ",0,0,"   ",null,null,null,null,null,null,null,0,0,0,0,"        ",0,0,"Never",null,0,null,null,null,null,1,"7326.90.85.87",null,null,null,null,0,null,0,0,null,null,1,1.17,1,32.43,30.66339]
["VM-12ITB20A20418","AUGMENTEUR CONIQUE 12/18 #",null,0,0,"22-09-06 LM",null,null,0,1,"CH","Material","Manufactured","IN10V","C","Actual","Average",0,71.684020000000004,1,30,"LB",0,0,0,0,0,0,0,0,0,null,0,1,"IND",0,0,0,1,"   ",null,"Job","   ",1,"   ",null,null,0,0,0,0,0,0,0,null,0,"     ",0,"     ","     ",1,1,0,"No Time Fence",0,null,1,1,"    5,000.00",5,0,"        ","        ",null,0,null,0,null,"    ",null,"LOC","Active",null,null,null,1,"A102",null,0,0,0,0,null,"   ","   ",0,0,"   ",null,null,null,null,null,null,null,0,0,0,0,"        ",0,0,"Never",null,0,null,null,null,null,1,"7326.90.85.87",null,null,null,null,0,null,0,0,null,null,1,4.6900000000000004,1,0,71.684020000000004]
["VM-12RVA20A204","ADAPTEUR ET VALVE DE SURPRESSION#",null,0,0,"vérif.comp. 17-01-06 LM",null,null,0,1,"CH","Material","Manufactured","IN10V","C","Actual","Average",95.87379,96.045060000000007,10,20.7,"LB",0,0,0,0,0,0,0,0,0,null,0,1,"IND",0,0,0,1,"   ",null,"Job","   ",1,"   ",null,null,0,0,0,0,0,0,0,null,0,"     ",0,"     ","     ",1,1,0,"No Time Fence",0,null,1,1,"    5,000.00",5,0,"        ","        ",null,0,null,0,null,"    ",null,"LOC","Active",null,null,null,1,"A102",null,0,0,0,0,null,"   ","   ",0,0,"   ",null,null,null,null,null,null,null,0,0,0,0,"        ",0,0,"Never",null,0,null,null,null,null,1,"7326.90.85.87",null,null,null,null,0,null,0,0,null,null,1,4,1,95.873790920000005,96.045060000000007]
["VM-12SIB20A24120","AUGMENTEUR 12/20",null,0,0,null,null,null,0,1,"CH","Material","Manufactured","IN10V","C","Actual","Average",0,0,10,40,"LB",0,0,0,0,0,0,0,0,0,null,0,1,"IND",0,0,0,0,"   ",null,"Job","   ",1,"   ",null,null,0,0,0,0,0,0,0,null,0,"     ",0,"     ","     ",1,1,0,"No Time Fence",0,null,1,1,"    5,000.00",5,0,"        ","        ",null,0,null,0,null,"    ",null,"LOC","Active",null,null,null,1,"A102",null,0,0,0,0,null,"   ","   ",0,0,"   ",null,null,null,null,null,null,null,0,0,0,0,"        ",0,0,"Never",null,0,null,null,null,null,1,"7326.90.85.87",null,null,null,null,0,null,0,0,null,null,1,12.5,1,0,0]
["VM-14AFA24A241","PLAQUE D'ANCRAGE FEMELLE",null,0,0,null,null,null,0,1,"CH","Material","Manufactured","IN10V","C","Actual","Average",0,0,10,44,"LB",0,0,0,0,0,0,0,0,0,null,0,1,"IND",0,0,0,0,"   ",null,"Job","   ",1,"   ",null,null,0,0,0,0,0,0,0,null,0,"     ",0,"     ","     ",1,1,0,"No Time Fence",0,null,1,1,"    5,000.00",5,0,"        ","        ",null,0,null,0,null,"    ",null,"LOC","Active",null,null,null,1,"A102",null,0,0,0,0,null,"   ","   ",0,0,"   ",null,null,null,null,null,null,null,0,0,0,0,"        ",0,0,"Never",null,0,null,null,null,null,1,"7326.90.85.87",null,null,null,null,0,null,0,0,null,null,1,12.5,1,0,0]
["VM-14EXB20B201","PROLONGEMENT DE CONDUIT",null,0,0,null,null,null,0,1,"CH","Material","Manufactured","IN10V","C","Actual","Average",0,0,10,30.1,"LB",0,0,0,0,0,0,0,0,0,null,0,1,"IND",0,0,0,0,"   ",null,"Job","   ",1,"   ",null,null,0,0,0,0,0,0,0,null,0,"     ",0,"     ","     ",1,1,0,"No Time Fence",0,null,1,1,"    5,000.00",5,0,"        ","        ",null,0,null,0,null,"    ",null,"LOC","Active",null,null,null,1,"A102",null,0,0,0,0,null,"   ","   ",0,0,"   ",null,null,null,null,null,null,null,0,0,0,0,"        ",0,0,"Never",null,0,null,null,null,null,1,"7326.90.85.87",null,null,null,null,0,null,0,0,null,null,1,2.37,1,0,0]
["VM-14ITB20A24120","AUGMENTEUR CONIQUE 14/20 #",null,0,0,"25-01-2011 MT",null,null,0,1,"CH","Material","Manufactured","IN10V","C","Actual","Average",0,0,1,0.5,"LB",0,0,0,0,0,0,0,0,0,null,0,1,"IND",0,0,0,0,"   ",null,"Job","   ",1,"   ",null,null,1,0,0,0,0,0,0,null,0,"     ",0,"     ","     ",1,1,0,"No Time Fence",0,null,1,1,"    5,000.00",5,0,"        ","        ",null,0,null,0,null,"    ",null,"LOC","Active",null,null,null,1,"A102",null,0,0,0,0,null,"   ","   ",0,0,"   ",null,null,null,null,null,null,null,0,0,0,0,0,0,0,"Never",null,0,null,null,null,null,1,"7326.90.85.87",null,null,null,null,0,null,0,0,null,"0 - None",1,1.78,1,0,0]
["VM-14MCB20A201","24\" LONGUEUR,FINIE EN ANGLE #",null,0,0,null,null,null,0,1,"CH","Material","Manufactured","IN10V","C","Actual","Average",0,0,10,0.8,"LB",0,0,0,0,0,0,0,0,0,null,0,1,"IND",0,0,0,0,"   ",null,"Job","   ",1,"   ",null,null,0,0,0,0,0,0,0,null,0,"     ",0,"     ","     ",1,1,0,"No Time Fence",0,null,1,1,"    5,000.00",5,0,"        ","        ",null,0,null,0,null,"    ",null,"LOC","Active",null,null,null,1,"A102",null,0,0,0,0,null,"   ","   ",0,0,"   ",null,null,null,null,null,null,null,0,0,0,0,0,0,0,"Never",null,0,null,null,null,null,1,"7326.90.85.87",null,null,null,null,0,null,0,0,null,"0 - None",1,0.88,1,0,0]
["VM-14SIA20A24218","AUGMENTEUR 14/18 #",null,0,0,null,null,null,0,1,"CH","Material","Manufactured","IN10V","C","Actual","Average",0,0,10,50,"LB",0,0,0,0,0,0,0,0,0,null,0,1,"IND",0,0,0,0,"   ",null,"Job","   ",1,"   ",null,null,0,0,0,0,0,0,0,null,0,"     ",0,"     ","     ",1,1,0,"No Time Fence",0,null,1,1,"    5,000.00",5,0,"        ","        ",null,0,null,0,null,"    ",null,"LOC","Active",null,null,null,1,"A102",null,0,0,0,0,null,"   ","   ",0,0,"   ",null,null,null,null,null,null,null,0,0,0,0,"        ",0,0,"Never",null,0,null,null,null,null,1,"7326.90.85.87",null,null,null,null,0,null,0,0,null,null,1,16.056000000000001,1,0,0]
["VM-16APB24B242","PLAQUE D'ANCRAGE",null,0,0,null,null,null,0,1,"CH","Material","Manufactured","IN10V","C","Actual","Average",0,0,10,30,"LB",0,0,0,0,0,0,0,0,0,null,0,1,"IND",0,0,0,0,"   ",null,"Job","   ",1,"   ",null,null,0,0,0,0,0,0,0,null,0,"     ",0,"     ","     ",1,1,0,"No Time Fence",0,null,1,1,"    5,000.00",5,0,"        ","        ",null,0,null,0,null,"    ",null,"LOC","Active",null,null,null,1,"A102",null,0,0,0,0,null,"   ","   ",0,0,"   ",null,null,null,null,null,null,null,0,0,0,0,"        ",0,0,"Never",null,0,null,null,null,null,1,"7326.90.85.87",null,null,null,null,0,null,0,0,null,null,1,2.5070000000000001,1,0,0]
["VM-16ITA20C22122","AUGMENTEUR CONIQUE 16/22 #",null,0,0,null,null,null,0,1,"CH","Material","Manufactured","IN10V","C","Actual","Average",0,0,10,1,"LB",0,0,0,0,0,0,0,0,0,null,0,1,"IND",0,0,0,0,"   ",null,"Job","   ",1,"   ",null,null,0,0,0,0,0,0,0,null,0,"     ",0,"     ","     ",1,1,0,"No Time Fence",0,null,1,1,"    5,000.00",5,0,"        ","        ",null,0,null,0,null,"    ",null,"LOC","Active",null,null,null,1,"A102",null,0,0,0,0,null,"   ","   ",0,0,"   ",null,null,null,null,null,null,null,0,0,0,0,0,0,0,"Never",null,0,null,null,null,null,1,"7326.90.85.87",null,null,null,null,0,null,0,0,null,"0 - None",1,1.08,1,0,0]
["VM-16ITB20A24118","AUGMENTEUR CONIQUE 16/18 #",null,0,0,null,null,null,0,1,"CH","Material","Manufactured","IN10V","C","Actual","Average",0,0,10,14.6,"LB",0,0,0,0,0,0,0,0,0,null,0,1,"IND",0,0,0,0,"   ",null,"Job","   ",1,"   ",null,null,0,0,0,0,0,0,0,null,0,"     ",0,"     ","     ",1,1,0,"No Time Fence",0,null,1,1,"    5,000.00",5,0,"        ","        ",null,0,null,0,null,"    ",null,"LOC","Active",null,null,null,1,"A102",null,0,0,0,0,null,"   ","   ",0,0,"   ",null,null,null,null,null,null,null,0,0,0,0,"        ",0,0,"Never",null,0,null,null,null,null,1,"7326.90.85.87",null,null,null,null,0,null,0,0,null,null,1,2.89,1,0,0]
["VM-16SIB24B24118","AUGMENTEUR 16/18 #",null,0,0,null,null,null,0,1,"CH","Material","Manufactured","IN10V","C","Actual","Average",0,0,1,0,null,0,0,0,0,0,0,0,0,0,null,0,1,"IND",0,0,0,0,"   ",null,"Job","   ",1,"   ",null,null,0,0,0,0,0,0,0,null,0,"     ",0,"     ","     ",1,1,0,"No Time Fence",0,null,0,0,0,1,0,"        ","        ",null,0,null,0,null,"    ",null,"LOT","Active",null,null,null,1,"A102",null,0,0,0,0,null,"   ","   ",0,0,"   ",null,null,null,null,null,null,null,0,0,0,0,"        ",0,0,"Never",null,0,null,null,null,null,1,"7326.90.85.87",null,null,null,null,0,null,0,0,null,null,1,0,1,0,0]
["VM-18BS000C221","SUPPORT DE BASE",null,0,0,null,null,null,0,1,"CH","Material","Manufactured","IN10V","C","Actual","Average",0,0,10,11.6,"LB",0,0,0,0,0,0,0,0,0,null,0,1,"IND",0,0,0,0,"   ",null,"Job","   ",1,"   ",null,null,0,0,0,0,0,0,0,null,0,"     ",0,"     ","     ",1,1,0,"No Time Fence",0,null,1,1,"    5,000.00",5,0,"        ","        ",null,0,null,0,null,"    ",null,"LOC","Active",null,null,null,1,"A102",null,0,0,0,0,null,"   ","   ",0,0,"   ",null,null,null,null,null,null,null,0,0,0,0,"        ",0,0,"Never",null,0,null,null,null,null,1,"7326.90.85.87",null,null,null,null,0,null,0,0,null,null,1,21,1,0,0]
["VM-18EXA24A242","PROLONGEMENT DE CONDUIT",null,0,0,null,null,null,0,1,"CH","Material","Manufactured","IN10V","C","Actual","Average",0,0,1,0,"LB",0,0,0,0,0,0,0,0,0,null,0,1,"IND",0,0,0,0,"   ",null,"Job","   ",1,"   ",null,null,0,0,0,0,0,0,0,null,0,"     ",0,"     ","     ",1,1,0,"No Time Fence",0,null,1,1,"    5,000.00",5,0,"        ","        ",null,0,null,0,null,"    ",null,"LOT","Active",null,null,null,1,"A102",null,0,0,0,0,null,"   ","   ",0,0,"   ",null,null,null,null,null,null,null,0,0,0,0,0,0,0,"Never",null,0,null,null,null,null,1,"7326.90.85.87",null,null,null,null,0,null,0,0,null,"0 - None",1,0,1,0,0]
["VM-18ITB24A24120","AUGMENTEUR CONIQUE 18/20 #",null,0,0,null,null,null,0,1,"CH","Material","Manufactured","IN10V","C","Actual","Average",0,0,10,36,"LB",0,0,0,0,0,0,0,0,0,null,0,1,"IND",0,0,0,0,"   ",null,"Job","   ",1,"   ",null,null,0,0,0,0,0,0,0,null,0,"     ",0,"     ","     ",1,1,0,"No Time Fence",0,null,1,1,"    5,000.00",5,0,"        ","        ",null,0,null,0,null,"    ",null,"LOC","Active",null,null,null,1,"A102",null,0,0,0,0,null,"   ","   ",0,0,"   ",null,null,null,null,null,null,null,0,0,0,0,"        ",0,0,"Never",null,0,null,null,null,null,1,"7326.90.85.87",null,null,null,null,0,null,0,0,null,null,1,2.7,1,0,0]
["VM-18RVA20A204","ADAPTEUR ET VALVE DE SURPRESSION#",null,0,0,"Vérif. comp. 25-11-05 LC",null,null,0,1,"CH","Material","Manufactured","IN10V","C","Actual","Average",8.2385699999999993,22.54149,10,5.0830000000000002,"LB",0,0,0,0,0,0,0,0,0,null,0,1,"IND",0,0,0,1,"   ",null,"Job","   ",1,"   ",null,null,0,0,0,0,0,0,0,null,0,"     ",0,"     ","     ",1,1,0,"No Time Fence",0,null,1,1,"    5,000.00",5,0,"        ","        ",null,0,null,0,null,"    ",null,"LOC","Active",null,null,null,1,"A102",null,0,0,0,0,null,"   ","   ",0,0,"   ",null,null,null,null,null,null,null,0,0,0,0,"        ",0,0,"Never",null,0,null,null,null,null,1,"7326.90.85.87",null,null,null,null,0,null,0,0,null,null,1,1.171,1,8.2385714300000004,22.54149]
["VM-18SR000A201","SUPPORT DE TOIT",null,0,0,"08-09-2011 MT",null,null,0,1,"CH","Material","Manufactured","IN10V","C","Actual","Average",108.52,131.67542,10,0,"LB",0,0,0,0,0,0,0,0,0,null,0,1,"IND",0,0,0,1,"   ",null,"Job","   ",1,"   ",null,null,0,0,0,0,0,0,0,null,0,"     ",0,"     ","     ",1,1,0,"No Time Fence",0,null,1,1,"    5,000.00",5,0,"        ","        ",null,0,null,0,null,"    ",null,"LOC","Active",null,null,null,1,"A102",null,0,0,0,0,null,"   ","   ",0,0,"   ",null,null,null,null,null,null,null,0,0,0,0,"        ",0,0,"Never",null,0,null,null,null,null,1,"7326.90.85.87",null,null,null,null,0,null,0,0,null,null,1,0,1,108.52,131.67542]
["VM-20CB000A241","BASE DE CHAPEAU",null,0,0,null,null,null,0,1,"CH","Material","Manufactured","IN10V","C","Actual","Average",0,0,10,15,"LB",0,0,0,0,0,0,0,0,0,null,0,1,"IND",0,0,0,0,"   ",null,"Job","   ",1,"   ",null,null,0,0,0,0,0,0,0,null,0,"     ",0,"     ","     ",1,1,0,"No Time Fence",0,null,1,1,"    5,000.00",5,0,"        ","        ",null,0,null,0,null,"    ",null,"LOC","Active",null,null,null,1,"A102",null,0,0,0,0,null,"   ","   ",0,0,"   ",null,null,null,null,null,null,null,0,0,0,0,"        ",0,0,"Never",null,0,null,null,null,null,1,"7326.90.85.87",null,null,null,null,0,null,0,0,null,null,1,53,1,0,0]
["VM-20ITA24A24222","AUGMENTEUR CONIQUE 20/22 #",null,0,0,"12-06-09 MT",null,null,0,1,"CH","Material","Manufactured","IN10V6-8","C","Actual","Average",36.090000000000003,37.698569999999997,10,4.7,"LB",0,0,0,0,0,0,0,0,0,null,0,1,"IND",0,0,0,1,"   ",null,"Job","   ",1,"   ",null,null,0,0,0,0,0,0,0,null,0,"     ",0,"     ","     ",1,1,0,"No Time Fence",0,null,1,1,"    5,000.00",5,0,"        ","        ",null,0,null,0,null,"    ",null,"LOC","Active",null,null,null,1,"A102",null,0,0,0,0,null,"   ","   ",0,0,"   ",null,null,null,null,null,null,null,0,0,0,0,"        ",0,0,"Never",null,0,null,null,null,null,1,"7326.90.85.87",null,null,null,null,0,null,0,0,null,null,1,0.375,1,36.090000000000003,37.698569999999997]
["VM-20OS000A201","SUPPORT DE DEVIATION #",null,0,0,null,null,null,0,1,"CH","Material","Manufactured","IN10V6-8","C","Actual","Average",0,0,10,0.6,"LB",0,0,0,0,0,0,0,0,0,null,0,1,"IND",0,0,0,0,"   ",null,"Job","   ",1,"   ",null,null,0,0,0,0,0,0,0,null,0,"     ",0,"     ","     ",1,1,0,"No Time Fence",0,null,1,1,5,5,0,"        ","        ",null,0,null,0,null,"    ",null,"LOC","Active",null,null,null,1,"A102",null,0,0,0,0,null,"   ","   ",0,0,"   ",null,null,null,null,null,null,null,0,0,0,0,0,0,0,"Never",null,0,null,null,null,null,1,"7326.90.85.87",null,null,null,null,0,null,0,0,null,"0 - None",1,0.22,1,0,0]
["VM-22AFA20A201","PLAQUE D'ANCRAGE FEMELLE",null,0,0,"25-10-2010 MT",null,null,0,1,"CH","Material","Manufactured","IN10V6-8","C","Actual","Average",19.63,16.94462,10,0.8,"LB",0,0,0,0,0,0,0,0,0,null,0,1,"IND",0,0,0,0,"   ",null,"Job","   ",1,"   ",null,null,0,0,0,0,0,0,0,null,0,"     ",0,"     ","     ",1,1,0,"No Time Fence",0,null,1,1,"    5,000.00",5,0,"        ","        ",null,0,null,0,null,"    ",null,"LOC","Active",null,null,null,1,"A102",null,0,0,0,0,null,"   ","   ",0,0,"   ",null,null,null,null,null,null,null,0,0,0,0,0,0,0,"Never",null,0,null,null,null,null,1,"7326.90.85.87",null,null,null,null,0,null,0,0,null,"0 - None",1,0.17,1,19.63,16.94462]
["VM-22EXB20B204","PROLONGEMENT DE CONDUIT #",null,0,0,"13/08/2009 MT",null,null,0,1,"CH","Material","Manufactured","IN10V6-8","C","Actual","Average",24.71,30.784269999999999,10,0.6,"LB",0,0,0,0,0,0,0,0,0,null,0,1,"IND",0,0,0,1,"   ",null,"Job","   ",1,"   ",null,null,0,0,0,0,0,0,0,null,0,"     ",0,"     ","     ",1,1,0,"No Time Fence",0,null,1,1,5,5,0,"        ","        ",null,0,null,0,null,"    ",null,"LOC","Active",null,null,null,1,"A102",null,0,0,0,0,null,"   ","   ",0,0,"   ",null,null,null,null,null,null,null,0,0,0,0,0,0,0,"Never",null,0,null,null,null,null,1,"7326.90.85.87",null,null,null,null,0,null,0,0,null,"0 - None",1,0.22,1,24.71,30.784269999999999]
["VM-22SIB20A20434","AUGMENTEUR 22/34 #",null,0,0,null,null,null,0,1,"CH","Material","Manufactured","IN10V","C","Actual","Average",0,0,10,102,"LB",0,0,0,0,0,0,0,0,0,null,0,1,"IND",0,0,0,0,"   ",null,"Job","   ",1,"   ",null,null,0,0,0,0,0,0,0,null,0,"     ",0,"     ","     ",1,1,0,"No Time Fence",0,null,1,1,"    5,000.00",5,0,"        ","        ",null,0,null,0,null,"    ",null,"LOC","Active",null,null,null,1,"A102",null,0,0,0,0,null,"   ","   ",0,0,"   ",null,null,null,null,null,null,null,0,0,0,0,0,0,0,"Never",null,0,null,null,null,null,1,"7306.40.50.15",null,null,null,null,0,null,0,0,null,"0 - None",1,1.6,1,0,0]
["VM-24AFB24B241","PLAQUE D'ANCRAGE FEMELLE #",null,0,0,null,null,null,0,1,"CH","Material","Manufactured","IN10V6-8","C","Actual","Average",0,0,10,25,"LB",0,0,0,0,0,0,0,0,0,null,0,1,"IND",0,0,0,0,"   ",null,"Job","   ",1,"   ",null,null,0,0,0,0,0,0,0,null,0,"     ",0,"     ","     ",1,1,0,"No Time Fence",0,null,1,1,"    5,000.00",5,0,"        ","        ",null,0,null,0,null,"    ",null,"LOC","Active",null,null,null,1,"A102",null,0,0,0,0,null,"   ","   ",0,0,"   ",null,null,null,null,null,null,null,0,0,0,0,"        ",0,0,"Never",null,0,null,null,null,null,1,"7307.29.00.90",null,null,null,null,0,null,0,0,null,null,1,1.27,1,0,0]
["VM-24ITA20C24228","AUGMENTEUR CONIQUE 24/28 #",null,0,0,null,null,null,0,1,"CH","Material","Manufactured","IN10V","C","Actual","Average",0,0,10,1,"LB",0,0,0,0,0,0,0,0,0,null,0,1,"IND",0,0,0,0,"   ",null,"Job","   ",1,"   ",null,null,0,0,0,0,0,0,0,null,0,"     ",0,"     ","     ",1,1,0,"No Time Fence",0,null,1,1,"    5,000.00",5,0,"        ","        ",null,0,null,0,null,"    ",null,"LOC","Active",null,null,null,1,"A102",null,0,0,0,0,null,"   ","   ",0,0,"   ",null,null,null,null,null,null,null,0,0,0,0,0,0,0,"Never",null,0,null,null,null,null,1,"7326.90.85.87",null,null,null,null,0,null,0,0,null,"0 - None",1,0.25,1,0,0]
["VM-24RS000C241","COUPE-FEU RADIANT",null,0,0,null,null,null,0,1,"CH","Material","Manufactured","IN10V","C","Actual","Average",0,0,10,8.25,"LB",0,0,0,0,0,0,0,0,0,null,0,1,"IND",0,0,0,0,"   ",null,"Job","   ",1,"   ",null,null,0,0,0,0,0,0,0,null,0,"     ",0,"     ","     ",1,1,0,"No Time Fence",0,null,1,1,"    5,000.00",5,0,"        ","        ",null,0,null,0,null,"    ",null,"LOC","Active",null,null,null,1,"A102",null,0,0,0,0,null,"   ","   ",0,0,"   ",null,null,null,null,null,null,null,0,0,0,0,"        ",0,0,"Never",null,0,null,null,null,null,1,"7326.90.85.87",null,null,null,null,0,null,0,0,null,null,1,1.27,1,0,0]
["VM-24SR000A201","SUPPORT DE TOIT",null,0,0,null,null,null,0,1,"CH","Material","Manufactured","IN10V","C","Actual","Average",0,0,10,8.1,"LB",0,0,0,0,0,0,0,0,0,null,0,1,"IND",0,0,0,0,"   ",null,"Job","   ",1,"   ",null,null,0,0,0,0,0,0,0,null,0,"     ",0,"     ","     ",1,1,0,"No Time Fence",0,null,1,1,"    5,000.00",5,0,"        ","        ",null,0,null,0,null,"    ",null,"LOC","Active",null,null,null,1,"A102",null,0,0,0,0,null,"   ","   ",0,0,"   ",null,null,null,null,null,null,null,0,0,0,0,"        ",0,0,"Never",null,0,null,null,null,null,1,"7326.90.85.87",null,null,null,null,0,null,0,0,null,null,1,0.45,1,0,0]
["VM-26ECB20B201","CÔNE DE SORTIE #",null,0,0,null,null,null,0,1,"CH","Material","Manufactured","IN10V","C","Actual","Average",0,0,10,1.5,"LB",0,0,0,0,0,0,0,0,0,null,0,1,"IND",0,0,0,0,"   ",null,"Job","   ",1,"   ",null,null,0,0,0,0,0,0,0,null,0,"     ",0,"     ","     ",1,1,0,"No Time Fence",0,null,1,1,5,5,0,"        ","        ",null,0,null,0,null,"    ",null,"LOC","Active",null,null,null,1,"A102",null,0,0,0,0,null,"   ","   ",0,0,"   ",null,null,null,null,null,null,null,0,0,0,0,"        ",0,0,"Never",null,0,null,null,null,null,1,"7326.90.85.87",null,null,null,null,0,null,0,0,null,null,1,0.34,1,0,0]
["VM-26SIA20A24132","AUGMENTEUR 26/32 #",null,0,0,null,null,null,0,1,"CH","Material","Manufactured","IN10V","C","Actual","Average",0,0,10,12.7,"LB",0,0,0,0,0,0,0,0,0,null,0,1,"IND",0,0,0,0,"   ",null,"Job","   ",1,"   ",null,null,0,0,0,0,0,0,0,null,0,"     ",0,"     ","     ",1,1,0,"No Time Fence",0,null,1,1,"    5,000.00",5,0,"        ","        ",null,0,null,0,null,"    ",null,"LOC","Active",null,null,null,1,"A102",null,0,0,0,0,null,"   ","   ",0,0,"   ",null,null,null,null,null,null,null,0,0,0,0,"        ",0,0,"Never",null,0,null,null,null,null,1,"7307.29.00.90",null,null,null,null,0,null,0,0,null,null,1,5.45,1,0,0]
["VM-28AFB24B241","PLAQUE D'ANCRAGE FEMELLE #",null,0,0,null,null,null,0,1,"CH","Material","Manufactured","IN10V","C","Actual","Average",0,0,1,0,null,0,0,0,0,0,0,0,0,0,null,0,1,"IND",0,0,0,0,"   ",null,"Job","   ",1,"   ",null,null,0,0,0,0,0,0,0,null,0,"     ",0,"     ","     ",1,1,0,"No Time Fence",0,null,0,0,0,1,0,"        ","        ",null,0,null,0,null,"    ",null,"LOT","Active",null,null,null,1,"A102",null,0,0,0,0,null,"   ","   ",0,0,"   ",null,null,null,null,null,null,null,0,0,0,0,"        ",0,0,"Never",null,0,null,null,null,null,1,"7326.90.85.87",null,null,null,null,0,null,0,0,null,null,1,0,1,0,0]
["VM-28ITA24A24132","AUGMENTEUR CONIQUE 28/32#",null,0,0,"08-06-2010 MT",null,null,0,1,"CH","Material","Manufactured","IN10V","C","Actual","Average",0,0,10,102,"LB",0,0,0,0,0,0,0,0,0,null,0,1,"IND",0,0,0,0,"   ",null,"Job","   ",1,"   ",null,null,0,0,0,0,0,0,0,null,0,"     ",0,"     ","     ",1,1,0,"No Time Fence",0,null,1,1,"    5,000.00",5,0,"        ","        ",null,0,null,0,null,"    ",null,"LOC","Active",null,null,null,1,"A102",null,0,0,0,0,null,"   ","   ",0,0,"   ",null,null,null,null,null,null,null,0,0,0,0,0,0,0,"Never",null,0,null,null,null,null,1,"7306.40.50.15",null,null,null,null,0,null,0,0,null,"0 - None",1,5.7,1,0,0]
["VM-30APA20A201","PLAQUE D'ANCRAGE, CARRÉE",null,0,0,null,null,null,0,1,"CH","Material","Manufactured","IN10V","C","Actual","Average",94.33,90.281630000000007,10,11.7,"LB",0,0,0,0,0,0,0,0,0,null,0,1,"IND",0,0,0,1,"   ",null,"Job","   ",1,"   ",null,null,0,0,0,0,0,0,0,null,0,"     ",0,"     ","     ",1,1,0,"No Time Fence",0,null,1,1,"    5,000.00",5,0,"        ","        ",null,0,null,0,null,"    ",null,"LOC","Active",null,null,null,1,"A102",null,0,0,0,0,null,"   ","   ",0,0,"   ",null,null,null,null,null,null,null,0,0,0,0,"        ",0,0,"Never",null,0,null,null,null,null,1,"7326.90.85.87",null,null,null,null,0,null,0,0,null,null,1,0.98,1,94.33,90.281630000000007]
["VM-30ITA20C22136","AUGMENTEUR CONIQUE 30/36 #",null,0,0,null,null,null,0,1,"CH","Material","Manufactured","IN10V","C","Actual","Average",0,0,10,20,"LB",0,0,0,0,0,0,0,0,0,null,0,1,"IND",0,0,0,0,"   ",null,"Job","   ",1,"   ",null,null,0,0,0,0,0,0,0,null,0,"     ",0,"     ","     ",1,1,0,"No Time Fence",0,null,1,1,"    5,000.00",5,0,"        ","        ",null,0,null,0,null,"    ",null,"LOC","Active",null,null,null,1,"A102",null,0,0,0,0,null,"   ","   ",0,0,"   ",null,null,null,null,null,null,null,0,0,0,0,"        ",0,0,"Never",null,0,null,null,null,null,1,"7326.90.85.87",null,null,null,null,0,null,0,0,null,null,1,4,1,0,0]
["VM-32APB20A201","PLAQUE D'ANCRAGE, CARRÉE",null,0,0,null,null,null,0,1,"CH","Material","Manufactured","IN10V","C","Actual","Average",0,0,10,8.5,"LB",0,0,0,0,0,0,0,0,0,null,0,1,"IND",0,0,0,0,"   ",null,"Job","   ",1,"   ",null,null,0,0,0,0,0,0,0,null,0,"     ",0,"     ","     ",1,1,0,"No Time Fence",0,null,1,1,"    5,000.00",5,0,"        ","        ",null,0,null,0,null,"    ",null,"LOC","Active",null,null,null,1,"A102",null,0,0,0,0,null,"   ","   ",0,0,"   ",null,null,null,null,null,null,null,0,0,0,0,"        ",0,0,"Never",null,0,null,null,null,null,1,"7326.90.85.87",null,null,null,null,0,null,0,0,null,null,1,0.62,1,0,0]
["VM-32ITA20A20236","AUGMENTEUR CONIQUE 32/36#",null,0,0,"verif.comp. 20-12-05 LM",null,null,0,1,"CH","Material","Manufactured","IN10V","C","Actual","Average",0,0,10,4.5,"LB",0,0,0,0,0,0,0,0,0,null,0,1,"IND",0,0,0,0,"   ",null,"Job","   ",1,"   ",null,null,0,0,0,0,0,0,0,null,0,"     ",0,"     ","     ",1,1,0,"No Time Fence",0,null,1,1,"    5,000.00",5,0,"        ","        ",null,0,null,0,null,"    ",null,"LOC","Active",null,null,null,1,"A102",null,0,0,0,0,null,"   ","   ",0,0,"   ",null,null,null,null,null,null,null,0,0,0,0,0,0,0,"Never",null,0,null,null,null,null,1,"7326.90.85.87",null,null,null,null,0,null,0,0,null,"0 - None",1,0.94,1,0,0]
["VM-34WS000A201-01","SUPPORT MURAL (S.S) TROUS 3/4\"",null,0,0,null,null,null,0,1,"CH","Material","Manufactured","IN10V","C","Actual","Average",0,0,10,3.1,"LB",0,0,0,0,0,0,0,0,0,null,0,1,"IND",0,0,0,0,"   ",null,"Job","   ",1,"   ",null,null,0,0,0,0,0,0,0,null,0,"     ",0,"     ","     ",1,1,0,"No Time Fence",0,null,1,1,"    5,000.00",5,0,"        ","        ",null,0,null,0,null,"    ",null,"LOC","Active",null,null,null,1,"A102",null,0,0,0,0,null,"   ","   ",0,0,"   ",null,null,null,null,null,null,null,0,0,0,0,0,0,0,"Never",null,0,null,null,null,null,1,"7326.90.85.87",null,null,null,null,0,null,0,0,null,"0 - None",1,1,1,0,0]
["VM-36EXA24A241","PROLONGEMENT DE CONDUIT#",null,0,0,null,null,null,0,1,"CH","Material","Manufactured","IN10V","C","Actual","Average",0,0,10,102,"LB",0,0,0,0,0,0,0,0,0,null,0,1,"IND",0,0,0,0,"   ",null,"Job","   ",1,"   ",null,null,0,0,0,0,0,0,0,null,0,"     ",0,"     ","     ",1,1,0,"No Time Fence",0,null,1,1,"    5,000.00",5,0,"        ","        ",null,0,null,0,null,"    ",null,"LOC","Active",null,null,null,1,"A102",null,0,0,0,0,null,"   ","   ",0,0,"   ",null,null,null,null,null,null,null,0,0,0,0,0,0,0,"Never",null,0,null,null,null,null,1,"7306.40.50.15",null,null,null,null,0,null,0,0,null,"0 - None",1,1.6,1,0,0]
["VM-38RS000C221","COUPE-FEU RADIANT",null,0,0,null,null,null,0,1,"CH","Material","Manufactured","IN10V","C","Actual","Average",0,0,1,0,null,0,0,0,0,0,0,0,0,0,null,0,1,"IND",0,0,0,0,"   ",null,"Job","   ",1,"   ",null,null,0,0,0,0,0,0,0,null,0,"     ",0,"     ","     ",1,1,0,"No Time Fence",0,null,0,0,0,1,0,"        ","        ",null,0,null,0,null,"    ",null,"LOT","Active",null,null,null,1,"A102",null,0,0,0,0,null,"   ","   ",0,0,"   ",null,null,null,null,null,null,null,0,0,0,0,"        ",0,0,"Never",null,0,null,null,null,null,1,"7326.90.85.87",null,null,null,null,0,null,0,0,null,null,1,0,1,0,0]
["VM-38SIA20A20446","AUGMENTEUR 38/46 #",null,0,0,null,null,null,0,1,"CH","Material","Manufactured","IN10V","C","Actual","Average",0,0,10,3.3,"LB",0,0,0,0,0,0,0,0,0,null,0,1,"IND",0,0,0,0,"   ",null,"Job","   ",1,"   ",null,null,0,0,0,0,0,0,0,null,0,"     ",0,"     ","     ",1,1,0,"No Time Fence",0,null,1,1,"    5,000.00",5,0,"        ","        ",null,0,null,0,null,"    ",null,"LOC","Active",null,null,null,1,"A102",null,0,0,0,0,null,"   ","   ",0,0,"   ",null,null,null,null,null,null,null,0,0,0,0,0,0,0,"Never",null,0,null,null,null,null,1,"7326.90.85.87",null,null,null,null,0,null,0,0,null,"0 - None",1,1.17,1,0,0]
["VM-42HB000C111","BRIDE HORIZONTALE",null,0,0,null,null,null,0,1,"CH","Material","Manufactured","IN10V","C","Actual","Average",0,0,10,28,"LB",0,0,0,0,0,0,0,0,0,null,0,1,"IND",0,0,0,0,"   ",null,"Job","   ",1,"   ",null,null,0,0,0,0,0,0,0,null,0,"     ",0,"     ","     ",1,1,0,"No Time Fence",0,null,1,1,"    5,000.00",5,0,"        ","        ",null,0,null,0,null,"    ",null,"LOC","Active",null,null,null,1,"A102",null,0,0,0,0,null,"   ","   ",0,0,"   ",null,null,null,null,null,null,null,0,0,0,0,"        ",0,0,"Never",null,0,null,null,null,null,1,"7326.90.85.87",null,null,null,null,0,null,0,0,null,null,1,2.4,1,0,0]
["VM-46SC000C221","COLLET DE SOLIN",null,0,0,null,null,null,0,1,"CH","Material","Manufactured","IN10V","C","Actual","Average",0,0,10,5.5,"LB",0,0,0,0,0,0,0,0,0,null,0,1,"IND",0,0,0,0,"   ",null,"Job","   ",1,"   ",null,null,0,0,0,0,0,0,0,null,0,"     ",0,"     ","     ",1,1,0,"No Time Fence",0,null,1,1,"    5,000.00",5,0,"        ","        ",null,0,null,0,null,"    ",null,"LOC","Active",null,null,null,1,"A102",null,0,0,0,0,null,"   ","   ",0,0,"   ",null,null,null,null,null,null,null,0,0,0,0,0,0,0,"Never",null,0,null,null,null,null,1,"7326.90.85.87",null,null,null,null,0,null,0,0,null,"0 - None",1,1.6,1,0,0]
["VM-48RC000A201","CHAPEAU RÉGULIER #",null,0,0,null,null,null,0,1,"CH","Material","Manufactured","IN10V","C","Actual","Average",0,0,10,8.25,"LB",0,0,0,0,0,0,0,0,0,null,0,1,"IND",0,0,0,1,"   ",null,"Job","   ",1,"   ",null,null,0,0,0,0,0,0,0,null,0,"     ",0,"     ","     ",1,1,0,"No Time Fence",0,null,1,1,"    5,000.00",5,0,"        ","        ",null,0,null,0,null,"    ",null,"LOC","Active",null,null,null,1,"A102",null,0,0,0,0,null,"   ","   ",0,0,"   ",null,null,null,null,null,null,null,0,0,0,0,0,0,0,"Never",null,0,null,null,null,null,1,"7326.90.85.87",null,null,null,null,0,null,0,0,null,"0 - None",1,1.27,1,0,0]
["VM-GN6/8-2","PRODUIT VIP - PETIT DIAMÈTRE",null,0,0,null,null,null,0,1,"CH","Material","Manufactured","IN10V","C","Actual","Average",0,0,10,4.5999999999999996,"LB",0,0,0,0,0,0,0,0,0,null,0,1,"IND",0,0,0,0,"   ",null,"Job","   ",1,"   ",null,null,0,0,0,0,0,0,0,null,0,"     ",0,"     ","     ",1,1,0,"No Time Fence",0,null,1,1,"    5,000.00",5,0,"        ","        ",null,0,null,0,null,"    ",null,"LOC","Active",null,null,null,1,"A102",null,0,0,0,0,null,"   ","   ",0,0,"   ",null,null,null,null,null,null,null,0,0,0,0,0,0,0,"Never",null,0,null,null,null,null,1,"7326.90.85.87",null,null,null,null,0,null,0,0,null,"0 - None",1,2,1,0,0]
["VS-06APA24A2414-G4","PLAQUE D'ANCRAGE 6/4, GÉNÉRATRICE"]
["VS-06APB20B202-NS","PLAQUE D'ANCRAGE SANS COLLET #"]
["VS-06EXB20B202-NC","PROLONGEMENT DE CONDUIT, SANS CRÊPAGE#"]
["VS-08AFA20A204-06","PLAQUE D'ANCRAGE FEMELLE RONDE SANS TROU"]
["VS-08APA24A2417-1","PLAQUE D'ANCRAGE 8/7"]
["VS-08EXA24A24104","PROLONGEMENT DE CONDUIT,  8/4"]
["VS-08L1A20C241-SP","12\" LONGUEUR  PRISE D'ÉCHANTILLON 1/2\""]
["VS-08L6B20A262-SP","6\" LONGUEUR  PRISE D'ÉCHANTILLON 1/2\""]
["VS-10APA20A201-G10","PLAQUE D'ANCRAGE G10 #"]
["VS-10EXA24A2419-NC","PROLONGEMENT DE CONDUIT, SANS CRÊPAGE"]
["VS-10EXB24B2418","PROLONGEMENT DE CONDUIT  10''/8'' #"]
["VS-12APA20A201-NS","PLAQUE D'ANCRAGE SANS COLLET #"]
["VS-12APB20B204-NS","PLAQUE D'ANCRAGE SANS COLLET #"]
["VS-12EXA24A244-NC","PROLONGEMENT DE CONDUIT, SANS CRÊPAGE"]
["VS-12L1A20A241-SP1","12\" LONGUEUR P D'ÉCHANTILLON-  1/2\""]
["VS-12TYB20A24106-D","TÉ 45° MANIFOLD 12/6  AVEC DRAIN"]
["VS-14BSA26A261-1","SUPPORT DE BASE SPC POUR CABLES D'ACIER#"]
["VS-14EXB20B201-NC","PROLONGEMENT DE CONDUIT, SANS CRÊPAGE #"]
["VS-14SIA20C24216-02","AUGMENTEUR 14/16 SPC.2"]
["VS-16EXA20A201-F01","PROLONGEMENT DE CONDUIT FEMELLE SPÉCIAL"]
["VS-16EXB24B241","PROLONGEMENT DE CONDUIT"]
["VS-16L2A20A241-SP","24\" LONGUEUR P D'ÉCHANTILLON-  3/4\" H  #"]
["VS-18EXA20A202-F","PROLONGEMENT DE CONDUIT, FEMELLE#"]
["VS-18EXB24B242-16","PROLONGEMENT DE CONDUIT 18/16"]
["VS-18TYB20A204-i","TÉ 45° . SPC.= INVERSÉ#"]
["VS-20GB000A201-SB","BRIDE D'HAUBANAGE SPC. (SPIDER BAND) #"]
["VS-20TDA24A241-3/4","COUVERCLE DE TÉ, DRAIN 3/4\" (OBSOLETE)"]
["VS-22APA20A204-NS","PLAQUE D'ANCRAGE SANS COLLET #"]
["VS-24APA20A202-LS","PLAQUE D'ANCRAGE LIFE SCIENCE"]
["VS-24L1B20A201-SP","12\" LONGUEUR  PRISE D'ÉCHANTILLON 1/2 #"]
["VS-24L6B20B241-SP","6\" LONGUEUR P D'ÉCHANTILLON-  3/4\" H"]
["VS-26EXA20A201-NC","PROL. DE CONDUIT, SANS CRÊPAGE#"]
["VS-30E2A20C221-SP","COUDE 22.5° TEST PORT #"]
["VS-32AFA20A202-SP","PLAQUE D'ANCRAGE FEMELLE  SS 304  RONDE#"]
["VS-32L1A20C221-SP","12\" LONGUEUR POUR PRISE D'ÉCHANTILLON #"]
["VS-34APB20B202-DB","PLAQUE D'ANCRAGE CARRÉE POUR DRAIN #"]
["VS-34BSB20B201-P","PLAQUE SUPPORT DE BASE (S.S) #"]
["VS-34EXA20A201-F","PROLON. DE CONDUIT FEMELLE #"]
["VS-34EXA20A201-NC","PROLONGEMENT DE CONDUIT SANS CREPAGE #"]
["VS-34EXB20B201-NC","PROLONGEMENT DE CONDUIT S.C. #"]
["VS-34L1A20A201-SP","12\" LONGUEUR - PORT D'ECHANTILLON #"]
["VS-34L1A20B201-SP","12\" LONGUEUR  PRISE D'ÉCHANTILLON #"]
["VS-34L1A20C221-SP","12\" LONGUEUR - PORT D'ECHETILON #"]
["VS-34L1B20A201-SP","12\" LONGUEUR  PRISE D'ÉCHANTILLON #"]
["VS-34L2B20A201-SP","24\" LONGUEUR POUR PRISE D'ÉCHANTILLON #"]
["VS-34REB20A20422","RÉDUCTEUR 34/22 #"]
["VS-34SIB20A20413-S","AUGMENTEUR 34/13 SPÉCIAL #"]
["VS-36AFB20B202-05","PLAQUE D'ANCRAGE FEMELLE RONDE #"]
["VS-36APA20A201-05","PLAQUE D'ANCRAGE, RONDE #"]
["VS-36APA20A201-DB","PLAQUE D'ANCRAGE CARRÉE POUR DRAIN #"]
["VS-36APA20A202-05","PLAQUE D'ANCRAGE, RONDE SPC."]
["VS-36APB20B201-05","PLAQUE D'ANCRAGE, RONDE"]
["VS-36APB20B202-05","PLAQUE D'ANCRAGE, RONDE #"]
["VS-36BSA20A201-P","PLAQUE SUPPORT DE BASE (S.S) #"]
["VS-36EXA20A201-FNC","PROLONGEMENT DE CONDUIT #"]
["VS-36EXA20A201-NC","PROLONGEMENT DE CONDUIT #"]
["VS-36EXB20B201-F","PROLONGEMENT DE CONDUIT - FEMELLE"]
["VS-36EXB20B202-F","PROLONGEMENT DE CONDUIT FEMELLE#"]
["VS-36GB000A201-SP4","BRIDE D'HAUBANAGE SPC. (0.035\")- 4\"H#"]
["VS-36L1A20A201-SP","12\" LONGUEUR - PORT D'ECHANTILLON #"]
["VS-36RC000A202-C","CHAPEAU RÉGULIER + CONE INV."]
["VS-38APA20A201-DB","PLAQUE D'ANCRAGE CARRÉE POUR DRAIN #"]
["VS-38APA20A202-DB","PLAQUE D'ANCRAGE CARRÉE POUR DRAIN #"]
["VS-38BSA20A201-1","SUPPORT DE BASE SPC POUR CABLES D'ACIER"]
["VS-38EXA20A201-FNC","PROL. DE CONDUIT, FEMELLE SANS CRÊPAGE"]
["VS-38EXA20A202-F","PROLONGEMENT DE CONDUIT FEMELLE"]
["VS-38EXA20A202-NC","PROLONGEMENT DE CONDUIT S.C."]
["VS-38SIA20C2249-S","AUGMENTEUR 38/9 SPÉCIAL"]
["VS-38TRA20A202-01","TÉ RÉGULIER SPC. F+F+M"]
["VS-40AFA20A201-03","PLAQUE D'ANCRAGE FEM. CARRÉ SANS TROUS"]
["VS-40APA20A201-05","PLAQUE D'ANCRAGE  ROUND #"]
["VS-40APB20B201-DB","PLAQUE D'ANCRAGE POUR DRAIN DE BASE #"]
["VS-40EXA20A201-F","PROLONGEMENT DE CONDUIT FEMELLE #"]
["VS-40EXB20B201-F","PROLONGEMENT DE CONDUIT FEMELLE #"]
["VS-42APA20A202-DB","PLAQUE D'ANCRAGE POUR DRAIN DE BASE #"]
["VS-42APB20B201-AC","PLAQUE D'ANCRAGE SPÉCIAL POUR  AUTRE CH#"]
["VS-42APB24B241-AC","PLAQUE D'ANCRAGE SPÉCIAL POUR  AUTRE CH#"]
["VS-42EXA20A201-NC","PROLONGEMENT DE CONDUIT SANS CREPAGE #"]
["VS-42EXB20B202-NC","PROLONGEMENT DE CONDUIT SANS CREPAGE #"]
["VS-42L2A20C221-SP","24\" LONGUEUR  PRISE D'ÉCHANTILLON  1/2\"#"]
["VS-42RC000B201-SC","CHAPEAU PARE-ÉTINCELLES#"]
["VS-42REA20A20238","RÉDUCTEUR 42/38 #"]
["VS-42REA20A20438","RÉDUCTEUR 42/38 #"]
["VS-42TRA20C22218","TÉ RÉGULIER 42/18 #"]
["VS-44APA20A202-TAF","PLAQUE D'ANCRAGE TAFISA"]
["VS-44EXA20A201-F","PROLONGEMENT DE CONDUIT FEMELLE #"]
["VS-44EXA20A201-NC","PROLONGEMENT DE CONDUIT SANS CREPAGE #"]
["VS-44L2A20A202-SP1","24\" LONG. PRISE ÉCHANT. 2X6\" +4\" DÉCAL."]
["VS-44L2A20A202-SP2","24\" LONG. PRISE ÉCHANTILLON 2X4\""]
["VS-46APB20B201-DB","PLAQUE D'ANCRAGE POUR DRAIN DE BASE #"]
["VS-46EXA20A201-NC","PROLONGEMENT DE CONDUIT (S.C.)#"]
["VS-46EXB20B201-NC","PROLONGEMENT DE CONDUIT (S.C.)#"]
["VS-46FF000C221-TAF","SOLIN PLAT TAFISA BASE 79.5\" CARRÉ"]
["VS-46REA20C22438","RÉDUCTEUR 46/38"]
["VS-48BS000C221-P","PLAQUE SUPPORT DE BASE#"]
["VS-48EXA20A201-NC","PROLONGEMENT DE CONDUIT (S.C.)#"]
["VS-48EXA20A202-NC","PROLONGEMENT DE CONDUIT (S.C.)#"]

{"sheet":"Page 1","index":1,"n_rows":63,"n_cols":14,"rows_kept":63,"cut":false,"hidden":false,"merged":[[0,0,4,4],[60,7,60,8],[64,7,64,8],[64,11,64,13],[65,7,65,8],[65,11,65,13],[66,7,66,8],[66,11,66,13],[67,7,67,8],[67,11,67,13],[62,7,62,8],[61,7,61,13],[34,7,34,12],[35,7,42,8],[5,0,5,1],[5,2,5,5],[6,0,6,1],[6,2,6,5],[43,4,43,6],[35,4,35,6],[36,4,36,6],[37,4,37,6],[38,4,38,6],[40,4,40,6],[9,0,9,1],[9,2,9,5],[8,0,8,1],[33,7,33,8],[27,1,29,2],[23,0,25,0],[27,0,29,0],[21,7,21,9],[22,0,22,13],[23,5,23,6],[23,12,25,12],[26,0,26,13],[33,11,33,13],[18,0,21,0],[18,1,21,2],[23,13,25,13],[27,12,29,12],[27,13,29,13],[19,8,19,9],[20,8,20,9],[23,1,25,2],[8,2,8,5],[17,0,17,2],[17,3,17,4],[17,5,17,6],[12,0,15,4],[17,7,17,9],[17,10,17,11],[50,11,50,13],[46,11,46,13],[46,0,49,1],[49,4,49,6],[47,4,47,6],[48,4,48,6],[46,4,46,6],[47,11,47,13],[50,0,50,6],[33,4,33,6],[48,11,48,13],[49,11,49,13],[43,7,43,13],[44,11,44,13],[35,0,44,1],[17,12,17,13],[18,8,18,9],[44,4,44,6],[45,0,45,6],[45,11,45,13],[60,11,60,13],[56,11,56,12],[62,0,62,6],[62,11,62,13],[63,7,63,8],[63,11,63,13],[57,11,57,12],[51,0,51,1],[51,4,51,6],[53,11,53,13],[54,11,54,13],[52,11,52,13],[51,11,51,13],[45,7,54,8],[59,11,59,13],[58,11,58,13],[55,7,55,12],[6,7,7,8],[63,0,63,6],[64,0,64,6],[66,0,66,6],[67,0,67,6],[68,0,68,6],[65,0,65,6],[58,0,61,1],[53,0,53,1],[53,4,53,6],[55,0,56,1],[54,4,54,6],[55,4,55,6],[56,4,56,6],[57,0,57,5],[52,4,52,6],[41,4,41,6],[42,4,42,6],[34,0,34,6],[7,0,7,1],[7,2,7,5],[33,0,33,1],[39,4,39,6],[56,7,57,8]]}
["VIP"]
[]
[null,null,null,null,null,null,null,"COMMERCIAL CHIMNEY"]
[null,null,null,null,null,null,null,"QUOTATION REQUEST"]
[null,null,null,null,null,null,null,"Revised: November 7, 2015"]
["Name:"]
["Date:",null,null,null,null,null,null,"Page 1"]
["Job:"]
["ZIP Code:",null,null,null,null,null,"(ZIP FOR FREIGHT QUOTE)",null,null,null,null,"Phone: ","(450) 565-6336"]
["Page:",null,null,null,null,null,null,null,null,null,null,"FAX: ","(450) 565-6519"]
[null,null,null,null,null,"email:","industrial@icc-rsf.com"]
[]
["When using Excel: Type an \"X\" in the approprIate shaded cell.",null,null,null,null,null,"SS 304 / SS 304 STD",null,null,null,null,"SS 316 / SS 316 STD"]
[null,null,null,null,null,null,"SS 304 / SS 304",null,null,null,null,"SS 316 / SS 316"]
[null,null,null,null,null,null,"SS 304 / GAL. STD",null,null,null,null,"SS 316 / SS 304 STD"]
[null,null,null,null,null,null,"SS 304 / GAL.",null,null,null,null,"SS 316 / SS 304"]
[]
["MODEL",null,null,"INTERIOR",null,"GAUGE",null,"EXTERIOR",null,null,"GAUGE",null,"INSULATION"]
[{"$f":"IF(F13<>\"\",\"X\",IF(F14<>\"\",\"X\",IF(F15<>\"\",\"X\",IF(F16<>\"\",\"X\",IF(K13<>\"\",\"X\",IF(K14<>\"\",\"X\",IF(K15<>\"\",\"X\",IF(K16<>\"\",\"X\",\"\"))))))))","v":""},"VIP",null,{"$f":"IF(F13<>\"\",\"X\",IF(F14<>\"\",\"X\",IF(F15<>\"\",\"X\",IF(F16<>\"\",\"X\",\"\"))))","v":""},"A = SS 304",null,"26 = 0.018\"",{"$f":"IF(F13<>\"\",\"X\",IF(F14<>\"\",\"X\",IF(K15<>\"\",\"X\",IF(K16<>\"\",\"X\",\"\"))))","v":""},"A = SS 304",null,null,"26 = 0.018\"",null,"1\" "]
[null,null,null,{"$f":"IF(K13<>\"\",\"X\",IF(K14<>\"\",\"X\",IF(K15<>\"\",\"X\",IF(K16<>\"\",\"X\",\"\"))))","v":""},"B= SS 316",null,"24= 0.025\"",{"$f":"IF(K13<>\"\",\"X\",IF(K14<>\"\",\"X\",\"\"))","v":""},"B= SS 316",null,null,"24= 0.025\"",null,"2\""]
[null,null,null,null,null,null,"20= 0.035\"",{"$f":"IF(F15<>\"\",\"X\",IF(F16<>\"\",\"X\",\"\"))","v":""},{"$f":"IF(D20=\"\",\"C= GALVALUME\",\"\")","v":"C= GALVALUME"},null,null,"20= 0.035\"",null,"4\""]
[null,null,null,null,null,{"$f":"IF(F13<>\"\",\"X\",IF(F15<>\"\",\"X\",IF(K13<>\"\",\"X\",IF(K15<>\"\",\"X\",\"\"))))","v":""},"Standard",null,null,null,{"$f":"IF(F13<>\"\",\"X\",IF(F15<>\"\",\"X\",IF(K13<>\"\",\"X\",IF(K15<>\"\",\"X\",\"\"))))","v":""},"Standard"]
[]
[null,"IS",null,null,"A = SS 304","Standard",null,null,"A = SS 304",null,"Standard",null,null,"1\" "]
[]
[null,null,null,null,null,null,null,null,"C= GALVALUME",null,"Standard"]
[]
[null,"LINER",null,null,"A = SS 304",null,"20= 0.035\""]
[null,null,null,null,"B = SS 316",null,"Standard"]
[]
[]
["When using Excel: Type interior diameter (INT. Ø) and quantities in the approprIate shaded cells."]
[]
["INT. Ø",null,"QTY","CODE","DESCRIPTION",null,null,"INT. Ø",null,"QTY","CODE","DESCRIPTION"]
["CHIMNEY LENGTH",null,null,null,null,null,null,"SUPPORT",null,null,null,null,null,"SS 304"]
[null,null,null,{"$f":"IF(A36=\"\",\"L4\",IF(A36=\"38\",\"\",IF(A36=\"40\",\"\",IF(A36=\"42\",\"\",IF(A36=\"44\",\"\",IF(A36=\"46\",\"\",IF(A36=\"48\",\"\",\"L4\")))))))","v":"L4"},"48\" Length",null,null,{"$f":"IF(A36<>0,A36,\"\")","v":""},null,null,"BS","Base Support"]
[null,null,null,"L2","24\" Length",null,null,null,null,null,"SR","Roof Support"]
[null,null,null,"A2","Adjust. Length 2' (VIP & IS ONLY)",null,null,null,null,null,"GB","Guy Band"]
[null,null,null,"L1","12\" Length",null,null,null,null,null,"RB","Roof Brace"]
[null,null,null,"L1","12\" Length - WITH SAMPLING PORT",null,null,null,null,null,"WS","Wall Support"]
[null,null,null,"A1","Adjustable Length 1'",null,null,null,null,null,"WB","Wall Band"]
[null,null,null,"L6","6\" Length",null,null,null,null,null,"HB","Horizontal Band"]
[null,null,null,"D1","12\" Drain Length",null,null,null,null,null,"OS","Offset Support"]
[null,null,null,"D2","24\" Drain Length",null,null,"RAIN CAP and ADAPTORS"]
[null,null,null,"DB","Length Drain Base",null,null,{"$f":"IF(A36<>0,A36,\"\")","v":""},null,null,"AP","Anchor Plate - Generator"]
["ELBOW",null,null,null,null,null,null,{"$f":"IF(A36<>0,A36,\"\")","v":""},null,null,"AP","Male Anchor Plate (std: round)"]
[{"$f":"IF(A36<>0,A36,\"\")","v":""},null,null,{"$f":"IF(A47=\"\",\"E4\",IF(A47=\"24\",\"\",IF(A47=\"26\",\"\",IF(A47=\"28\",\"\",IF(A47=\"30\",\"\",IF(A47=\"32\",\"\",IF(A47=\"34\",\"\",IF(A47=\"36\",\"\",IF(A47=\"38\",\"\",IF(A47=\"40\",\"\",IF(A47=\"42\",\"\",IF(A47=\"44\",\"\",IF(A47=\"46\",\"\",IF(A47=\"48\",\"\",\"E4\"))))))))))))))","v":"E4"},"Elbow 45°",null,null,null,null,null,"AF","Female Anchor Plate (std: square)"]
[null,null,null,"E3","Elbow 30°",null,null,null,null,null,"EX","Flue Extention  - CRIMP"]
[null,null,null,"E2","Elbow 22.5°",null,null,null,null,null,"EX","Flue Extention  - NO CRIMP"]
[null,null,null,"E1","Elbow 15°",null,null,null,null,null,"EX","Flue Extention  - FEMALE (NC)"]
["TEE",null,null,null,null,null,null,null,null,null,"RC","Rain Cap"]
[{"$f":"IF(A36<>0,A36,\"\")","v":""},null,null,"TR","Tee 90° (Regular)",null,null,null,null,null,"CB","Rain Cap Base"]
[{"$f":"IF(A36<>0,A36,\"\")","v":""},null,null,"TR","Tee 90° (Manifold)",null,null,null,null,null,"EC","Exit Cone"]
[{"$f":"IF(A36<>0,A36,\"\")","v":""},null,null,"TY","Tee 45° (Regular)",null,null,null,null,null,"FT","Flip Top & Adapter"]
[{"$f":"IF(A36<>0,A36,\"\")","v":""},null,null,"TY","Tee 45° (Manifold)",null,null,null,null,null,"MC","Miter Cut Length"]
[{"$f":"IF(A36<>0,A36,\"\")","v":""},null,null,"TC","Tee Cap",null,null,"MISCELLANEOUS"]
[null,null,null,"TD","Tee Cap, Drain",null,null,{"$f":"IF(A36<>0,A36,\"\")","v":""},null,null,"RS","Radiation Shield"]
["FLASHING",null,null,null,null,null,"SS 304",null,null,null,"FS","Firestop"]
[{"$f":"IF(A36<>0,A36,\"\")","v":""},null,null,"FF","Flat flashing",null,null,{"$f":"IF(A36<>0,A36,\"\")","v":""},null,null,"IT","Taper Increaser"]
[null,null,null,"FA","Flashing 1/12-7/12",null,null,{"$f":"IF(A36<>0,A36,\"\")","v":""},null,null,"SI","Step Increaser"]
[null,null,null,"FB","Flashing 8/12-12/12",null,null,{"$f":"IF(A36<>0,A36,\"\")","v":""},null,null,"RV","Presurre Releif Valve"]
[null,null,null,"SC","Storm Collar",null,null,"Special Request"]
["Special Request"]

{"sheet":"LOP1","index":2,"n_rows":94,"n_cols":30,"rows_kept":94,"cut":false,"hidden":true,"merged":[[85,20,93,20],[91,21,91,23],[67,20,68,20],[69,20,70,20],[71,20,72,20],[79,20,84,20],[82,21,82,23],[83,21,84,23],[73,20,78,20],[76,21,76,23],[77,21,78,23],[65,20,66,20],[63,20,64,20],[52,21,52,23],[53,21,54,23],[59,21,60,23],[58,21,58,23],[61,20,62,20],[49,20,54,20],[55,20,60,20],[8,21,8,23],[2,20,10,20],[11,20,19,20],[17,21,17,23],[43,21,43,23],[29,20,37,20],[35,21,35,23],[20,20,28,20],[26,21,26,23],[40,20,48,20],[44,21,45,23],[47,21,48,23],[38,20,39,20],[46,21,46,23]]}
[]
[null,null,null,null,null,null,null,null,null,null,null,null,null,null,null,null,null,null,null,null,null,null,null,"Int. STD",null,"Ext. STD"]
[null,null,{"$f":"IF('Page 1'!$M$19<>\"\",'Page 1'!$A$59,IF('Page 1'!$M$20<>\"\",'Page 1'!$A$59+2,IF('Page 1'!$M$21<>\"\",'Page 1'!$A$59+6,\"\")))","v":""},null,null,null,null,null,null,null,null,null,null,null,null,null,null,null,null,null,"LENGTH","SS 304","STD",{"$f":"IF('Page 1'!A36=\"06\",26,IF('Page 1'!A36=\"08\",26,IF('Page 1'!A36=\"10\",26,IF('Page 1'!A36=\"12\",26,IF('Page 1'!A36=\"14\",26,IF('Page 1'!A36=\"16\",26,IF('Page 1'!A36=\"18\",24,IF('Page 1'!A36=\"20\",24,IF('Page 1'!A36=\"22\",24,IF('Page 1'!A36=\"24\",24,IF('Page 1'!A36=\"26\",24,IF('Page 1'!A36=\"28\",24,IF('Page 1'!A36=\"30\",20,IF('Page 1'!A36=\"32\",20,IF('Page 1'!A36=\"34\",20,IF('Page 1'!A36=\"36\",20,IF('Page 1'!A36=\"38\",20,IF('Page 1'!A36=\"40\",20,IF('Page 1'!A36=\"42\",20,IF('Page 1'!A36=\"44\",20,IF('Page 1'!A36=\"46\",20,IF('Page 1'!A36=\"48\",20,\"\"))))))))))))))))))))))","v":""},"STD",{"$f":"IF('Page 1'!A36=\"06\",26,IF('Page 1'!A36=\"08\",26,IF('Page 1'!A36=\"10\",26,IF('Page 1'!A36=\"12\",26,IF('Page 1'!A36=\"14\",26,IF('Page 1'!A36=\"16\",24,IF('Page 1'!A36=\"18\",24,IF('Page 1'!A36=\"20\",24,IF('Page 1'!A36=\"22\",24,IF('Page 1'!A36=\"24\",24,IF('Page 1'!A36=\"26\",24,IF('Page 1'!A36=\"28\",24,IF('Page 1'!A36=\"30\",20,IF('Page 1'!A36=\"32\",20,IF('Page 1'!A36=\"34\",20,IF('Page 1'!A36=\"36\",20,IF('Page 1'!A36=\"38\",20,IF('Page 1'!A36=\"40\",20,IF('Page 1'!A36=\"42\",20,IF('Page 1'!A36=\"44\",20,IF('Page 1'!A36=\"46\",20,IF('Page 1'!A36=\"48\",20,\"\"))))))))))))))))))))))","v":""},"1\"",null,{"$f":"IF('Page 1'!$H$19<>\"\",IF('Page 1'!$M$19<>\"\",IF('Page 1'!$K$22<>\"\",$Z$3,\"\"),IF('Page 1'!$H$19<>\"\",IF('Page 1'!$M$20<>\"\",IF('Page 1'!$K$22<>\"\",$Z$4,\"\"),IF('Page 1'!$H$19<>\"\",IF('Page 1'!$M$21<>\"\",IF('Page 1'!$K$22<>\"\",$Z$5,\"\"),\"\"))))),\"\")","v":""},"SI 1\" OU 2\" OU 4\""]
[null,null,{"$f":"IF('Page 1'!$M$20<>\"\",'Page 1'!$A$59+2,)","v":0},null,null,null,null,null,null,null,null,null,null,null,null,null,null,null,null,null,null,null,null,null,"STD",{"$f":"IF('Page 1'!A36=\"06\",26,IF('Page 1'!A36=\"08\",26,IF('Page 1'!A36=\"10\",26,IF('Page 1'!A36=\"12\",26,IF('Page 1'!A36=\"14\",24,IF('Page 1'!A36=\"16\",24,IF('Page 1'!A36=\"18\",24,IF('Page 1'!A36=\"20\",24,IF('Page 1'!A36=\"22\",24,IF('Page 1'!A36=\"24\",24,IF('Page 1'!A36=\"26\",24,IF('Page 1'!A36=\"28\",20,IF('Page 1'!A36=\"30\",20,IF('Page 1'!A36=\"32\",20,IF('Page 1'!A36=\"34\",20,IF('Page 1'!A36=\"36\",20,IF('Page 1'!A36=\"38\",20,IF('Page 1'!A36=\"40\",20,IF('Page 1'!A36=\"42\",20,IF('Page 1'!A36=\"44\",20,IF('Page 1'!A36=\"46\",20,IF('Page 1'!A36=\"48\",20,\"\"))))))))))))))))))))))","v":""},"2\""]
[null,null,{"$f":"IF(C4=8,\"08\",C3)","v":""},null,null,null,null,null,null,null,null,null,null,null,null,null,null,null,null,null,null,null,null,null,"STD",{"$f":"IF('Page 1'!A36=\"06\",26,IF('Page 1'!A36=\"08\",24,IF('Page 1'!A36=\"10\",24,IF('Page 1'!A36=\"12\",24,IF('Page 1'!A36=\"14\",24,IF('Page 1'!A36=\"16\",24,IF('Page 1'!A36=\"18\",24,IF('Page 1'!A36=\"20\",24,IF('Page 1'!A36=\"22\",20,IF('Page 1'!A36=\"24\",20,IF('Page 1'!A36=\"26\",20,IF('Page 1'!A36=\"28\",20,IF('Page 1'!A36=\"30\",20,IF('Page 1'!A36=\"32\",20,IF('Page 1'!A36=\"34\",20,IF('Page 1'!A36=\"36\",20,IF('Page 1'!A36=\"38\",20,IF('Page 1'!A36=\"40\",20,IF('Page 1'!A36=\"42\",20,IF('Page 1'!A36=\"44\",20,IF('Page 1'!A36=\"46\",20,IF('Page 1'!A36=\"48\",20,\"\"))))))))))))))))))))))","v":""},"4\""]
[null,null,null,null,null,null,null,null,null,null,null,null,null,null,null,null,null,null,null,null,null,"SS 316","STD",{"$f":"IF('Page 1'!A36=\"06\",24,IF('Page 1'!A36=\"08\",24,IF('Page 1'!A36=\"10\",24,IF('Page 1'!A36=\"12\",24,IF('Page 1'!A36=\"14\",24,IF('Page 1'!A36=\"16\",24,IF('Page 1'!A36=\"18\",24,IF('Page 1'!A36=\"20\",24,IF('Page 1'!A36=\"22\",24,IF('Page 1'!A36=\"24\",24,IF('Page 1'!A36=\"26\",24,IF('Page 1'!A36=\"28\",24,IF('Page 1'!A36=\"30\",20,IF('Page 1'!A36=\"32\",20,IF('Page 1'!A36=\"34\",20,IF('Page 1'!A36=\"36\",20,IF('Page 1'!A36=\"38\",20,IF('Page 1'!A36=\"40\",20,IF('Page 1'!A36=\"42\",20,IF('Page 1'!A36=\"44\",20,IF('Page 1'!A36=\"46\",20,IF('Page 1'!A36=\"48\",20,\"\"))))))))))))))))))))))","v":""},"STD",{"$f":"IF('Page 1'!A36=\"06\",24,IF('Page 1'!A36=\"08\",24,IF('Page 1'!A36=\"10\",24,IF('Page 1'!A36=\"12\",24,IF('Page 1'!A36=\"14\",24,IF('Page 1'!A36=\"16\",24,IF('Page 1'!A36=\"18\",24,IF('Page 1'!A36=\"20\",24,IF('Page 1'!A36=\"22\",24,IF('Page 1'!A36=\"24\",24,IF('Page 1'!A36=\"26\",24,IF('Page 1'!A36=\"28\",24,IF('Page 1'!A36=\"30\",20,IF('Page 1'!A36=\"32\",20,IF('Page 1'!A36=\"34\",20,IF('Page 1'!A36=\"36\",20,IF('Page 1'!A36=\"38\",20,IF('Page 1'!A36=\"40\",20,IF('Page 1'!A36=\"42\",20,IF('Page 1'!A36=\"44\",20,IF('Page 1'!A36=\"46\",20,IF('Page 1'!A36=\"48\",20,\"\"))))))))))))))))))))))","v":""},"1\"",null,{"$f":"IF('Page 1'!$H$20<>\"\",IF('Page 1'!$M$19<>\"\",IF('Page 1'!$K$22<>\"\",$Z$6,\"\"),IF('Page 1'!$H$20<>\"\",IF('Page 1'!$M$20<>\"\",IF('Page 1'!$K$22<>\"\",$Z$7,\"\"),IF('Page 1'!$H$20<>\"\",IF('Page 1'!$M$21<>\"\",IF('Page 1'!$K$22<>\"\",$Z$8,\"\"),\"\"))))),\"\")","v":""},"SI 1\" OU 2\" OU 4\""]
[null,null,null,null,null,null,null,null,null,null,null,null,null,null,null,null,null,null,null,null,null,null,null,null,"STD",{"$f":"IF('Page 1'!A36=\"06\",24,IF('Page 1'!A36=\"08\",24,IF('Page 1'!A36=\"10\",24,IF('Page 1'!A36=\"12\",24,IF('Page 1'!A36=\"14\",24,IF('Page 1'!A36=\"16\",24,IF('Page 1'!A36=\"18\",24,IF('Page 1'!A36=\"20\",24,IF('Page 1'!A36=\"22\",24,IF('Page 1'!A36=\"24\",24,IF('Page 1'!A36=\"26\",24,IF('Page 1'!A36=\"28\",20,IF('Page 1'!A36=\"30\",20,IF('Page 1'!A36=\"32\",20,IF('Page 1'!A36=\"34\",20,IF('Page 1'!A36=\"36\",20,IF('Page 1'!A36=\"38\",20,IF('Page 1'!A36=\"40\",20,IF('Page 1'!A36=\"42\",20,IF('Page 1'!A36=\"44\",20,IF('Page 1'!A36=\"46\",20,IF('Page 1'!A36=\"48\",20,\"\"))))))))))))))))))))))","v":""},"2\""]
[null,null,null,null,null,null,null,null,null,null,null,null,null,null,null,null,null,null,null,null,null,null,null,null,"STD",{"$f":"IF('Page 1'!A36=\"06\",24,IF('Page 1'!A36=\"08\",24,IF('Page 1'!A36=\"10\",24,IF('Page 1'!A36=\"12\",24,IF('Page 1'!A36=\"14\",24,IF('Page 1'!A36=\"16\",24,IF('Page 1'!A36=\"18\",24,IF('Page 1'!A36=\"20\",24,IF('Page 1'!A36=\"22\",20,IF('Page 1'!A36=\"24\",20,IF('Page 1'!A36=\"26\",20,IF('Page 1'!A36=\"28\",20,IF('Page 1'!A36=\"30\",20,IF('Page 1'!A36=\"32\",20,IF('Page 1'!A36=\"34\",20,IF('Page 1'!A36=\"36\",20,IF('Page 1'!A36=\"38\",20,IF('Page 1'!A36=\"40\",20,IF('Page 1'!A36=\"42\",20,IF('Page 1'!A36=\"44\",20,IF('Page 1'!A36=\"46\",20,IF('Page 1'!A36=\"48\",20,\"\"))))))))))))))))))))))","v":""},"4\""]
[null,null,null,null,null,null,null,null,null,null,null,null,null,null,null,null,null,null,null,null,null,"GALVALUME STD",null,null,"GAL",{"$f":"IF('Page 1'!A36=\"06\",24,IF('Page 1'!A36=\"08\",24,IF('Page 1'!A36=\"10\",24,IF('Page 1'!A36=\"12\",24,IF('Page 1'!A36=\"14\",24,IF('Page 1'!A36=\"16\",24,IF('Page 1'!A36=\"18\",24,IF('Page 1'!A36=\"20\",24,IF('Page 1'!A36=\"22\",24,IF('Page 1'!A36=\"24\",24,IF('Page 1'!A36=\"26\",24,IF('Page 1'!A36=\"28\",24,IF('Page 1'!A36=\"30\",22,IF('Page 1'!A36=\"32\",22,IF('Page 1'!A36=\"34\",22,IF('Page 1'!A36=\"36\",22,IF('Page 1'!A36=\"38\",22,IF('Page 1'!A36=\"40\",22,IF('Page 1'!A36=\"42\",22,IF('Page 1'!A36=\"44\",22,IF('Page 1'!A36=\"46\",22,IF('Page 1'!A36=\"48\",22,\"\"))))))))))))))))))))))","v":""},"1\"",null,{"$f":"IF('Page 1'!$H$21<>\"\",IF('Page 1'!$M$19<>\"\",IF('Page 1'!$K$22<>\"\",$Z$9,\"\"),IF('Page 1'!$H$21<>\"\",IF('Page 1'!$M$20<>\"\",IF('Page 1'!$K$22<>\"\",$Z$10,\"\"),IF('Page 1'!$H$21<>\"\",IF('Page 1'!$M$21<>\"\",IF('Page 1'!$K$22<>\"\",$Z$11,\"\"),\"\"))))),\"\")","v":""},"SI 1\" OU 2\" OU 4\""]
[null,null,null,null,null,null,null,null,null,null,null,null,null,null,null,null,null,null,null,null,null,null,null,null,"GAL",{"$f":"IF('Page 1'!A36=\"06\",24,IF('Page 1'!A36=\"08\",24,IF('Page 1'!A36=\"10\",24,IF('Page 1'!A36=\"12\",24,IF('Page 1'!A36=\"14\",24,IF('Page 1'!A36=\"16\",24,IF('Page 1'!A36=\"18\",24,IF('Page 1'!A36=\"20\",24,IF('Page 1'!A36=\"22\",24,IF('Page 1'!A36=\"24\",24,IF('Page 1'!A36=\"26\",24,IF('Page 1'!A36=\"28\",22,IF('Page 1'!A36=\"30\",22,IF('Page 1'!A36=\"32\",22,IF('Page 1'!A36=\"34\",22,IF('Page 1'!A36=\"36\",22,IF('Page 1'!A36=\"38\",22,IF('Page 1'!A36=\"40\",22,IF('Page 1'!A36=\"42\",22,IF('Page 1'!A36=\"44\",22,IF('Page 1'!A36=\"46\",22,IF('Page 1'!A36=\"48\",22,\"\"))))))))))))))))))))))","v":""},"2\""]
[null,null,null,null,null,null,null,null,null,null,null,null,null,null,null,"SyteLine","QTY",null,"VALIDATION",null,null,null,null,null,"GAL",{"$f":"IF('Page 1'!A36=\"06\",24,IF('Page 1'!A36=\"08\",24,IF('Page 1'!A36=\"10\",24,IF('Page 1'!A36=\"12\",24,IF('Page 1'!A36=\"14\",24,IF('Page 1'!A36=\"16\",24,IF('Page 1'!A36=\"18\",24,IF('Page 1'!A36=\"20\",24,IF('Page 1'!A36=\"22\",22,IF('Page 1'!A36=\"24\",22,IF('Page 1'!A36=\"26\",22,IF('Page 1'!A36=\"28\",22,IF('Page 1'!A36=\"30\",22,IF('Page 1'!A36=\"32\",22,IF('Page 1'!A36=\"34\",22,IF('Page 1'!A36=\"36\",22,IF('Page 1'!A36=\"38\",22,IF('Page 1'!A36=\"40\",22,IF('Page 1'!A36=\"42\",22,IF('Page 1'!A36=\"44\",22,IF('Page 1'!A36=\"46\",22,IF('Page 1'!A36=\"48\",22,\"\"))))))))))))))))))))))","v":""},"4\""]
[null,{"$f":"IF('Page 1'!$A$19<>\"\",\"V\",\"\")","v":""},{"$f":"IF('Page 1'!$A$36<>\"\",\"C\",\"\")","v":""},{"$f":"IF('Page 1'!$A$19<>\"\",\"-\",\"\")","v":""},{"$f":"IF('Page 1'!$A$19<>\"\",'Page 1'!$A$36,\"\")","v":""},{"$f":"IF('Page 1'!C36<>\"\",'Page 1'!D36,\"\")","v":""},{"$f":"IF('Page 1'!$D$19<>\"\",\"A\",IF('Page 1'!$D$20<>\"\",\"B\",\"\"))","v":""},{"$f":"IF('Page 1'!$F$19<>\"\",\"26\",IF('Page 1'!$F$20<>\"\",\"24\",IF('Page 1'!$F$21<>\"\",\"20\",IF('Page 1'!$D$19<>\"\",IF('Page 1'!$F$22<>\"\",$X$3,\"\"),IF('Page 1'!$D$20<>\"\",IF('Page 1'!$F$22<>\"\",$X$6,\"\"),\"\")))))","v":""},{"$f":"IF('Page 1'!$H$19<>\"\",\"A\",IF('Page 1'!$H$20<>\"\",\"B\",IF('Page 1'!$H$21<>\"\",\"C\",\"\")))","v":""},{"$f":"IF('Page 1'!$K$19<>\"\",\"26\",IF('Page 1'!$K$20<>\"\",\"24\",IF('Page 1'!$K$21<>\"\",\"20\",IF($AC$3<>\"\",$AC$3,IF($AC$6<>\"\",$AC$6,IF($AC$9<>\"\",$AC$9,\"\"))))))","v":""},{"$f":"IF('Page 1'!$M$19<>\"\",\"1\",IF('Page 1'!$M$20<>\"\",\"2\",IF('Page 1'!$M$21<>\"\",\"4\",\"\")))","v":""},null,null,null,null,{"$f":"IF('Page 1'!C36<>\"\",IF('Page 1'!D36<>\"\",CONCATENATE(B12,C12,D12,E12,F12,G12,H12,I12,J12,K12),\"\"),\"\")","v":""},{"$f":"IF('Page 1'!C36<>\"\",'Page 1'!C36,\"\")","v":""},null,{"$f":"IFERROR(VLOOKUP(LEFT(P12,20),Item_VIP!$A$2:$B$9000,1,FALSE),\"\")","v":""},null,"LENGTH D1, D2 & DB","SS 304","STD",{"$f":"IF('Page 1'!A36=\"06\",20,IF('Page 1'!A36=\"08\",20,IF('Page 1'!A36=\"10\",20,IF('Page 1'!A36=\"12\",20,IF('Page 1'!A36=\"14\",20,IF('Page 1'!A36=\"16\",20,IF('Page 1'!A36=\"18\",20,IF('Page 1'!A36=\"20\",20,IF('Page 1'!A36=\"22\",20,IF('Page 1'!A36=\"24\",20,IF('Page 1'!A36=\"26\",20,IF('Page 1'!A36=\"28\",20,IF('Page 1'!A36=\"30\",20,IF('Page 1'!A36=\"32\",20,IF('Page 1'!A36=\"34\",20,IF('Page 1'!A36=\"36\",20,IF('Page 1'!A36=\"38\",20,IF('Page 1'!A36=\"40\",20,IF('Page 1'!A36=\"42\",20,IF('Page 1'!A36=\"44\",20,IF('Page 1'!A36=\"46\",20,IF('Page 1'!A36=\"48\",20,\"\"))))))))))))))))))))))","v":""},"STD",{"$f":"IF('Page 1'!A36=\"06\",26,IF('Page 1'!A36=\"08\",26,IF('Page 1'!A36=\"10\",26,IF('Page 1'!A36=\"12\",26,IF('Page 1'!A36=\"14\",26,IF('Page 1'!A36=\"16\",24,IF('Page 1'!A36=\"18\",24,IF('Page 1'!A36=\"20\",24,IF('Page 1'!A36=\"22\",24,IF('Page 1'!A36=\"24\",24,IF('Page 1'!A36=\"26\",24,IF('Page 1'!A36=\"28\",24,IF('Page 1'!A36=\"30\",20,IF('Page 1'!A36=\"32\",20,IF('Page 1'!A36=\"34\",20,IF('Page 1'!A36=\"36\",20,IF('Page 1'!A36=\"38\",20,IF('Page 1'!A36=\"40\",20,IF('Page 1'!A36=\"42\",20,IF('Page 1'!A36=\"44\",20,IF('Page 1'!A36=\"46\",20,IF('Page 1'!A36=\"48\",20,\"\"))))))))))))))))))))))","v":""},"1\"",null,{"$f":"IF('Page 1'!$H$19<>\"\",IF('Page 1'!$M$19<>\"\",IF('Page 1'!$K$22<>\"\",$Z$12,\"\"),IF('Page 1'!$H$19<>\"\",IF('Page 1'!$M$20<>\"\",IF('Page 1'!$K$22<>\"\",$Z$13,\"\"),IF('Page 1'!$H$19<>\"\",IF('Page 1'!$M$21<>\"\",IF('Page 1'!$K$22<>\"\",$Z$14,\"\"),\"\"))))),\"\")","v":""},"SI 1\" OU 2\" OU 4\""]
[null,{"$f":"IF('Page 1'!$A$19<>\"\",\"V\",\"\")","v":""},{"$f":"IF('Page 1'!$A$36<>\"\",\"C\",\"\")","v":""},{"$f":"IF('Page 1'!$A$19<>\"\",\"-\",\"\")","v":""},{"$f":"IF('Page 1'!$A$19<>\"\",'Page 1'!$A$36,\"\")","v":""},{"$f":"IF('Page 1'!C37<>\"\",'Page 1'!D37,\"\")","v":""},{"$f":"IF('Page 1'!$D$19<>\"\",\"A\",IF('Page 1'!$D$20<>\"\",\"B\",\"\"))","v":""},{"$f":"IF('Page 1'!$F$19<>\"\",\"26\",IF('Page 1'!$F$20<>\"\",\"24\",IF('Page 1'!$F$21<>\"\",\"20\",IF('Page 1'!$D$19<>\"\",IF('Page 1'!$F$22<>\"\",$X$3,\"\"),IF('Page 1'!$D$20<>\"\",IF('Page 1'!$F$22<>\"\",$X$6,\"\"),\"\")))))","v":""},{"$f":"IF('Page 1'!$H$19<>\"\",\"A\",IF('Page 1'!$H$20<>\"\",\"B\",IF('Page 1'!$H$21<>\"\",\"C\",\"\")))","v":""},{"$f":"IF('Page 1'!$K$19<>\"\",\"26\",IF('Page 1'!$K$20<>\"\",\"24\",IF('Page 1'!$K$21<>\"\",\"20\",IF($AC$3<>\"\",$AC$3,IF($AC$6<>\"\",$AC$6,IF($AC$9<>\"\",$AC$9,\"\"))))))","v":""},{"$f":"IF('Page 1'!$M$19<>\"\",\"1\",IF('Page 1'!$M$20<>\"\",\"2\",IF('Page 1'!$M$21<>\"\",\"4\",\"\")))","v":""},null,null,null,null,{"$f":"IF('Page 1'!C37<>\"\",IF('Page 1'!D37<>\"\",CONCATENATE(B13,C13,D13,E13,F13,G13,H13,I13,J13,K13),\"\"),\"\")","v":""},{"$f":"IF('Page 1'!C37<>\"\",'Page 1'!C37,\"\")","v":""},null,{"$f":"IFERROR(VLOOKUP(LEFT(P13,20),Item_VIP!$A$2:$B$9000,1,FALSE),\"\")","v":""},null,null,null,null,null,"STD",{"$f":"IF('Page 1'!A36=\"06\",26,IF('Page 1'!A36=\"08\",26,IF('Page 1'!A36=\"10\",26,IF('Page 1'!A36=\"12\",26,IF('Page 1'!A36=\"14\",24,IF('Page 1'!A36=\"16\",24,IF('Page 1'!A36=\"18\",24,IF('Page 1'!A36=\"20\",24,IF('Page 1'!A36=\"22\",24,IF('Page 1'!A36=\"24\",24,IF('Page 1'!A36=\"26\",24,IF('Page 1'!A36=\"28\",20,IF('Page 1'!A36=\"30\",20,IF('Page 1'!A36=\"32\",20,IF('Page 1'!A36=\"34\",20,IF('Page 1'!A36=\"36\",20,IF('Page 1'!A36=\"38\",20,IF('Page 1'!A36=\"40\",20,IF('Page 1'!A36=\"42\",20,IF('Page 1'!A36=\"44\",20,IF('Page 1'!A36=\"46\",20,IF('Page 1'!A36=\"48\",20,\"\"))))))))))))))))))))))","v":""},"2\""]
[null,{"$f":"IF('Page 1'!$A$19<>\"\",\"V\",\"\")","v":""},{"$f":"IF('Page 1'!$A$36<>\"\",\"C\",\"\")","v":""},{"$f":"IF('Page 1'!$A$19<>\"\",\"-\",\"\")","v":""},{"$f":"IF('Page 1'!$A$19<>\"\",'Page 1'!$A$36,\"\")","v":""},{"$f":"IF('Page 1'!C38<>\"\",'Page 1'!D38,\"\")","v":""},{"$f":"IF('Page 1'!$D$19<>\"\",\"A\",IF('Page 1'!$D$20<>\"\",\"B\",\"\"))","v":""},{"$f":"IF('Page 1'!$F$19<>\"\",\"26\",IF('Page 1'!$F$20<>\"\",\"24\",IF('Page 1'!$F$21<>\"\",\"20\",IF('Page 1'!$D$19<>\"\",IF('Page 1'!$F$22<>\"\",$X$3,\"\"),IF('Page 1'!$D$20<>\"\",IF('Page 1'!$F$22<>\"\",$X$6,\"\"),\"\")))))","v":""},{"$f":"IF('Page 1'!$H$19<>\"\",\"A\",IF('Page 1'!$H$20<>\"\",\"B\",IF('Page 1'!$H$21<>\"\",\"C\",\"\")))","v":""},{"$f":"IF('Page 1'!$K$19<>\"\",\"26\",IF('Page 1'!$K$20<>\"\",\"24\",IF('Page 1'!$K$21<>\"\",\"20\",IF($AC$3<>\"\",$AC$3,IF($AC$6<>\"\",$AC$6,IF($AC$9<>\"\",$AC$9,\"\"))))))","v":""},{"$f":"IF('Page 1'!$M$19<>\"\",\"1\",IF('Page 1'!$M$20<>\"\",\"2\",IF('Page 1'!$M$21<>\"\",\"4\",\"\")))","v":""},null,null,null,null,{"$f":"IF('Page 1'!C38<>\"\",IF('Page 1'!D38<>\"\",CONCATENATE(B14,C14,D14,E14,F14,G14,H14,I14,J14,K14),\"\"),\"\")","v":""},{"$f":"IF('Page 1'!C38<>\"\",'Page 1'!C38,\"\")","v":""},null,{"$f":"IFERROR(VLOOKUP(LEFT(P14,20),Item_VIP!$A$2:$B$9000,1,FALSE),\"\")","v":""},null,null,null,null,null,"STD",{"$f":"IF('Page 1'!A36=\"06\",26,IF('Page 1'!A36=\"08\",26,IF('Page 1'!A36=\"10\",24,IF('Page 1'!A36=\"12\",24,IF('Page 1'!A36=\"14\",24,IF('Page 1'!A36=\"16\",24,IF('Page 1'!A36=\"18\",24,IF('Page 1'!A36=\"20\",24,IF('Page 1'!A36=\"22\",20,IF('Page 1'!A36=\"24\",20,IF('Page 1'!A36=\"26\",20,IF('Page 1'!A36=\"28\",20,IF('Page 1'!A36=\"30\",20,IF('Page 1'!A36=\"32\",20,IF('Page 1'!A36=\"34\",20,IF('Page 1'!A36=\"36\",20,IF('Page 1'!A36=\"38\",20,IF('Page 1'!A36=\"40\",20,IF('Page 1'!A36=\"42\",20,IF('Page 1'!A36=\"44\",20,IF('Page 1'!A36=\"46\",20,IF('Page 1'!A36=\"48\",20,\"\"))))))))))))))))))))))","v":""},"4\""]
[null,{"$f":"IF('Page 1'!$A$19<>\"\",\"V\",\"\")","v":""},{"$f":"IF('Page 1'!$A$36<>\"\",\"C\",\"\")","v":""},{"$f":"IF('Page 1'!$A$19<>\"\",\"-\",\"\")","v":""},{"$f":"IF('Page 1'!$A$19<>\"\",'Page 1'!$A$36,\"\")","v":""},{"$f":"IF('Page 1'!C39<>\"\",'Page 1'!D39,\"\")","v":""},{"$f":"IF('Page 1'!$D$19<>\"\",\"A\",IF('Page 1'!$D$20<>\"\",\"B\",\"\"))","v":""},{"$f":"IF('Page 1'!$F$19<>\"\",\"26\",IF('Page 1'!$F$20<>\"\",\"24\",IF('Page 1'!$F$21<>\"\",\"20\",IF('Page 1'!$D$19<>\"\",IF('Page 1'!$F$22<>\"\",$X$3,\"\"),IF('Page 1'!$D$20<>\"\",IF('Page 1'!$F$22<>\"\",$X$6,\"\"),\"\")))))","v":""},{"$f":"IF('Page 1'!$H$19<>\"\",\"A\",IF('Page 1'!$H$20<>\"\",\"B\",IF('Page 1'!$H$21<>\"\",\"C\",\"\")))","v":""},{"$f":"IF('Page 1'!$K$19<>\"\",\"26\",IF('Page 1'!$K$20<>\"\",\"24\",IF('Page 1'!$K$21<>\"\",\"20\",IF($AC$3<>\"\",$AC$3,IF($AC$6<>\"\",$AC$6,IF($AC$9<>\"\",$AC$9,\"\"))))))","v":""},{"$f":"IF('Page 1'!$M$19<>\"\",\"1\",IF('Page 1'!$M$20<>\"\",\"2\",IF('Page 1'!$M$21<>\"\",\"4\",\"\")))","v":""},null,null,null,null,{"$f":"IF('Page 1'!C39<>\"\",IF('Page 1'!D39<>\"\",CONCATENATE(B15,C15,D15,E15,F15,G15,H15,I15,J15,K15),\"\"),\"\")","v":""},{"$f":"IF('Page 1'!C39<>\"\",'Page 1'!C39,\"\")","v":""},null,{"$f":"IFERROR(VLOOKUP(LEFT(P15,20),Item_VIP!$A$2:$B$9000,1,FALSE),\"\")","v":""},null,null,"SS 316","STD",{"$f":"IF('Page 1'!A36=\"06\",20,IF('Page 1'!A36=\"08\",20,IF('Page 1'!A36=\"10\",20,IF('Page 1'!A36=\"12\",20,IF('Page 1'!A36=\"14\",20,IF('Page 1'!A36=\"16\",20,IF('Page 1'!A36=\"18\",20,IF('Page 1'!A36=\"20\",20,IF('Page 1'!A36=\"22\",20,IF('Page 1'!A36=\"24\",24,IF('Page 1'!A36=\"26\",20,IF('Page 1'!A36=\"28\",20,IF('Page 1'!A36=\"30\",20,IF('Page 1'!A36=\"32\",20,IF('Page 1'!A36=\"34\",20,IF('Page 1'!A36=\"36\",20,IF('Page 1'!A36=\"38\",20,IF('Page 1'!A36=\"40\",20,IF('Page 1'!A36=\"42\",20,IF('Page 1'!A36=\"44\",20,IF('Page 1'!A36=\"46\",20,IF('Page 1'!A36=\"48\",20,\"\"))))))))))))))))))))))","v":""},"STD",{"$f":"IF('Page 1'!A36=\"06\",24,IF('Page 1'!A36=\"08\",24,IF('Page 1'!A36=\"10\",24,IF('Page 1'!A36=\"12\",24,IF('Page 1'!A36=\"14\",24,IF('Page 1'!A36=\"16\",24,IF('Page 1'!A36=\"18\",24,IF('Page 1'!A36=\"20\",24,IF('Page 1'!A36=\"22\",24,IF('Page 1'!A36=\"24\",24,IF('Page 1'!A36=\"26\",24,IF('Page 1'!A36=\"28\",24,IF('Page 1'!A36=\"30\",20,IF('Page 1'!A36=\"32\",20,IF('Page 1'!A36=\"34\",20,IF('Page 1'!A36=\"36\",20,IF('Page 1'!A36=\"38\",20,IF('Page 1'!A36=\"40\",20,IF('Page 1'!A36=\"42\",20,IF('Page 1'!A36=\"44\",20,IF('Page 1'!A36=\"46\",20,IF('Page 1'!A36=\"48\",20,\"\"))))))))))))))))))))))","v":""},"1\"",null,{"$f":"IF('Page 1'!$H$20<>\"\",IF('Page 1'!$M$19<>\"\",IF('Page 1'!$K$22<>\"\",$Z$15,\"\"),IF('Page 1'!$H$20<>\"\",IF('Page 1'!$M$20<>\"\",IF('Page 1'!$K$22<>\"\",$Z$16,\"\"),IF('Page 1'!$H$20<>\"\",IF('Page 1'!$M$21<>\"\",IF('Page 1'!$K$22<>\"\",$Z$17,\"\"),\"\"))))),\"\")","v":""},"SI 1\" OU 2\" OU 4\""]
[null,{"$f":"IF('Page 1'!$A$19<>\"\",\"V\",\"\")","v":""},"S",{"$f":"IF('Page 1'!$A$19<>\"\",\"-\",\"\")","v":""},{"$f":"IF('Page 1'!$A$19<>\"\",'Page 1'!$A$36,\"\")","v":""},{"$f":"IF('Page 1'!C40<>\"\",'Page 1'!D40,\"\")","v":""},{"$f":"IF('Page 1'!$D$19<>\"\",\"A\",IF('Page 1'!$D$20<>\"\",\"B\",\"\"))","v":""},20,{"$f":"IF('Page 1'!$H$19<>\"\",\"A\",IF('Page 1'!$H$20<>\"\",\"B\",IF('Page 1'!$H$21<>\"\",\"C\",\"\")))","v":""},{"$f":"IF('Page 1'!$K$20<>\"\",\"24\",IF('Page 1'!$K$21<>\"\",\"20\",IF($AC$21<>\"\",$AC$21,IF($AC$24<>\"\",$AC$24,IF($AC$27<>\"\",$AC$27,\"\")))))","v":""},{"$f":"IF('Page 1'!$M$19<>\"\",\"1\",IF('Page 1'!$M$20<>\"\",\"2\",IF('Page 1'!$M$21<>\"\",\"4\",\"\")))","v":""},"-SP",null,null,null,{"$f":"IF('Page 1'!C40<>\"\",IF('Page 1'!D40<>\"\",CONCATENATE(B16,C16,D16,E16,F16,G16,H16,I16,J16,K16,L16),\"\"),\"\")","v":""},{"$f":"IF('Page 1'!C40<>\"\",'Page 1'!C40,\"\")","v":""},null,{"$f":"IFERROR(VLOOKUP(LEFT(P16,20),Item_VIP!$A$2:$B$9000,1,FALSE),\"\")","v":""},null,null,null,null,null,"STD",{"$f":"IF('Page 1'!A36=\"06\",24,IF('Page 1'!A36=\"08\",24,IF('Page 1'!A36=\"10\",24,IF('Page 1'!A36=\"12\",24,IF('Page 1'!A36=\"14\",24,IF('Page 1'!A36=\"16\",24,IF('Page 1'!A36=\"18\",24,IF('Page 1'!A36=\"20\",24,IF('Page 1'!A36=\"22\",24,IF('Page 1'!A36=\"24\",24,IF('Page 1'!A36=\"26\",24,IF('Page 1'!A36=\"28\",20,IF('Page 1'!A36=\"30\",20,IF('Page 1'!A36=\"32\",20,IF('Page 1'!A36=\"34\",20,IF('Page 1'!A36=\"36\",20,IF('Page 1'!A36=\"38\",20,IF('Page 1'!A36=\"40\",20,IF('Page 1'!A36=\"42\",20,IF('Page 1'!A36=\"44\",20,IF('Page 1'!A36=\"46\",20,IF('Page 1'!A36=\"48\",20,\"\"))))))))))))))))))))))","v":""},"2\""]
[null,{"$f":"IF('Page 1'!$A$19<>\"\",\"V\",\"\")","v":""},{"$f":"IF('Page 1'!$A$36<>\"\",\"C\",\"\")","v":""},{"$f":"IF('Page 1'!$A$19<>\"\",\"-\",\"\")","v":""},{"$f":"IF('Page 1'!$A$19<>\"\",'Page 1'!$A$36,\"\")","v":""},{"$f":"IF('Page 1'!C41<>\"\",'Page 1'!D41,\"\")","v":""},{"$f":"IF('Page 1'!$D$19<>\"\",\"A\",IF('Page 1'!$D$20<>\"\",\"B\",\"\"))","v":""},{"$f":"IF('Page 1'!$F$19<>\"\",\"26\",IF('Page 1'!$F$20<>\"\",\"24\",IF('Page 1'!$F$21<>\"\",\"20\",IF('Page 1'!$D$19<>\"\",IF('Page 1'!$F$22<>\"\",$X$3,\"\"),IF('Page 1'!$D$20<>\"\",IF('Page 1'!$F$22<>\"\",$X$6,\"\"),\"\")))))","v":""},{"$f":"IF('Page 1'!$H$19<>\"\",\"A\",IF('Page 1'!$H$20<>\"\",\"B\",IF('Page 1'!$H$21<>\"\",\"C\",\"\")))","v":""},{"$f":"IF('Page 1'!$K$19<>\"\",\"26\",IF('Page 1'!$K$20<>\"\",\"24\",IF('Page 1'!$K$21<>\"\",\"20\",IF($AC$3<>\"\",$AC$3,IF($AC$6<>\"\",$AC$6,IF($AC$9<>\"\",$AC$9,\"\"))))))","v":""},{"$f":"IF('Page 1'!$M$19<>\"\",\"1\",IF('Page 1'!$M$20<>\"\",\"2\",IF('Page 1'!$M$21<>\"\",\"4\",\"\")))","v":""},null,null,null,null,{"$f":"IF('Page 1'!C41<>\"\",IF('Page 1'!D41<>\"\",CONCATENATE(B17,C17,D17,E17,F17,G17,H17,I17,J17,K17),\"\"),\"\")","v":""},{"$f":"IF('Page 1'!C41<>\"\",'Page 1'!C41,\"\")","v":""},null,{"$f":"IFERROR(VLOOKUP(LEFT(P17,20),Item_VIP!$A$2:$B$9000,1,FALSE),\"\")","v":""},null,null,null,null,null,"STD",{"$f":"IF('Page 1'!A36=\"06\",24,IF('Page 1'!A36=\"08\",24,IF('Page 1'!A36=\"10\",24,IF('Page 1'!A36=\"12\",24,IF('Page 1'!A36=\"14\",24,IF('Page 1'!A36=\"16\",24,IF('Page 1'!A36=\"18\",24,IF('Page 1'!A36=\"20\",24,IF('Page 1'!A36=\"22\",20,IF('Page 1'!A36=\"24\",20,IF('Page 1'!A36=\"26\",20,IF('Page 1'!A36=\"28\",20,IF('Page 1'!A36=\"30\",20,IF('Page 1'!A36=\"32\",20,IF('Page 1'!A36=\"34\",20,IF('Page 1'!A36=\"36\",20,IF('Page 1'!A36=\"38\",20,IF('Page 1'!A36=\"40\",20,IF('Page 1'!A36=\"42\",20,IF('Page 1'!A36=\"44\",20,IF('Page 1'!A36=\"46\",20,IF('Page 1'!A36=\"48\",20,\"\"))))))))))))))))))))))","v":""},"4\""]
[null,{"$f":"IF('Page 1'!$A$19<>\"\",\"V\",\"\")","v":""},{"$f":"IF('Page 1'!$A$36<>\"\",\"C\",\"\")","v":""},{"$f":"IF('Page 1'!$A$19<>\"\",\"-\",\"\")","v":""},{"$f":"IF('Page 1'!$A$19<>\"\",'Page 1'!$A$36,\"\")","v":""},{"$f":"IF('Page 1'!C42<>\"\",'Page 1'!D42,\"\")","v":""},{"$f":"IF('Page 1'!$D$19<>\"\",\"A\",IF('Page 1'!$D$20<>\"\",\"B\",\"\"))","v":""},{"$f":"IF('Page 1'!$F$19<>\"\",\"26\",IF('Page 1'!$F$20<>\"\",\"24\",IF('Page 1'!$F$21<>\"\",\"20\",IF('Page 1'!$D$19<>\"\",IF('Page 1'!$F$22<>\"\",$X$3,\"\"),IF('Page 1'!$D$20<>\"\",IF('Page 1'!$F$22<>\"\",$X$6,\"\"),\"\")))))","v":""},{"$f":"IF('Page 1'!$H$19<>\"\",\"A\",IF('Page 1'!$H$20<>\"\",\"B\",IF('Page 1'!$H$21<>\"\",\"C\",\"\")))","v":""},{"$f":"IF('Page 1'!$K$19<>\"\",\"26\",IF('Page 1'!$K$20<>\"\",\"24\",IF('Page 1'!$K$21<>\"\",\"20\",IF($AC$3<>\"\",$AC$3,IF($AC$6<>\"\",$AC$6,IF($AC$9<>\"\",$AC$9,\"\"))))))","v":""},{"$f":"IF('Page 1'!$M$19<>\"\",\"1\",IF('Page 1'!$M$20<>\"\",\"2\",IF('Page 1'!$M$21<>\"\",\"4\",\"\")))","v":""},null,null,null,null,{"$f":"IF('Page 1'!C42<>\"\",IF('Page 1'!D42<>\"\",CONCATENATE(B18,C18,D18,E18,F18,G18,H18,I18,J18,K18),\"\"),\"\")","v":""},{"$f":"IF('Page 1'!C42<>\"\",'Page 1'!C42,\"\")","v":""},null,{"$f":"IFERROR(VLOOKUP(LEFT(P18,20),Item_VIP!$A$2:$B$9000,1,FALSE),\"\")","v":""},null,null,"GALVALUME STD",null,null,"GAL",{"$f":"IF('Page 1'!A36=\"06\",24,IF('Page 1'!A36=\"08\",24,IF('Page 1'!A36=\"10\",24,IF('Page 1'!A36=\"12\",24,IF('Page 1'!A36=\"14\",24,IF('Page 1'!A36=\"16\",24,IF('Page 1'!A36=\"18\",24,IF('Page 1'!A36=\"20\",24,IF('Page 1'!A36=\"22\",24,IF('Page 1'!A36=\"24\",24,IF('Page 1'!A36=\"26\",24,IF('Page 1'!A36=\"28\",24,IF('Page 1'!A36=\"30\",22,IF('Page 1'!A36=\"32\",22,IF('Page 1'!A36=\"34\",22,IF('Page 1'!A36=\"36\",22,IF('Page 1'!A36=\"38\",22,IF('Page 1'!A36=\"40\",22,IF('Page 1'!A36=\"42\",22,IF('Page 1'!A36=\"44\",22,IF('Page 1'!A36=\"46\",22,IF('Page 1'!A36=\"48\",22,\"\"))))))))))))))))))))))","v":""},"1\"",null,{"$f":"IF('Page 1'!$H$21<>\"\",IF('Page 1'!$M$19<>\"\",IF('Page 1'!$K$22<>\"\",$Z$18,\"\"),IF('Page 1'!$H$21<>\"\",IF('Page 1'!$M$20<>\"\",IF('Page 1'!$K$22<>\"\",$Z$19,\"\"),IF('Page 1'!$H$21<>\"\",IF('Page 1'!$M$21<>\"\",IF('Page 1'!$K$22<>\"\",$Z$20,\"\"),\"\"))))),\"\")","v":""},"SI 1\" OU 2\" OU 4\""]
[null,{"$f":"IF('Page 1'!$A$19<>\"\",\"V\",\"\")","v":""},{"$f":"IF('Page 1'!$A$36<>\"\",\"C\",\"\")","v":""},{"$f":"IF('Page 1'!$A$19<>\"\",\"-\",\"\")","v":""},{"$f":"IF('Page 1'!$A$19<>\"\",'Page 1'!$A$36,\"\")","v":""},{"$f":"IF('Page 1'!C43<>\"\",'Page 1'!D43,\"\")","v":""},{"$f":"IF('Page 1'!$D$19<>\"\",\"A\",IF('Page 1'!$D$20<>\"\",\"B\",\"\"))","v":""},{"$f":"IF('Page 1'!$F$21<>\"\",\"20\",IF('Page 1'!$D$19<>\"\",IF('Page 1'!$F$22<>\"\",$X$12,\"\"),IF('Page 1'!$D$20<>\"\",IF('Page 1'!$F$22<>\"\",$X$15,\"\"),\"\")))","v":""},{"$f":"IF('Page 1'!$H$19<>\"\",\"A\",IF('Page 1'!$H$20<>\"\",\"B\",IF('Page 1'!$H$21<>\"\",\"C\",\"\")))","v":""},{"$f":"IF('Page 1'!$K$19<>\"\",\"26\",IF('Page 1'!$K$20<>\"\",\"24\",IF('Page 1'!$K$21<>\"\",\"20\",IF($AC$12<>\"\",$AC$12,IF($AC$15<>\"\",$AC$15,IF($AC$18<>\"\",$AC$18,\"\"))))))","v":""},{"$f":"IF('Page 1'!$M$19<>\"\",\"1\",IF('Page 1'!$M$20<>\"\",\"2\",IF('Page 1'!$M$21<>\"\",\"4\",\"\")))","v":""},null,null,null,null,{"$f":"IF('Page 1'!C43<>\"\",IF('Page 1'!D43<>\"\",CONCATENATE(B19,C19,D19,E19,F19,G19,H19,I19,J19,K19),\"\"),\"\")","v":""},{"$f":"IF('Page 1'!C43<>\"\",'Page 1'!C43,\"\")","v":""},null,{"$f":"IFERROR(VLOOKUP(LEFT(P19,20),Item_VIP!$A$2:$B$9000,1,FALSE),\"\")","v":""},null,null,null,null,null,"GAL",{"$f":"IF('Page 1'!A36=\"06\",24,IF('Page 1'!A36=\"08\",24,IF('Page 1'!A36=\"10\",24,IF('Page 1'!A36=\"12\",24,IF('Page 1'!A36=\"14\",24,IF('Page 1'!A36=\"16\",24,IF('Page 1'!A36=\"18\",24,IF('Page 1'!A36=\"20\",24,IF('Page 1'!A36=\"22\",24,IF('Page 1'!A36=\"24\",24,IF('Page 1'!A36=\"26\",24,IF('Page 1'!A36=\"28\",22,IF('Page 1'!A36=\"30\",22,IF('Page 1'!A36=\"32\",22,IF('Page 1'!A36=\"34\",22,IF('Page 1'!A36=\"36\",22,IF('Page 1'!A36=\"38\",22,IF('Page 1'!A36=\"40\",22,IF('Page 1'!A36=\"42\",22,IF('Page 1'!A36=\"44\",22,IF('Page 1'!A36=\"46\",22,IF('Page 1'!A36=\"48\",22,\"\"))))))))))))))))))))))","v":""},"2\""]
[null,{"$f":"IF('Page 1'!$A$19<>\"\",\"V\",\"\")","v":""},{"$f":"IF('Page 1'!$A$36<>\"\",\"C\",\"\")","v":""},{"$f":"IF('Page 1'!$A$19<>\"\",\"-\",\"\")","v":""},{"$f":"IF('Page 1'!$A$19<>\"\",'Page 1'!$A$36,\"\")","v":""},{"$f":"IF('Page 1'!C44<>\"\",'Page 1'!D44,\"\")","v":""},{"$f":"IF('Page 1'!$D$19<>\"\",\"A\",IF('Page 1'!$D$20<>\"\",\"B\",\"\"))","v":""},{"$f":"IF('Page 1'!$F$21<>\"\",\"20\",IF('Page 1'!$D$19<>\"\",IF('Page 1'!$F$22<>\"\",$X$12,\"\"),IF('Page 1'!$D$20<>\"\",IF('Page 1'!$F$22<>\"\",$X$15,\"\"),\"\")))","v":""},{"$f":"IF('Page 1'!$H$19<>\"\",\"A\",IF('Page 1'!$H$20<>\"\",\"B\",IF('Page 1'!$H$21<>\"\",\"C\",\"\")))","v":""},{"$f":"IF('Page 1'!$K$19<>\"\",\"26\",IF('Page 1'!$K$20<>\"\",\"24\",IF('Page 1'!$K$21<>\"\",\"20\",IF($AC$12<>\"\",$AC$12,IF($AC$15<>\"\",$AC$15,IF($AC$18<>\"\",$AC$18,\"\"))))))","v":""},{"$f":"IF('Page 1'!$M$19<>\"\",\"1\",IF('Page 1'!$M$20<>\"\",\"2\",IF('Page 1'!$M$21<>\"\",\"4\",\"\")))","v":""},null,null,null,null,{"$f":"IF('Page 1'!C44<>\"\",IF('Page 1'!D44<>\"\",CONCATENATE(B20,C20,D20,E20,F20,G20,H20,I20,J20,K20),\"\"),\"\")","v":""},{"$f":"IF('Page 1'!C44<>\"\",'Page 1'!C44,\"\")","v":""},null,{"$f":"IFERROR(VLOOKUP(LEFT(P20,20),Item_VIP!$A$2:$B$9000,1,FALSE),\"\")","v":""},null,null,null,null,null,"GAL",{"$f":"IF('Page 1'!A36=\"06\",24,IF('Page 1'!A36=\"08\",24,IF('Page 1'!A36=\"10\",24,IF('Page 1'!A36=\"12\",24,IF('Page 1'!A36=\"14\",24,IF('Page 1'!A36=\"16\",24,IF('Page 1'!A36=\"18\",24,IF('Page 1'!A36=\"20\",24,IF('Page 1'!A36=\"22\",22,IF('Page 1'!A36=\"24\",22,IF('Page 1'!A36=\"26\",22,IF('Page 1'!A36=\"28\",22,IF('Page 1'!A36=\"30\",22,IF('Page 1'!A36=\"32\",22,IF('Page 1'!A36=\"34\",22,IF('Page 1'!A36=\"36\",22,IF('Page 1'!A36=\"38\",22,IF('Page 1'!A36=\"40\",22,IF('Page 1'!A36=\"42\",22,IF('Page 1'!A36=\"44\",22,IF('Page 1'!A36=\"46\",22,IF('Page 1'!A36=\"48\",22,\"\"))))))))))))))))))))))","v":""},"4\""]
[null,{"$f":"IF('Page 1'!$A$19<>\"\",\"V\",\"\")","v":""},{"$f":"IF('Page 1'!$A$36<>\"\",\"C\",\"\")","v":""},{"$f":"IF('Page 1'!$A$19<>\"\",\"-\",\"\")","v":""},{"$f":"IF('Page 1'!$A$19<>\"\",'Page 1'!$A$36,\"\")","v":""},{"$f":"IF('Page 1'!C45<>\"\",'Page 1'!D45,\"\")","v":""},{"$f":"IF('Page 1'!$D$19<>\"\",\"A\",IF('Page 1'!$D$20<>\"\",\"B\",\"\"))","v":""},{"$f":"IF('Page 1'!$F$21<>\"\",\"20\",IF('Page 1'!$D$19<>\"\",IF('Page 1'!$F$22<>\"\",$X$12,\"\"),IF('Page 1'!$D$20<>\"\",IF('Page 1'!$F$22<>\"\",$X$15,\"\"),\"\")))","v":""},{"$f":"IF('Page 1'!$H$19<>\"\",\"A\",IF('Page 1'!$H$20<>\"\",\"B\",IF('Page 1'!$H$21<>\"\",\"C\",\"\")))","v":""},{"$f":"IF('Page 1'!$K$19<>\"\",\"26\",IF('Page 1'!$K$20<>\"\",\"24\",IF('Page 1'!$K$21<>\"\",\"20\",IF($AC$12<>\"\",$AC$12,IF($AC$15<>\"\",$AC$15,IF($AC$18<>\"\",$AC$18,\"\"))))))","v":""},{"$f":"IF('Page 1'!$M$19<>\"\",\"1\",IF('Page 1'!$M$20<>\"\",\"2\",IF('Page 1'!$M$21<>\"\",\"4\",\"\")))","v":""},null,null,null,null,{"$f":"IF('Page 1'!C45<>\"\",IF('Page 1'!D45<>\"\",CONCATENATE(B21,C21,D21,E21,F21,G21,H21,I21,J21,K21),\"\"),\"\")","v":""},{"$f":"IF('Page 1'!C45<>\"\",'Page 1'!C45,\"\")","v":""},null,{"$f":"IFERROR(VLOOKUP(LEFT(P21,20),Item_VIP!$A$2:$B$9000,1,FALSE),\"\")","v":""},null,"ELBOW","SS 304","STD",{"$f":"IF('Page 1'!A47=\"06\",24,IF('Page 1'!A47=\"08\",24,IF('Page 1'!A47=\"10\",24,IF('Page 1'!A47=\"12\",24,IF('Page 1'!A47=\"14\",24,IF('Page 1'!A47=\"16\",24,IF('Page 1'!A47=\"18\",24,IF('Page 1'!A47=\"20\",24,IF('Page 1'!A47=\"22\",24,IF('Page 1'!A47=\"24\",24,IF('Page 1'!A47=\"26\",24,IF('Page 1'!A47=\"28\",24,IF('Page 1'!A47=\"30\",20,IF('Page 1'!A47=\"32\",20,IF('Page 1'!A47=\"34\",20,IF('Page 1'!A47=\"36\",20,IF('Page 1'!A47=\"38\",20,IF('Page 1'!A47=\"40\",20,IF('Page 1'!A47=\"42\",20,IF('Page 1'!A47=\"44\",20,IF('Page 1'!A47=\"46\",20,IF('Page 1'!A47=\"48\",20,\"\"))))))))))))))))))))))","v":""},"STD",{"$f":"IF('Page 1'!A47=\"06\",24,IF('Page 1'!A47=\"08\",24,IF('Page 1'!A47=\"10\",24,IF('Page 1'!A47=\"12\",24,IF('Page 1'!A47=\"14\",24,IF('Page 1'!A47=\"16\",24,IF('Page 1'!A47=\"18\",24,IF('Page 1'!A47=\"20\",24,IF('Page 1'!A47=\"22\",24,IF('Page 1'!A47=\"24\",24,IF('Page 1'!A47=\"26\",24,IF('Page 1'!A47=\"28\",24,IF('Page 1'!A47=\"30\",20,IF('Page 1'!A47=\"32\",20,IF('Page 1'!A47=\"34\",20,IF('Page 1'!A47=\"36\",20,IF('Page 1'!A47=\"38\",20,IF('Page 1'!A47=\"40\",20,IF('Page 1'!A47=\"42\",20,IF('Page 1'!A47=\"44\",20,IF('Page 1'!A47=\"46\",20,IF('Page 1'!A47=\"48\",20,\"\"))))))))))))))))))))))","v":""},"1\"",null,{"$f":"IF('Page 1'!$H$19<>\"\",IF('Page 1'!$M$19<>\"\",IF('Page 1'!$K$22<>\"\",$Z$21,\"\"),IF('Page 1'!$H$19<>\"\",IF('Page 1'!$M$20<>\"\",IF('Page 1'!$K$22<>\"\",$Z$22,\"\"),IF('Page 1'!$H$19<>\"\",IF('Page 1'!$M$21<>\"\",IF('Page 1'!$K$22<>\"\",$Z$23,\"\"),\"\"))))),\"\")","v":""},"SI 1\" OU 2\" OU 4\""]
[null,{"$f":"IF('Page 1'!$A$19<>\"\",\"V\",\"\")","v":""},{"$f":"IF('Page 1'!$A$47<>\"\",\"E\",\"\")","v":""},{"$f":"IF('Page 1'!$A$19<>\"\",\"-\",\"\")","v":""},{"$f":"IF('Page 1'!$A$19<>\"\",'Page 1'!$A$47,\"\")","v":""},{"$f":"IF('Page 1'!$C$47<>\"\",'Page 1'!D47,\"\")","v":""},{"$f":"IF('Page 1'!$D$19<>\"\",\"A\",IF('Page 1'!$D$20<>\"\",\"B\",\"\"))","v":""},{"$f":"IF('Page 1'!$F$20<>\"\",\"24\",IF('Page 1'!$F$21<>\"\",\"20\",IF('Page 1'!$D$19<>\"\",IF('Page 1'!$F$22<>\"\",$X$21,\"\"),IF('Page 1'!$D$20<>\"\",IF('Page 1'!$F$22<>\"\",$X$24,\"\"),\"\"))))","v":""},{"$f":"IF('Page 1'!$H$19<>\"\",\"A\",IF('Page 1'!$H$20<>\"\",\"B\",IF('Page 1'!$H$21<>\"\",\"C\",\"\")))","v":""},{"$f":"IF('Page 1'!$K$20<>\"\",\"24\",IF('Page 1'!$K$21<>\"\",\"20\",IF($AC$21<>\"\",$AC$21,IF($AC$24<>\"\",$AC$24,IF($AC$27<>\"\",$AC$27,\"\")))))","v":""},{"$f":"IF('Page 1'!$M$19<>\"\",\"1\",IF('Page 1'!$M$20<>\"\",\"2\",IF('Page 1'!$M$21<>\"\",\"4\",\"\")))","v":""},null,null,null,null,{"$f":"IF('Page 1'!$C$47<>\"\",IF('Page 1'!$D$47<>\"\",CONCATENATE(B22,C22,D22,E22,F22,G22,H22,I22,J22,K22),\"\"),\"\")","v":""},{"$f":"IF('Page 1'!C47<>\"\",'Page 1'!C47,\"\")","v":""},null,{"$f":"IFERROR(VLOOKUP(LEFT(P22,20),Item_VIP!$A$2:$B$9000,1,FALSE),\"\")","v":""},null,null,null,null,null,"STD",{"$f":"IF('Page 1'!A47=\"06\",24,IF('Page 1'!A47=\"08\",24,IF('Page 1'!A47=\"10\",24,IF('Page 1'!A47=\"12\",24,IF('Page 1'!A47=\"14\",24,IF('Page 1'!A47=\"16\",24,IF('Page 1'!A47=\"18\",24,IF('Page 1'!A47=\"20\",24,IF('Page 1'!A47=\"22\",24,IF('Page 1'!A47=\"24\",24,IF('Page 1'!A47=\"26\",24,IF('Page 1'!A47=\"28\",20,IF('Page 1'!A47=\"30\",20,IF('Page 1'!A47=\"32\",20,IF('Page 1'!A47=\"34\",20,IF('Page 1'!A47=\"36\",20,IF('Page 1'!A47=\"38\",20,IF('Page 1'!A47=\"40\",20,IF('Page 1'!A47=\"42\",20,IF('Page 1'!A47=\"44\",20,IF('Page 1'!A47=\"46\",20,IF('Page 1'!A47=\"48\",20,\"\"))))))))))))))))))))))","v":""},"2\""]
[null,{"$f":"IF('Page 1'!$A$19<>\"\",\"V\",\"\")","v":""},{"$f":"IF('Page 1'!$A$47<>\"\",\"E\",\"\")","v":""},{"$f":"IF('Page 1'!$A$19<>\"\",\"-\",\"\")","v":""},{"$f":"IF('Page 1'!$A$19<>\"\",'Page 1'!$A$47,\"\")","v":""},{"$f":"IF('Page 1'!$C$48<>\"\",'Page 1'!D48,\"\")","v":""},{"$f":"IF('Page 1'!$D$19<>\"\",\"A\",IF('Page 1'!$D$20<>\"\",\"B\",\"\"))","v":""},{"$f":"IF('Page 1'!$F$20<>\"\",\"24\",IF('Page 1'!$F$21<>\"\",\"20\",IF('Page 1'!$D$19<>\"\",IF('Page 1'!$F$22<>\"\",$X$21,\"\"),IF('Page 1'!$D$20<>\"\",IF('Page 1'!$F$22<>\"\",$X$24,\"\"),\"\"))))","v":""},{"$f":"IF('Page 1'!$H$19<>\"\",\"A\",IF('Page 1'!$H$20<>\"\",\"B\",IF('Page 1'!$H$21<>\"\",\"C\",\"\")))","v":""},{"$f":"IF('Page 1'!$K$20<>\"\",\"24\",IF('Page 1'!$K$21<>\"\",\"20\",IF($AC$21<>\"\",$AC$21,IF($AC$24<>\"\",$AC$24,IF($AC$27<>\"\",$AC$27,\"\")))))","v":""},{"$f":"IF('Page 1'!$M$19<>\"\",\"1\",IF('Page 1'!$M$20<>\"\",\"2\",IF('Page 1'!$M$21<>\"\",\"4\",\"\")))","v":""},null,null,null,null,{"$f":"IF('Page 1'!$C$48<>\"\",CONCATENATE(B23,C23,D23,E23,F23,G23,H23,I23,J23,K23),\"\")","v":""},{"$f":"IF('Page 1'!C48<>\"\",'Page 1'!C48,\"\")","v":""},null,{"$f":"IFERROR(VLOOKUP(LEFT(P23,20),Item_VIP!$A$2:$B$9000,1,FALSE),\"\")","v":""},null,null,null,null,null,"STD",{"$f":"IF('Page 1'!A47=\"06\",26,IF('Page 1'!A47=\"08\",26,IF('Page 1'!A47=\"10\",24,IF('Page 1'!A47=\"12\",24,IF('Page 1'!A47=\"14\",24,IF('Page 1'!A47=\"16\",24,IF('Page 1'!A47=\"18\",24,IF('Page 1'!A47=\"20\",24,IF('Page 1'!A47=\"22\",20,IF('Page 1'!A47=\"24\",20,IF('Page 1'!A47=\"26\",20,IF('Page 1'!A47=\"28\",20,IF('Page 1'!A47=\"30\",20,IF('Page 1'!A47=\"32\",20,IF('Page 1'!A47=\"34\",20,IF('Page 1'!A47=\"36\",20,IF('Page 1'!A47=\"38\",20,IF('Page 1'!A47=\"40\",20,IF('Page 1'!A47=\"42\",20,IF('Page 1'!A47=\"44\",20,IF('Page 1'!A47=\"46\",20,IF('Page 1'!A47=\"48\",20,\"\"))))))))))))))))))))))","v":""},"4\""]
[null,{"$f":"IF('Page 1'!$A$19<>\"\",\"V\",\"\")","v":""},{"$f":"IF('Page 1'!$A$47<>\"\",\"E\",\"\")","v":""},{"$f":"IF('Page 1'!$A$19<>\"\",\"-\",\"\")","v":""},{"$f":"IF('Page 1'!$A$19<>\"\",'Page 1'!$A$47,\"\")","v":""},{"$f":"IF('Page 1'!$C$49<>\"\",'Page 1'!D49,\"\")","v":""},{"$f":"IF('Page 1'!$D$19<>\"\",\"A\",IF('Page 1'!$D$20<>\"\",\"B\",\"\"))","v":""},{"$f":"IF('Page 1'!$F$20<>\"\",\"24\",IF('Page 1'!$F$21<>\"\",\"20\",IF('Page 1'!$D$19<>\"\",IF('Page 1'!$F$22<>\"\",$X$21,\"\"),IF('Page 1'!$D$20<>\"\",IF('Page 1'!$F$22<>\"\",$X$24,\"\"),\"\"))))","v":""},{"$f":"IF('Page 1'!$H$19<>\"\",\"A\",IF('Page 1'!$H$20<>\"\",\"B\",IF('Page 1'!$H$21<>\"\",\"C\",\"\")))","v":""},{"$f":"IF('Page 1'!$K$20<>\"\",\"24\",IF('Page 1'!$K$21<>\"\",\"20\",IF($AC$21<>\"\",$AC$21,IF($AC$24<>\"\",$AC$24,IF($AC$27<>\"\",$AC$27,\"\")))))","v":""},{"$f":"IF('Page 1'!$M$19<>\"\",\"1\",IF('Page 1'!$M$20<>\"\",\"2\",IF('Page 1'!$M$21<>\"\",\"4\",\"\")))","v":""},null,null,null,null,{"$f":"IF('Page 1'!$C$49<>\"\",CONCATENATE(B24,C24,D24,E24,F24,G24,H24,I24,J24,K24),\"\")","v":""},{"$f":"IF('Page 1'!C49<>\"\",'Page 1'!C49,\"\")","v":""},null,{"$f":"IFERROR(VLOOKUP(LEFT(P24,20),Item_VIP!$A$2:$B$9000,1,FALSE),\"\")","v":""},null,null,"SS 316","STD",{"$f":"IF('Page 1'!A47=\"06\",24,IF('Page 1'!A47=\"08\",24,IF('Page 1'!A47=\"10\",24,IF('Page 1'!A47=\"12\",24,IF('Page 1'!A47=\"14\",24,IF('Page 1'!A47=\"16\",24,IF('Page 1'!A47=\"18\",24,IF('Page 1'!A47=\"20\",24,IF('Page 1'!A47=\"22\",24,IF('Page 1'!A47=\"24\",24,IF('Page 1'!A47=\"26\",24,IF('Page 1'!A47=\"28\",24,IF('Page 1'!A47=\"30\",20,IF('Page 1'!A47=\"32\",20,IF('Page 1'!A47=\"34\",20,IF('Page 1'!A47=\"36\",20,IF('Page 1'!A47=\"38\",20,IF('Page 1'!A47=\"40\",20,IF('Page 1'!A47=\"42\",20,IF('Page 1'!A47=\"44\",20,IF('Page 1'!A47=\"46\",20,IF('Page 1'!A47=\"48\",20,\"\"))))))))))))))))))))))","v":""},"STD",{"$f":"IF('Page 1'!A47=\"06\",24,IF('Page 1'!A47=\"08\",24,IF('Page 1'!A47=\"10\",24,IF('Page 1'!A47=\"12\",24,IF('Page 1'!A47=\"14\",24,IF('Page 1'!A47=\"16\",24,IF('Page 1'!A47=\"18\",24,IF('Page 1'!A47=\"24\",24,IF('Page 1'!A47=\"22\",24,IF('Page 1'!A47=\"24\",24,IF('Page 1'!A47=\"26\",24,IF('Page 1'!A47=\"28\",24,IF('Page 1'!A47=\"30\",20,IF('Page 1'!A47=\"32\",20,IF('Page 1'!A47=\"34\",20,IF('Page 1'!A47=\"36\",20,IF('Page 1'!A47=\"38\",20,IF('Page 1'!A47=\"40\",20,IF('Page 1'!A47=\"42\",20,IF('Page 1'!A47=\"44\",20,IF('Page 1'!A47=\"46\",20,IF('Page 1'!A47=\"48\",20,\"\"))))))))))))))))))))))","v":""},"1\"",null,{"$f":"IF('Page 1'!$H$20<>\"\",IF('Page 1'!$M$19<>\"\",IF('Page 1'!$K$22<>\"\",$Z$24,\"\"),IF('Page 1'!$H$20<>\"\",IF('Page 1'!$M$20<>\"\",IF('Page 1'!$K$22<>\"\",$Z$25,\"\"),IF('Page 1'!$H$20<>\"\",IF('Page 1'!$M$21<>\"\",IF('Page 1'!$K$22<>\"\",$Z$26,\"\"),\"\"))))),\"\")","v":""},"SI 1\" OU 2\" OU 4\""]
[null,{"$f":"IF('Page 1'!$A$19<>\"\",\"V\",\"\")","v":""},{"$f":"IF('Page 1'!$A$47<>\"\",\"E\",\"\")","v":""},{"$f":"IF('Page 1'!$A$19<>\"\",\"-\",\"\")","v":""},{"$f":"IF('Page 1'!$A$19<>\"\",'Page 1'!$A$47,\"\")","v":""},{"$f":"IF('Page 1'!$C$50<>\"\",'Page 1'!D50,\"\")","v":""},{"$f":"IF('Page 1'!$D$19<>\"\",\"A\",IF('Page 1'!$D$20<>\"\",\"B\",\"\"))","v":""},{"$f":"IF('Page 1'!$F$20<>\"\",\"24\",IF('Page 1'!$F$21<>\"\",\"20\",IF('Page 1'!$D$19<>\"\",IF('Page 1'!$F$22<>\"\",$X$21,\"\"),IF('Page 1'!$D$20<>\"\",IF('Page 1'!$F$22<>\"\",$X$24,\"\"),\"\"))))","v":""},{"$f":"IF('Page 1'!$H$19<>\"\",\"A\",IF('Page 1'!$H$20<>\"\",\"B\",IF('Page 1'!$H$21<>\"\",\"C\",\"\")))","v":""},{"$f":"IF('Page 1'!$K$20<>\"\",\"24\",IF('Page 1'!$K$21<>\"\",\"20\",IF($AC$21<>\"\",$AC$21,IF($AC$24<>\"\",$AC$24,IF($AC$27<>\"\",$AC$27,\"\")))))","v":""},{"$f":"IF('Page 1'!$M$19<>\"\",\"1\",IF('Page 1'!$M$20<>\"\",\"2\",IF('Page 1'!$M$21<>\"\",\"4\",\"\")))","v":""},null,null,null,null,{"$f":"IF('Page 1'!$C$50<>\"\",CONCATENATE(B25,C25,D25,E25,F25,G25,H25,I25,J25,K25),\"\")","v":""},{"$f":"IF('Page 1'!C50<>\"\",'Page 1'!C50,\"\")","v":""},null,{"$f":"IFERROR(VLOOKUP(LEFT(P25,20),Item_VIP!$A$2:$B$9000,1,FALSE),\"\")","v":""},null,null,null,null,null,"STD",{"$f":"IF('Page 1'!A47=\"06\",24,IF('Page 1'!A47=\"08\",24,IF('Page 1'!A47=\"10\",24,IF('Page 1'!A47=\"12\",24,IF('Page 1'!A47=\"14\",24,IF('Page 1'!A47=\"16\",24,IF('Page 1'!A47=\"18\",24,IF('Page 1'!A47=\"20\",24,IF('Page 1'!A47=\"22\",24,IF('Page 1'!A47=\"24\",24,IF('Page 1'!A47=\"26\",24,IF('Page 1'!A47=\"28\",20,IF('Page 1'!A47=\"30\",20,IF('Page 1'!A47=\"32\",20,IF('Page 1'!A47=\"34\",20,IF('Page 1'!A47=\"36\",20,IF('Page 1'!A47=\"38\",20,IF('Page 1'!A47=\"40\",20,IF('Page 1'!A47=\"42\",20,IF('Page 1'!A47=\"44\",20,IF('Page 1'!A47=\"46\",20,IF('Page 1'!A47=\"48\",20,\"\"))))))))))))))))))))))","v":""},"2\""]
[null,{"$f":"IF('Page 1'!$A$19<>\"\",\"V\",\"\")","v":""},{"$f":"IF('Page 1'!$A$52<>\"\",\"E\",\"\")","v":""},{"$f":"IF('Page 1'!$A$19<>\"\",\"-\",\"\")","v":""},{"$f":"IF('Page 1'!$A$19<>\"\",'Page 1'!$A$52,\"\")","v":""},{"$f":"IF('Page 1'!$C$52<>\"\",'Page 1'!D52,\"\")","v":""},{"$f":"IF('Page 1'!$D$19<>\"\",\"A\",IF('Page 1'!$D$20<>\"\",\"B\",\"\"))","v":""},{"$f":"IF('Page 1'!$F$21<>\"\",\"20\",IF('Page 1'!$D$19<>\"\",IF('Page 1'!$F$22<>\"\",$X$30,\"\"),IF('Page 1'!$D$20<>\"\",IF('Page 1'!$F$22<>\"\",$X$33,\"\"),\"\")))","v":""},{"$f":"IF('Page 1'!$H$19<>\"\",\"A\",IF('Page 1'!$H$20<>\"\",\"B\",IF('Page 1'!$H$21<>\"\",\"C\",\"\")))","v":""},{"$f":"IF('Page 1'!$K$20<>\"\",\"24\",IF('Page 1'!$K$21<>\"\",\"20\",IF($AC$30<>\"\",$AC$30,IF($AC$33<>\"\",$AC$33,IF($AC$36<>\"\",$AC$36,\"\")))))","v":""},{"$f":"IF('Page 1'!$M$19<>\"\",\"1\",IF('Page 1'!$M$20<>\"\",\"2\",IF('Page 1'!$M$21<>\"\",\"4\",\"\")))","v":""},null,null,null,null,{"$f":"IF('Page 1'!$C$52<>\"\",CONCATENATE(B26,C26,D26,E26,F26,G26,H26,I26,J26,K26),\"\")","v":""},{"$f":"IF('Page 1'!C52<>\"\",'Page 1'!C52,\"\")","v":""},null,{"$f":"IFERROR(VLOOKUP(LEFT(P26,20),Item_VIP!$A$2:$B$9000,1,FALSE),\"\")","v":""},null,null,null,null,null,"STD",{"$f":"IF('Page 1'!A47=\"06\",26,IF('Page 1'!A47=\"08\",26,IF('Page 1'!A47=\"10\",24,IF('Page 1'!A47=\"12\",24,IF('Page 1'!A47=\"14\",24,IF('Page 1'!A47=\"16\",24,IF('Page 1'!A47=\"18\",24,IF('Page 1'!A47=\"20\",24,IF('Page 1'!A47=\"22\",20,IF('Page 1'!A47=\"24\",20,IF('Page 1'!A47=\"26\",20,IF('Page 1'!A47=\"28\",20,IF('Page 1'!A47=\"30\",20,IF('Page 1'!A47=\"32\",20,IF('Page 1'!A47=\"34\",20,IF('Page 1'!A47=\"36\",20,IF('Page 1'!A47=\"38\",20,IF('Page 1'!A47=\"40\",20,IF('Page 1'!A47=\"42\",20,IF('Page 1'!A47=\"44\",20,IF('Page 1'!A47=\"46\",20,IF('Page 1'!A47=\"48\",20,\"\"))))))))))))))))))))))","v":""},"4\""]
[null,{"$f":"IF('Page 1'!$A$19<>\"\",\"V\",\"\")","v":""},{"$f":"IF('Page 1'!$A$52<>\"\",\"E\",\"\")","v":""},{"$f":"IF('Page 1'!$A$19<>\"\",\"-\",\"\")","v":""},{"$f":"IF('Page 1'!$A$19<>\"\",'Page 1'!$A$53,\"\")","v":""},{"$f":"IF('Page 1'!$C$53<>\"\",'Page 1'!D53,\"\")","v":""},{"$f":"IF('Page 1'!$D$19<>\"\",\"A\",IF('Page 1'!$D$20<>\"\",\"B\",\"\"))","v":""},{"$f":"IF('Page 1'!$F$21<>\"\",\"20\",IF('Page 1'!$D$19<>\"\",IF('Page 1'!$F$22<>\"\",$X$30,\"\"),IF('Page 1'!$D$20<>\"\",IF('Page 1'!$F$22<>\"\",$X$33,\"\"),\"\")))","v":""},{"$f":"IF('Page 1'!$H$19<>\"\",\"A\",IF('Page 1'!$H$20<>\"\",\"B\",IF('Page 1'!$H$21<>\"\",\"C\",\"\")))","v":""},{"$f":"IF('Page 1'!$K$20<>\"\",\"24\",IF('Page 1'!$K$21<>\"\",\"20\",IF($AC$30<>\"\",$AC$30,IF($AC$33<>\"\",$AC$33,IF($AC$36<>\"\",$AC$36,\"\")))))","v":""},{"$f":"IF('Page 1'!$M$19<>\"\",\"1\",IF('Page 1'!$M$20<>\"\",\"2\",IF('Page 1'!$M$21<>\"\",\"4\",\"\")))","v":""},{"$f":"IF('Page 1'!$B$53<>\"\",'Page 1'!$B$53,\"\")","v":""},null,null,null,{"$f":"IF('Page 1'!$C$53<>\"\",CONCATENATE(B27,C27,D27,E27,F27,G27,H27,I27,J27,K27,L27),\"\")","v":""},{"$f":"IF('Page 1'!C53<>\"\",'Page 1'!C53,\"\")","v":""},null,{"$f":"IFERROR(VLOOKUP(LEFT(P27,20),Item_VIP!$A$2:$B$9000,1,FALSE),\"\")","v":""},null,null,"GALVALUME STD",null,null,"GAL",{"$f":"IF('Page 1'!A47=\"06\",24,IF('Page 1'!A47=\"08\",24,IF('Page 1'!A47=\"10\",24,IF('Page 1'!A47=\"12\",24,IF('Page 1'!A47=\"14\",24,IF('Page 1'!A47=\"16\",24,IF('Page 1'!A47=\"18\",24,IF('Page 1'!A47=\"24\",24,IF('Page 1'!A47=\"22\",24,IF('Page 1'!A47=\"24\",24,IF('Page 1'!A47=\"26\",24,IF('Page 1'!A47=\"28\",24,IF('Page 1'!A47=\"30\",22,IF('Page 1'!A47=\"32\",22,IF('Page 1'!A47=\"34\",22,IF('Page 1'!A47=\"36\",22,IF('Page 1'!A47=\"38\",22,IF('Page 1'!A47=\"40\",22,IF('Page 1'!A47=\"42\",22,IF('Page 1'!A47=\"44\",22,IF('Page 1'!A47=\"46\",22,IF('Page 1'!A47=\"48\",22,\"\"))))))))))))))))))))))","v":""},"1\"",null,{"$f":"IF('Page 1'!$H$21<>\"\",IF('Page 1'!$M$19<>\"\",IF('Page 1'!$K$22<>\"\",$Z$27,\"\"),IF('Page 1'!$H$21<>\"\",IF('Page 1'!$M$20<>\"\",IF('Page 1'!$K$22<>\"\",$Z$28,\"\"),IF('Page 1'!$H$21<>\"\",IF('Page 1'!$M$21<>\"\",IF('Page 1'!$K$22<>\"\",$Z$29,\"\"),\"\"))))),\"\")","v":""},"SI 1\" OU 2\" OU 4\""]
[null,{"$f":"IF('Page 1'!$A$19<>\"\",\"V\",\"\")","v":""},{"$f":"IF('Page 1'!$A$52<>\"\",\"E\",\"\")","v":""},{"$f":"IF('Page 1'!$A$19<>\"\",\"-\",\"\")","v":""},{"$f":"IF('Page 1'!$A$19<>\"\",'Page 1'!$A$52,\"\")","v":""},{"$f":"IF('Page 1'!$C$54<>\"\",'Page 1'!D54,\"\")","v":""},{"$f":"IF('Page 1'!$D$19<>\"\",\"A\",IF('Page 1'!$D$20<>\"\",\"B\",\"\"))","v":""},{"$f":"IF('Page 1'!$F$21<>\"\",\"20\",IF('Page 1'!$D$19<>\"\",IF('Page 1'!$F$22<>\"\",$X$30,\"\"),IF('Page 1'!$D$20<>\"\",IF('Page 1'!$F$22<>\"\",$X$33,\"\"),\"\")))","v":""},{"$f":"IF('Page 1'!$H$19<>\"\",\"A\",IF('Page 1'!$H$20<>\"\",\"B\",IF('Page 1'!$H$21<>\"\",\"C\",\"\")))","v":""},{"$f":"IF('Page 1'!$K$20<>\"\",\"24\",IF('Page 1'!$K$21<>\"\",\"20\",IF($AC$30<>\"\",$AC$30,IF($AC$33<>\"\",$AC$33,IF($AC$36<>\"\",$AC$36,\"\")))))","v":""},{"$f":"IF('Page 1'!$M$19<>\"\",\"1\",IF('Page 1'!$M$20<>\"\",\"2\",IF('Page 1'!$M$21<>\"\",\"4\",\"\")))","v":""},null,null,null,null,{"$f":"IF('Page 1'!$C$54<>\"\",CONCATENATE(B28,C28,D28,E28,F28,G28,H28,I28,J28,K28),\"\")","v":""},{"$f":"IF('Page 1'!C54<>\"\",'Page 1'!C54,\"\")","v":""},null,{"$f":"IFERROR(VLOOKUP(LEFT(P28,20),Item_VIP!$A$2:$B$9000,1,FALSE),\"\")","v":""},null,null,null,null,null,"GAL",{"$f":"IF('Page 1'!A47=\"06\",24,IF('Page 1'!A47=\"08\",24,IF('Page 1'!A47=\"10\",24,IF('Page 1'!A47=\"12\",24,IF('Page 1'!A47=\"14\",24,IF('Page 1'!A47=\"16\",24,IF('Page 1'!A47=\"18\",24,IF('Page 1'!A47=\"24\",24,IF('Page 1'!A47=\"22\",24,IF('Page 1'!A47=\"24\",24,IF('Page 1'!A47=\"26\",24,IF('Page 1'!A47=\"28\",22,IF('Page 1'!A47=\"30\",22,IF('Page 1'!A47=\"32\",22,IF('Page 1'!A47=\"34\",22,IF('Page 1'!A47=\"36\",22,IF('Page 1'!A47=\"38\",22,IF('Page 1'!A47=\"40\",22,IF('Page 1'!A47=\"42\",22,IF('Page 1'!A47=\"44\",22,IF('Page 1'!A47=\"46\",22,IF('Page 1'!A47=\"48\",22,\"\"))))))))))))))))))))))","v":""},"2\""]
[null,{"$f":"IF('Page 1'!$A$19<>\"\",\"V\",\"\")","v":""},{"$f":"IF('Page 1'!$A$52<>\"\",\"E\",\"\")","v":""},{"$f":"IF('Page 1'!$A$19<>\"\",\"-\",\"\")","v":""},{"$f":"IF('Page 1'!$A$19<>\"\",'Page 1'!$A$55,\"\")","v":""},{"$f":"IF('Page 1'!$C$55<>\"\",'Page 1'!D55,\"\")","v":""},{"$f":"IF('Page 1'!$D$19<>\"\",\"A\",IF('Page 1'!$D$20<>\"\",\"B\",\"\"))","v":""},{"$f":"IF('Page 1'!$F$21<>\"\",\"20\",IF('Page 1'!$D$19<>\"\",IF('Page 1'!$F$22<>\"\",$X$30,\"\"),IF('Page 1'!$D$20<>\"\",IF('Page 1'!$F$22<>\"\",$X$33,\"\"),\"\")))","v":""},{"$f":"IF('Page 1'!$H$19<>\"\",\"A\",IF('Page 1'!$H$20<>\"\",\"B\",IF('Page 1'!$H$21<>\"\",\"C\",\"\")))","v":""},{"$f":"IF('Page 1'!$K$20<>\"\",\"24\",IF('Page 1'!$K$21<>\"\",\"20\",IF($AC$30<>\"\",$AC$30,IF($AC$33<>\"\",$AC$33,IF($AC$36<>\"\",$AC$36,\"\")))))","v":""},{"$f":"IF('Page 1'!$M$19<>\"\",\"1\",IF('Page 1'!$M$20<>\"\",\"2\",IF('Page 1'!$M$21<>\"\",\"4\",\"\")))","v":""},{"$f":"IF('Page 1'!$B$55<>\"\",'Page 1'!$B$55,\"\")","v":""},null,null,null,{"$f":"IF('Page 1'!$C$55<>\"\",CONCATENATE(B29,C29,D29,E29,F29,G29,H29,I29,J29,K29,L29),\"\")","v":""},{"$f":"IF('Page 1'!C55<>\"\",'Page 1'!C55,\"\")","v":""},null,{"$f":"IFERROR(VLOOKUP(LEFT(P29,20),Item_VIP!$A$2:$B$9000,1,FALSE),\"\")","v":""},null,null,null,null,null,"GAL",{"$f":"IF('Page 1'!A47=\"06\",24,IF('Page 1'!A47=\"08\",24,IF('Page 1'!A47=\"10\",24,IF('Page 1'!A47=\"12\",24,IF('Page 1'!A47=\"14\",24,IF('Page 1'!A47=\"16\",24,IF('Page 1'!A47=\"18\",22,IF('Page 1'!A47=\"24\",22,IF('Page 1'!A47=\"22\",22,IF('Page 1'!A47=\"24\",22,IF('Page 1'!A47=\"26\",22,IF('Page 1'!A47=\"28\",22,IF('Page 1'!A47=\"30\",22,IF('Page 1'!A47=\"32\",22,IF('Page 1'!A47=\"34\",22,IF('Page 1'!A47=\"36\",22,IF('Page 1'!A47=\"38\",22,IF('Page 1'!A47=\"40\",22,IF('Page 1'!A47=\"42\",22,IF('Page 1'!A47=\"44\",22,IF('Page 1'!A47=\"46\",22,IF('Page 1'!A47=\"48\",22,\"\"))))))))))))))))))))))","v":""},"4\""]
[null,{"$f":"IF('Page 1'!$A$19<>\"\",\"V\",\"\")","v":""},{"$f":"IF('Page 1'!$A$52<>\"\",\"E\",\"\")","v":""},{"$f":"IF('Page 1'!$A$19<>\"\",\"-\",\"\")","v":""},{"$f":"IF('Page 1'!$A$19<>\"\",'Page 1'!$A$52,\"\")","v":""},{"$f":"IF('Page 1'!$C$56<>\"\",'Page 1'!D56,\"\")","v":""},{"$f":"IF('Page 1'!$D$19<>\"\",\"A\",IF('Page 1'!$D$20<>\"\",\"B\",\"\"))","v":""},{"$f":"IF('Page 1'!$F$20<>\"\",\"20\",IF('Page 1'!$F$21<>\"\",\"20\",IF('Page 1'!$D$19<>\"\",IF('Page 1'!$F$22<>\"\",$X$39,\"\"),IF('Page 1'!$D$20<>\"\",IF('Page 1'!$F$22<>\"\",$X$40,\"\"),\"\"))))","v":""},{"$f":"IF(G30<>\"\",G30,\"\")","v":""},{"$f":"IF(H30<>\"\",H30,\"\")","v":""},{"$f":"IF('Page 1'!$M$19<>\"\",\"1\",IF('Page 1'!$M$20<>\"\",\"2\",IF('Page 1'!$M$21<>\"\",\"4\",\"\")))","v":""},null,null,null,null,{"$f":"IF('Page 1'!$C$56<>\"\",CONCATENATE(B30,C30,D30,E30,F30,G30,H30,I30,J30,K30),\"\")","v":""},{"$f":"IF('Page 1'!C56<>\"\",'Page 1'!C56,\"\")","v":""},null,{"$f":"IFERROR(VLOOKUP(LEFT(P30,20),Item_VIP!$A$2:$B$9000,1,FALSE),\"\")","v":""},null,"TEE","SS 304","STD",{"$f":"IF('Page 1'!A52=\"06\",20,IF('Page 1'!A52=\"08\",20,IF('Page 1'!A52=\"10\",20,IF('Page 1'!A52=\"12\",20,IF('Page 1'!A52=\"14\",20,IF('Page 1'!A52=\"16\",20,IF('Page 1'!A52=\"18\",20,IF('Page 1'!A52=\"20\",20,IF('Page 1'!A52=\"22\",20,IF('Page 1'!A52=\"24\",20,IF('Page 1'!A52=\"26\",20,IF('Page 1'!A52=\"28\",20,IF('Page 1'!A52=\"30\",20,IF('Page 1'!A52=\"32\",20,IF('Page 1'!A52=\"34\",20,IF('Page 1'!A52=\"36\",20,IF('Page 1'!A52=\"38\",20,IF('Page 1'!A52=\"40\",20,IF('Page 1'!A52=\"42\",20,IF('Page 1'!A52=\"44\",20,IF('Page 1'!A52=\"46\",20,IF('Page 1'!A52=\"48\",20,\"\"))))))))))))))))))))))","v":""},"STD",{"$f":"IF('Page 1'!A52=\"06\",24,IF('Page 1'!A52=\"08\",24,IF('Page 1'!A52=\"10\",24,IF('Page 1'!A52=\"12\",24,IF('Page 1'!A52=\"14\",24,IF('Page 1'!A52=\"16\",24,IF('Page 1'!A52=\"18\",24,IF('Page 1'!A52=\"20\",24,IF('Page 1'!A52=\"22\",24,IF('Page 1'!A52=\"24\",20,IF('Page 1'!A52=\"26\",20,IF('Page 1'!A52=\"28\",20,IF('Page 1'!A52=\"30\",20,IF('Page 1'!A52=\"32\",20,IF('Page 1'!A52=\"34\",20,IF('Page 1'!A52=\"36\",20,IF('Page 1'!A52=\"38\",20,IF('Page 1'!A52=\"40\",20,IF('Page 1'!A52=\"42\",20,IF('Page 1'!A52=\"44\",20,IF('Page 1'!A52=\"46\",20,IF('Page 1'!A52=\"48\",20,\"\"))))))))))))))))))))))","v":""},"1\"",null,{"$f":"IF('Page 1'!$H$19<>\"\",IF('Page 1'!$M$19<>\"\",IF('Page 1'!$K$22<>\"\",$Z$30,\"\"),IF('Page 1'!$H$19<>\"\",IF('Page 1'!$M$20<>\"\",IF('Page 1'!$K$22<>\"\",$Z$31,\"\"),IF('Page 1'!$H$19<>\"\",IF('Page 1'!$M$21<>\"\",IF('Page 1'!$K$22<>\"\",$Z$32,\"\"),\"\"))))),\"\")","v":""},"SI 1\" OU 2\" OU 4\""]
[null,{"$f":"IF('Page 1'!$A$19<>\"\",\"V\",\"\")","v":""},{"$f":"IF('Page 1'!$A$52<>\"\",\"E\",\"\")","v":""},{"$f":"IF('Page 1'!$A$19<>\"\",\"-\",\"\")","v":""},{"$f":"IF('Page 1'!$A$19<>\"\",'Page 1'!$A$52,\"\")","v":""},{"$f":"IF('Page 1'!$C$57<>\"\",'Page 1'!D57,\"\")","v":""},{"$f":"IF('Page 1'!$D$19<>\"\",\"A\",IF('Page 1'!$D$20<>\"\",\"B\",\"\"))","v":""},{"$f":"IF('Page 1'!$F$20<>\"\",\"20\",IF('Page 1'!$F$21<>\"\",\"20\",IF('Page 1'!$D$19<>\"\",IF('Page 1'!$F$22<>\"\",$X$39,\"\"),IF('Page 1'!$D$20<>\"\",IF('Page 1'!$F$22<>\"\",$X$40,\"\"),\"\"))))","v":""},{"$f":"IF(G31<>\"\",G31,\"\")","v":""},{"$f":"IF(H31<>\"\",H31,\"\")","v":""},{"$f":"IF('Page 1'!$M$19<>\"\",\"1\",IF('Page 1'!$M$20<>\"\",\"2\",IF('Page 1'!$M$21<>\"\",\"4\",\"\")))","v":""},null,null,null,null,{"$f":"IF('Page 1'!$C$57<>\"\",CONCATENATE(B31,C31,D31,E31,F31,G31,H31,I31,J31,K31),\"\")","v":""},{"$f":"IF('Page 1'!C57<>\"\",'Page 1'!C57,\"\")","v":""},null,{"$f":"IFERROR(VLOOKUP(LEFT(P31,20),Item_VIP!$A$2:$B$9000,1,FALSE),\"\")","v":""},null,null,null,null,null,"STD",{"$f":"IF('Page 1'!A52=\"06\",24,IF('Page 1'!A52=\"08\",24,IF('Page 1'!A52=\"10\",24,IF('Page 1'!A52=\"12\",24,IF('Page 1'!A52=\"14\",24,IF('Page 1'!A52=\"16\",24,IF('Page 1'!A52=\"18\",24,IF('Page 1'!A52=\"20\",24,IF('Page 1'!A52=\"22\",24,IF('Page 1'!A52=\"24\",24,IF('Page 1'!A52=\"26\",20,IF('Page 1'!A52=\"28\",20,IF('Page 1'!A52=\"30\",20,IF('Page 1'!A52=\"32\",20,IF('Page 1'!A52=\"34\",20,IF('Page 1'!A52=\"36\",20,IF('Page 1'!A52=\"38\",20,IF('Page 1'!A52=\"40\",20,IF('Page 1'!A52=\"42\",20,IF('Page 1'!A52=\"44\",20,IF('Page 1'!A52=\"46\",20,IF('Page 1'!A52=\"48\",20,\"\"))))))))))))))))))))))","v":""},"2\""]
[null,{"$f":"IF('Page 1'!$A$19<>\"\",\"V\",\"\")","v":""},{"$f":"IF('Page 1'!$A$59<>\"\",\"F\",\"\")","v":""},{"$f":"IF('Page 1'!$A$19<>\"\",\"-\",\"\")","v":""},{"$f":"$C$5","v":""},{"$f":"IF('Page 1'!$C$59<>\"\",'Page 1'!D59,\"\")","v":""},{"$f":"IF('Page 1'!C59<>\"\",\"0\",\"\")","v":""},{"$f":"IF('Page 1'!C59<>\"\",\"00\",\"\")","v":""},{"$f":"IF('Page 1'!G59<>\"\",\"A\",\"C\")","v":"C"},{"$f":"IF(I32=\"C\",IF('Page 1'!$M$19<>\"\",$Z$44,IF('Page 1'!$M$20<>\"\",$Z$45,IF('Page 1'!$M$21<>\"\",$Z$46,\"\"))),IF(I32=\"A\",IF('Page 1'!$M$19<>\"\",$Z$41,IF('Page 1'!$M$20<>\"\",$Z$42,IF('Page 1'!$M$21<>\"\",$Z$43,\"\")))))","v":""},{"$f":"IF('Page 1'!$M$19<>\"\",\"1\",IF('Page 1'!$M$20<>\"\",\"1\",IF('Page 1'!$M$21<>\"\",\"1\",\"\")))","v":""},null,null,null,null,{"$f":"IF('Page 1'!$C$59<>\"\",CONCATENATE(B32,C32,D32,E32,F32,G32,H32,I32,J32,K32),\"\")","v":""},{"$f":"IF('Page 1'!C59<>\"\",'Page 1'!C59,\"\")","v":""},null,{"$f":"IFERROR(VLOOKUP(LEFT(P32,20),Item_VIP!$A$2:$B$9000,1,FALSE),\"\")","v":""},null,null,null,null,null,"STD",{"$f":"IF('Page 1'!A52=\"06\",26,IF('Page 1'!A52=\"08\",26,IF('Page 1'!A52=\"10\",24,IF('Page 1'!A52=\"12\",24,IF('Page 1'!A52=\"14\",24,IF('Page 1'!A52=\"16\",20,IF('Page 1'!A52=\"18\",20,IF('Page 1'!A52=\"20\",20,IF('Page 1'!A52=\"22\",20,IF('Page 1'!A52=\"24\",20,IF('Page 1'!A52=\"26\",20,IF('Page 1'!A52=\"28\",20,IF('Page 1'!A52=\"30\",20,IF('Page 1'!A52=\"32\",20,IF('Page 1'!A52=\"34\",20,IF('Page 1'!A52=\"36\",20,IF('Page 1'!A52=\"38\",20,IF('Page 1'!A52=\"40\",20,IF('Page 1'!A52=\"42\",20,IF('Page 1'!A52=\"44\",20,IF('Page 1'!A52=\"46\",20,IF('Page 1'!A52=\"48\",20,\"\"))))))))))))))))))))))","v":""},"4\""]
[null,{"$f":"IF('Page 1'!$A$19<>\"\",\"V\",\"\")","v":""},{"$f":"IF('Page 1'!$A$59<>\"\",\"F\",\"\")","v":""},{"$f":"IF('Page 1'!$A$19<>\"\",\"-\",\"\")","v":""},"",{"$f":"IF('Page 1'!$C$60<>\"\",'Page 1'!D60,\"\")","v":""},{"$f":"IF('Page 1'!C60<>\"\",\"0\",\"\")","v":""},{"$f":"IF('Page 1'!C60<>\"\",\"00\",\"\")","v":""},{"$f":"IF('Page 1'!G60<>\"\",\"A\",\"C\")","v":"C"},{"$f":"IF(I33=\"C\",IF('Page 1'!$M$19<>\"\",$Z$47,IF('Page 1'!$M$20<>\"\",$Z$48,IF('Page 1'!$M$21<>\"\",$Z$49,\"\"))),IF(I33=\"A\",IF('Page 1'!$M$19<>\"\",$Z$41,IF('Page 1'!$M$20<>\"\",$Z$42,IF('Page 1'!$M$21<>\"\",$Z$43,\"\")))))","v":""},{"$f":"IF('Page 1'!$M$19<>\"\",\"1\",IF('Page 1'!$M$20<>\"\",\"1\",IF('Page 1'!$M$21<>\"\",\"1\",\"\")))","v":""},null,null,null,null,{"$f":"IF('Page 1'!$C$60<>\"\",CONCATENATE(B33,C33,D33,E33,F33,G33,H33,I33,J33,K33,L33),\"\")","v":""},{"$f":"IF('Page 1'!C60<>\"\",'Page 1'!C60,\"\")","v":""},null,{"$f":"IFERROR(VLOOKUP(LEFT(P33,20),Item_VIP!$A$2:$B$9000,1,FALSE),\"\")","v":""},null,null,"SS 316","STD",{"$f":"IF('Page 1'!A52=\"06\",20,IF('Page 1'!A52=\"08\",20,IF('Page 1'!A52=\"10\",20,IF('Page 1'!A52=\"12\",20,IF('Page 1'!A52=\"14\",20,IF('Page 1'!A52=\"16\",20,IF('Page 1'!A52=\"18\",20,IF('Page 1'!A52=\"20\",20,IF('Page 1'!A52=\"22\",20,IF('Page 1'!A52=\"24\",20,IF('Page 1'!A52=\"26\",20,IF('Page 1'!A52=\"28\",20,IF('Page 1'!A52=\"30\",20,IF('Page 1'!A52=\"32\",20,IF('Page 1'!A52=\"34\",20,IF('Page 1'!A52=\"36\",20,IF('Page 1'!A52=\"38\",20,IF('Page 1'!A52=\"40\",20,IF('Page 1'!A52=\"42\",20,IF('Page 1'!A52=\"44\",20,IF('Page 1'!A52=\"46\",20,IF('Page 1'!A52=\"48\",20,\"\"))))))))))))))))))))))","v":""},"STD",{"$f":"IF('Page 1'!A52=\"06\",24,IF('Page 1'!A52=\"08\",24,IF('Page 1'!A52=\"10\",24,IF('Page 1'!A52=\"12\",24,IF('Page 1'!A52=\"14\",24,IF('Page 1'!A52=\"16\",24,IF('Page 1'!A52=\"18\",24,IF('Page 1'!A52=\"20\",24,IF('Page 1'!A52=\"22\",24,IF('Page 1'!A52=\"24\",20,IF('Page 1'!A52=\"26\",20,IF('Page 1'!A52=\"28\",20,IF('Page 1'!A52=\"30\",20,IF('Page 1'!A52=\"32\",20,IF('Page 1'!A52=\"34\",20,IF('Page 1'!A52=\"36\",20,IF('Page 1'!A52=\"38\",20,IF('Page 1'!A52=\"40\",20,IF('Page 1'!A52=\"42\",20,IF('Page 1'!A52=\"44\",20,IF('Page 1'!A52=\"46\",20,IF('Page 1'!A52=\"48\",20,\"\"))))))))))))))))))))))","v":""},"1\"",null,{"$f":"IF('Page 1'!$H$20<>\"\",IF('Page 1'!$M$19<>\"\",IF('Page 1'!$K$22<>\"\",$Z$33,\"\"),IF('Page 1'!$H$20<>\"\",IF('Page 1'!$M$20<>\"\",IF('Page 1'!$K$22<>\"\",$Z$34,\"\"),IF('Page 1'!$H$20<>\"\",IF('Page 1'!$M$21<>\"\",IF('Page 1'!$K$22<>\"\",$Z$35,\"\"),\"\"))))),\"\")","v":""},"SI 1\" OU 2\" OU 4\""]
[null,{"$f":"IF('Page 1'!$A$19<>\"\",\"V\",\"\")","v":""},{"$f":"IF('Page 1'!$A$59<>\"\",\"F\",\"\")","v":""},{"$f":"IF('Page 1'!$A$19<>\"\",\"-\",\"\")","v":""},"",{"$f":"IF('Page 1'!$C$61<>\"\",'Page 1'!D61,\"\")","v":""},{"$f":"IF('Page 1'!C61<>\"\",\"0\",\"\")","v":""},{"$f":"IF('Page 1'!C61<>\"\",\"00\",\"\")","v":""},{"$f":"IF('Page 1'!G61<>\"\",\"A\",\"C\")","v":"C"},{"$f":"IF(I34=\"C\",IF('Page 1'!$M$19<>\"\",$Z$47,IF('Page 1'!$M$20<>\"\",$Z$48,IF('Page 1'!$M$21<>\"\",$Z$49,\"\"))),IF(I34=\"A\",IF('Page 1'!$M$19<>\"\",$Z$41,IF('Page 1'!$M$20<>\"\",$Z$42,IF('Page 1'!$M$21<>\"\",$Z$43,\"\")))))","v":""},{"$f":"IF('Page 1'!$M$19<>\"\",\"1\",IF('Page 1'!$M$20<>\"\",\"1\",IF('Page 1'!$M$21<>\"\",\"1\",\"\")))","v":""},null,null,null,null,{"$f":"IF('Page 1'!$C$61<>\"\",CONCATENATE(B34,C34,D34,E34,F34,G34,H34,I34,J34,K34),\"\")","v":""},{"$f":"IF('Page 1'!C61<>\"\",'Page 1'!C61,\"\")","v":""},null,{"$f":"IFERROR(VLOOKUP(LEFT(P34,20),Item_VIP!$A$2:$B$9000,1,FALSE),\"\")","v":""},null,null,null,null,null,"STD",{"$f":"IF('Page 1'!A52=\"06\",24,IF('Page 1'!A52=\"08\",24,IF('Page 1'!A52=\"10\",24,IF('Page 1'!A52=\"12\",24,IF('Page 1'!A52=\"14\",24,IF('Page 1'!A52=\"16\",24,IF('Page 1'!A52=\"18\",24,IF('Page 1'!A52=\"20\",24,IF('Page 1'!A52=\"22\",24,IF('Page 1'!A52=\"24\",24,IF('Page 1'!A52=\"26\",20,IF('Page 1'!A52=\"28\",20,IF('Page 1'!A52=\"30\",20,IF('Page 1'!A52=\"32\",20,IF('Page 1'!A52=\"34\",20,IF('Page 1'!A52=\"36\",20,IF('Page 1'!A52=\"38\",20,IF('Page 1'!A52=\"40\",20,IF('Page 1'!A52=\"42\",20,IF('Page 1'!A52=\"44\",20,IF('Page 1'!A52=\"46\",20,IF('Page 1'!A52=\"48\",20,\"\"))))))))))))))))))))))","v":""},"2\""]
[null,{"$f":"IF('Page 1'!$A$19<>\"\",\"V\",\"\")","v":""},{"$f":"IF('Page 1'!$A$59<>\"\",\"M\",\"\")","v":""},{"$f":"IF('Page 1'!$A$19<>\"\",\"-\",\"\")","v":""},"",{"$f":"IF('Page 1'!$C$62<>\"\",'Page 1'!D62,\"\")","v":""},{"$f":"IF('Page 1'!C62<>\"\",\"0\",\"\")","v":""},{"$f":"IF('Page 1'!C62<>\"\",\"00\",\"\")","v":""},{"$f":"IF('Page 1'!G62<>\"\",\"A\",\"C\")","v":"C"},{"$f":"IF(I35=\"C\",IF('Page 1'!$M$19<>\"\",$Z$53,IF('Page 1'!$M$20<>\"\",$Z$54,IF('Page 1'!$M$21<>\"\",$Z$55,\"\"))),IF(I35=\"A\",IF('Page 1'!$M$19<>\"\",$Z$50,IF('Page 1'!$M$20<>\"\",$Z$51,IF('Page 1'!$M$21<>\"\",$Z$52,\"\")))))","v":""},{"$f":"IF('Page 1'!$M$19<>\"\",\"1\",IF('Page 1'!$M$20<>\"\",\"1\",IF('Page 1'!$M$21<>\"\",\"1\",\"\")))","v":""},null,null,null,null,{"$f":"IF('Page 1'!$C$62<>\"\",CONCATENATE(B35,C35,D35,E35,F35,G35,H35,I35,J35,K35,L35),\"\")","v":""},{"$f":"IF('Page 1'!C62<>\"\",'Page 1'!C62,\"\")","v":""},null,{"$f":"IFERROR(VLOOKUP(LEFT(P35,20),Item_VIP!$A$2:$B$9000,1,FALSE),\"\")","v":""},null,null,null,null,null,"STD",{"$f":"IF('Page 1'!A52=\"06\",26,IF('Page 1'!A52=\"08\",26,IF('Page 1'!A52=\"10\",24,IF('Page 1'!A52=\"12\",24,IF('Page 1'!A52=\"14\",24,IF('Page 1'!A52=\"16\",24,IF('Page 1'!A52=\"18\",24,IF('Page 1'!A52=\"20\",24,IF('Page 1'!A52=\"22\",20,IF('Page 1'!A52=\"24\",20,IF('Page 1'!A52=\"26\",20,IF('Page 1'!A52=\"28\",20,IF('Page 1'!A52=\"30\",20,IF('Page 1'!A52=\"32\",20,IF('Page 1'!A52=\"34\",20,IF('Page 1'!A52=\"36\",20,IF('Page 1'!A52=\"38\",20,IF('Page 1'!A52=\"40\",20,IF('Page 1'!A52=\"42\",20,IF('Page 1'!A52=\"44\",20,IF('Page 1'!A52=\"46\",20,IF('Page 1'!A52=\"48\",20,\"\"))))))))))))))))))))))","v":""},"4\""]
[null,{"$f":"IF('Page 1'!$A$19<>\"\",\"V\",\"\")","v":""},{"$f":"IF('Page 1'!$H$36<>\"\",\"M\",\"\")","v":""},{"$f":"IF('Page 1'!$A$19<>\"\",\"-\",\"\")","v":""},"",{"$f":"IF('Page 1'!J36<>\"\",'Page 1'!K36,\"\")","v":""},{"$f":"IF('Page 1'!J36<>\"\",\"0\",\"\")","v":""},{"$f":"IF('Page 1'!J36<>\"\",\"00\",\"\")","v":""},{"$f":"IF('Page 1'!N36<>\"\",\"A\",\"C\")","v":"C"},{"$f":"IF(I36=\"C\",IF('Page 1'!$M$19<>\"\",$Z$59,IF('Page 1'!$M$20<>\"\",$Z$60,IF('Page 1'!$M$21<>\"\",$Z$61,\"\"))),IF(I36=\"A\",IF('Page 1'!$M$19<>\"\",$Z$56,IF('Page 1'!$M$20<>\"\",$Z$57,IF('Page 1'!$M$21<>\"\",$Z$58,\"\")))))","v":""},{"$f":"IF('Page 1'!$M$19<>\"\",\"1\",IF('Page 1'!$M$20<>\"\",\"1\",IF('Page 1'!$M$21<>\"\",\"1\",\"\")))","v":""},null,null,null,null,{"$f":"IF('Page 1'!$J$36<>\"\",CONCATENATE(B36,C36,D36,E36,F36,G36,H36,I36,J36,K36,L36),\"\")","v":""},{"$f":"IF('Page 1'!J36<>\"\",'Page 1'!J36,\"\")","v":""},null,{"$f":"IFERROR(VLOOKUP(LEFT(P36,20),Item_VIP!$A$2:$B$9000,1,FALSE),\"\")","v":""},null,null,"GALVALUME STD",null,null,"GAL",{"$f":"IF('Page 1'!A52=\"06\",24,IF('Page 1'!A52=\"08\",24,IF('Page 1'!A52=\"10\",24,IF('Page 1'!A52=\"12\",24,IF('Page 1'!A52=\"14\",24,IF('Page 1'!A52=\"16\",24,IF('Page 1'!A52=\"18\",24,IF('Page 1'!A52=\"20\",24,IF('Page 1'!A52=\"22\",24,IF('Page 1'!A52=\"24\",22,IF('Page 1'!A52=\"26\",22,IF('Page 1'!A52=\"28\",22,IF('Page 1'!A52=\"30\",22,IF('Page 1'!A52=\"32\",22,IF('Page 1'!A52=\"34\",22,IF('Page 1'!A52=\"36\",22,IF('Page 1'!A52=\"38\",22,IF('Page 1'!A52=\"40\",22,IF('Page 1'!A52=\"42\",22,IF('Page 1'!A52=\"44\",22,IF('Page 1'!A52=\"46\",22,IF('Page 1'!A52=\"48\",20,\"\"))))))))))))))))))))))","v":""},"1\"",null,{"$f":"IF('Page 1'!$H$21<>\"\",IF('Page 1'!$M$19<>\"\",IF('Page 1'!$K$22<>\"\",$Z$36,\"\"),IF('Page 1'!$H$21<>\"\",IF('Page 1'!$M$20<>\"\",IF('Page 1'!$K$22<>\"\",$Z$37,\"\"),IF('Page 1'!$H$21<>\"\",IF('Page 1'!$M$21<>\"\",IF('Page 1'!$K$22<>\"\",$Z$38,\"\"),\"\"))))),\"\")","v":""},"SI 1\" OU 2\" OU 4\""]
[null,{"$f":"IF('Page 1'!$A$19<>\"\",\"V\",\"\")","v":""},{"$f":"IF('Page 1'!$H$36<>\"\",\"M\",\"\")","v":""},{"$f":"IF('Page 1'!$A$19<>\"\",\"-\",\"\")","v":""},"",{"$f":"IF('Page 1'!J37<>\"\",'Page 1'!K37,\"\")","v":""},{"$f":"IF('Page 1'!J37<>\"\",\"0\",\"\")","v":""},{"$f":"IF('Page 1'!J37<>\"\",\"00\",\"\")","v":""},{"$f":"IF('Page 1'!N37<>\"\",\"A\",\"C\")","v":"C"},{"$f":"IF(I37=\"C\",IF('Page 1'!$M$19<>\"\",$Z$59,IF('Page 1'!$M$20<>\"\",$Z$60,IF('Page 1'!$M$21<>\"\",$Z$61,\"\"))),IF(I37=\"A\",IF('Page 1'!$M$19<>\"\",$Z$56,IF('Page 1'!$M$20<>\"\",$Z$57,IF('Page 1'!$M$21<>\"\",$Z$58,\"\")))))","v":""},{"$f":"IF('Page 1'!$M$19<>\"\",\"1\",IF('Page 1'!$M$20<>\"\",\"1\",IF('Page 1'!$M$21<>\"\",\"1\",\"\")))","v":""},null,null,null,null,{"$f":"IF('Page 1'!$J$37<>\"\",CONCATENATE(B37,C37,D37,E37,F37,G37,H37,I37,J37,K37,L37),\"\")","v":""},{"$f":"IF('Page 1'!J37<>\"\",'Page 1'!J37,\"\")","v":""},null,{"$f":"IFERROR(VLOOKUP(LEFT(P37,20),Item_VIP!$A$2:$B$9000,1,FALSE),\"\")","v":""},null,null,null,null,null,"GAL",{"$f":"IF('Page 1'!A52=\"06\",24,IF('Page 1'!A52=\"08\",24,IF('Page 1'!A52=\"10\",24,IF('Page 1'!A52=\"12\",24,IF('Page 1'!A52=\"14\",24,IF('Page 1'!A52=\"16\",24,IF('Page 1'!A52=\"18\",24,IF('Page 1'!A52=\"20\",24,IF('Page 1'!A52=\"22\",24,IF('Page 1'!A52=\"24\",24,IF('Page 1'!A52=\"26\",22,IF('Page 1'!A52=\"28\",22,IF('Page 1'!A52=\"30\",22,IF('Page 1'!A52=\"32\",22,IF('Page 1'!A52=\"34\",22,IF('Page 1'!A52=\"36\",22,IF('Page 1'!A52=\"38\",22,IF('Page 1'!A52=\"40\",22,IF('Page 1'!A52=\"42\",22,IF('Page 1'!A52=\"44\",22,IF('Page 1'!A52=\"46\",22,IF('Page 1'!A52=\"48\",22,\"\"))))))))))))))))))))))","v":""},"2\""]
[null,{"$f":"IF('Page 1'!$A$19<>\"\",\"V\",\"\")","v":""},{"$f":"IF('Page 1'!$H$36<>\"\",\"M\",\"\")","v":""},{"$f":"IF('Page 1'!$A$19<>\"\",\"-\",\"\")","v":""},"",{"$f":"IF('Page 1'!J38<>\"\",'Page 1'!K38,\"\")","v":""},{"$f":"IF('Page 1'!J38<>\"\",\"0\",\"\")","v":""},{"$f":"IF('Page 1'!J38<>\"\",\"00\",\"\")","v":""},{"$f":"IF('Page 1'!N38<>\"\",\"A\",\"C\")","v":"C"},{"$f":"IF(I38=\"C\",IF('Page 1'!$M$19<>\"\",$Z$59,IF('Page 1'!$M$20<>\"\",$Z$60,IF('Page 1'!$M$21<>\"\",$Z$61,\"\"))),IF(I38=\"A\",IF('Page 1'!$M$19<>\"\",$Z$56,IF('Page 1'!$M$20<>\"\",$Z$57,IF('Page 1'!$M$21<>\"\",$Z$58,\"\")))))","v":""},{"$f":"IF('Page 1'!$M$19<>\"\",\"1\",IF('Page 1'!$M$20<>\"\",\"1\",IF('Page 1'!$M$21<>\"\",\"1\",\"\")))","v":""},null,null,null,null,{"$f":"IF('Page 1'!$J$38<>\"\",CONCATENATE(B38,C38,D38,E38,F38,G38,H38,I38,J38,K38,L38),\"\")","v":""},{"$f":"IF('Page 1'!J38<>\"\",'Page 1'!J38,\"\")","v":""},null,{"$f":"IFERROR(VLOOKUP(LEFT(P38,20),Item_VIP!$A$2:$B$9000,1,FALSE),\"\")","v":""},null,null,null,null,null,"GAL",{"$f":"IF('Page 1'!A52=\"06\",26,IF('Page 1'!A52=\"08\",26,IF('Page 1'!A52=\"10\",24,IF('Page 1'!A52=\"12\",24,IF('Page 1'!A52=\"14\",24,IF('Page 1'!A52=\"16\",22,IF('Page 1'!A52=\"18\",22,IF('Page 1'!A52=\"20\",22,IF('Page 1'!A52=\"22\",22,IF('Page 1'!A52=\"24\",22,IF('Page 1'!A52=\"26\",22,IF('Page 1'!A52=\"28\",22,IF('Page 1'!A52=\"30\",22,IF('Page 1'!A52=\"32\",22,IF('Page 1'!A52=\"34\",22,IF('Page 1'!A52=\"36\",22,IF('Page 1'!A52=\"38\",22,IF('Page 1'!A52=\"40\",22,IF('Page 1'!A52=\"42\",22,IF('Page 1'!A52=\"44\",22,IF('Page 1'!A52=\"46\",20,IF('Page 1'!A52=\"48\",22,\"\"))))))))))))))))))))))","v":""},"4\""]
[null,{"$f":"IF('Page 1'!$A$19<>\"\",\"V\",\"\")","v":""},{"$f":"IF('Page 1'!$H$36<>\"\",\"M\",\"\")","v":""},{"$f":"IF('Page 1'!$A$19<>\"\",\"-\",\"\")","v":""},"",{"$f":"IF('Page 1'!J39<>\"\",'Page 1'!K39,\"\")","v":""},{"$f":"IF('Page 1'!J39<>\"\",\"0\",\"\")","v":""},{"$f":"IF('Page 1'!J39<>\"\",\"00\",\"\")","v":""},{"$f":"IF('Page 1'!N39<>\"\",\"A\",\"C\")","v":"C"},{"$f":"IF(I39=\"C\",IF('Page 1'!$M$19<>\"\",$Z$59,IF('Page 1'!$M$20<>\"\",$Z$60,IF('Page 1'!$M$21<>\"\",$Z$61,\"\"))),IF(I39=\"A\",IF('Page 1'!$M$19<>\"\",$Z$56,IF('Page 1'!$M$20<>\"\",$Z$57,IF('Page 1'!$M$21<>\"\",$Z$58,\"\")))))","v":""},{"$f":"IF('Page 1'!$M$19<>\"\",\"1\",IF('Page 1'!$M$20<>\"\",\"1\",IF('Page 1'!$M$21<>\"\",\"1\",\"\")))","v":""},null,null,null,null,{"$f":"IF('Page 1'!$J$39<>\"\",CONCATENATE(B39,C39,D39,E39,F39,G39,H39,I39,J39,K39,L39),\"\")","v":""},{"$f":"IF('Page 1'!J39<>\"\",'Page 1'!J39,\"\")","v":""},null,{"$f":"IFERROR(VLOOKUP(LEFT(P39,20),Item_VIP!$A$2:$B$9000,1,FALSE),\"\")","v":""},null,"TEE","SS 304","STD",{"$f":"IF('Page 1'!A56=\"06\",24,IF('Page 1'!A56=\"08\",24,IF('Page 1'!A56=\"10\",24,IF('Page 1'!A56=\"12\",24,IF('Page 1'!A56=\"14\",24,IF('Page 1'!A56=\"16\",24,IF('Page 1'!A56=\"18\",24,IF('Page 1'!A56=\"20\",24,IF('Page 1'!A56=\"22\",24,IF('Page 1'!A56=\"24\",24,IF('Page 1'!A56=\"26\",24,IF('Page 1'!A56=\"28\",24,IF('Page 1'!A56=\"30\",20,IF('Page 1'!A56=\"32\",20,IF('Page 1'!A56=\"34\",20,IF('Page 1'!A56=\"36\",20,IF('Page 1'!A56=\"38\",20,IF('Page 1'!A56=\"40\",20,IF('Page 1'!A56=\"42\",20,IF('Page 1'!A56=\"44\",20,IF('Page 1'!A56=\"46\",20,IF('Page 1'!A56=\"48\",20,\"\"))))))))))))))))))))))","v":""}]
[null,{"$f":"IF('Page 1'!$A$19<>\"\",\"V\",\"\")","v":""},{"$f":"IF('Page 1'!$H$36<>\"\",\"M\",\"\")","v":""},{"$f":"IF('Page 1'!$A$19<>\"\",\"-\",\"\")","v":""},"",{"$f":"IF('Page 1'!J40<>\"\",'Page 1'!K40,\"\")","v":""},{"$f":"IF('Page 1'!J40<>\"\",\"0\",\"\")","v":""},{"$f":"IF('Page 1'!J40<>\"\",\"00\",\"\")","v":""},{"$f":"IF('Page 1'!N40<>\"\",\"A\",\"C\")","v":"C"},{"$f":"IF(I40=\"C\",IF('Page 1'!$M$19<>\"\",$Z$59,IF('Page 1'!$M$20<>\"\",$Z$60,IF('Page 1'!$M$21<>\"\",$Z$61,\"\"))),IF(I40=\"A\",IF('Page 1'!$M$19<>\"\",$Z$56,IF('Page 1'!$M$20<>\"\",$Z$57,IF('Page 1'!$M$21<>\"\",$Z$58,\"\")))))","v":""},{"$f":"IF('Page 1'!$M$19<>\"\",\"1\",IF('Page 1'!$M$20<>\"\",\"1\",IF('Page 1'!$M$21<>\"\",\"1\",\"\")))","v":""},null,null,null,null,{"$f":"IF('Page 1'!$J$40<>\"\",CONCATENATE(B40,C40,D40,E40,F40,G40,H40,I40,J40,K40,L40),\"\")","v":""},{"$f":"IF('Page 1'!J40<>\"\",'Page 1'!J40,\"\")","v":""},null,{"$f":"IFERROR(VLOOKUP(LEFT(P40,20),Item_VIP!$A$2:$B$9000,1,FALSE),\"\")","v":""},null,null,"SS 316","STD",{"$f":"IF('Page 1'!A56=\"06\",24,IF('Page 1'!A56=\"08\",24,IF('Page 1'!A56=\"10\",24,IF('Page 1'!A56=\"12\",24,IF('Page 1'!A56=\"14\",24,IF('Page 1'!A56=\"16\",24,IF('Page 1'!A56=\"18\",24,IF('Page 1'!A56=\"20\",24,IF('Page 1'!A56=\"22\",24,IF('Page 1'!A56=\"24\",24,IF('Page 1'!A56=\"26\",24,IF('Page 1'!A56=\"28\",24,IF('Page 1'!A56=\"30\",20,IF('Page 1'!A56=\"32\",20,IF('Page 1'!A56=\"34\",20,IF('Page 1'!A56=\"36\",20,IF('Page 1'!A56=\"38\",20,IF('Page 1'!A56=\"40\",20,IF('Page 1'!A56=\"42\",20,IF('Page 1'!A56=\"44\",20,IF('Page 1'!A56=\"46\",20,IF('Page 1'!A56=\"48\",20,\"\"))))))))))))))))))))))","v":""}]
[null,{"$f":"IF('Page 1'!$A$19<>\"\",\"V\",\"\")","v":""},{"$f":"IF('Page 1'!$H$36<>\"\",\"M\",\"\")","v":""},{"$f":"IF('Page 1'!$A$19<>\"\",\"-\",\"\")","v":""},"",{"$f":"IF('Page 1'!J41<>\"\",'Page 1'!K41,\"\")","v":""},{"$f":"IF('Page 1'!J41<>\"\",\"0\",\"\")","v":""},{"$f":"IF('Page 1'!J41<>\"\",\"00\",\"\")","v":""},{"$f":"IF('Page 1'!N41<>\"\",\"A\",\"C\")","v":"C"},{"$f":"IF(I41=\"C\",IF('Page 1'!$M$19<>\"\",$Z$59,IF('Page 1'!$M$20<>\"\",$Z$60,IF('Page 1'!$M$21<>\"\",$Z$61,\"\"))),IF(I41=\"A\",IF('Page 1'!$M$19<>\"\",$Z$56,IF('Page 1'!$M$20<>\"\",$Z$57,IF('Page 1'!$M$21<>\"\",$Z$58,\"\")))))","v":""},{"$f":"IF('Page 1'!$M$19<>\"\",\"1\",IF('Page 1'!$M$20<>\"\",\"1\",IF('Page 1'!$M$21<>\"\",\"1\",\"\")))","v":""},null,null,null,null,{"$f":"IF('Page 1'!$J$41<>\"\",CONCATENATE(B41,C41,D41,E41,F41,G41,H41,I41,J41,K41,L41),\"\")","v":""},{"$f":"IF('Page 1'!J41<>\"\",'Page 1'!J41,\"\")","v":""},null,{"$f":"IFERROR(VLOOKUP(LEFT(P41,20),Item_VIP!$A$2:$B$9000,1,FALSE),\"\")","v":""},null,"FLASHING","SS 304",null,null,"STD",{"$f":"IF('Page 1'!A59=\"06\",24,IF('Page 1'!A59=\"08\",24,IF('Page 1'!A59=\"10\",24,IF('Page 1'!A59=\"12\",24,IF('Page 1'!A59=\"14\",24,IF('Page 1'!A59=\"16\",24,IF('Page 1'!A59=\"18\",24,IF('Page 1'!A59=\"20\",24,IF('Page 1'!A59=\"22\",24,IF('Page 1'!A59=\"24\",20,IF('Page 1'!A59=\"26\",24,IF('Page 1'!A59=\"28\",24,IF('Page 1'!A59=\"30\",20,IF('Page 1'!A59=\"32\",20,IF('Page 1'!A59=\"34\",20,IF('Page 1'!A59=\"36\",20,IF('Page 1'!A59=\"38\",20,IF('Page 1'!A59=\"40\",20,IF('Page 1'!A59=\"42\",20,IF('Page 1'!A59=\"44\",20,IF('Page 1'!A59=\"46\",20,IF('Page 1'!A59=\"48\",20,\"\"))))))))))))))))))))))","v":""},"1\""]
[null,{"$f":"IF('Page 1'!$A$19<>\"\",\"V\",\"\")","v":""},{"$f":"IF('Page 1'!$H$36<>\"\",\"M\",\"\")","v":""},{"$f":"IF('Page 1'!$A$19<>\"\",\"-\",\"\")","v":""},"",{"$f":"IF('Page 1'!J42<>\"\",'Page 1'!K42,\"\")","v":""},{"$f":"IF('Page 1'!J42<>\"\",\"0\",\"\")","v":""},{"$f":"IF('Page 1'!J42<>\"\",\"00\",\"\")","v":""},{"$f":"IF('Page 1'!N42<>\"\",\"A\",\"C\")","v":"C"},{"$f":"IF(F42<>\"\",11,\"\")","v":""},{"$f":"IF('Page 1'!$M$19<>\"\",\"1\",IF('Page 1'!$M$20<>\"\",\"1\",IF('Page 1'!$M$21<>\"\",\"1\",\"\")))","v":""},null,null,null,null,{"$f":"IF('Page 1'!$J$42<>\"\",CONCATENATE(B42,C42,D42,E42,F42,G42,H42,I42,J42,K42,L42),\"\")","v":""},{"$f":"IF('Page 1'!J42<>\"\",'Page 1'!J42,\"\")","v":""},null,{"$f":"IFERROR(VLOOKUP(LEFT(P42,20),Item_VIP!$A$2:$B$9000,1,FALSE),\"\")","v":""},null,null,null,null,null,"STD",{"$f":"IF('Page 1'!A59=\"06\",24,IF('Page 1'!A59=\"08\",24,IF('Page 1'!A59=\"10\",24,IF('Page 1'!A59=\"12\",24,IF('Page 1'!A59=\"14\",24,IF('Page 1'!A59=\"16\",24,IF('Page 1'!A59=\"18\",24,IF('Page 1'!A59=\"20\",24,IF('Page 1'!A59=\"22\",24,IF('Page 1'!A59=\"24\",24,IF('Page 1'!A59=\"26\",24,IF('Page 1'!A59=\"28\",20,IF('Page 1'!A59=\"30\",20,IF('Page 1'!A59=\"32\",20,IF('Page 1'!A59=\"34\",20,IF('Page 1'!A59=\"36\",20,IF('Page 1'!A59=\"38\",20,IF('Page 1'!A59=\"40\",20,IF('Page 1'!A59=\"42\",20,IF('Page 1'!A59=\"44\",20,IF('Page 1'!A59=\"46\",20,IF('Page 1'!A59=\"48\",20,\"\"))))))))))))))))))))))","v":""},"2\""]
[null,{"$f":"IF('Page 1'!$A$19<>\"\",\"V\",\"\")","v":""},{"$f":"IF('Page 1'!$H$36<>\"\",\"M\",\"\")","v":""},{"$f":"IF('Page 1'!$A$19<>\"\",\"-\",\"\")","v":""},"",{"$f":"IF('Page 1'!J43<>\"\",'Page 1'!K43,\"\")","v":""},{"$f":"IF('Page 1'!J43<>\"\",\"0\",\"\")","v":""},{"$f":"IF('Page 1'!J43<>\"\",\"00\",\"\")","v":""},{"$f":"IF('Page 1'!N43<>\"\",\"A\",\"C\")","v":"C"},{"$f":"IF(I43=\"C\",IF('Page 1'!$M$19<>\"\",$Z$59,IF('Page 1'!$M$20<>\"\",$Z$60,IF('Page 1'!$M$21<>\"\",$Z$61,\"\"))),IF(I43=\"A\",IF('Page 1'!$M$19<>\"\",$Z$56,IF('Page 1'!$M$20<>\"\",$Z$57,IF('Page 1'!$M$21<>\"\",$Z$58,\"\")))))","v":""},{"$f":"IF('Page 1'!$M$19<>\"\",\"1\",IF('Page 1'!$M$20<>\"\",\"1\",IF('Page 1'!$M$21<>\"\",\"1\",\"\")))","v":""},null,null,null,null,{"$f":"IF('Page 1'!$J$43<>\"\",CONCATENATE(B43,C43,D43,E43,F43,G43,H43,I43,J43,K43,L43),\"\")","v":""},{"$f":"IF('Page 1'!J43<>\"\",'Page 1'!J43,\"\")","v":""},null,{"$f":"IFERROR(VLOOKUP(LEFT(P43,20),Item_VIP!$A$2:$B$9000,1,FALSE),\"\")","v":""},null,null,null,null,null,"STD",{"$f":"IF('Page 1'!A59=\"06\",24,IF('Page 1'!A59=\"08\",24,IF('Page 1'!A59=\"10\",24,IF('Page 1'!A59=\"12\",24,IF('Page 1'!A59=\"14\",24,IF('Page 1'!A59=\"16\",24,IF('Page 1'!A59=\"18\",24,IF('Page 1'!A59=\"20\",24,IF('Page 1'!A59=\"22\",24,IF('Page 1'!A59=\"24\",20,IF('Page 1'!A59=\"26\",20,IF('Page 1'!A59=\"28\",20,IF('Page 1'!A59=\"30\",20,IF('Page 1'!A59=\"32\",20,IF('Page 1'!A59=\"34\",20,IF('Page 1'!A59=\"36\",20,IF('Page 1'!A59=\"38\",20,IF('Page 1'!A59=\"40\",20,IF('Page 1'!A59=\"42\",20,IF('Page 1'!A59=\"44\",20,IF('Page 1'!A59=\"46\",20,IF('Page 1'!A59=\"48\",20,\"\"))))))))))))))))))))))","v":""},"4\""]
[null,{"$f":"IF('Page 1'!$A$19<>\"\",\"V\",\"\")","v":""},{"$f":"IF('Page 1'!J45<>\"\",\"S\",\"\")","v":""},{"$f":"IF('Page 1'!$A$19<>\"\",\"-\",\"\")","v":""},{"$f":"IF('Page 1'!$A$19<>\"\",'Page 1'!$H$45,\"\")","v":""},{"$f":"IF('Page 1'!$J$45<>\"\",'Page 1'!K45,\"\")","v":""},{"$f":"IF('Page 1'!$D$19<>\"\",\"A\",IF('Page 1'!$D$20<>\"\",\"B\",\"\"))","v":""},{"$f":"IF('Page 1'!$F$20<>\"\",\"24\",IF('Page 1'!$F$21<>\"\",\"20\",IF('Page 1'!$D$19<>\"\",IF('Page 1'!$F$22<>\"\",$X$62,\"\"),IF('Page 1'!$D$20<>\"\",IF('Page 1'!$F$22<>\"\",$X$63,\"\"),\"\"))))","v":""},{"$f":"IF(G44<>\"\",G44,\"\")","v":""},"",{"$f":"IF('Page 1'!$M$19<>\"\",\"1\",IF('Page 1'!$M$20<>\"\",\"2\",IF('Page 1'!$M$21<>\"\",\"4\",\"\")))","v":""},{"$f":"IF('Page 1'!$I$45<>\"\",'Page 1'!$I$45,\"\")","v":""},{"$f":"IF('Page 1'!$J$45<>\"\",\"-G\",\"\")","v":""},{"$f":"IF('Page 1'!$I$45<>\"\",'Page 1'!$I$45,\"\")","v":""},{"$f":"IF(E44=\"06\",6,\"\")","v":""},{"$f":"IF('Page 1'!I45=\"\",AC45,AC44)","v":""},{"$f":"IF('Page 1'!J45<>\"\",'Page 1'!J45,\"\")","v":""},null,{"$f":"IFERROR(VLOOKUP(LEFT(P44,20),Item_VIP!$A$2:$B$9000,1,FALSE),\"\")","v":""},null,null,"GALVALUME STD",null,null,"GAL",{"$f":"IF('Page 1'!A59=\"06\",28,IF('Page 1'!A59=\"08\",28,IF('Page 1'!A59=\"10\",24,IF('Page 1'!A59=\"12\",24,IF('Page 1'!A59=\"14\",24,IF('Page 1'!A59=\"16\",24,IF('Page 1'!A59=\"18\",24,IF('Page 1'!A59=\"20\",24,IF('Page 1'!A59=\"22\",24,IF('Page 1'!A59=\"24\",20,IF('Page 1'!A59=\"26\",24,IF('Page 1'!A59=\"28\",24,IF('Page 1'!A59=\"30\",24,IF('Page 1'!A59=\"32\",22,IF('Page 1'!A59=\"34\",22,IF('Page 1'!A59=\"36\",22,IF('Page 1'!A59=\"38\",22,IF('Page 1'!A59=\"40\",22,IF('Page 1'!A59=\"42\",22,IF('Page 1'!A59=\"44\",22,IF('Page 1'!A59=\"46\",22,IF('Page 1'!A59=\"48\",22,\"\"))))))))))))))))))))))","v":""},"1\"",null,{"$f":"IF('Page 1'!J45<>\"\",CONCATENATE(B44,C44,D44,E44,F44,G44,H44,I44,J44,K44,L44,M44,N44,),\"\")","v":""}]
[null,{"$f":"IF('Page 1'!$A$19<>\"\",\"V\",\"\")","v":""},{"$f":"IF('Page 1'!J46<>\"\",\"M\",\"\")","v":""},{"$f":"IF('Page 1'!$A$19<>\"\",\"-\",\"\")","v":""},{"$f":"IF('Page 1'!$A$19<>\"\",'Page 1'!$H$45,\"\")","v":""},{"$f":"IF('Page 1'!$J$46<>\"\",'Page 1'!K46,\"\")","v":""},{"$f":"IF('Page 1'!$D$19<>\"\",\"A\",IF('Page 1'!$D$20<>\"\",\"B\",\"\"))","v":""},{"$f":"IF('Page 1'!$F$20<>\"\",\"24\",IF('Page 1'!$F$21<>\"\",\"20\",IF('Page 1'!$D$19<>\"\",IF('Page 1'!$F$22<>\"\",$X$62,\"\"),IF('Page 1'!$D$20<>\"\",IF('Page 1'!$F$22<>\"\",$X$63,\"\"),\"\"))))","v":""},{"$f":"IF(G45<>\"\",G45,\"\")","v":""},{"$f":"IF(H45<>\"\",H45,\"\")","v":""},{"$f":"IF('Page 1'!$M$19<>\"\",\"1\",IF('Page 1'!$M$20<>\"\",\"2\",IF('Page 1'!$M$21<>\"\",\"4\",\"\")))","v":""},null,null,null,null,{"$f":"IF('Page 1'!J46<>\"\",CONCATENATE(B45,C45,D45,E45,F45,G45,H45,I45,J45,K45),\"\")","v":""},{"$f":"IF('Page 1'!J46<>\"\",'Page 1'!J46,\"\")","v":""},null,{"$f":"IFERROR(VLOOKUP(LEFT(P45,20),Item_VIP!$A$2:$B$9000,1,FALSE),\"\")","v":""},null,null,"FF",null,null,"GAL",{"$f":"IF('Page 1'!A59=\"06\",24,IF('Page 1'!A59=\"08\",24,IF('Page 1'!A59=\"10\",24,IF('Page 1'!A59=\"12\",24,IF('Page 1'!A59=\"14\",24,IF('Page 1'!A59=\"16\",24,IF('Page 1'!A59=\"18\",24,IF('Page 1'!A59=\"20\",24,IF('Page 1'!A59=\"22\",24,IF('Page 1'!A59=\"24\",24,IF('Page 1'!A59=\"26\",24,IF('Page 1'!A59=\"28\",24,IF('Page 1'!A59=\"30\",22,IF('Page 1'!A59=\"32\",22,IF('Page 1'!A59=\"34\",22,IF('Page 1'!A59=\"36\",22,IF('Page 1'!A59=\"38\",22,IF('Page 1'!A59=\"40\",22,IF('Page 1'!A59=\"42\",22,IF('Page 1'!A59=\"44\",22,IF('Page 1'!A59=\"46\",22,IF('Page 1'!A59=\"48\",22,\"\"))))))))))))))))))))))","v":""},"2\"",null,{"$f":"IF('Page 1'!J45<>\"\",CONCATENATE(B44,C44,D44,E44,F44,G44,H44,I44,J44,K44,L44,M44,N44,O44,),\"\")","v":""}]
[null,{"$f":"IF('Page 1'!$A$19<>\"\",\"V\",\"\")","v":""},{"$f":"IF('Page 1'!J47<>\"\",\"M\",\"\")","v":""},{"$f":"IF('Page 1'!$A$19<>\"\",\"-\",\"\")","v":""},{"$f":"IF('Page 1'!$A$19<>\"\",'Page 1'!$H$45,\"\")","v":""},{"$f":"IF('Page 1'!$J$47<>\"\",'Page 1'!K47,\"\")","v":""},{"$f":"IF('Page 1'!$D$19<>\"\",\"A\",IF('Page 1'!$D$20<>\"\",\"B\",\"\"))","v":""},{"$f":"IF('Page 1'!$F$20<>\"\",\"24\",IF('Page 1'!$F$21<>\"\",\"20\",IF('Page 1'!$D$19<>\"\",IF('Page 1'!$F$22<>\"\",$X$62,\"\"),IF('Page 1'!$D$20<>\"\",IF('Page 1'!$F$22<>\"\",$X$63,\"\"),\"\"))))","v":""},"","",{"$f":"IF('Page 1'!$M$19<>\"\",\"1\",IF('Page 1'!$M$20<>\"\",\"2\",IF('Page 1'!$M$21<>\"\",\"4\",\"\")))","v":""},null,null,null,null,{"$f":"IF('Page 1'!J47<>\"\",CONCATENATE(B46,C46,D46,E46,F46,G46,H46,I46,J46,K46),\"\")","v":""},{"$f":"IF('Page 1'!J47<>\"\",'Page 1'!J47,\"\")","v":""},null,{"$f":"IFERROR(VLOOKUP(LEFT(P46,20),Item_VIP!$A$2:$B$9000,1,FALSE),\"\")","v":""},null,null,null,null,null,"GAL",{"$f":"IF('Page 1'!A59=\"06\",24,IF('Page 1'!A59=\"08\",24,IF('Page 1'!A59=\"10\",24,IF('Page 1'!A59=\"12\",24,IF('Page 1'!A59=\"14\",24,IF('Page 1'!A59=\"16\",24,IF('Page 1'!A59=\"18\",24,IF('Page 1'!A59=\"20\",24,IF('Page 1'!A59=\"22\",24,IF('Page 1'!A59=\"24\",24,IF('Page 1'!A59=\"26\",22,IF('Page 1'!A59=\"28\",22,IF('Page 1'!A59=\"30\",22,IF('Page 1'!A59=\"32\",22,IF('Page 1'!A59=\"34\",22,IF('Page 1'!A59=\"36\",22,IF('Page 1'!A59=\"38\",22,IF('Page 1'!A59=\"40\",22,IF('Page 1'!A59=\"42\",22,IF('Page 1'!A59=\"44\",22,IF('Page 1'!A59=\"46\",22,IF('Page 1'!A59=\"48\",22,\"\"))))))))))))))))))))))","v":""},"4\""]
[null,{"$f":"IF('Page 1'!$A$19<>\"\",\"V\",\"\")","v":""},{"$f":"IF('Page 1'!J48<>\"\",\"M\",\"\")","v":""},{"$f":"IF('Page 1'!$A$19<>\"\",\"-\",\"\")","v":""},{"$f":"IF('Page 1'!$A$19<>\"\",'Page 1'!$H$45,\"\")","v":""},{"$f":"IF('Page 1'!$J$48<>\"\",'Page 1'!K48,\"\")","v":""},{"$f":"IF('Page 1'!$D$19<>\"\",\"A\",IF('Page 1'!$D$20<>\"\",\"B\",\"\"))","v":""},{"$f":"IF('Page 1'!$F$20<>\"\",\"24\",IF('Page 1'!$F$21<>\"\",\"20\",IF('Page 1'!$D$19<>\"\",IF('Page 1'!$F$22<>\"\",$X$64,\"\"),IF('Page 1'!$D$20<>\"\",IF('Page 1'!$F$22<>\"\",$X$65,\"\"),\"\"))))","v":""},"","",{"$f":"IF('Page 1'!$M$19<>\"\",\"1\",IF('Page 1'!$M$20<>\"\",\"2\",IF('Page 1'!$M$21<>\"\",\"4\",\"\")))","v":""},null,null,null,null,{"$f":"IF('Page 1'!J48<>\"\",CONCATENATE(B47,C47,D47,E47,F47,G47,H47,I47,J47,K47),\"\")","v":""},{"$f":"IF('Page 1'!J48<>\"\",'Page 1'!J48,\"\")","v":""},null,{"$f":"IFERROR(VLOOKUP(LEFT(P47,20),Item_VIP!$A$2:$B$9000,1,FALSE),\"\")","v":""},null,null,"GALVALUME STD",null,null,"GAL",{"$f":"IF('Page 1'!A59=\"06\",24,IF('Page 1'!A59=\"08\",24,IF('Page 1'!A59=\"10\",24,IF('Page 1'!A59=\"12\",24,IF('Page 1'!A59=\"14\",24,IF('Page 1'!A59=\"16\",24,IF('Page 1'!A59=\"18\",24,IF('Page 1'!A59=\"20\",24,IF('Page 1'!A59=\"22\",24,IF('Page 1'!A59=\"24\",20,IF('Page 1'!A59=\"26\",24,IF('Page 1'!A59=\"28\",24,IF('Page 1'!A59=\"30\",22,IF('Page 1'!A59=\"32\",22,IF('Page 1'!A59=\"34\",22,IF('Page 1'!A59=\"36\",22,IF('Page 1'!A59=\"38\",22,IF('Page 1'!A59=\"40\",22,IF('Page 1'!A59=\"42\",22,IF('Page 1'!A59=\"44\",22,IF('Page 1'!A59=\"46\",22,IF('Page 1'!A59=\"48\",22,\"\"))))))))))))))))))))))","v":""},"1\""]
[null,{"$f":"IF('Page 1'!$A$19<>\"\",\"V\",\"\")","v":""},{"$f":"IF('Page 1'!J49<>\"\",\"S\",\"\")","v":""},{"$f":"IF('Page 1'!$A$19<>\"\",\"-\",\"\")","v":""},{"$f":"IF('Page 1'!$A$19<>\"\",'Page 1'!$H$45,\"\")","v":""},{"$f":"IF('Page 1'!$J$49<>\"\",'Page 1'!K49,\"\")","v":""},{"$f":"IF('Page 1'!$D$19<>\"\",\"A\",IF('Page 1'!$D$20<>\"\",\"B\",\"\"))","v":""},{"$f":"IF('Page 1'!$F$20<>\"\",\"24\",IF('Page 1'!$F$21<>\"\",\"20\",IF('Page 1'!$D$19<>\"\",IF('Page 1'!$F$22<>\"\",$X$64,\"\"),IF('Page 1'!$D$20<>\"\",IF('Page 1'!$F$22<>\"\",$X$65,\"\"),\"\"))))","v":""},"","",{"$f":"IF('Page 1'!$M$19<>\"\",\"1\",IF('Page 1'!$M$20<>\"\",\"2\",IF('Page 1'!$M$21<>\"\",\"4\",\"\")))","v":""},{"$f":"IF('Page 1'!J49<>\"\",\"-NC\",\"\")","v":""},null,null,null,{"$f":"IF('Page 1'!J49<>\"\",CONCATENATE(B48,C48,D48,E48,F48,G48,H48,I48,J48,K48,L48),\"\")","v":""},{"$f":"IF('Page 1'!J49<>\"\",'Page 1'!J49,\"\")","v":""},null,{"$f":"IFERROR(VLOOKUP(LEFT(P48,20),Item_VIP!$A$2:$B$9000,1,FALSE),\"\")","v":""},null,null,"FA &FB",null,null,"GAL",{"$f":"IF('Page 1'!A59=\"06\",24,IF('Page 1'!A59=\"08\",24,IF('Page 1'!A59=\"10\",24,IF('Page 1'!A59=\"12\",24,IF('Page 1'!A59=\"14\",24,IF('Page 1'!A59=\"16\",24,IF('Page 1'!A59=\"18\",24,IF('Page 1'!A59=\"20\",24,IF('Page 1'!A59=\"22\",24,IF('Page 1'!A59=\"24\",20,IF('Page 1'!A59=\"26\",24,IF('Page 1'!A59=\"28\",24,IF('Page 1'!A59=\"30\",22,IF('Page 1'!A59=\"32\",22,IF('Page 1'!A59=\"34\",22,IF('Page 1'!A59=\"36\",22,IF('Page 1'!A59=\"38\",22,IF('Page 1'!A59=\"40\",22,IF('Page 1'!A59=\"42\",22,IF('Page 1'!A59=\"44\",22,IF('Page 1'!A59=\"46\",22,IF('Page 1'!A59=\"48\",22,\"\"))))))))))))))))))))))","v":""},"2\""]
[null,{"$f":"IF('Page 1'!$A$19<>\"\",\"V\",\"\")","v":""},{"$f":"IF('Page 1'!J50<>\"\",\"S\",\"\")","v":""},{"$f":"IF('Page 1'!$A$19<>\"\",\"-\",\"\")","v":""},{"$f":"IF('Page 1'!$A$19<>\"\",'Page 1'!$H$45,\"\")","v":""},{"$f":"IF('Page 1'!$J$50<>\"\",'Page 1'!K50,\"\")","v":""},{"$f":"IF('Page 1'!$D$19<>\"\",\"A\",IF('Page 1'!$D$20<>\"\",\"B\",\"\"))","v":""},{"$f":"IF('Page 1'!$F$20<>\"\",\"24\",IF('Page 1'!$F$21<>\"\",\"20\",IF('Page 1'!$D$19<>\"\",IF('Page 1'!$F$22<>\"\",$X$64,\"\"),IF('Page 1'!$D$20<>\"\",IF('Page 1'!$F$22<>\"\",$X$65,\"\"),\"\"))))","v":""},"","",{"$f":"IF('Page 1'!$M$19<>\"\",\"1\",IF('Page 1'!$M$20<>\"\",\"2\",IF('Page 1'!$M$21<>\"\",\"4\",\"\")))","v":""},{"$f":"IF('Page 1'!J50<>\"\",\"-F\",\"\")","v":""},null,null,null,{"$f":"IF('Page 1'!J50<>\"\",CONCATENATE(B49,C49,D49,E49,F49,G49,H49,I49,J49,K49,L49),\"\")","v":""},{"$f":"IF('Page 1'!J50<>\"\",'Page 1'!J50,\"\")","v":""},null,{"$f":"IFERROR(VLOOKUP(LEFT(P49,20),Item_VIP!$A$2:$B$9000,1,FALSE),\"\")","v":""},null,null,null,null,null,"GAL",{"$f":"IF('Page 1'!A59=\"06\",24,IF('Page 1'!A59=\"08\",24,IF('Page 1'!A59=\"10\",24,IF('Page 1'!A59=\"12\",24,IF('Page 1'!A59=\"14\",24,IF('Page 1'!A59=\"16\",24,IF('Page 1'!A59=\"18\",24,IF('Page 1'!A59=\"20\",24,IF('Page 1'!A59=\"22\",24,IF('Page 1'!A59=\"24\",24,IF('Page 1'!A59=\"26\",22,IF('Page 1'!A59=\"28\",22,IF('Page 1'!A59=\"30\",22,IF('Page 1'!A59=\"32\",22,IF('Page 1'!A59=\"34\",22,IF('Page 1'!A59=\"36\",22,IF('Page 1'!A59=\"38\",22,IF('Page 1'!A59=\"40\",22,IF('Page 1'!A59=\"42\",22,IF('Page 1'!A59=\"44\",22,IF('Page 1'!A59=\"46\",22,IF('Page 1'!A59=\"48\",22,\"\"))))))))))))))))))))))","v":""},"4\""]
[null,{"$f":"IF('Page 1'!$A$19<>\"\",\"V\",\"\")","v":""},{"$f":"IF('Page 1'!$H$45<>\"\",\"M\",\"\")","v":""},{"$f":"IF('Page 1'!$A$19<>\"\",\"-\",\"\")","v":""},{"$f":"IF('Page 1'!$A$19<>\"\",'Page 1'!$H$45,\"\")","v":""},{"$f":"IF('Page 1'!J51<>\"\",'Page 1'!K51,\"\")","v":""},{"$f":"IF('Page 1'!J51<>\"\",\"0\",\"\")","v":""},{"$f":"IF('Page 1'!J51<>\"\",\"00\",\"\")","v":""},{"$f":"IF('Page 1'!$D$19<>\"\",\"A\",IF('Page 1'!$D$20<>\"\",\"B\",\"\"))","v":""},{"$f":"IF('Page 1'!$F$20<>\"\",\"24\",IF('Page 1'!$F$21<>\"\",\"20\",IF('Page 1'!$D$19<>\"\",IF('Page 1'!$F$22<>\"\",$X$64,\"\"),IF('Page 1'!$D$20<>\"\",IF('Page 1'!$F$22<>\"\",$X$65,\"\"),\"\"))))","v":""},{"$f":"IF('Page 1'!$M$19<>\"\",\"1\",IF('Page 1'!$M$20<>\"\",\"2\",IF('Page 1'!$M$21<>\"\",\"4\",\"\")))","v":""},null,null,null,null,{"$f":"IF('Page 1'!J51<>\"\",CONCATENATE(B50,C50,D50,E50,F50,G50,H50,I50,J50,K50),\"\")","v":""},{"$f":"IF('Page 1'!J51<>\"\",'Page 1'!J51,\"\")","v":""},null,{"$f":"IFERROR(VLOOKUP(LEFT(P50,20),Item_VIP!$A$2:$B$9000,1,FALSE),\"\")","v":""},null,"SC","SS 304",null,null,"STD",{"$f":"IF('Page 1'!A59=\"06\",24,IF('Page 1'!A59=\"08\",24,IF('Page 1'!A59=\"10\",24,IF('Page 1'!A59=\"12\",24,IF('Page 1'!A59=\"14\",24,IF('Page 1'!A59=\"16\",24,IF('Page 1'!A59=\"18\",24,IF('Page 1'!A59=\"20\",24,IF('Page 1'!A59=\"22\",24,IF('Page 1'!A59=\"24\",24,IF('Page 1'!A59=\"26\",24,IF('Page 1'!A59=\"28\",24,IF('Page 1'!A59=\"30\",24,IF('Page 1'!A59=\"32\",20,IF('Page 1'!A59=\"34\",20,IF('Page 1'!A59=\"36\",20,IF('Page 1'!A59=\"38\",20,IF('Page 1'!A59=\"40\",20,IF('Page 1'!A59=\"42\",20,IF('Page 1'!A59=\"44\",20,IF('Page 1'!A59=\"46\",20,IF('Page 1'!A59=\"48\",20,\"\"))))))))))))))))))))))","v":""},"1\""]
[null,{"$f":"IF('Page 1'!$A$19<>\"\",\"V\",\"\")","v":""},{"$f":"IF('Page 1'!$H$45<>\"\",\"M\",\"\")","v":""},{"$f":"IF('Page 1'!$A$19<>\"\",\"-\",\"\")","v":""},{"$f":"IF('Page 1'!$A$19<>\"\",'Page 1'!$H$45,\"\")","v":""},{"$f":"IF('Page 1'!J52<>\"\",'Page 1'!K52,\"\")","v":""},{"$f":"IF('Page 1'!J52<>\"\",\"0\",\"\")","v":""},{"$f":"IF('Page 1'!J52<>\"\",\"00\",\"\")","v":""},{"$f":"IF('Page 1'!$D$19<>\"\",\"A\",IF('Page 1'!$D$20<>\"\",\"B\",\"\"))","v":""},{"$f":"IF('Page 1'!$F$20<>\"\",\"24\",IF('Page 1'!$F$21<>\"\",\"20\",IF('Page 1'!$D$19<>\"\",IF('Page 1'!$F$22<>\"\",$X$64,\"\"),IF('Page 1'!$D$20<>\"\",IF('Page 1'!$F$22<>\"\",$X$65,\"\"),\"\"))))","v":""},{"$f":"IF('Page 1'!$M$19<>\"\",\"1\",IF('Page 1'!$M$20<>\"\",\"2\",IF('Page 1'!$M$21<>\"\",\"4\",\"\")))","v":""},null,null,null,null,{"$f":"IF('Page 1'!J52<>\"\",CONCATENATE(B51,C51,D51,E51,F51,G51,H51,I51,J51,K51),\"\")","v":""},{"$f":"IF('Page 1'!J52<>\"\",'Page 1'!J52,\"\")","v":""},null,{"$f":"IFERROR(VLOOKUP(LEFT(P51,20),Item_VIP!$A$2:$B$9000,1,FALSE),\"\")","v":""},null,null,null,null,null,"STD",{"$f":"IF('Page 1'!A59=\"06\",24,IF('Page 1'!A59=\"08\",24,IF('Page 1'!A59=\"10\",24,IF('Page 1'!A59=\"12\",24,IF('Page 1'!A59=\"14\",24,IF('Page 1'!A59=\"16\",24,IF('Page 1'!A59=\"18\",24,IF('Page 1'!A59=\"20\",24,IF('Page 1'!A59=\"22\",24,IF('Page 1'!A59=\"24\",24,IF('Page 1'!A59=\"26\",24,IF('Page 1'!A59=\"28\",24,IF('Page 1'!A59=\"30\",20,IF('Page 1'!A59=\"32\",20,IF('Page 1'!A59=\"34\",20,IF('Page 1'!A59=\"36\",20,IF('Page 1'!A59=\"38\",20,IF('Page 1'!A59=\"40\",20,IF('Page 1'!A59=\"42\",20,IF('Page 1'!A59=\"44\",20,IF('Page 1'!A59=\"46\",20,IF('Page 1'!A59=\"48\",20,\"\"))))))))))))))))))))))","v":""},"2\""]
[null,{"$f":"IF('Page 1'!$A$19<>\"\",\"V\",\"\")","v":""},{"$f":"IF('Page 1'!$H$45<>\"\",\"M\",\"\")","v":""},{"$f":"IF('Page 1'!$A$19<>\"\",\"-\",\"\")","v":""},{"$f":"IF('Page 1'!$A$19<>\"\",'Page 1'!$H$45,\"\")","v":""},{"$f":"IF('Page 1'!J53<>\"\",'Page 1'!K53,\"\")","v":""},{"$f":"IF('Page 1'!$D$19<>\"\",\"A\",IF('Page 1'!$D$20<>\"\",\"B\",\"\"))","v":""},{"$f":"IF('Page 1'!$F$20<>\"\",\"24\",IF('Page 1'!$F$21<>\"\",\"20\",IF('Page 1'!$D$19<>\"\",IF('Page 1'!$F$22<>\"\",$X$68,\"\"),IF('Page 1'!$D$20<>\"\",IF('Page 1'!$F$22<>\"\",$X$69,\"\"),\"\"))))","v":""},{"$f":"IF('Page 1'!$D$19<>\"\",\"A\",IF('Page 1'!$D$20<>\"\",\"B\",\"\"))","v":""},{"$f":"IF(H52<>\"\",H52,\"\")","v":""},{"$f":"IF('Page 1'!$M$19<>\"\",\"1\",IF('Page 1'!$M$20<>\"\",\"2\",IF('Page 1'!$M$21<>\"\",\"4\",\"\")))","v":""},null,null,null,null,{"$f":"IF('Page 1'!J53<>\"\",CONCATENATE(B52,C52,D52,E52,F52,G52,H52,I52,J52,K52),\"\")","v":""},{"$f":"IF('Page 1'!J53<>\"\",'Page 1'!J53,\"\")","v":""},null,{"$f":"IFERROR(VLOOKUP(LEFT(P52,20),Item_VIP!$A$2:$B$9000,1,FALSE),\"\")","v":""},null,null,null,null,null,"STD",{"$f":"IF('Page 1'!A59=\"06\",24,IF('Page 1'!A59=\"08\",24,IF('Page 1'!A59=\"10\",24,IF('Page 1'!A59=\"12\",24,IF('Page 1'!A59=\"14\",24,IF('Page 1'!A59=\"16\",24,IF('Page 1'!A59=\"18\",24,IF('Page 1'!A59=\"20\",24,IF('Page 1'!A59=\"22\",24,IF('Page 1'!A59=\"24\",24,IF('Page 1'!A59=\"26\",20,IF('Page 1'!A59=\"28\",20,IF('Page 1'!A59=\"30\",20,IF('Page 1'!A59=\"32\",20,IF('Page 1'!A59=\"34\",20,IF('Page 1'!A59=\"36\",20,IF('Page 1'!A59=\"38\",20,IF('Page 1'!A59=\"40\",20,IF('Page 1'!A59=\"42\",20,IF('Page 1'!A59=\"44\",20,IF('Page 1'!A59=\"46\",20,IF('Page 1'!A59=\"48\",20,\"\"))))))))))))))))))))))","v":""},"4\""]
[null,{"$f":"IF('Page 1'!$A$19<>\"\",\"V\",\"\")","v":""},{"$f":"IF('Page 1'!$H$45<>\"\",\"M\",\"\")","v":""},{"$f":"IF('Page 1'!$A$19<>\"\",\"-\",\"\")","v":""},{"$f":"IF('Page 1'!$A$19<>\"\",'Page 1'!$H$45,\"\")","v":""},{"$f":"IF('Page 1'!J54<>\"\",'Page 1'!K54,\"\")","v":""},{"$f":"IF('Page 1'!J54<>\"\",\"0\",\"\")","v":""},{"$f":"IF('Page 1'!J54<>\"\",\"00\",\"\")","v":""},{"$f":"IF('Page 1'!$D$19<>\"\",\"A\",IF('Page 1'!$D$20<>\"\",\"B\",\"\"))","v":""},{"$f":"IF('Page 1'!$F$20<>\"\",\"24\",IF('Page 1'!$F$21<>\"\",\"20\",IF('Page 1'!$D$19<>\"\",IF('Page 1'!$F$22<>\"\",$Z$70,\"\"),IF('Page 1'!$D$20<>\"\",IF('Page 1'!$F$22<>\"\",$Z$71,\"\"),\"\"))))","v":""},{"$f":"IF('Page 1'!$M$19<>\"\",\"1\",IF('Page 1'!$M$20<>\"\",\"2\",IF('Page 1'!$M$21<>\"\",\"4\",\"\")))","v":""},null,null,null,null,{"$f":"IF('Page 1'!J54<>\"\",CONCATENATE(B53,C53,D53,E53,F53,G53,H53,I53,J53,K53),\"\")","v":""},{"$f":"IF('Page 1'!J54<>\"\",'Page 1'!J54,\"\")","v":""},null,{"$f":"IFERROR(VLOOKUP(LEFT(P53,20),Item_VIP!$A$2:$B$9000,1,FALSE),\"\")","v":""},null,null,"GALVALUME STD",null,null,"GAL",{"$f":"IF('Page 1'!A59=\"06\",24,IF('Page 1'!A59=\"08\",24,IF('Page 1'!A59=\"10\",24,IF('Page 1'!A59=\"12\",24,IF('Page 1'!A59=\"14\",24,IF('Page 1'!A59=\"16\",24,IF('Page 1'!A59=\"18\",24,IF('Page 1'!A59=\"20\",24,IF('Page 1'!A59=\"22\",24,IF('Page 1'!A59=\"24\",24,IF('Page 1'!A59=\"26\",24,IF('Page 1'!A59=\"28\",24,IF('Page 1'!A59=\"30\",24,IF('Page 1'!A59=\"32\",22,IF('Page 1'!A59=\"34\",22,IF('Page 1'!A59=\"36\",22,IF('Page 1'!A59=\"38\",22,IF('Page 1'!A59=\"40\",22,IF('Page 1'!A59=\"42\",22,IF('Page 1'!A59=\"44\",22,IF('Page 1'!A59=\"46\",22,IF('Page 1'!A59=\"48\",22,\"\"))))))))))))))))))))))","v":""},"1\""]
[null,{"$f":"IF('Page 1'!$A$19<>\"\",\"V\",\"\")","v":""},{"$f":"IF('Page 1'!$H$45<>\"\",\"M\",\"\")","v":""},{"$f":"IF('Page 1'!$A$19<>\"\",\"-\",\"\")","v":""},{"$f":"IF('Page 1'!$A$19<>\"\",'Page 1'!$H$45,\"\")","v":""},{"$f":"IF('Page 1'!J55<>\"\",'Page 1'!K55,\"\")","v":""},{"$f":"IF('Page 1'!$D$19<>\"\",\"A\",IF('Page 1'!$D$20<>\"\",\"B\",\"\"))","v":""},{"$f":"IF('Page 1'!$F$20<>\"\",\"20\",IF('Page 1'!$F$21<>\"\",\"20\",IF('Page 1'!$D$19<>\"\",IF('Page 1'!$F$22<>\"\",$X$72,\"\"),IF('Page 1'!$D$20<>\"\",IF('Page 1'!$F$22<>\"\",$X$73,\"\"),\"\"))))","v":""},{"$f":"IF(G54<>\"\",G54,\"\")","v":""},{"$f":"IF(H54<>\"\",H54,\"\")","v":""},{"$f":"IF('Page 1'!$M$19<>\"\",\"1\",IF('Page 1'!$M$20<>\"\",\"2\",IF('Page 1'!$M$21<>\"\",\"4\",\"\")))","v":""},null,null,null,null,{"$f":"IF('Page 1'!J55<>\"\",CONCATENATE(B54,C54,D54,E54,F54,G54,H54,I54,J54,K54),\"\")","v":""},{"$f":"IF('Page 1'!J55<>\"\",'Page 1'!J55,\"\")","v":""},null,{"$f":"IFERROR(VLOOKUP(LEFT(P54,20),Item_VIP!$A$2:$B$9000,1,FALSE),\"\")","v":""},null,null,null,null,null,"GAL",{"$f":"IF('Page 1'!A59=\"06\",24,IF('Page 1'!A59=\"08\",24,IF('Page 1'!A59=\"10\",24,IF('Page 1'!A59=\"12\",24,IF('Page 1'!A59=\"14\",24,IF('Page 1'!A59=\"16\",24,IF('Page 1'!A59=\"18\",24,IF('Page 1'!A59=\"20\",24,IF('Page 1'!A59=\"22\",24,IF('Page 1'!A59=\"24\",24,IF('Page 1'!A59=\"26\",24,IF('Page 1'!A59=\"28\",24,IF('Page 1'!A59=\"30\",22,IF('Page 1'!A59=\"32\",22,IF('Page 1'!A59=\"34\",22,IF('Page 1'!A59=\"36\",22,IF('Page 1'!A59=\"38\",22,IF('Page 1'!A59=\"40\",22,IF('Page 1'!A59=\"42\",22,IF('Page 1'!A59=\"44\",22,IF('Page 1'!A59=\"46\",22,IF('Page 1'!A59=\"48\",22,\"\"))))))))))))))))))))))","v":""},"2\""]
[null,{"$f":"IF('Page 1'!$A$19<>\"\",\"V\",\"\")","v":""},{"$f":"IF('Page 1'!$H$36<>\"\",\"M\",\"\")","v":""},{"$f":"IF('Page 1'!$A$19<>\"\",\"-\",\"\")","v":""},{"$f":"C5","v":""},{"$f":"IF('Page 1'!J57<>\"\",'Page 1'!K57,\"\")","v":""},{"$f":"IF('Page 1'!J57<>\"\",\"0\",\"\")","v":""},{"$f":"IF('Page 1'!J57<>\"\",\"00\",\"\")","v":""},{"$f":"IF('Page 1'!N57<>\"\",\"A\",\"C\")","v":"C"},{"$f":"IF(I55=\"C\",IF('Page 1'!$M$19<>\"\",$Z$77,IF('Page 1'!$M$20<>\"\",$Z$78,IF('Page 1'!$M$21<>\"\",$Z$79,\"\"))),IF(I55=\"A\",IF('Page 1'!$M$19<>\"\",$Z$80,IF('Page 1'!$M$20<>\"\",$Z$81,IF('Page 1'!$M$21<>\"\",$Z$82,\"\")))))","v":""},{"$f":"IF('Page 1'!$M$19<>\"\",\"1\",IF('Page 1'!$M$20<>\"\",\"1\",IF('Page 1'!$M$21<>\"\",\"1\",\"\")))","v":""},null,null,null,null,{"$f":"IF('Page 1'!$J$57<>\"\",CONCATENATE(B55,C55,D55,E55,F55,G55,H55,I55,J55,K55,L55),\"\")","v":""},{"$f":"IF('Page 1'!J57<>\"\",'Page 1'!J57,\"\")","v":""},null,{"$f":"IFERROR(VLOOKUP(LEFT(P55,20),Item_VIP!$A$2:$B$9000,1,FALSE),\"\")","v":""},null,null,null,null,null,"GAL",{"$f":"IF('Page 1'!A59=\"06\",24,IF('Page 1'!A59=\"08\",24,IF('Page 1'!A59=\"10\",24,IF('Page 1'!A59=\"12\",24,IF('Page 1'!A59=\"14\",24,IF('Page 1'!A59=\"16\",24,IF('Page 1'!A59=\"18\",24,IF('Page 1'!A59=\"20\",24,IF('Page 1'!A59=\"22\",24,IF('Page 1'!A59=\"24\",24,IF('Page 1'!A59=\"26\",22,IF('Page 1'!A59=\"28\",22,IF('Page 1'!A59=\"30\",22,IF('Page 1'!A59=\"32\",22,IF('Page 1'!A59=\"34\",22,IF('Page 1'!A59=\"36\",22,IF('Page 1'!A59=\"38\",22,IF('Page 1'!A59=\"40\",22,IF('Page 1'!A59=\"42\",22,IF('Page 1'!A59=\"44\",22,IF('Page 1'!A59=\"46\",22,IF('Page 1'!A59=\"48\",22,\"\"))))))))))))))))))))))","v":""},"4\""]
[null,{"$f":"IF('Page 1'!$A$19<>\"\",\"V\",\"\")","v":""},{"$f":"IF('Page 1'!$H$36<>\"\",\"M\",\"\")","v":""},{"$f":"IF('Page 1'!$A$19<>\"\",\"-\",\"\")","v":""},{"$f":"C5","v":""},{"$f":"IF('Page 1'!J58<>\"\",'Page 1'!K58,\"\")","v":""},{"$f":"IF('Page 1'!J58<>\"\",\"0\",\"\")","v":""},{"$f":"IF('Page 1'!J58<>\"\",\"00\",\"\")","v":""},{"$f":"IF('Page 1'!N58<>\"\",\"A\",\"C\")","v":"C"},{"$f":"IF(I56=\"C\",IF('Page 1'!$M$19<>\"\",$Z$83,IF('Page 1'!$M$20<>\"\",$Z$84,IF('Page 1'!$M$21<>\"\",$Z$85,\"\"))),IF(I56=\"A\",IF('Page 1'!$M$19<>\"\",$Z$80,IF('Page 1'!$M$20<>\"\",$Z$81,IF('Page 1'!$M$21<>\"\",$Z$82,\"\")))))","v":""},{"$f":"IF('Page 1'!$M$19<>\"\",\"1\",IF('Page 1'!$M$20<>\"\",\"1\",IF('Page 1'!$M$21<>\"\",\"1\",\"\")))","v":""},null,null,null,null,{"$f":"IF('Page 1'!$J$58<>\"\",CONCATENATE(B56,C56,D56,E56,F56,G56,H56,I56,J56,K56,L56),\"\")","v":""},{"$f":"IF('Page 1'!J58<>\"\",'Page 1'!J58,\"\")","v":""},null,{"$f":"IFERROR(VLOOKUP(LEFT(P56,20),Item_VIP!$A$2:$B$9000,1,FALSE),\"\")","v":""},null,"SUPPORTS","SS 304",null,null,"STD",{"$f":"IF('Page 1'!H36=\"06\",20,IF('Page 1'!H36=\"08\",20,IF('Page 1'!H36=\"10\",20,IF('Page 1'!H36=\"12\",20,IF('Page 1'!H36=\"14\",20,IF('Page 1'!H36=\"16\",20,IF('Page 1'!H36=\"18\",20,IF('Page 1'!H36=\"20\",20,IF('Page 1'!H36=\"22\",20,IF('Page 1'!H36=\"24\",20,IF('Page 1'!H36=\"26\",20,IF('Page 1'!H36=\"28\",20,IF('Page 1'!H36=\"30\",20,IF('Page 1'!H36=\"32\",20,IF('Page 1'!H36=\"34\",20,IF('Page 1'!H36=\"36\",20,IF('Page 1'!H36=\"38\",20,IF('Page 1'!H36=\"40\",20,IF('Page 1'!H36=\"42\",20,IF('Page 1'!H36=\"44\",20,IF('Page 1'!H36=\"46\",20,IF('Page 1'!H36=\"48\",20,\"\"))))))))))))))))))))))","v":""},"1\""]
[null,{"$f":"IF('Page 1'!$A$19<>\"\",\"V\",\"\")","v":""},{"$f":"IF('Page 1'!$H$57<>\"\",\"M\",\"\")","v":""},{"$f":"IF('Page 1'!$A$19<>\"\",\"-\",\"\")","v":""},{"$f":"IF('Page 1'!$A$19<>\"\",'Page 1'!$H$57,\"\")","v":""},{"$f":"IF('Page 1'!J59<>\"\",'Page 1'!K59,\"\")","v":""},{"$f":"IF('Page 1'!$D$19<>\"\",\"A\",IF('Page 1'!$D$20<>\"\",\"B\",\"\"))","v":""},{"$f":"IF('Page 1'!$F$19<>\"\",\"26\",IF('Page 1'!$F$20<>\"\",\"24\",IF('Page 1'!$F$21<>\"\",\"20\",IF('Page 1'!$D$19<>\"\",IF('Page 1'!$F$22<>\"\",$X$86,\"\"),IF('Page 1'!$D$20<>\"\",IF('Page 1'!$F$22<>\"\",$X$89,\"\"),\"\")))))","v":""},{"$f":"IF('Page 1'!$H$19<>\"\",\"A\",IF('Page 1'!$H$20<>\"\",\"B\",IF('Page 1'!$H$21<>\"\",\"C\",\"\")))","v":""},{"$f":"IF('Page 1'!$K$19<>\"\",\"26\",IF('Page 1'!$K$20<>\"\",\"24\",IF('Page 1'!$K$21<>\"\",\"20\",IF($AC$86<>\"\",$AC$86,IF($AC$89<>\"\",$AC$89,IF($AC$92<>\"\",$AC$92,\"\"))))))","v":""},{"$f":"IF('Page 1'!$M$19<>\"\",\"1\",IF('Page 1'!$M$20<>\"\",\"2\",IF('Page 1'!$M$21<>\"\",\"4\",\"\")))","v":""},{"$f":"IF('Page 1'!$I$59<>\"\",'Page 1'!$I$59,\"\")","v":""},null,null,null,{"$f":"IF('Page 1'!$J$59<>\"\",CONCATENATE(B57,C57,D57,E57,F57,G57,H57,I57,J57,K57,L57),\"\")","v":""},{"$f":"IF('Page 1'!J59<>\"\",'Page 1'!J59,\"\")","v":""},null,{"$f":"IFERROR(VLOOKUP(LEFT(P57,20),Item_VIP!$A$2:$B$9000,1,FALSE),\"\")","v":""},null,null,null,null,null,"STD",{"$f":"IF('Page 1'!H36=\"06\",20,IF('Page 1'!H36=\"08\",20,IF('Page 1'!H36=\"10\",20,IF('Page 1'!H36=\"12\",20,IF('Page 1'!H36=\"14\",20,IF('Page 1'!H36=\"16\",20,IF('Page 1'!H36=\"18\",20,IF('Page 1'!H36=\"20\",20,IF('Page 1'!H36=\"22\",20,IF('Page 1'!H36=\"24\",20,IF('Page 1'!H36=\"26\",20,IF('Page 1'!H36=\"28\",20,IF('Page 1'!H36=\"30\",20,IF('Page 1'!H36=\"32\",20,IF('Page 1'!H36=\"34\",20,IF('Page 1'!H36=\"36\",20,IF('Page 1'!H36=\"38\",20,IF('Page 1'!H36=\"40\",20,IF('Page 1'!H36=\"42\",20,IF('Page 1'!H36=\"44\",20,IF('Page 1'!H36=\"46\",20,IF('Page 1'!H36=\"48\",20,\"\"))))))))))))))))))))))","v":""},"2\""]
[null,{"$f":"IF('Page 1'!$A$19<>\"\",\"V\",\"\")","v":""},{"$f":"IF('Page 1'!$H$57<>\"\",\"M\",\"\")","v":""},{"$f":"IF('Page 1'!$A$19<>\"\",\"-\",\"\")","v":""},{"$f":"IF('Page 1'!$A$19<>\"\",'Page 1'!$H$57,\"\")","v":""},{"$f":"IF('Page 1'!J60<>\"\",'Page 1'!K60,\"\")","v":""},{"$f":"IF('Page 1'!$D$19<>\"\",\"A\",IF('Page 1'!$D$20<>\"\",\"B\",\"\"))","v":""},{"$f":"IF('Page 1'!$F$19<>\"\",\"26\",IF('Page 1'!$F$20<>\"\",\"24\",IF('Page 1'!$F$21<>\"\",\"20\",IF('Page 1'!$D$19<>\"\",IF('Page 1'!$F$22<>\"\",$X$86,\"\"),IF('Page 1'!$D$20<>\"\",IF('Page 1'!$F$22<>\"\",$X$89,\"\"),\"\")))))","v":""},{"$f":"IF('Page 1'!$H$19<>\"\",\"A\",IF('Page 1'!$H$20<>\"\",\"B\",IF('Page 1'!$H$21<>\"\",\"C\",\"\")))","v":""},{"$f":"IF('Page 1'!$K$19<>\"\",\"26\",IF('Page 1'!$K$20<>\"\",\"24\",IF('Page 1'!$K$21<>\"\",\"20\",IF($AC$86<>\"\",$AC$86,IF($AC$89<>\"\",$AC$89,IF($AC$92<>\"\",$AC$92,\"\"))))))","v":""},{"$f":"IF('Page 1'!$M$19<>\"\",\"1\",IF('Page 1'!$M$20<>\"\",\"2\",IF('Page 1'!$M$21<>\"\",\"4\",\"\")))","v":""},{"$f":"IF('Page 1'!$I$59<>\"\",'Page 1'!$I$59,\"\")","v":""},null,null,null,{"$f":"IF('Page 1'!$J$59<>\"\",CONCATENATE(B58,C58,D58,E58,F58,G58,H58,I58,J58,K58,L58),\"\")","v":""},{"$f":"IF('Page 1'!J60<>\"\",'Page 1'!J60,\"\")","v":""},null,{"$f":"IFERROR(VLOOKUP(LEFT(P58,20),Item_VIP!$A$2:$B$9000,1,FALSE),\"\")","v":""},null,null,null,null,null,"STD",{"$f":"IF('Page 1'!H36=\"06\",20,IF('Page 1'!H36=\"08\",20,IF('Page 1'!H36=\"10\",20,IF('Page 1'!H36=\"12\",20,IF('Page 1'!H36=\"14\",20,IF('Page 1'!H36=\"16\",20,IF('Page 1'!H36=\"18\",20,IF('Page 1'!H36=\"20\",20,IF('Page 1'!H36=\"22\",20,IF('Page 1'!H36=\"24\",20,IF('Page 1'!H36=\"26\",20,IF('Page 1'!H36=\"28\",20,IF('Page 1'!H36=\"30\",20,IF('Page 1'!H36=\"32\",20,IF('Page 1'!H36=\"34\",20,IF('Page 1'!H36=\"36\",20,IF('Page 1'!H36=\"38\",20,IF('Page 1'!H36=\"40\",20,IF('Page 1'!H36=\"42\",20,IF('Page 1'!H36=\"44\",20,IF('Page 1'!H36=\"46\",20,IF('Page 1'!H36=\"48\",20,\"\"))))))))))))))))))))))","v":""},"4\""]
[null,{"$f":"IF('Page 1'!$A$19<>\"\",\"V\",\"\")","v":""},{"$f":"IF('Page 1'!$H$57<>\"\",\"M\",\"\")","v":""},{"$f":"IF('Page 1'!$A$19<>\"\",\"-\",\"\")","v":""},{"$f":"IF('Page 1'!$A$19<>\"\",'Page 1'!$H$57,\"\")","v":""},{"$f":"IF('Page 1'!J61<>\"\",'Page 1'!K61,\"\")","v":""},{"$f":"IF('Page 1'!$D$19<>\"\",\"A\",IF('Page 1'!$D$20<>\"\",\"B\",\"\"))","v":""},{"$f":"IF('Page 1'!$F$20<>\"\",\"24\",IF('Page 1'!$F$21<>\"\",\"20\",IF('Page 1'!$D$19<>\"\",IF('Page 1'!$F$22<>\"\",$X$21,\"\"),IF('Page 1'!$D$20<>\"\",IF('Page 1'!$F$22<>\"\",$X$24,\"\"),\"\"))))","v":""},{"$f":"IF('Page 1'!$H$19<>\"\",\"A\",IF('Page 1'!$H$20<>\"\",\"B\",IF('Page 1'!$H$21<>\"\",\"C\",\"\")))","v":""},{"$f":"IF('Page 1'!$K$20<>\"\",\"24\",IF('Page 1'!$K$21<>\"\",\"20\",IF($AC$21<>\"\",$AC$21,IF($AC$24<>\"\",$AC$24,IF($AC$27<>\"\",$AC$27,\"\")))))","v":""},{"$f":"IF('Page 1'!$M$19<>\"\",\"1\",IF('Page 1'!$M$20<>\"\",\"2\",IF('Page 1'!$M$21<>\"\",\"4\",\"\")))","v":""},null,null,null,null,{"$f":"IF('Page 1'!$J$59<>\"\",CONCATENATE(B59,C59,D59,E59,F59,G59,H59,I59,J59,K59,L59),\"\")","v":""},{"$f":"IF('Page 1'!J61<>\"\",'Page 1'!J61,\"\")","v":""},null,{"$f":"IFERROR(VLOOKUP(LEFT(P59,20),Item_VIP!$A$2:$B$9000,1,FALSE),\"\")","v":""},null,null,"GALVALUME STD",null,null,"GAL",{"$f":"IF('Page 1'!H36=\"06\",22,IF('Page 1'!H36=\"08\",22,IF('Page 1'!H36=\"10\",22,IF('Page 1'!H36=\"12\",22,IF('Page 1'!H36=\"14\",22,IF('Page 1'!H36=\"16\",22,IF('Page 1'!H36=\"18\",22,IF('Page 1'!H36=\"20\",22,IF('Page 1'!H36=\"22\",22,IF('Page 1'!H36=\"24\",22,IF('Page 1'!H36=\"26\",22,IF('Page 1'!H36=\"28\",22,IF('Page 1'!H36=\"30\",22,IF('Page 1'!H36=\"32\",22,IF('Page 1'!H36=\"34\",22,IF('Page 1'!H36=\"36\",22,IF('Page 1'!H36=\"38\",22,IF('Page 1'!H36=\"40\",22,IF('Page 1'!H36=\"42\",22,IF('Page 1'!H36=\"44\",22,IF('Page 1'!H36=\"46\",22,IF('Page 1'!H36=\"48\",22,\"\"))))))))))))))))))))))","v":""},"1\""]
[null,null,null,null,null,null,null,null,null,null,null,null,null,null,null,null,null,null,null,null,null,null,null,null,"GAL",{"$f":"IF('Page 1'!H36=\"06\",22,IF('Page 1'!H36=\"08\",22,IF('Page 1'!H36=\"10\",22,IF('Page 1'!H36=\"12\",22,IF('Page 1'!H36=\"14\",22,IF('Page 1'!H36=\"16\",22,IF('Page 1'!H36=\"18\",22,IF('Page 1'!H36=\"20\",22,IF('Page 1'!H36=\"22\",22,IF('Page 1'!H36=\"24\",22,IF('Page 1'!H36=\"26\",22,IF('Page 1'!H36=\"28\",22,IF('Page 1'!H36=\"30\",22,IF('Page 1'!H36=\"32\",22,IF('Page 1'!H36=\"34\",22,IF('Page 1'!H36=\"36\",22,IF('Page 1'!H36=\"38\",22,IF('Page 1'!H36=\"40\",22,IF('Page 1'!H36=\"42\",22,IF('Page 1'!H36=\"44\",22,IF('Page 1'!H36=\"46\",22,IF('Page 1'!H36=\"48\",22,\"\"))))))))))))))))))))))","v":""},"2\""]
[null,null,null,null,null,null,null,null,null,null,null,null,null,null,null,null,null,null,null,null,null,null,null,null,"GAL",{"$f":"IF('Page 1'!H36=\"06\",22,IF('Page 1'!H36=\"08\",22,IF('Page 1'!H36=\"10\",22,IF('Page 1'!H36=\"12\",22,IF('Page 1'!H36=\"14\",22,IF('Page 1'!H36=\"16\",22,IF('Page 1'!H36=\"18\",22,IF('Page 1'!H36=\"20\",22,IF('Page 1'!H36=\"22\",22,IF('Page 1'!H36=\"24\",22,IF('Page 1'!H36=\"26\",22,IF('Page 1'!H36=\"28\",22,IF('Page 1'!H36=\"30\",22,IF('Page 1'!H36=\"32\",22,IF('Page 1'!H36=\"34\",22,IF('Page 1'!H36=\"36\",22,IF('Page 1'!H36=\"38\",22,IF('Page 1'!H36=\"40\",22,IF('Page 1'!H36=\"42\",22,IF('Page 1'!H36=\"44\",22,IF('Page 1'!H36=\"46\",22,IF('Page 1'!H36=\"48\",22,\"\"))))))))))))))))))))))","v":""},"4\""]
[null,null,null,null,null,null,null,null,null,null,null,null,null,null,null,null,null,null,null,null,"AP","SS 304","STD",{"$f":"IF('Page 1'!H45=\"06\",24,IF('Page 1'!H45=\"08\",24,IF('Page 1'!H45=\"10\",24,IF('Page 1'!H45=\"12\",24,IF('Page 1'!H45=\"14\",24,IF('Page 1'!H45=\"16\",24,IF('Page 1'!H45=\"18\",24,IF('Page 1'!H45=\"20\",24,IF('Page 1'!H45=\"22\",20,IF('Page 1'!H45=\"24\",20,IF('Page 1'!H45=\"26\",20,IF('Page 1'!H45=\"28\",20,IF('Page 1'!H45=\"30\",20,IF('Page 1'!H45=\"32\",20,IF('Page 1'!H45=\"34\",20,IF('Page 1'!H45=\"36\",20,IF('Page 1'!H45=\"38\",20,IF('Page 1'!H45=\"40\",20,IF('Page 1'!H45=\"42\",20,IF('Page 1'!H45=\"44\",20,IF('Page 1'!H45=\"46\",20,IF('Page 1'!H45=\"48\",20,\"\"))))))))))))))))))))))","v":""}]
[null,null,null,null,null,null,null,null,null,null,null,null,null,null,null,null,null,null,null,null,null,"SS 316","STD",{"$f":"IF('Page 1'!H45=\"06\",24,IF('Page 1'!H45=\"08\",24,IF('Page 1'!H45=\"10\",24,IF('Page 1'!H45=\"12\",24,IF('Page 1'!H45=\"14\",24,IF('Page 1'!H45=\"16\",24,IF('Page 1'!H45=\"18\",24,IF('Page 1'!H45=\"20\",24,IF('Page 1'!H45=\"22\",20,IF('Page 1'!H45=\"20\",24,IF('Page 1'!H45=\"26\",20,IF('Page 1'!H45=\"28\",20,IF('Page 1'!H45=\"30\",20,IF('Page 1'!H45=\"32\",20,IF('Page 1'!H45=\"34\",20,IF('Page 1'!H45=\"36\",20,IF('Page 1'!H45=\"38\",20,IF('Page 1'!H45=\"40\",20,IF('Page 1'!H45=\"42\",20,IF('Page 1'!H45=\"44\",20,IF('Page 1'!H45=\"46\",20,IF('Page 1'!H45=\"48\",20,\"\"))))))))))))))))))))))","v":""}]
[null,null,null,null,null,null,null,null,null,null,null,null,null,null,null,null,null,null,null,null,"EX","SS 304","STD",{"$f":"IF('Page 1'!H45=\"06\",24,IF('Page 1'!H45=\"08\",24,IF('Page 1'!H45=\"10\",24,IF('Page 1'!H45=\"12\",24,IF('Page 1'!H45=\"14\",24,IF('Page 1'!H45=\"16\",24,IF('Page 1'!H45=\"18\",24,IF('Page 1'!H45=\"20\",24,IF('Page 1'!H45=\"22\",24,IF('Page 1'!H45=\"24\",24,IF('Page 1'!H45=\"26\",24,IF('Page 1'!H45=\"28\",24,IF('Page 1'!H45=\"30\",20,IF('Page 1'!H45=\"32\",20,IF('Page 1'!H45=\"34\",20,IF('Page 1'!H45=\"36\",20,IF('Page 1'!H45=\"38\",20,IF('Page 1'!H45=\"40\",20,IF('Page 1'!H45=\"42\",20,IF('Page 1'!H45=\"44\",20,IF('Page 1'!H45=\"46\",20,IF('Page 1'!H45=\"48\",20,\"\"))))))))))))))))))))))","v":""}]
[null,null,null,null,null,null,null,null,null,null,null,null,null,null,null,null,null,null,null,null,null,"SS 316","STD",{"$f":"IF('Page 1'!H45=\"06\",24,IF('Page 1'!H45=\"08\",24,IF('Page 1'!H45=\"10\",24,IF('Page 1'!H45=\"12\",24,IF('Page 1'!H45=\"14\",24,IF('Page 1'!H45=\"16\",24,IF('Page 1'!H45=\"18\",24,IF('Page 1'!H45=\"24\",24,IF('Page 1'!H45=\"22\",24,IF('Page 1'!H45=\"24\",24,IF('Page 1'!H45=\"26\",24,IF('Page 1'!H45=\"28\",24,IF('Page 1'!H45=\"30\",20,IF('Page 1'!H45=\"32\",20,IF('Page 1'!H45=\"34\",20,IF('Page 1'!H45=\"36\",20,IF('Page 1'!H45=\"38\",20,IF('Page 1'!H45=\"40\",20,IF('Page 1'!H45=\"42\",20,IF('Page 1'!H45=\"44\",20,IF('Page 1'!H45=\"46\",20,IF('Page 1'!H45=\"48\",20,\"\"))))))))))))))))))))))","v":""}]
[null,null,null,null,null,null,null,null,null,null,null,null,null,null,null,null,null,null,null,null,"RC/CB","SS 304","STD",null,"STD",{"$f":"IF('Page 1'!H45=\"06\",24,IF('Page 1'!H45=\"08\",24,IF('Page 1'!H45=\"10\",24,IF('Page 1'!H45=\"12\",24,IF('Page 1'!H45=\"14\",24,IF('Page 1'!H45=\"16\",24,IF('Page 1'!H45=\"18\",24,IF('Page 1'!H45=\"20\",24,IF('Page 1'!H45=\"22\",24,IF('Page 1'!H45=\"24\",20,IF('Page 1'!H45=\"26\",20,IF('Page 1'!H45=\"28\",20,IF('Page 1'!H45=\"30\",20,IF('Page 1'!H45=\"32\",20,IF('Page 1'!H45=\"34\",20,IF('Page 1'!H45=\"36\",20,IF('Page 1'!H45=\"38\",20,IF('Page 1'!H45=\"40\",20,IF('Page 1'!H45=\"42\",20,IF('Page 1'!H45=\"44\",20,IF('Page 1'!H45=\"46\",20,IF('Page 1'!H45=\"48\",20,\"\"))))))))))))))))))))))","v":""}]
[null,null,null,null,null,null,null,null,null,null,null,null,null,null,null,null,null,null,null,null,null,"SS 316","STD",null,"STD",{"$f":"IF('Page 1'!H45=\"06\",24,IF('Page 1'!H45=\"08\",24,IF('Page 1'!H45=\"10\",24,IF('Page 1'!H45=\"12\",24,IF('Page 1'!H45=\"14\",24,IF('Page 1'!H45=\"16\",24,IF('Page 1'!H45=\"18\",24,IF('Page 1'!H45=\"20\",24,IF('Page 1'!H45=\"22\",24,IF('Page 1'!H45=\"24\",20,IF('Page 1'!H45=\"26\",20,IF('Page 1'!H45=\"28\",20,IF('Page 1'!H45=\"30\",20,IF('Page 1'!H45=\"32\",20,IF('Page 1'!H45=\"34\",20,IF('Page 1'!H45=\"36\",20,IF('Page 1'!H45=\"38\",20,IF('Page 1'!H45=\"40\",20,IF('Page 1'!H45=\"42\",20,IF('Page 1'!H45=\"44\",20,IF('Page 1'!H45=\"46\",20,IF('Page 1'!H45=\"48\",20,\"\"))))))))))))))))))))))","v":""}]
[null,null,null,null,null,null,null,null,null,null,null,null,null,null,null,null,null,null,null,null,"EC","SS 304","STD",{"$f":"IF('Page 1'!H45=\"06\",24,IF('Page 1'!H45=\"08\",24,IF('Page 1'!H45=\"10\",24,IF('Page 1'!H45=\"12\",24,IF('Page 1'!H45=\"14\",24,IF('Page 1'!H45=\"16\",24,IF('Page 1'!H45=\"18\",24,IF('Page 1'!H45=\"20\",24,IF('Page 1'!H45=\"22\",24,IF('Page 1'!H45=\"24\",24,IF('Page 1'!H45=\"26\",24,IF('Page 1'!H45=\"28\",24,IF('Page 1'!H45=\"30\",20,IF('Page 1'!H45=\"32\",20,IF('Page 1'!H45=\"34\",20,IF('Page 1'!H45=\"36\",20,IF('Page 1'!H45=\"38\",20,IF('Page 1'!H45=\"40\",20,IF('Page 1'!H45=\"42\",20,IF('Page 1'!H45=\"44\",20,IF('Page 1'!H45=\"46\",20,IF('Page 1'!H45=\"48\",20,\"\"))))))))))))))))))))))","v":""}]
[null,null,null,null,null,null,null,null,null,null,null,null,null,null,null,null,null,null,null,null,null,"SS 316","STD",{"$f":"IF('Page 1'!H45=\"06\",24,IF('Page 1'!H45=\"08\",24,IF('Page 1'!H45=\"10\",24,IF('Page 1'!H45=\"12\",24,IF('Page 1'!H45=\"14\",24,IF('Page 1'!H45=\"16\",24,IF('Page 1'!H45=\"18\",24,IF('Page 1'!H45=\"20\",24,IF('Page 1'!H45=\"22\",20,IF('Page 1'!H45=\"24\",20,IF('Page 1'!H45=\"26\",20,IF('Page 1'!H45=\"28\",20,IF('Page 1'!H45=\"30\",20,IF('Page 1'!H45=\"32\",20,IF('Page 1'!H45=\"34\",20,IF('Page 1'!H45=\"36\",20,IF('Page 1'!H45=\"38\",20,IF('Page 1'!H45=\"40\",20,IF('Page 1'!H45=\"42\",20,IF('Page 1'!H45=\"44\",20,IF('Page 1'!H45=\"46\",20,IF('Page 1'!H45=\"48\",20,\"\"))))))))))))))))))))))","v":""}]
[null,null,null,null,null,null,null,null,null,null,null,null,null,null,null,null,null,null,null,null,"FT","SS 304","STD",null,"STD",{"$f":"IF('Page 1'!H45=\"06\",24,IF('Page 1'!H45=\"08\",24,IF('Page 1'!H45=\"10\",24,IF('Page 1'!H45=\"12\",24,IF('Page 1'!H45=\"14\",24,IF('Page 1'!H45=\"16\",24,IF('Page 1'!H45=\"18\",24,IF('Page 1'!H45=\"20\",24,IF('Page 1'!H45=\"22\",24,IF('Page 1'!H45=\"24\",20,IF('Page 1'!H45=\"26\",20,IF('Page 1'!H45=\"28\",20,IF('Page 1'!H45=\"30\",20,IF('Page 1'!H45=\"32\",20,IF('Page 1'!H45=\"34\",20,IF('Page 1'!H45=\"36\",20,IF('Page 1'!H45=\"38\",20,IF('Page 1'!H45=\"40\",20,IF('Page 1'!H45=\"42\",20,IF('Page 1'!H45=\"44\",20,IF('Page 1'!H45=\"46\",20,IF('Page 1'!H45=\"48\",20,\"\"))))))))))))))))))))))","v":""}]
[null,null,null,null,null,null,null,null,null,null,null,null,null,null,null,null,null,null,null,null,null,"SS 316","STD",null,"STD",{"$f":"IF('Page 1'!H45=\"06\",24,IF('Page 1'!H45=\"08\",24,IF('Page 1'!H45=\"10\",24,IF('Page 1'!H45=\"12\",24,IF('Page 1'!H45=\"14\",24,IF('Page 1'!H45=\"16\",24,IF('Page 1'!H45=\"18\",24,IF('Page 1'!H45=\"20\",24,IF('Page 1'!H45=\"22\",24,IF('Page 1'!H45=\"24\",20,IF('Page 1'!H45=\"26\",20,IF('Page 1'!H45=\"28\",20,IF('Page 1'!H45=\"30\",20,IF('Page 1'!H45=\"32\",20,IF('Page 1'!H45=\"34\",20,IF('Page 1'!H45=\"36\",20,IF('Page 1'!H45=\"38\",20,IF('Page 1'!H45=\"40\",20,IF('Page 1'!H45=\"42\",20,IF('Page 1'!H45=\"44\",20,IF('Page 1'!H45=\"46\",20,IF('Page 1'!H45=\"48\",20,\"\"))))))))))))))))))))))","v":""}]
[null,null,null,null,null,null,null,null,null,null,null,null,null,null,null,null,null,null,null,null,"MC","SS 304","STD",{"$f":"IF('Page 1'!H45=\"06\",20,IF('Page 1'!H45=\"08\",20,IF('Page 1'!H45=\"10\",20,IF('Page 1'!H45=\"12\",20,IF('Page 1'!H45=\"14\",20,IF('Page 1'!H45=\"16\",20,IF('Page 1'!H45=\"18\",20,IF('Page 1'!H45=\"20\",20,IF('Page 1'!H45=\"22\",20,IF('Page 1'!H45=\"24\",20,IF('Page 1'!H45=\"26\",20,IF('Page 1'!H45=\"28\",20,IF('Page 1'!H45=\"30\",20,IF('Page 1'!H45=\"32\",20,IF('Page 1'!H45=\"34\",20,IF('Page 1'!H45=\"36\",20,IF('Page 1'!H45=\"38\",20,IF('Page 1'!H45=\"40\",20,IF('Page 1'!H45=\"42\",20,IF('Page 1'!H45=\"44\",20,IF('Page 1'!H45=\"46\",20,IF('Page 1'!H45=\"48\",20,\"\"))))))))))))))))))))))","v":""}]
[null,null,null,null,null,null,null,null,null,null,null,null,null,null,null,null,null,null,null,null,null,"SS 316","STD",{"$f":"IF('Page 1'!H45=\"06\",20,IF('Page 1'!H45=\"08\",20,IF('Page 1'!H45=\"10\",20,IF('Page 1'!H45=\"12\",20,IF('Page 1'!H45=\"14\",20,IF('Page 1'!H45=\"16\",20,IF('Page 1'!H45=\"18\",20,IF('Page 1'!H45=\"20\",20,IF('Page 1'!H45=\"22\",20,IF('Page 1'!H45=\"20\",20,IF('Page 1'!H45=\"26\",20,IF('Page 1'!H45=\"28\",20,IF('Page 1'!H45=\"30\",20,IF('Page 1'!H45=\"32\",20,IF('Page 1'!H45=\"34\",20,IF('Page 1'!H45=\"36\",20,IF('Page 1'!H45=\"38\",20,IF('Page 1'!H45=\"40\",20,IF('Page 1'!H45=\"42\",20,IF('Page 1'!H45=\"44\",20,IF('Page 1'!H45=\"46\",20,IF('Page 1'!H45=\"48\",20,\"\"))))))))))))))))))))))","v":""}]
[null,null,null,null,null,null,null,null,null,null,null,null,null,null,null,null,null,null,null,null,"RS","SS 304",null,null,"STD",{"$f":"IF('Page 1'!H57=\"06\",24,IF('Page 1'!H57=\"08\",24,IF('Page 1'!H57=\"10\",24,IF('Page 1'!H57=\"12\",24,IF('Page 1'!H57=\"14\",24,IF('Page 1'!H57=\"16\",24,IF('Page 1'!H57=\"18\",24,IF('Page 1'!H57=\"20\",24,IF('Page 1'!H57=\"22\",24,IF('Page 1'!H57=\"24\",24,IF('Page 1'!H57=\"26\",24,IF('Page 1'!H57=\"28\",24,IF('Page 1'!H57=\"30\",24,IF('Page 1'!H57=\"32\",24,IF('Page 1'!H57=\"34\",24,IF('Page 1'!H57=\"36\",24,IF('Page 1'!H57=\"38\",24,IF('Page 1'!H57=\"40\",24,IF('Page 1'!H57=\"42\",24,IF('Page 1'!H57=\"44\",24,IF('Page 1'!H57=\"46\",24,IF('Page 1'!H57=\"48\",24,\"\"))))))))))))))))))))))","v":""},"1\""]
[null,null,null,null,null,null,null,null,null,null,null,null,null,null,null,null,null,null,null,null,null,null,null,null,"STD",{"$f":"IF('Page 1'!H57=\"06\",24,IF('Page 1'!H57=\"08\",24,IF('Page 1'!H57=\"10\",24,IF('Page 1'!H57=\"12\",24,IF('Page 1'!H57=\"14\",24,IF('Page 1'!H57=\"16\",24,IF('Page 1'!H57=\"18\",24,IF('Page 1'!H57=\"20\",24,IF('Page 1'!H57=\"22\",24,IF('Page 1'!H57=\"24\",24,IF('Page 1'!H57=\"26\",24,IF('Page 1'!H57=\"28\",24,IF('Page 1'!H57=\"30\",24,IF('Page 1'!H57=\"32\",24,IF('Page 1'!H57=\"34\",24,IF('Page 1'!H57=\"36\",24,IF('Page 1'!H57=\"38\",24,IF('Page 1'!H57=\"40\",24,IF('Page 1'!H57=\"42\",24,IF('Page 1'!H57=\"44\",24,IF('Page 1'!H57=\"46\",24,IF('Page 1'!H57=\"48\",24,\"\"))))))))))))))))))))))","v":""},"2\""]
[null,null,null,null,null,null,null,null,null,null,null,null,null,null,null,null,null,null,null,null,null,null,null,null,"STD",{"$f":"IF('Page 1'!H57=\"06\",24,IF('Page 1'!H57=\"08\",24,IF('Page 1'!H57=\"10\",24,IF('Page 1'!H57=\"12\",24,IF('Page 1'!H57=\"14\",24,IF('Page 1'!H57=\"16\",24,IF('Page 1'!H57=\"18\",24,IF('Page 1'!H57=\"20\",24,IF('Page 1'!H57=\"22\",24,IF('Page 1'!H57=\"24\",24,IF('Page 1'!H57=\"26\",24,IF('Page 1'!H57=\"28\",24,IF('Page 1'!H57=\"30\",24,IF('Page 1'!H57=\"32\",24,IF('Page 1'!H57=\"34\",24,IF('Page 1'!H57=\"36\",24,IF('Page 1'!H57=\"38\",24,IF('Page 1'!H57=\"40\",24,IF('Page 1'!H57=\"42\",24,IF('Page 1'!H57=\"44\",24,IF('Page 1'!H57=\"46\",24,IF('Page 1'!H57=\"48\",24,\"\"))))))))))))))))))))))","v":""},"4\""]
[null,null,null,null,null,null,null,null,null,null,null,null,null,null,null,null,null,null,null,null,null,"GALVALUME STD",null,null,"GAL",{"$f":"IF('Page 1'!H57=\"06\",24,IF('Page 1'!H57=\"08\",24,IF('Page 1'!H57=\"10\",24,IF('Page 1'!H57=\"12\",24,IF('Page 1'!H57=\"14\",24,IF('Page 1'!H57=\"16\",24,IF('Page 1'!H57=\"18\",24,IF('Page 1'!H57=\"20\",24,IF('Page 1'!H57=\"22\",24,IF('Page 1'!H57=\"24\",24,IF('Page 1'!H57=\"26\",24,IF('Page 1'!H57=\"28\",24,IF('Page 1'!H57=\"30\",24,IF('Page 1'!H57=\"32\",22,IF('Page 1'!H57=\"34\",22,IF('Page 1'!H57=\"36\",22,IF('Page 1'!H57=\"38\",22,IF('Page 1'!H57=\"40\",22,IF('Page 1'!H57=\"42\",22,IF('Page 1'!H57=\"44\",22,IF('Page 1'!H57=\"46\",22,IF('Page 1'!H57=\"48\",22,\"\"))))))))))))))))))))))","v":""},"1\""]
[null,null,null,null,null,null,null,null,null,null,null,null,null,null,null,null,null,null,null,null,null,null,null,null,"GAL",{"$f":"IF('Page 1'!H57=\"06\",24,IF('Page 1'!H57=\"08\",24,IF('Page 1'!H57=\"10\",24,IF('Page 1'!H57=\"12\",24,IF('Page 1'!H57=\"14\",24,IF('Page 1'!H57=\"16\",24,IF('Page 1'!H57=\"18\",24,IF('Page 1'!H57=\"20\",24,IF('Page 1'!H57=\"22\",24,IF('Page 1'!H57=\"24\",24,IF('Page 1'!H57=\"26\",24,IF('Page 1'!H57=\"28\",24,IF('Page 1'!H57=\"30\",22,IF('Page 1'!H57=\"32\",22,IF('Page 1'!H57=\"34\",22,IF('Page 1'!H57=\"36\",22,IF('Page 1'!H57=\"38\",22,IF('Page 1'!H57=\"40\",22,IF('Page 1'!H57=\"42\",22,IF('Page 1'!H57=\"44\",22,IF('Page 1'!H57=\"46\",22,IF('Page 1'!H57=\"48\",20,\"\"))))))))))))))))))))))","v":""},"2\""]
[null,null,null,null,null,null,null,null,null,null,null,null,null,null,null,null,null,null,null,null,null,null,null,null,"GAL",{"$f":"IF('Page 1'!H57=\"06\",24,IF('Page 1'!H57=\"08\",24,IF('Page 1'!H57=\"10\",24,IF('Page 1'!H57=\"12\",24,IF('Page 1'!H57=\"14\",24,IF('Page 1'!H57=\"16\",24,IF('Page 1'!H57=\"18\",24,IF('Page 1'!H57=\"20\",24,IF('Page 1'!H57=\"22\",24,IF('Page 1'!H57=\"24\",24,IF('Page 1'!H57=\"26\",22,IF('Page 1'!H57=\"28\",22,IF('Page 1'!H57=\"30\",22,IF('Page 1'!H57=\"32\",22,IF('Page 1'!H57=\"34\",22,IF('Page 1'!H57=\"36\",22,IF('Page 1'!H57=\"38\",22,IF('Page 1'!H57=\"40\",22,IF('Page 1'!H57=\"42\",22,IF('Page 1'!H57=\"44\",22,IF('Page 1'!H57=\"46\",22,IF('Page 1'!H57=\"48\",22,\"\"))))))))))))))))))))))","v":""},"4\""]
[null,null,null,null,null,null,null,null,null,null,null,null,null,null,null,null,null,null,null,null,"FS","SS 304",null,null,"STD",{"$f":"IF('Page 1'!H57=\"06\",24,IF('Page 1'!H57=\"08\",24,IF('Page 1'!H57=\"10\",24,IF('Page 1'!H57=\"12\",24,IF('Page 1'!H57=\"14\",24,IF('Page 1'!H57=\"16\",24,IF('Page 1'!H57=\"18\",24,IF('Page 1'!H57=\"20\",24,IF('Page 1'!H57=\"22\",24,IF('Page 1'!H57=\"24\",24,IF('Page 1'!H57=\"26\",24,IF('Page 1'!H57=\"28\",24,IF('Page 1'!H57=\"30\",24,IF('Page 1'!H57=\"32\",24,IF('Page 1'!H57=\"34\",24,IF('Page 1'!H57=\"36\",24,IF('Page 1'!H57=\"38\",24,IF('Page 1'!H57=\"40\",24,IF('Page 1'!H57=\"42\",24,IF('Page 1'!H57=\"44\",24,IF('Page 1'!H57=\"46\",24,IF('Page 1'!H57=\"48\",24,\"\"))))))))))))))))))))))","v":""},"1\""]
[null,null,null,null,null,null,null,null,null,null,null,null,null,null,null,null,null,null,null,null,null,null,null,null,"STD",{"$f":"IF('Page 1'!H57=\"06\",24,IF('Page 1'!H57=\"08\",24,IF('Page 1'!H57=\"10\",24,IF('Page 1'!H57=\"12\",24,IF('Page 1'!H57=\"14\",24,IF('Page 1'!H57=\"16\",24,IF('Page 1'!H57=\"18\",24,IF('Page 1'!H57=\"20\",24,IF('Page 1'!H57=\"22\",24,IF('Page 1'!H57=\"24\",24,IF('Page 1'!H57=\"26\",24,IF('Page 1'!H57=\"28\",24,IF('Page 1'!H57=\"30\",24,IF('Page 1'!H57=\"32\",24,IF('Page 1'!H57=\"34\",24,IF('Page 1'!H57=\"36\",24,IF('Page 1'!H57=\"38\",24,IF('Page 1'!H57=\"40\",24,IF('Page 1'!H57=\"42\",24,IF('Page 1'!H57=\"44\",24,IF('Page 1'!H57=\"46\",24,IF('Page 1'!H57=\"48\",24,\"\"))))))))))))))))))))))","v":""},"2\""]
[null,null,null,null,null,null,null,null,null,null,null,null,null,null,null,null,null,null,null,null,null,null,null,null,"STD",{"$f":"IF('Page 1'!H57=\"06\",24,IF('Page 1'!H57=\"08\",24,IF('Page 1'!H57=\"10\",24,IF('Page 1'!H57=\"12\",24,IF('Page 1'!H57=\"14\",24,IF('Page 1'!H57=\"16\",24,IF('Page 1'!H57=\"18\",24,IF('Page 1'!H57=\"20\",24,IF('Page 1'!H57=\"22\",24,IF('Page 1'!H57=\"24\",24,IF('Page 1'!H57=\"26\",24,IF('Page 1'!H57=\"28\",24,IF('Page 1'!H57=\"30\",24,IF('Page 1'!H57=\"32\",24,IF('Page 1'!H57=\"34\",24,IF('Page 1'!H57=\"36\",24,IF('Page 1'!H57=\"38\",24,IF('Page 1'!H57=\"40\",24,IF('Page 1'!H57=\"42\",24,IF('Page 1'!H57=\"44\",24,IF('Page 1'!H57=\"46\",24,IF('Page 1'!H57=\"48\",24,\"\"))))))))))))))))))))))","v":""},"4\""]
[null,null,null,null,null,null,null,null,null,null,null,null,null,null,null,null,null,null,null,null,null,"GALVALUME STD",null,null,"GAL",{"$f":"IF('Page 1'!H57=\"06\",24,IF('Page 1'!H57=\"08\",24,IF('Page 1'!H57=\"10\",24,IF('Page 1'!H57=\"12\",24,IF('Page 1'!H57=\"14\",24,IF('Page 1'!H57=\"16\",24,IF('Page 1'!H57=\"18\",24,IF('Page 1'!H57=\"20\",24,IF('Page 1'!H57=\"22\",24,IF('Page 1'!H57=\"24\",24,IF('Page 1'!H57=\"26\",24,IF('Page 1'!H57=\"28\",24,IF('Page 1'!H57=\"30\",24,IF('Page 1'!H57=\"32\",24,IF('Page 1'!H57=\"34\",24,IF('Page 1'!H57=\"36\",22,IF('Page 1'!H57=\"38\",22,IF('Page 1'!H57=\"40\",22,IF('Page 1'!H57=\"42\",22,IF('Page 1'!H57=\"44\",22,IF('Page 1'!H57=\"46\",22,IF('Page 1'!H57=\"48\",22,\"\"))))))))))))))))))))))","v":""},"1\""]
[null,null,null,null,null,null,null,null,null,null,null,null,null,null,null,null,null,null,null,null,null,null,null,null,"GAL",{"$f":"IF('Page 1'!H57=\"06\",24,IF('Page 1'!H57=\"08\",24,IF('Page 1'!H57=\"10\",24,IF('Page 1'!H57=\"12\",24,IF('Page 1'!H57=\"14\",24,IF('Page 1'!H57=\"16\",24,IF('Page 1'!H57=\"18\",24,IF('Page 1'!H57=\"20\",24,IF('Page 1'!H57=\"22\",24,IF('Page 1'!H57=\"24\",24,IF('Page 1'!H57=\"26\",24,IF('Page 1'!H57=\"28\",24,IF('Page 1'!H57=\"30\",24,IF('Page 1'!H57=\"32\",24,IF('Page 1'!H57=\"34\",22,IF('Page 1'!H57=\"36\",22,IF('Page 1'!H57=\"38\",22,IF('Page 1'!H57=\"40\",22,IF('Page 1'!H57=\"42\",22,IF('Page 1'!H57=\"44\",22,IF('Page 1'!H57=\"46\",22,IF('Page 1'!H57=\"48\",22,\"\"))))))))))))))))))))))","v":""},"2\""]
[null,null,null,null,null,null,null,null,null,null,null,null,null,null,null,null,null,null,null,null,null,null,null,null,"GAL",{"$f":"IF('Page 1'!H57=\"06\",24,IF('Page 1'!H57=\"08\",24,IF('Page 1'!H57=\"10\",24,IF('Page 1'!H57=\"12\",24,IF('Page 1'!H57=\"14\",24,IF('Page 1'!H57=\"16\",24,IF('Page 1'!H57=\"18\",24,IF('Page 1'!H57=\"20\",24,IF('Page 1'!H57=\"22\",24,IF('Page 1'!H57=\"24\",24,IF('Page 1'!H57=\"26\",24,IF('Page 1'!H57=\"28\",24,IF('Page 1'!H57=\"30\",22,IF('Page 1'!H57=\"32\",22,IF('Page 1'!H57=\"34\",22,IF('Page 1'!H57=\"36\",22,IF('Page 1'!H57=\"38\",22,IF('Page 1'!H57=\"40\",22,IF('Page 1'!H57=\"42\",22,IF('Page 1'!H57=\"44\",22,IF('Page 1'!H57=\"46\",22,IF('Page 1'!H57=\"48\",22,\"\"))))))))))))))))))))))","v":""},"4\""]
[null,null,null,null,null,null,null,null,null,null,null,null,null,null,null,null,null,null,null,null,"IT","SS 304","STD",{"$f":"IF('Page 1'!H59=\"06\",24,IF('Page 1'!H59=\"08\",24,IF('Page 1'!H59=\"10\",24,IF('Page 1'!H59=\"12\",24,IF('Page 1'!H59=\"14\",24,IF('Page 1'!H59=\"16\",24,IF('Page 1'!H59=\"18\",24,IF('Page 1'!H59=\"20\",24,IF('Page 1'!H59=\"22\",24,IF('Page 1'!H59=\"24\",24,IF('Page 1'!H59=\"26\",24,IF('Page 1'!H59=\"28\",24,IF('Page 1'!H59=\"30\",20,IF('Page 1'!H59=\"32\",20,IF('Page 1'!H59=\"34\",20,IF('Page 1'!H59=\"36\",20,IF('Page 1'!H59=\"38\",20,IF('Page 1'!H59=\"40\",20,IF('Page 1'!H59=\"42\",20,IF('Page 1'!H59=\"44\",20,IF('Page 1'!H59=\"46\",20,IF('Page 1'!H59=\"48\",20,\"\"))))))))))))))))))))))","v":""},"STD",{"$f":"IF('Page 1'!H59=\"06\",24,IF('Page 1'!H59=\"08\",24,IF('Page 1'!H59=\"10\",24,IF('Page 1'!H59=\"12\",24,IF('Page 1'!H59=\"14\",24,IF('Page 1'!H59=\"16\",24,IF('Page 1'!H59=\"18\",24,IF('Page 1'!H59=\"20\",24,IF('Page 1'!H59=\"22\",24,IF('Page 1'!H59=\"24\",24,IF('Page 1'!H59=\"26\",24,IF('Page 1'!H59=\"28\",24,IF('Page 1'!H59=\"30\",20,IF('Page 1'!H59=\"32\",20,IF('Page 1'!H59=\"34\",20,IF('Page 1'!H59=\"36\",20,IF('Page 1'!H59=\"38\",20,IF('Page 1'!H59=\"40\",20,IF('Page 1'!H59=\"42\",20,IF('Page 1'!H59=\"44\",20,IF('Page 1'!H59=\"46\",20,IF('Page 1'!H59=\"48\",20,\"\"))))))))))))))))))))))","v":""},"1\"",null,{"$f":"IF('Page 1'!$H$19<>\"\",IF('Page 1'!$M$19<>\"\",IF('Page 1'!$K$22<>\"\",$Z$86,\"\"),IF('Page 1'!$H$19<>\"\",IF('Page 1'!$M$20<>\"\",IF('Page 1'!$K$22<>\"\",$Z$87,\"\"),IF('Page 1'!$H$19<>\"\",IF('Page 1'!$M$21<>\"\",IF('Page 1'!$K$22<>\"\",$Z$88,\"\"),\"\"))))),\"\")","v":""},"SI 1\" OU 2\" OU 4\""]
[null,null,null,null,null,null,null,null,null,null,null,null,null,null,null,null,null,null,null,null,null,null,null,null,"STD",{"$f":"IF('Page 1'!H59=\"06\",24,IF('Page 1'!H59=\"08\",24,IF('Page 1'!H59=\"10\",24,IF('Page 1'!H59=\"12\",24,IF('Page 1'!H59=\"14\",24,IF('Page 1'!H59=\"16\",24,IF('Page 1'!H59=\"18\",24,IF('Page 1'!H59=\"20\",24,IF('Page 1'!H59=\"22\",24,IF('Page 1'!H59=\"24\",24,IF('Page 1'!H59=\"26\",24,IF('Page 1'!H59=\"28\",24,IF('Page 1'!H59=\"30\",20,IF('Page 1'!H59=\"32\",20,IF('Page 1'!H59=\"34\",20,IF('Page 1'!H59=\"36\",20,IF('Page 1'!H59=\"38\",20,IF('Page 1'!H59=\"40\",20,IF('Page 1'!H59=\"42\",20,IF('Page 1'!H59=\"44\",20,IF('Page 1'!H59=\"46\",20,IF('Page 1'!H59=\"48\",20,\"\"))))))))))))))))))))))","v":""},"2\""]
[null,null,null,null,null,null,null,null,null,null,null,null,null,null,null,null,null,null,null,null,null,null,null,null,"STD",{"$f":"IF('Page 1'!H59=\"06\",24,IF('Page 1'!H59=\"08\",24,IF('Page 1'!H59=\"10\",24,IF('Page 1'!H59=\"12\",24,IF('Page 1'!H59=\"14\",24,IF('Page 1'!H59=\"16\",24,IF('Page 1'!H59=\"18\",24,IF('Page 1'!H59=\"20\",24,IF('Page 1'!H59=\"22\",24,IF('Page 1'!H59=\"24\",24,IF('Page 1'!H59=\"26\",24,IF('Page 1'!H59=\"28\",24,IF('Page 1'!H59=\"30\",20,IF('Page 1'!H59=\"32\",20,IF('Page 1'!H59=\"34\",20,IF('Page 1'!H59=\"36\",20,IF('Page 1'!H59=\"38\",20,IF('Page 1'!H59=\"40\",20,IF('Page 1'!H59=\"42\",20,IF('Page 1'!H59=\"44\",20,IF('Page 1'!H59=\"46\",20,IF('Page 1'!H59=\"48\",20,\"\"))))))))))))))))))))))","v":""},"4\""]
[null,null,null,null,null,null,null,null,null,null,null,null,null,null,null,null,null,null,null,null,null,"SS 316","STD",{"$f":"IF('Page 1'!H59=\"06\",24,IF('Page 1'!H59=\"08\",24,IF('Page 1'!H59=\"10\",24,IF('Page 1'!H59=\"12\",24,IF('Page 1'!H59=\"14\",24,IF('Page 1'!H59=\"16\",24,IF('Page 1'!H59=\"18\",24,IF('Page 1'!H59=\"20\",24,IF('Page 1'!H59=\"22\",24,IF('Page 1'!H59=\"24\",24,IF('Page 1'!H59=\"26\",24,IF('Page 1'!H59=\"28\",24,IF('Page 1'!H59=\"30\",20,IF('Page 1'!H59=\"32\",20,IF('Page 1'!H59=\"34\",20,IF('Page 1'!H59=\"36\",20,IF('Page 1'!H59=\"38\",20,IF('Page 1'!H59=\"40\",20,IF('Page 1'!H59=\"42\",20,IF('Page 1'!H59=\"44\",20,IF('Page 1'!H59=\"46\",20,IF('Page 1'!H59=\"48\",20,\"\"))))))))))))))))))))))","v":""},"STD",{"$f":"IF('Page 1'!H59=\"06\",24,IF('Page 1'!H59=\"08\",24,IF('Page 1'!H59=\"10\",24,IF('Page 1'!H59=\"12\",24,IF('Page 1'!H59=\"14\",24,IF('Page 1'!H59=\"16\",24,IF('Page 1'!H59=\"18\",24,IF('Page 1'!H59=\"20\",24,IF('Page 1'!H59=\"22\",24,IF('Page 1'!H59=\"24\",24,IF('Page 1'!H59=\"26\",24,IF('Page 1'!H59=\"28\",24,IF('Page 1'!H59=\"30\",20,IF('Page 1'!H59=\"32\",20,IF('Page 1'!H59=\"34\",20,IF('Page 1'!H59=\"36\",20,IF('Page 1'!H59=\"38\",20,IF('Page 1'!H59=\"40\",20,IF('Page 1'!H59=\"42\",20,IF('Page 1'!H59=\"44\",20,IF('Page 1'!H59=\"46\",20,IF('Page 1'!H59=\"48\",20,\"\"))))))))))))))))))))))","v":""},"1\"",null,{"$f":"IF('Page 1'!$H$20<>\"\",IF('Page 1'!$M$19<>\"\",IF('Page 1'!$K$22<>\"\",$Z$89,\"\"),IF('Page 1'!$H$20<>\"\",IF('Page 1'!$M$20<>\"\",IF('Page 1'!$K$22<>\"\",$Z$90,\"\"),IF('Page 1'!$H$20<>\"\",IF('Page 1'!$M$21<>\"\",IF('Page 1'!$K$22<>\"\",$Z$91,\"\"),\"\"))))),\"\")","v":""},"SI 1\" OU 2\" OU 4\""]
[null,null,null,null,null,null,null,null,null,null,null,null,null,null,null,null,null,null,null,null,null,null,null,null,"STD",{"$f":"IF('Page 1'!H59=\"06\",24,IF('Page 1'!H59=\"08\",24,IF('Page 1'!H59=\"10\",24,IF('Page 1'!H59=\"12\",24,IF('Page 1'!H59=\"14\",24,IF('Page 1'!H59=\"16\",24,IF('Page 1'!H59=\"18\",24,IF('Page 1'!H59=\"20\",24,IF('Page 1'!H59=\"22\",24,IF('Page 1'!H59=\"24\",24,IF('Page 1'!H59=\"26\",24,IF('Page 1'!H59=\"28\",24,IF('Page 1'!H59=\"30\",20,IF('Page 1'!H59=\"32\",20,IF('Page 1'!H59=\"34\",20,IF('Page 1'!H59=\"36\",20,IF('Page 1'!H59=\"38\",20,IF('Page 1'!H59=\"40\",20,IF('Page 1'!H59=\"42\",20,IF('Page 1'!H59=\"44\",20,IF('Page 1'!H59=\"46\",20,IF('Page 1'!H59=\"48\",20,\"\"))))))))))))))))))))))","v":""},"2\""]
[null,null,null,null,null,null,null,null,null,null,null,null,null,null,null,null,null,null,null,null,null,null,null,null,"STD",{"$f":"IF('Page 1'!H59=\"06\",24,IF('Page 1'!H59=\"08\",24,IF('Page 1'!H59=\"10\",24,IF('Page 1'!H59=\"12\",24,IF('Page 1'!H59=\"14\",24,IF('Page 1'!H59=\"16\",24,IF('Page 1'!H59=\"18\",24,IF('Page 1'!H59=\"20\",24,IF('Page 1'!H59=\"22\",24,IF('Page 1'!H59=\"24\",24,IF('Page 1'!H59=\"26\",24,IF('Page 1'!H59=\"28\",24,IF('Page 1'!H59=\"30\",20,IF('Page 1'!H59=\"32\",20,IF('Page 1'!H59=\"34\",20,IF('Page 1'!H59=\"36\",20,IF('Page 1'!H59=\"38\",20,IF('Page 1'!H59=\"40\",20,IF('Page 1'!H59=\"42\",20,IF('Page 1'!H59=\"44\",20,IF('Page 1'!H59=\"46\",20,IF('Page 1'!H59=\"48\",20,\"\"))))))))))))))))))))))","v":""},"4\""]
[null,null,null,null,null,null,null,null,null,null,null,null,null,null,null,null,null,null,null,null,null,"GALVALUME STD",null,null,"GAL",{"$f":"IF('Page 1'!H59=\"06\",24,IF('Page 1'!H59=\"08\",24,IF('Page 1'!H59=\"10\",24,IF('Page 1'!H59=\"12\",24,IF('Page 1'!H59=\"14\",24,IF('Page 1'!H59=\"16\",24,IF('Page 1'!H59=\"18\",24,IF('Page 1'!H59=\"20\",24,IF('Page 1'!H59=\"22\",24,IF('Page 1'!H59=\"24\",24,IF('Page 1'!H59=\"26\",24,IF('Page 1'!H59=\"28\",24,IF('Page 1'!H59=\"30\",20,IF('Page 1'!H59=\"32\",20,IF('Page 1'!H59=\"34\",20,IF('Page 1'!H59=\"36\",20,IF('Page 1'!H59=\"38\",20,IF('Page 1'!H59=\"40\",20,IF('Page 1'!H59=\"42\",20,IF('Page 1'!H59=\"44\",20,IF('Page 1'!H59=\"46\",20,IF('Page 1'!H59=\"48\",20,\"\"))))))))))))))))))))))","v":""},"1\"",null,{"$f":"IF('Page 1'!$H$21<>\"\",IF('Page 1'!$M$19<>\"\",IF('Page 1'!$K$22<>\"\",$Z$92,\"\"),IF('Page 1'!$H$21<>\"\",IF('Page 1'!$M$20<>\"\",IF('Page 1'!$K$22<>\"\",$Z$93,\"\"),IF('Page 1'!$H$21<>\"\",IF('Page 1'!$M$21<>\"\",IF('Page 1'!$K$22<>\"\",$Z$93,\"\"),\"\"))))),\"\")","v":""},"SI 1\" OU 2\" OU 4\""]
[null,null,null,null,null,null,null,null,null,null,null,null,null,null,null,null,null,null,null,null,null,null,null,null,"GAL",{"$f":"IF('Page 1'!H59=\"06\",24,IF('Page 1'!H59=\"08\",24,IF('Page 1'!H59=\"10\",24,IF('Page 1'!H59=\"12\",24,IF('Page 1'!H59=\"14\",24,IF('Page 1'!H59=\"16\",24,IF('Page 1'!H59=\"18\",24,IF('Page 1'!H59=\"20\",24,IF('Page 1'!H59=\"22\",24,IF('Page 1'!H59=\"24\",24,IF('Page 1'!H59=\"26\",24,IF('Page 1'!H59=\"28\",24,IF('Page 1'!H59=\"30\",20,IF('Page 1'!H59=\"32\",20,IF('Page 1'!H59=\"34\",20,IF('Page 1'!H59=\"36\",20,IF('Page 1'!H59=\"38\",20,IF('Page 1'!H59=\"40\",20,IF('Page 1'!H59=\"42\",20,IF('Page 1'!H59=\"44\",20,IF('Page 1'!H59=\"46\",20,IF('Page 1'!H59=\"48\",20,\"\"))))))))))))))))))))))","v":""},"2\""]
[null,null,null,null,null,null,null,null,null,null,null,null,null,null,null,null,null,null,null,null,null,null,null,null,"GAL",{"$f":"IF('Page 1'!H59=\"06\",26,IF('Page 1'!H59=\"08\",26,IF('Page 1'!H59=\"10\",26,IF('Page 1'!H59=\"12\",26,IF('Page 1'!H59=\"14\",26,IF('Page 1'!H59=\"16\",24,IF('Page 1'!H59=\"18\",24,IF('Page 1'!H59=\"20\",24,IF('Page 1'!H59=\"22\",24,IF('Page 1'!H59=\"24\",24,IF('Page 1'!H59=\"26\",24,IF('Page 1'!H59=\"28\",24,IF('Page 1'!H59=\"30\",20,IF('Page 1'!H59=\"32\",20,IF('Page 1'!H59=\"34\",20,IF('Page 1'!H59=\"36\",20,IF('Page 1'!H59=\"38\",20,IF('Page 1'!H59=\"40\",20,IF('Page 1'!H59=\"42\",20,IF('Page 1'!H59=\"44\",20,IF('Page 1'!H59=\"46\",20,IF('Page 1'!H59=\"48\",20,\"\"))))))))))))))))))))))","v":""},"4\""]

{"sheet":"Page 2","index":3,"n_rows":63,"n_cols":14,"rows_kept":63,"cut":false,"hidden":false,"merged":[[66,0,66,6],[66,7,66,8],[66,11,66,13],[67,0,67,6],[68,0,68,6],[64,0,64,6],[64,7,64,8],[64,11,64,13],[65,0,65,6],[65,7,65,8],[65,11,65,13],[62,0,62,6],[62,7,62,8],[62,11,62,13],[63,0,63,6],[63,7,63,8],[63,11,63,13],[57,0,57,5],[57,11,57,13],[58,0,61,1],[58,11,58,13],[59,7,59,8],[59,11,59,13],[60,7,60,13],[61,7,61,8],[61,11,61,13],[55,0,56,1],[55,4,55,6],[55,7,56,8],[55,11,55,12],[56,4,56,6],[56,11,56,12],[52,4,52,6],[52,11,52,13],[53,0,53,1],[53,4,53,6],[53,11,53,13],[54,4,54,6],[54,7,54,12],[49,4,49,6],[49,11,49,13],[50,0,50,6],[50,11,50,13],[51,0,51,1],[51,4,51,6],[51,11,51,13],[46,4,46,6],[46,11,46,13],[47,4,47,6],[47,11,47,13],[48,4,48,6],[48,11,48,13],[33,0,33,1],[33,4,33,6],[33,7,33,8],[33,11,33,13],[34,0,34,6],[34,7,34,12],[35,0,44,1],[35,4,35,6],[35,7,42,8],[36,4,36,6],[37,4,37,6],[38,4,38,6],[39,4,39,6],[40,4,40,6],[41,4,41,6],[42,4,42,6],[43,4,43,6],[43,7,43,13],[44,4,44,6],[44,7,53,8],[44,11,44,13],[45,0,45,6],[45,11,45,13],[46,0,49,1],[6,7,7,8],[7,0,7,1],[7,2,7,5],[8,0,8,1],[26,0,26,13],[27,0,29,0],[27,1,29,2],[27,12,29,12],[27,13,29,13],[22,0,22,13],[23,0,25,0],[23,1,25,2],[23,5,23,6],[23,12,25,12],[23,13,25,13],[17,7,17,9],[17,10,17,11],[17,12,17,13],[18,0,21,0],[18,1,21,2],[18,8,18,9],[19,8,19,9],[20,8,20,9],[21,7,21,9],[8,2,8,5],[9,0,9,1],[9,2,9,5],[12,0,15,4],[17,0,17,2],[17,3,17,4],[17,5,17,6],[0,0,4,4],[5,0,5,1],[5,2,5,5],[6,0,6,1],[6,2,6,5]]}
["VIP"]
[]
[null,null,null,null,null,null,null,"COMMERCIAL CHIMNEY"]
[null,null,null,null,null,null,null,"QUOTATION REQUEST"]
[null,null,null,null,null,null,null,{"$f":"IF('Page 1'!H5<>\"\",'Page 1'!H5,\"\")","v":"Revised: November 7, 2015"}]
["Name:",null,{"$f":"IF('Page 1'!C6<>\"\",'Page 1'!C6,\"\")","v":""}]
["Date:",null,{"$f":"IF('Page 1'!C7<>\"\",'Page 1'!C7,\"\")","v":""},null,null,null,null,"Page 2"]
["Job:",null,{"$f":"IF('Page 1'!C8<>\"\",'Page 1'!C8,\"\")","v":""}]
["ZIP Code:",null,{"$f":"IF('Page 1'!C9<>\"\",'Page 1'!C9,\"\")","v":""},null,null,null,"(ZIP FOR FREIGHT QUOTE)",null,null,null,null,"Phone: ","(450) 565-6336"]
["Page:",null,null,null,null,null,null,null,null,null,null,"FAX: ","(450) 565-6519"]
[null,null,null,null,null,"email:","industrial@icc-rsf.com"]
[]
["When using Excel: Type an \"X\" in the approprIate shaded cell.",null,null,null,null,null,"SS 304 / SS 304 STD",null,null,null,null,"SS 316 / SS 316 STD"]
[null,null,null,null,null,null,"SS 304 / SS 304",null,null,null,null,"SS 316 / SS 316"]
[null,null,null,null,null,null,"SS 304 / GAL. STD",null,null,null,null,"SS 316 / SS 304 STD"]
[null,null,null,null,null,null,"SS 304 / GAL.",null,null,null,null,"SS 316 / SS 304"]
[]
["MODEL",null,null,"INTERIOR",null,"GAUGE",null,"EXTERIOR",null,null,"GAUGE",null,"INSULATION"]
[{"$f":"IF(F13<>\"\",\"X\",IF(F14<>\"\",\"X\",IF(F15<>\"\",\"X\",IF(F16<>\"\",\"X\",IF(K13<>\"\",\"X\",IF(K14<>\"\",\"X\",IF(K15<>\"\",\"X\",IF(K16<>\"\",\"X\",\"\"))))))))","v":""},"VIP",null,{"$f":"IF(F13<>\"\",\"X\",IF(F14<>\"\",\"X\",IF(F15<>\"\",\"X\",IF(F16<>\"\",\"X\",\"\"))))","v":""},"A = SS 304",null,"26 = 0.018\"",{"$f":"IF(F13<>\"\",\"X\",IF(F14<>\"\",\"X\",IF(K15<>\"\",\"X\",IF(K16<>\"\",\"X\",\"\"))))","v":""},"A = SS 304",null,null,"26 = 0.018\"",null,"1\" "]
[null,null,null,{"$f":"IF(K13<>\"\",\"X\",IF(K14<>\"\",\"X\",IF(K15<>\"\",\"X\",IF(K16<>\"\",\"X\",\"\"))))","v":""},"B= SS 316",null,"24= 0.025\"",{"$f":"IF(K13<>\"\",\"X\",IF(K14<>\"\",\"X\",\"\"))","v":""},"B= SS 316",null,null,"24= 0.025\"",null,"2\""]
[null,null,null,null,null,null,"20= 0.035\"",{"$f":"IF(F15<>\"\",\"X\",IF(F16<>\"\",\"X\",\"\"))","v":""},{"$f":"IF(D20=\"\",\"C= GALVALUME\",\"\")","v":"C= GALVALUME"},null,null,"20= 0.035\"",null,"4\""]
[null,null,null,null,null,{"$f":"IF(F13<>\"\",\"X\",IF(F15<>\"\",\"X\",IF(K13<>\"\",\"X\",IF(K15<>\"\",\"X\",\"\"))))","v":""},"Standard",null,null,null,{"$f":"IF(F13<>\"\",\"X\",IF(F15<>\"\",\"X\",IF(K13<>\"\",\"X\",IF(K15<>\"\",\"X\",\"\"))))","v":""},"Standard"]
[]
[null,"IS",null,null,"A = SS 304","Standard",null,null,"A = SS 304",null,"Standard",null,null,"1\" "]
[]
[null,null,null,null,null,null,null,null,"C= GALVALUME",null,"Standard"]
[]
[null,"LINER",null,null,"A = SS 304",null,"20= 0.035\""]
[null,null,null,null,"B = SS 316",null,"Standard"]
[]
[]
["When using Excel: Type interior diameter (INT. Ø) and quantities in the approprIate shaded cells."]
[]
["INT. Ø",null,"QTY","CODE","DESCRIPTION",null,null,"INT. Ø",null,"QTY","CODE","DESCRIPTION"]
["CHIMNEY LENGTH",null,null,null,null,null,null,"SUPPORT",null,null,null,null,null,"SS 304"]
[null,null,null,{"$f":"IF(A36=\"\",\"L4\",IF(A36=\"38\",\"\",IF(A36=\"40\",\"\",IF(A36=\"42\",\"\",IF(A36=\"44\",\"\",IF(A36=\"46\",\"\",IF(A36=\"48\",\"\",\"L4\")))))))","v":"L4"},"48\" Length",null,null,{"$f":"IF(A36<>0,A36,\"\")","v":""},null,null,"BS","Base Support"]
[null,null,null,"L2","24\" Length",null,null,null,null,null,"SR","Roof Support"]
[null,null,null,"A2","Adjust. Length 2' (VIP & IS ONLY)",null,null,null,null,null,"GB","Guy Band"]
[null,null,null,"L1","12\" Length",null,null,null,null,null,"RB","Roof Brace"]
[null,null,null,"L1","12\" Length - WITH SAMPLING PORT",null,null,null,null,null,"WS","Wall Support"]
[null,null,null,"A1","Adjustable Length 1'",null,null,null,null,null,"WB","Wall Band"]
[null,null,null,"L6","6\" Length",null,null,null,null,null,"HB","Horizontal Band"]
[null,null,null,"D1","12\" Drain Length",null,null,null,null,null,"OS","Offset Support"]
[null,null,null,"D2","24\" Drain Length",null,null,"RAIN CAP and ADAPTORS"]
[null,null,null,"DB","Length Drain Base",null,null,{"$f":"IF(A36<>0,A36,\"\")","v":""},null,null,"AP","Male Anchor Plate (std: round)"]
["ELBOW",null,null,null,null,null,null,null,null,null,"AF","Female Anchor Plate (std: square)"]
[{"$f":"IF(A36<>0,A36,\"\")","v":""},null,null,{"$f":"IF(A47=\"\",\"E4\",IF(A47=\"24\",\"\",IF(A47=\"26\",\"\",IF(A47=\"28\",\"\",IF(A47=\"30\",\"\",IF(A47=\"32\",\"\",IF(A47=\"34\",\"\",IF(A47=\"36\",\"\",IF(A47=\"38\",\"\",IF(A47=\"40\",\"\",IF(A47=\"42\",\"\",IF(A47=\"44\",\"\",IF(A47=\"46\",\"\",IF(A47=\"48\",\"\",\"E4\"))))))))))))))","v":"E4"},"Elbow 45°",null,null,null,null,null,"EX","Flue Extention  - CRIMP"]
[null,null,null,"E3","Elbow 30°",null,null,null,null,null,"EX","Flue Extention  - NO CRIMP"]
[null,null,null,"E2","Elbow 22.5°",null,null,null,null,null,"EX","Flue Extention  - FEMALE (NC)"]
[null,null,null,"E1","Elbow 15°",null,null,null,null,null,"RC","Rain Cap"]
["TEE",null,null,null,null,null,null,null,null,null,"CB","Rain Cap Base"]
[{"$f":"IF(A36<>0,A36,\"\")","v":""},null,null,"TR","Tee 90° (Regular)",null,null,null,null,null,"EC","Exit Cone"]
[{"$f":"IF(A36<>0,A36,\"\")","v":""},null,null,"TR","Tee 90° (Manifold)",null,null,null,null,null,"FT","Flip Top & Adapter"]
[{"$f":"IF(A36<>0,A36,\"\")","v":""},null,null,"TY","Tee 45° (Regular)",null,null,null,null,null,"MC","Miter Cut Length"]
[{"$f":"IF(A36<>0,A36,\"\")","v":""},null,null,"TY","Tee 45° (Manifold)",null,null,"MISCELLANEOUS",null,null,null,null,null,"SS 304"]
[{"$f":"IF(A36<>0,A36,\"\")","v":""},null,null,"TC","Tee Cap",null,null,{"$f":"IF(A36<>0,A36,\"\")","v":""},null,null,"RS","Radiation Shield"]
[null,null,null,"TD","Tee Cap, Drain",null,null,null,null,null,"FS","Firestop"]
["FLASHING",null,null,null,null,null,"SS 304",{"$f":"IF(A36<>0,A36,\"\")","v":""},null,null,"IT","Taper Increaser"]
[{"$f":"IF(A36<>0,A36,\"\")","v":""},null,null,"FF","Flat flashing",null,null,{"$f":"IF(A36<>0,A36,\"\")","v":""},null,null,"SI","Step Increaser"]
[null,null,null,"FA","Flashing 1/12-7/12",null,null,{"$f":"IF(A36<>0,A36,\"\")","v":""},null,null,"RV","Presurre Releif Valve"]
[null,null,null,"FB","Flashing 8/12-12/12",null,null,"Special Request"]
[null,null,null,"SC","Storm Collar"]
["Special Request"]

{"sheet":"LOP2","index":4,"n_rows":94,"n_cols":27,"rows_kept":94,"cut":false,"hidden":true,"merged":[[85,17,93,17],[91,18,91,20],[73,17,78,17],[76,18,76,20],[77,18,78,20],[79,17,84,17],[82,18,82,20],[83,18,84,20],[71,17,72,17],[49,17,54,17],[52,18,52,20],[53,18,54,20],[55,17,60,17],[58,18,58,20],[59,18,60,20],[61,17,62,17],[63,17,64,17],[65,17,66,17],[67,17,68,17],[69,17,70,17],[29,17,37,17],[35,18,35,20],[38,17,39,17],[40,17,48,17],[43,18,43,20],[44,18,45,20],[46,18,46,20],[47,18,48,20],[2,17,10,17],[8,18,8,20],[11,17,19,17],[17,18,17,20],[20,17,28,17],[26,18,26,20]]}
[]
[null,null,null,null,null,null,null,null,null,null,null,null,null,null,null,null,null,null,null,null,"Int. STD",null,"Ext. STD"]
[null,null,{"$f":"IF('Page 2'!$M$19<>\"\",'Page 2'!$A$59,IF('Page 2'!$M$20<>\"\",'Page 2'!$A$59+2,IF('Page 2'!$M$21<>\"\",'Page 2'!$A$59+6,\"\")))","v":""},null,null,null,null,null,null,null,null,null,null,null,null,null,null,"LENGTH","SS 304","STD",{"$f":"IF('Page 2'!A36=\"06\",26,IF('Page 2'!A36=\"08\",26,IF('Page 2'!A36=\"10\",26,IF('Page 2'!A36=\"12\",26,IF('Page 2'!A36=\"14\",26,IF('Page 2'!A36=\"16\",26,IF('Page 2'!A36=\"18\",24,IF('Page 2'!A36=\"20\",24,IF('Page 2'!A36=\"22\",24,IF('Page 2'!A36=\"24\",24,IF('Page 2'!A36=\"26\",24,IF('Page 2'!A36=\"28\",24,IF('Page 2'!A36=\"30\",20,IF('Page 2'!A36=\"32\",20,IF('Page 2'!A36=\"34\",20,IF('Page 2'!A36=\"36\",20,IF('Page 2'!A36=\"38\",20,IF('Page 2'!A36=\"40\",20,IF('Page 2'!A36=\"42\",20,IF('Page 2'!A36=\"44\",20,IF('Page 2'!A36=\"46\",20,IF('Page 2'!A36=\"48\",20,\"\"))))))))))))))))))))))","v":""},"STD",{"$f":"IF('Page 2'!A36=\"06\",26,IF('Page 2'!A36=\"08\",26,IF('Page 2'!A36=\"10\",26,IF('Page 2'!A36=\"12\",26,IF('Page 2'!A36=\"14\",26,IF('Page 2'!A36=\"16\",24,IF('Page 2'!A36=\"18\",24,IF('Page 2'!A36=\"20\",24,IF('Page 2'!A36=\"22\",24,IF('Page 2'!A36=\"24\",24,IF('Page 2'!A36=\"26\",24,IF('Page 2'!A36=\"28\",24,IF('Page 2'!A36=\"30\",20,IF('Page 2'!A36=\"32\",20,IF('Page 2'!A36=\"34\",20,IF('Page 2'!A36=\"36\",20,IF('Page 2'!A36=\"38\",20,IF('Page 2'!A36=\"40\",20,IF('Page 2'!A36=\"42\",20,IF('Page 2'!A36=\"44\",20,IF('Page 2'!A36=\"46\",20,IF('Page 2'!A36=\"48\",20,\"\"))))))))))))))))))))))","v":""},"1\"",null,{"$f":"IF('Page 2'!$H$19<>\"\",IF('Page 2'!$M$19<>\"\",IF('Page 2'!$K$22<>\"\",$W$3,\"\"),IF('Page 2'!$H$19<>\"\",IF('Page 2'!$M$20<>\"\",IF('Page 2'!$K$22<>\"\",$W$4,\"\"),IF('Page 2'!$H$19<>\"\",IF('Page 2'!$M$21<>\"\",IF('Page 2'!$K$22<>\"\",$W$5,\"\"),\"\"))))),\"\")","v":""},"SI 1\" OU 2\" OU 4\""]
[null,null,{"$f":"IF('Page 2'!$M$20<>\"\",'Page 2'!$A$59+2,)","v":0},null,null,null,null,null,null,null,null,null,null,null,null,null,null,null,null,null,null,"STD",{"$f":"IF('Page 2'!A36=\"06\",26,IF('Page 2'!A36=\"08\",26,IF('Page 2'!A36=\"10\",26,IF('Page 2'!A36=\"12\",26,IF('Page 2'!A36=\"14\",24,IF('Page 2'!A36=\"16\",24,IF('Page 2'!A36=\"18\",24,IF('Page 2'!A36=\"20\",24,IF('Page 2'!A36=\"22\",24,IF('Page 2'!A36=\"24\",24,IF('Page 2'!A36=\"26\",24,IF('Page 2'!A36=\"28\",20,IF('Page 2'!A36=\"30\",20,IF('Page 2'!A36=\"32\",20,IF('Page 2'!A36=\"34\",20,IF('Page 2'!A36=\"36\",20,IF('Page 2'!A36=\"38\",20,IF('Page 2'!A36=\"40\",20,IF('Page 2'!A36=\"42\",20,IF('Page 2'!A36=\"44\",20,IF('Page 2'!A36=\"46\",20,IF('Page 2'!A36=\"48\",20,\"\"))))))))))))))))))))))","v":""},"2\""]
[null,null,{"$f":"IF(C4=8,\"08\",C3)","v":""},null,null,null,null,null,null,null,null,null,null,null,null,null,null,null,null,null,null,"STD",{"$f":"IF('Page 2'!A36=\"06\",26,IF('Page 2'!A36=\"08\",24,IF('Page 2'!A36=\"10\",24,IF('Page 2'!A36=\"12\",24,IF('Page 2'!A36=\"14\",24,IF('Page 2'!A36=\"16\",24,IF('Page 2'!A36=\"18\",24,IF('Page 2'!A36=\"20\",24,IF('Page 2'!A36=\"22\",20,IF('Page 2'!A36=\"24\",20,IF('Page 2'!A36=\"26\",20,IF('Page 2'!A36=\"28\",20,IF('Page 2'!A36=\"30\",20,IF('Page 2'!A36=\"32\",20,IF('Page 2'!A36=\"34\",20,IF('Page 2'!A36=\"36\",20,IF('Page 2'!A36=\"38\",20,IF('Page 2'!A36=\"40\",20,IF('Page 2'!A36=\"42\",20,IF('Page 2'!A36=\"44\",20,IF('Page 2'!A36=\"46\",20,IF('Page 2'!A36=\"48\",20,\"\"))))))))))))))))))))))","v":""},"4\""]
[null,null,null,null,null,null,null,null,null,null,null,null,null,null,null,null,null,null,"SS 316","STD",{"$f":"IF('Page 2'!A36=\"06\",24,IF('Page 2'!A36=\"08\",24,IF('Page 2'!A36=\"10\",24,IF('Page 2'!A36=\"12\",24,IF('Page 2'!A36=\"14\",24,IF('Page 2'!A36=\"16\",24,IF('Page 2'!A36=\"18\",24,IF('Page 2'!A36=\"20\",24,IF('Page 2'!A36=\"22\",24,IF('Page 2'!A36=\"24\",24,IF('Page 2'!A36=\"26\",24,IF('Page 2'!A36=\"28\",24,IF('Page 2'!A36=\"30\",20,IF('Page 2'!A36=\"32\",20,IF('Page 2'!A36=\"34\",20,IF('Page 2'!A36=\"36\",20,IF('Page 2'!A36=\"38\",20,IF('Page 2'!A36=\"40\",20,IF('Page 2'!A36=\"42\",20,IF('Page 2'!A36=\"44\",20,IF('Page 2'!A36=\"46\",20,IF('Page 2'!A36=\"48\",20,\"\"))))))))))))))))))))))","v":""},"STD",{"$f":"IF('Page 2'!A36=\"06\",24,IF('Page 2'!A36=\"08\",24,IF('Page 2'!A36=\"10\",24,IF('Page 2'!A36=\"12\",24,IF('Page 2'!A36=\"14\",24,IF('Page 2'!A36=\"16\",24,IF('Page 2'!A36=\"18\",24,IF('Page 2'!A36=\"20\",24,IF('Page 2'!A36=\"22\",24,IF('Page 2'!A36=\"24\",24,IF('Page 2'!A36=\"26\",24,IF('Page 2'!A36=\"28\",24,IF('Page 2'!A36=\"30\",20,IF('Page 2'!A36=\"32\",20,IF('Page 2'!A36=\"34\",20,IF('Page 2'!A36=\"36\",20,IF('Page 2'!A36=\"38\",20,IF('Page 2'!A36=\"40\",20,IF('Page 2'!A36=\"42\",20,IF('Page 2'!A36=\"44\",20,IF('Page 2'!A36=\"46\",20,IF('Page 2'!A36=\"48\",20,\"\"))))))))))))))))))))))","v":""},"1\"",null,{"$f":"IF('Page 2'!$H$20<>\"\",IF('Page 2'!$M$19<>\"\",IF('Page 2'!$K$22<>\"\",$W$6,\"\"),IF('Page 2'!$H$20<>\"\",IF('Page 2'!$M$20<>\"\",IF('Page 2'!$K$22<>\"\",$W$7,\"\"),IF('Page 2'!$H$20<>\"\",IF('Page 2'!$M$21<>\"\",IF('Page 2'!$K$22<>\"\",$W$8,\"\"),\"\"))))),\"\")","v":""},"SI 1\" OU 2\" OU 4\""]
[null,null,null,null,null,null,null,null,null,null,null,null,null,null,null,null,null,null,null,null,null,"STD",{"$f":"IF('Page 2'!A36=\"06\",24,IF('Page 2'!A36=\"08\",24,IF('Page 2'!A36=\"10\",24,IF('Page 2'!A36=\"12\",24,IF('Page 2'!A36=\"14\",24,IF('Page 2'!A36=\"16\",24,IF('Page 2'!A36=\"18\",24,IF('Page 2'!A36=\"20\",24,IF('Page 2'!A36=\"22\",24,IF('Page 2'!A36=\"24\",24,IF('Page 2'!A36=\"26\",24,IF('Page 2'!A36=\"28\",20,IF('Page 2'!A36=\"30\",20,IF('Page 2'!A36=\"32\",20,IF('Page 2'!A36=\"34\",20,IF('Page 2'!A36=\"36\",20,IF('Page 2'!A36=\"38\",20,IF('Page 2'!A36=\"40\",20,IF('Page 2'!A36=\"42\",20,IF('Page 2'!A36=\"44\",20,IF('Page 2'!A36=\"46\",20,IF('Page 2'!A36=\"48\",20,\"\"))))))))))))))))))))))","v":""},"2\""]
[null,null,null,null,null,null,null,null,null,null,null,null,null,null,null,null,null,null,null,null,null,"STD",{"$f":"IF('Page 2'!A36=\"06\",24,IF('Page 2'!A36=\"08\",24,IF('Page 2'!A36=\"10\",24,IF('Page 2'!A36=\"12\",24,IF('Page 2'!A36=\"14\",24,IF('Page 2'!A36=\"16\",24,IF('Page 2'!A36=\"18\",24,IF('Page 2'!A36=\"20\",24,IF('Page 2'!A36=\"22\",20,IF('Page 2'!A36=\"24\",20,IF('Page 2'!A36=\"26\",20,IF('Page 2'!A36=\"28\",20,IF('Page 2'!A36=\"30\",20,IF('Page 2'!A36=\"32\",20,IF('Page 2'!A36=\"34\",20,IF('Page 2'!A36=\"36\",20,IF('Page 2'!A36=\"38\",20,IF('Page 2'!A36=\"40\",20,IF('Page 2'!A36=\"42\",20,IF('Page 2'!A36=\"44\",20,IF('Page 2'!A36=\"46\",20,IF('Page 2'!A36=\"48\",20,\"\"))))))))))))))))))))))","v":""},"4\""]
[null,null,null,null,null,null,null,null,null,null,null,null,null,null,null,null,null,null,"GALVALUME STD",null,null,"GAL",{"$f":"IF('Page 2'!A36=\"06\",24,IF('Page 2'!A36=\"08\",24,IF('Page 2'!A36=\"10\",24,IF('Page 2'!A36=\"12\",24,IF('Page 2'!A36=\"14\",24,IF('Page 2'!A36=\"16\",24,IF('Page 2'!A36=\"18\",24,IF('Page 2'!A36=\"20\",24,IF('Page 2'!A36=\"22\",24,IF('Page 2'!A36=\"24\",24,IF('Page 2'!A36=\"26\",24,IF('Page 2'!A36=\"28\",24,IF('Page 2'!A36=\"30\",22,IF('Page 2'!A36=\"32\",22,IF('Page 2'!A36=\"34\",22,IF('Page 2'!A36=\"36\",22,IF('Page 2'!A36=\"38\",22,IF('Page 2'!A36=\"40\",22,IF('Page 2'!A36=\"42\",22,IF('Page 2'!A36=\"44\",22,IF('Page 2'!A36=\"46\",22,IF('Page 2'!A36=\"48\",22,\"\"))))))))))))))))))))))","v":""},"1\"",null,{"$f":"IF('Page 2'!$H$21<>\"\",IF('Page 2'!$M$19<>\"\",IF('Page 2'!$K$22<>\"\",$W$9,\"\"),IF('Page 2'!$H$21<>\"\",IF('Page 2'!$M$20<>\"\",IF('Page 2'!$K$22<>\"\",$W$10,\"\"),IF('Page 2'!$H$21<>\"\",IF('Page 2'!$M$21<>\"\",IF('Page 2'!$K$22<>\"\",$W$11,\"\"),\"\"))))),\"\")","v":""},"SI 1\" OU 2\" OU 4\""]
[null,null,null,null,null,null,null,null,null,null,null,null,null,null,null,null,null,null,null,null,null,"GAL",{"$f":"IF('Page 2'!A36=\"06\",24,IF('Page 2'!A36=\"08\",24,IF('Page 2'!A36=\"10\",24,IF('Page 2'!A36=\"12\",24,IF('Page 2'!A36=\"14\",24,IF('Page 2'!A36=\"16\",24,IF('Page 2'!A36=\"18\",24,IF('Page 2'!A36=\"20\",24,IF('Page 2'!A36=\"22\",24,IF('Page 2'!A36=\"24\",24,IF('Page 2'!A36=\"26\",24,IF('Page 2'!A36=\"28\",22,IF('Page 2'!A36=\"30\",22,IF('Page 2'!A36=\"32\",22,IF('Page 2'!A36=\"34\",22,IF('Page 2'!A36=\"36\",22,IF('Page 2'!A36=\"38\",22,IF('Page 2'!A36=\"40\",22,IF('Page 2'!A36=\"42\",22,IF('Page 2'!A36=\"44\",22,IF('Page 2'!A36=\"46\",22,IF('Page 2'!A36=\"48\",22,\"\"))))))))))))))))))))))","v":""},"2\""]
[null,null,null,null,null,null,null,null,null,null,null,null,"SyteLine","QTY",null,"VALIDATION",null,null,null,null,null,"GAL",{"$f":"IF('Page 2'!A36=\"06\",24,IF('Page 2'!A36=\"08\",24,IF('Page 2'!A36=\"10\",24,IF('Page 2'!A36=\"12\",24,IF('Page 2'!A36=\"14\",24,IF('Page 2'!A36=\"16\",24,IF('Page 2'!A36=\"18\",24,IF('Page 2'!A36=\"20\",24,IF('Page 2'!A36=\"22\",22,IF('Page 2'!A36=\"24\",22,IF('Page 2'!A36=\"26\",22,IF('Page 2'!A36=\"28\",22,IF('Page 2'!A36=\"30\",22,IF('Page 2'!A36=\"32\",22,IF('Page 2'!A36=\"34\",22,IF('Page 2'!A36=\"36\",22,IF('Page 2'!A36=\"38\",22,IF('Page 2'!A36=\"40\",22,IF('Page 2'!A36=\"42\",22,IF('Page 2'!A36=\"44\",22,IF('Page 2'!A36=\"46\",22,IF('Page 2'!A36=\"48\",22,\"\"))))))))))))))))))))))","v":""},"4\""]
[null,{"$f":"IF('Page 2'!$A$19<>\"\",\"V\",\"\")","v":""},{"$f":"IF('Page 2'!$A$36<>\"\",\"C\",\"\")","v":""},{"$f":"IF('Page 2'!$A$19<>\"\",\"-\",\"\")","v":""},{"$f":"IF('Page 2'!$A$19<>\"\",'Page 2'!$A$36,\"\")","v":""},{"$f":"IF('Page 2'!C36<>\"\",'Page 2'!D36,\"\")","v":""},{"$f":"IF('Page 2'!$D$19<>\"\",\"A\",IF('Page 2'!$D$20<>\"\",\"B\",\"\"))","v":""},{"$f":"IF('Page 2'!$F$19<>\"\",\"26\",IF('Page 2'!$F$20<>\"\",\"24\",IF('Page 2'!$F$21<>\"\",\"20\",IF('Page 2'!$D$19<>\"\",IF('Page 2'!$F$22<>\"\",$U$3,\"\"),IF('Page 2'!$D$20<>\"\",IF('Page 2'!$F$22<>\"\",$U$6,\"\"),\"\")))))","v":""},{"$f":"IF('Page 2'!$H$19<>\"\",\"A\",IF('Page 2'!$H$20<>\"\",\"B\",IF('Page 2'!$H$21<>\"\",\"C\",\"\")))","v":""},{"$f":"IF('Page 2'!$K$19<>\"\",\"26\",IF('Page 2'!$K$20<>\"\",\"24\",IF('Page 2'!$K$21<>\"\",\"20\",IF($Z$3<>\"\",$Z$3,IF($Z$6<>\"\",$Z$6,IF($Z$9<>\"\",$Z$9,\"\"))))))","v":""},{"$f":"IF('Page 2'!$M$19<>\"\",\"1\",IF('Page 2'!$M$20<>\"\",\"2\",IF('Page 2'!$M$21<>\"\",\"4\",\"\")))","v":""},null,{"$f":"IF('Page 2'!C36<>\"\",IF('Page 2'!D36<>\"\",CONCATENATE(B12,C12,D12,E12,F12,G12,H12,I12,J12,K12),\"\"),\"\")","v":""},{"$f":"IF('Page 2'!C36<>\"\",'Page 2'!C36,\"\")","v":""},null,{"$f":"IFERROR(VLOOKUP(LEFT(M12,20),Item_VIP!$A$2:$B$7499,1,FALSE),\"\")","v":""},null,"LENGTH D1, D2 & DB","SS 304","STD",{"$f":"IF('Page 2'!A36=\"06\",20,IF('Page 2'!A36=\"08\",20,IF('Page 2'!A36=\"10\",20,IF('Page 2'!A36=\"12\",20,IF('Page 2'!A36=\"14\",20,IF('Page 2'!A36=\"16\",20,IF('Page 2'!A36=\"18\",20,IF('Page 2'!A36=\"20\",20,IF('Page 2'!A36=\"22\",20,IF('Page 2'!A36=\"24\",20,IF('Page 2'!A36=\"26\",20,IF('Page 2'!A36=\"28\",20,IF('Page 2'!A36=\"30\",20,IF('Page 2'!A36=\"32\",20,IF('Page 2'!A36=\"34\",20,IF('Page 2'!A36=\"36\",20,IF('Page 2'!A36=\"38\",20,IF('Page 2'!A36=\"40\",20,IF('Page 2'!A36=\"42\",20,IF('Page 2'!A36=\"44\",20,IF('Page 2'!A36=\"46\",20,IF('Page 2'!A36=\"48\",20,\"\"))))))))))))))))))))))","v":""},"STD",{"$f":"IF('Page 2'!A36=\"06\",26,IF('Page 2'!A36=\"08\",26,IF('Page 2'!A36=\"10\",26,IF('Page 2'!A36=\"12\",26,IF('Page 2'!A36=\"14\",26,IF('Page 2'!A36=\"16\",24,IF('Page 2'!A36=\"18\",24,IF('Page 2'!A36=\"20\",24,IF('Page 2'!A36=\"22\",24,IF('Page 2'!A36=\"24\",24,IF('Page 2'!A36=\"26\",24,IF('Page 2'!A36=\"28\",24,IF('Page 2'!A36=\"30\",20,IF('Page 2'!A36=\"32\",20,IF('Page 2'!A36=\"34\",20,IF('Page 2'!A36=\"36\",20,IF('Page 2'!A36=\"38\",20,IF('Page 2'!A36=\"40\",20,IF('Page 2'!A36=\"42\",20,IF('Page 2'!A36=\"44\",20,IF('Page 2'!A36=\"46\",20,IF('Page 2'!A36=\"48\",20,\"\"))))))))))))))))))))))","v":""},"1\"",null,{"$f":"IF('Page 2'!$H$19<>\"\",IF('Page 2'!$M$19<>\"\",IF('Page 2'!$K$22<>\"\",$W$12,\"\"),IF('Page 2'!$H$19<>\"\",IF('Page 2'!$M$20<>\"\",IF('Page 2'!$K$22<>\"\",$W$13,\"\"),IF('Page 2'!$H$19<>\"\",IF('Page 2'!$M$21<>\"\",IF('Page 2'!$K$22<>\"\",$W$14,\"\"),\"\"))))),\"\")","v":""},"SI 1\" OU 2\" OU 4\""]
[null,{"$f":"IF('Page 2'!$A$19<>\"\",\"V\",\"\")","v":""},{"$f":"IF('Page 2'!$A$36<>\"\",\"C\",\"\")","v":""},{"$f":"IF('Page 2'!$A$19<>\"\",\"-\",\"\")","v":""},{"$f":"IF('Page 2'!$A$19<>\"\",'Page 2'!$A$36,\"\")","v":""},{"$f":"IF('Page 2'!C37<>\"\",'Page 2'!D37,\"\")","v":""},{"$f":"IF('Page 2'!$D$19<>\"\",\"A\",IF('Page 2'!$D$20<>\"\",\"B\",\"\"))","v":""},{"$f":"IF('Page 2'!$F$19<>\"\",\"26\",IF('Page 2'!$F$20<>\"\",\"24\",IF('Page 2'!$F$21<>\"\",\"20\",IF('Page 2'!$D$19<>\"\",IF('Page 2'!$F$22<>\"\",$U$3,\"\"),IF('Page 2'!$D$20<>\"\",IF('Page 2'!$F$22<>\"\",$U$6,\"\"),\"\")))))","v":""},{"$f":"IF('Page 2'!$H$19<>\"\",\"A\",IF('Page 2'!$H$20<>\"\",\"B\",IF('Page 2'!$H$21<>\"\",\"C\",\"\")))","v":""},{"$f":"IF('Page 2'!$K$19<>\"\",\"26\",IF('Page 2'!$K$20<>\"\",\"24\",IF('Page 2'!$K$21<>\"\",\"20\",IF($Z$3<>\"\",$Z$3,IF($Z$6<>\"\",$Z$6,IF($Z$9<>\"\",$Z$9,\"\"))))))","v":""},{"$f":"IF('Page 2'!$M$19<>\"\",\"1\",IF('Page 2'!$M$20<>\"\",\"2\",IF('Page 2'!$M$21<>\"\",\"4\",\"\")))","v":""},null,{"$f":"IF('Page 2'!C37<>\"\",IF('Page 2'!D37<>\"\",CONCATENATE(B13,C13,D13,E13,F13,G13,H13,I13,J13,K13),\"\"),\"\")","v":""},{"$f":"IF('Page 2'!C37<>\"\",'Page 2'!C37,\"\")","v":""},null,{"$f":"IFERROR(VLOOKUP(LEFT(M13,20),Item_VIP!$A$2:$B$7499,1,FALSE),\"\")","v":""},null,null,null,null,null,"STD",{"$f":"IF('Page 2'!A36=\"06\",26,IF('Page 2'!A36=\"08\",26,IF('Page 2'!A36=\"10\",26,IF('Page 2'!A36=\"12\",26,IF('Page 2'!A36=\"14\",24,IF('Page 2'!A36=\"16\",24,IF('Page 2'!A36=\"18\",24,IF('Page 2'!A36=\"20\",24,IF('Page 2'!A36=\"22\",24,IF('Page 2'!A36=\"24\",24,IF('Page 2'!A36=\"26\",24,IF('Page 2'!A36=\"28\",20,IF('Page 2'!A36=\"30\",20,IF('Page 2'!A36=\"32\",20,IF('Page 2'!A36=\"34\",20,IF('Page 2'!A36=\"36\",20,IF('Page 2'!A36=\"38\",20,IF('Page 2'!A36=\"40\",20,IF('Page 2'!A36=\"42\",20,IF('Page 2'!A36=\"44\",20,IF('Page 2'!A36=\"46\",20,IF('Page 2'!A36=\"48\",20,\"\"))))))))))))))))))))))","v":""},"2\""]
[null,{"$f":"IF('Page 2'!$A$19<>\"\",\"V\",\"\")","v":""},{"$f":"IF('Page 2'!$A$36<>\"\",\"C\",\"\")","v":""},{"$f":"IF('Page 2'!$A$19<>\"\",\"-\",\"\")","v":""},{"$f":"IF('Page 2'!$A$19<>\"\",'Page 2'!$A$36,\"\")","v":""},{"$f":"IF('Page 2'!C38<>\"\",'Page 2'!D38,\"\")","v":""},{"$f":"IF('Page 2'!$D$19<>\"\",\"A\",IF('Page 2'!$D$20<>\"\",\"B\",\"\"))","v":""},{"$f":"IF('Page 2'!$F$19<>\"\",\"26\",IF('Page 2'!$F$20<>\"\",\"24\",IF('Page 2'!$F$21<>\"\",\"20\",IF('Page 2'!$D$19<>\"\",IF('Page 2'!$F$22<>\"\",$U$3,\"\"),IF('Page 2'!$D$20<>\"\",IF('Page 2'!$F$22<>\"\",$U$6,\"\"),\"\")))))","v":""},{"$f":"IF('Page 2'!$H$19<>\"\",\"A\",IF('Page 2'!$H$20<>\"\",\"B\",IF('Page 2'!$H$21<>\"\",\"C\",\"\")))","v":""},{"$f":"IF('Page 2'!$K$19<>\"\",\"26\",IF('Page 2'!$K$20<>\"\",\"24\",IF('Page 2'!$K$21<>\"\",\"20\",IF($Z$3<>\"\",$Z$3,IF($Z$6<>\"\",$Z$6,IF($Z$9<>\"\",$Z$9,\"\"))))))","v":""},{"$f":"IF('Page 2'!$M$19<>\"\",\"1\",IF('Page 2'!$M$20<>\"\",\"2\",IF('Page 2'!$M$21<>\"\",\"4\",\"\")))","v":""},null,{"$f":"IF('Page 2'!C38<>\"\",IF('Page 2'!D38<>\"\",CONCATENATE(B14,C14,D14,E14,F14,G14,H14,I14,J14,K14),\"\"),\"\")","v":""},{"$f":"IF('Page 2'!C38<>\"\",'Page 2'!C38,\"\")","v":""},null,{"$f":"IFERROR(VLOOKUP(LEFT(M14,20),Item_VIP!$A$2:$B$7499,1,FALSE),\"\")","v":""},null,null,null,null,null,"STD",{"$f":"IF('Page 2'!A36=\"06\",26,IF('Page 2'!A36=\"08\",26,IF('Page 2'!A36=\"10\",24,IF('Page 2'!A36=\"12\",24,IF('Page 2'!A36=\"14\",24,IF('Page 2'!A36=\"16\",24,IF('Page 2'!A36=\"18\",24,IF('Page 2'!A36=\"20\",24,IF('Page 2'!A36=\"22\",20,IF('Page 2'!A36=\"24\",20,IF('Page 2'!A36=\"26\",20,IF('Page 2'!A36=\"28\",20,IF('Page 2'!A36=\"30\",20,IF('Page 2'!A36=\"32\",20,IF('Page 2'!A36=\"34\",20,IF('Page 2'!A36=\"36\",20,IF('Page 2'!A36=\"38\",20,IF('Page 2'!A36=\"40\",20,IF('Page 2'!A36=\"42\",20,IF('Page 2'!A36=\"44\",20,IF('Page 2'!A36=\"46\",20,IF('Page 2'!A36=\"48\",20,\"\"))))))))))))))))))))))","v":""},"4\""]
[null,{"$f":"IF('Page 2'!$A$19<>\"\",\"V\",\"\")","v":""},{"$f":"IF('Page 2'!$A$36<>\"\",\"C\",\"\")","v":""},{"$f":"IF('Page 2'!$A$19<>\"\",\"-\",\"\")","v":""},{"$f":"IF('Page 2'!$A$19<>\"\",'Page 2'!$A$36,\"\")","v":""},{"$f":"IF('Page 2'!C39<>\"\",'Page 2'!D39,\"\")","v":""},{"$f":"IF('Page 2'!$D$19<>\"\",\"A\",IF('Page 2'!$D$20<>\"\",\"B\",\"\"))","v":""},{"$f":"IF('Page 2'!$F$19<>\"\",\"26\",IF('Page 2'!$F$20<>\"\",\"24\",IF('Page 2'!$F$21<>\"\",\"20\",IF('Page 2'!$D$19<>\"\",IF('Page 2'!$F$22<>\"\",$U$3,\"\"),IF('Page 2'!$D$20<>\"\",IF('Page 2'!$F$22<>\"\",$U$6,\"\"),\"\")))))","v":""},{"$f":"IF('Page 2'!$H$19<>\"\",\"A\",IF('Page 2'!$H$20<>\"\",\"B\",IF('Page 2'!$H$21<>\"\",\"C\",\"\")))","v":""},{"$f":"IF('Page 2'!$K$19<>\"\",\"26\",IF('Page 2'!$K$20<>\"\",\"24\",IF('Page 2'!$K$21<>\"\",\"20\",IF($Z$3<>\"\",$Z$3,IF($Z$6<>\"\",$Z$6,IF($Z$9<>\"\",$Z$9,\"\"))))))","v":""},{"$f":"IF('Page 2'!$M$19<>\"\",\"1\",IF('Page 2'!$M$20<>\"\",\"2\",IF('Page 2'!$M$21<>\"\",\"4\",\"\")))","v":""},null,{"$f":"IF('Page 2'!C39<>\"\",IF('Page 2'!D39<>\"\",CONCATENATE(B15,C15,D15,E15,F15,G15,H15,I15,J15,K15),\"\"),\"\")","v":""},{"$f":"IF('Page 2'!C39<>\"\",'Page 2'!C39,\"\")","v":""},null,{"$f":"IFERROR(VLOOKUP(LEFT(M15,20),Item_VIP!$A$2:$B$7499,1,FALSE),\"\")","v":""},null,null,"SS 316","STD",{"$f":"IF('Page 2'!A36=\"06\",20,IF('Page 2'!A36=\"08\",20,IF('Page 2'!A36=\"10\",20,IF('Page 2'!A36=\"12\",20,IF('Page 2'!A36=\"14\",20,IF('Page 2'!A36=\"16\",20,IF('Page 2'!A36=\"18\",20,IF('Page 2'!A36=\"20\",20,IF('Page 2'!A36=\"22\",20,IF('Page 2'!A36=\"24\",24,IF('Page 2'!A36=\"26\",20,IF('Page 2'!A36=\"28\",20,IF('Page 2'!A36=\"30\",20,IF('Page 2'!A36=\"32\",20,IF('Page 2'!A36=\"34\",20,IF('Page 2'!A36=\"36\",20,IF('Page 2'!A36=\"38\",20,IF('Page 2'!A36=\"40\",20,IF('Page 2'!A36=\"42\",20,IF('Page 2'!A36=\"44\",20,IF('Page 2'!A36=\"46\",20,IF('Page 2'!A36=\"48\",20,\"\"))))))))))))))))))))))","v":""},"STD",{"$f":"IF('Page 2'!A36=\"06\",24,IF('Page 2'!A36=\"08\",24,IF('Page 2'!A36=\"10\",24,IF('Page 2'!A36=\"12\",24,IF('Page 2'!A36=\"14\",24,IF('Page 2'!A36=\"16\",24,IF('Page 2'!A36=\"18\",24,IF('Page 2'!A36=\"20\",24,IF('Page 2'!A36=\"22\",24,IF('Page 2'!A36=\"24\",24,IF('Page 2'!A36=\"26\",24,IF('Page 2'!A36=\"28\",24,IF('Page 2'!A36=\"30\",20,IF('Page 2'!A36=\"32\",20,IF('Page 2'!A36=\"34\",20,IF('Page 2'!A36=\"36\",20,IF('Page 2'!A36=\"38\",20,IF('Page 2'!A36=\"40\",20,IF('Page 2'!A36=\"42\",20,IF('Page 2'!A36=\"44\",20,IF('Page 2'!A36=\"46\",20,IF('Page 2'!A36=\"48\",20,\"\"))))))))))))))))))))))","v":""},"1\"",null,{"$f":"IF('Page 2'!$H$20<>\"\",IF('Page 2'!$M$19<>\"\",IF('Page 2'!$K$22<>\"\",$W$15,\"\"),IF('Page 2'!$H$20<>\"\",IF('Page 2'!$M$20<>\"\",IF('Page 2'!$K$22<>\"\",$W$16,\"\"),IF('Page 2'!$H$20<>\"\",IF('Page 2'!$M$21<>\"\",IF('Page 2'!$K$22<>\"\",$W$17,\"\"),\"\"))))),\"\")","v":""},"SI 1\" OU 2\" OU 4\""]
[null,{"$f":"IF('Page 2'!$A$19<>\"\",\"V\",\"\")","v":""},"S",{"$f":"IF('Page 2'!$A$19<>\"\",\"-\",\"\")","v":""},{"$f":"IF('Page 2'!$A$19<>\"\",'Page 2'!$A$36,\"\")","v":""},{"$f":"IF('Page 2'!C40<>\"\",'Page 2'!D40,\"\")","v":""},{"$f":"IF('Page 2'!$D$19<>\"\",\"A\",IF('Page 2'!$D$20<>\"\",\"B\",\"\"))","v":""},20,{"$f":"IF('Page 2'!$H$19<>\"\",\"A\",IF('Page 2'!$H$20<>\"\",\"B\",IF('Page 2'!$H$21<>\"\",\"C\",\"\")))","v":""},{"$f":"IF('Page 2'!$K$20<>\"\",\"24\",IF('Page 2'!$K$21<>\"\",\"20\",IF($Z$21<>\"\",$Z$21,IF($Z$24<>\"\",$Z$24,IF($Z$27<>\"\",$Z$27,\"\")))))","v":""},{"$f":"IF('Page 2'!$M$19<>\"\",\"1\",IF('Page 2'!$M$20<>\"\",\"2\",IF('Page 2'!$M$21<>\"\",\"4\",\"\")))","v":""},"-SP",{"$f":"IF('Page 2'!C40<>\"\",IF('Page 2'!D40<>\"\",CONCATENATE(B16,C16,D16,E16,F16,G16,H16,I16,J16,K16,L16),\"\"),\"\")","v":""},{"$f":"IF('Page 2'!C40<>\"\",'Page 2'!C40,\"\")","v":""},null,{"$f":"IFERROR(VLOOKUP(LEFT(M16,20),Item_VIP!$A$2:$B$7499,1,FALSE),\"\")","v":""},null,null,null,null,null,"STD",{"$f":"IF('Page 2'!A36=\"06\",24,IF('Page 2'!A36=\"08\",24,IF('Page 2'!A36=\"10\",24,IF('Page 2'!A36=\"12\",24,IF('Page 2'!A36=\"14\",24,IF('Page 2'!A36=\"16\",24,IF('Page 2'!A36=\"18\",24,IF('Page 2'!A36=\"20\",24,IF('Page 2'!A36=\"22\",24,IF('Page 2'!A36=\"24\",24,IF('Page 2'!A36=\"26\",24,IF('Page 2'!A36=\"28\",20,IF('Page 2'!A36=\"30\",20,IF('Page 2'!A36=\"32\",20,IF('Page 2'!A36=\"34\",20,IF('Page 2'!A36=\"36\",20,IF('Page 2'!A36=\"38\",20,IF('Page 2'!A36=\"40\",20,IF('Page 2'!A36=\"42\",20,IF('Page 2'!A36=\"44\",20,IF('Page 2'!A36=\"46\",20,IF('Page 2'!A36=\"48\",20,\"\"))))))))))))))))))))))","v":""},"2\""]
[null,{"$f":"IF('Page 2'!$A$19<>\"\",\"V\",\"\")","v":""},{"$f":"IF('Page 2'!$A$36<>\"\",\"C\",\"\")","v":""},{"$f":"IF('Page 2'!$A$19<>\"\",\"-\",\"\")","v":""},{"$f":"IF('Page 2'!$A$19<>\"\",'Page 2'!$A$36,\"\")","v":""},{"$f":"IF('Page 2'!C41<>\"\",'Page 2'!D41,\"\")","v":""},{"$f":"IF('Page 2'!$D$19<>\"\",\"A\",IF('Page 2'!$D$20<>\"\",\"B\",\"\"))","v":""},{"$f":"IF('Page 2'!$F$19<>\"\",\"26\",IF('Page 2'!$F$20<>\"\",\"24\",IF('Page 2'!$F$21<>\"\",\"20\",IF('Page 2'!$D$19<>\"\",IF('Page 2'!$F$22<>\"\",$U$3,\"\"),IF('Page 2'!$D$20<>\"\",IF('Page 2'!$F$22<>\"\",$U$6,\"\"),\"\")))))","v":""},{"$f":"IF('Page 2'!$H$19<>\"\",\"A\",IF('Page 2'!$H$20<>\"\",\"B\",IF('Page 2'!$H$21<>\"\",\"C\",\"\")))","v":""},{"$f":"IF('Page 2'!$K$19<>\"\",\"26\",IF('Page 2'!$K$20<>\"\",\"24\",IF('Page 2'!$K$21<>\"\",\"20\",IF($Z$3<>\"\",$Z$3,IF($Z$6<>\"\",$Z$6,IF($Z$9<>\"\",$Z$9,\"\"))))))","v":""},{"$f":"IF('Page 2'!$M$19<>\"\",\"1\",IF('Page 2'!$M$20<>\"\",\"2\",IF('Page 2'!$M$21<>\"\",\"4\",\"\")))","v":""},null,{"$f":"IF('Page 2'!C41<>\"\",IF('Page 2'!D41<>\"\",CONCATENATE(B17,C17,D17,E17,F17,G17,H17,I17,J17,K17),\"\"),\"\")","v":""},{"$f":"IF('Page 2'!C41<>\"\",'Page 2'!C41,\"\")","v":""},null,{"$f":"IFERROR(VLOOKUP(LEFT(M17,20),Item_VIP!$A$2:$B$7499,1,FALSE),\"\")","v":""},null,null,null,null,null,"STD",{"$f":"IF('Page 2'!A36=\"06\",24,IF('Page 2'!A36=\"08\",24,IF('Page 2'!A36=\"10\",24,IF('Page 2'!A36=\"12\",24,IF('Page 2'!A36=\"14\",24,IF('Page 2'!A36=\"16\",24,IF('Page 2'!A36=\"18\",24,IF('Page 2'!A36=\"20\",24,IF('Page 2'!A36=\"22\",20,IF('Page 2'!A36=\"24\",20,IF('Page 2'!A36=\"26\",20,IF('Page 2'!A36=\"28\",20,IF('Page 2'!A36=\"30\",20,IF('Page 2'!A36=\"32\",20,IF('Page 2'!A36=\"34\",20,IF('Page 2'!A36=\"36\",20,IF('Page 2'!A36=\"38\",20,IF('Page 2'!A36=\"40\",20,IF('Page 2'!A36=\"42\",20,IF('Page 2'!A36=\"44\",20,IF('Page 2'!A36=\"46\",20,IF('Page 2'!A36=\"48\",20,\"\"))))))))))))))))))))))","v":""},"4\""]
[null,{"$f":"IF('Page 2'!$A$19<>\"\",\"V\",\"\")","v":""},{"$f":"IF('Page 2'!$A$36<>\"\",\"C\",\"\")","v":""},{"$f":"IF('Page 2'!$A$19<>\"\",\"-\",\"\")","v":""},{"$f":"IF('Page 2'!$A$19<>\"\",'Page 2'!$A$36,\"\")","v":""},{"$f":"IF('Page 2'!C42<>\"\",'Page 2'!D42,\"\")","v":""},{"$f":"IF('Page 2'!$D$19<>\"\",\"A\",IF('Page 2'!$D$20<>\"\",\"B\",\"\"))","v":""},{"$f":"IF('Page 2'!$F$19<>\"\",\"26\",IF('Page 2'!$F$20<>\"\",\"24\",IF('Page 2'!$F$21<>\"\",\"20\",IF('Page 2'!$D$19<>\"\",IF('Page 2'!$F$22<>\"\",$U$3,\"\"),IF('Page 2'!$D$20<>\"\",IF('Page 2'!$F$22<>\"\",$U$6,\"\"),\"\")))))","v":""},{"$f":"IF('Page 2'!$H$19<>\"\",\"A\",IF('Page 2'!$H$20<>\"\",\"B\",IF('Page 2'!$H$21<>\"\",\"C\",\"\")))","v":""},{"$f":"IF('Page 2'!$K$19<>\"\",\"26\",IF('Page 2'!$K$20<>\"\",\"24\",IF('Page 2'!$K$21<>\"\",\"20\",IF($Z$3<>\"\",$Z$3,IF($Z$6<>\"\",$Z$6,IF($Z$9<>\"\",$Z$9,\"\"))))))","v":""},{"$f":"IF('Page 2'!$M$19<>\"\",\"1\",IF('Page 2'!$M$20<>\"\",\"2\",IF('Page 2'!$M$21<>\"\",\"4\",\"\")))","v":""},null,{"$f":"IF('Page 2'!C42<>\"\",IF('Page 2'!D42<>\"\",CONCATENATE(B18,C18,D18,E18,F18,G18,H18,I18,J18,K18),\"\"),\"\")","v":""},{"$f":"IF('Page 2'!C42<>\"\",'Page 2'!C42,\"\")","v":""},null,{"$f":"IFERROR(VLOOKUP(LEFT(M18,20),Item_VIP!$A$2:$B$7499,1,FALSE),\"\")","v":""},null,null,"GALVALUME STD",null,null,"GAL",{"$f":"IF('Page 2'!A36=\"06\",24,IF('Page 2'!A36=\"08\",24,IF('Page 2'!A36=\"10\",24,IF('Page 2'!A36=\"12\",24,IF('Page 2'!A36=\"14\",24,IF('Page 2'!A36=\"16\",24,IF('Page 2'!A36=\"18\",24,IF('Page 2'!A36=\"20\",24,IF('Page 2'!A36=\"22\",24,IF('Page 2'!A36=\"24\",24,IF('Page 2'!A36=\"26\",24,IF('Page 2'!A36=\"28\",24,IF('Page 2'!A36=\"30\",22,IF('Page 2'!A36=\"32\",22,IF('Page 2'!A36=\"34\",22,IF('Page 2'!A36=\"36\",22,IF('Page 2'!A36=\"38\",22,IF('Page 2'!A36=\"40\",22,IF('Page 2'!A36=\"42\",22,IF('Page 2'!A36=\"44\",22,IF('Page 2'!A36=\"46\",22,IF('Page 2'!A36=\"48\",22,\"\"))))))))))))))))))))))","v":""},"1\"",null,{"$f":"IF('Page 2'!$H$21<>\"\",IF('Page 2'!$M$19<>\"\",IF('Page 2'!$K$22<>\"\",$W$18,\"\"),IF('Page 2'!$H$21<>\"\",IF('Page 2'!$M$20<>\"\",IF('Page 2'!$K$22<>\"\",$W$19,\"\"),IF('Page 2'!$H$21<>\"\",IF('Page 2'!$M$21<>\"\",IF('Page 2'!$K$22<>\"\",$W$20,\"\"),\"\"))))),\"\")","v":""},"SI 1\" OU 2\" OU 4\""]
[null,{"$f":"IF('Page 2'!$A$19<>\"\",\"V\",\"\")","v":""},{"$f":"IF('Page 2'!$A$36<>\"\",\"C\",\"\")","v":""},{"$f":"IF('Page 2'!$A$19<>\"\",\"-\",\"\")","v":""},{"$f":"IF('Page 2'!$A$19<>\"\",'Page 2'!$A$36,\"\")","v":""},{"$f":"IF('Page 2'!C43<>\"\",'Page 2'!D43,\"\")","v":""},{"$f":"IF('Page 2'!$D$19<>\"\",\"A\",IF('Page 2'!$D$20<>\"\",\"B\",\"\"))","v":""},{"$f":"IF('Page 2'!$F$21<>\"\",\"20\",IF('Page 2'!$D$19<>\"\",IF('Page 2'!$F$22<>\"\",$U$12,\"\"),IF('Page 2'!$D$20<>\"\",IF('Page 2'!$F$22<>\"\",$U$15,\"\"),\"\")))","v":""},{"$f":"IF('Page 2'!$H$19<>\"\",\"A\",IF('Page 2'!$H$20<>\"\",\"B\",IF('Page 2'!$H$21<>\"\",\"C\",\"\")))","v":""},{"$f":"IF('Page 2'!$K$19<>\"\",\"26\",IF('Page 2'!$K$20<>\"\",\"24\",IF('Page 2'!$K$21<>\"\",\"20\",IF($Z$12<>\"\",$Z$12,IF($Z$15<>\"\",$Z$15,IF($Z$18<>\"\",$Z$18,\"\"))))))","v":""},{"$f":"IF('Page 2'!$M$19<>\"\",\"1\",IF('Page 2'!$M$20<>\"\",\"2\",IF('Page 2'!$M$21<>\"\",\"4\",\"\")))","v":""},null,{"$f":"IF('Page 2'!C43<>\"\",IF('Page 2'!D43<>\"\",CONCATENATE(B19,C19,D19,E19,F19,G19,H19,I19,J19,K19),\"\"),\"\")","v":""},{"$f":"IF('Page 2'!C43<>\"\",'Page 2'!C43,\"\")","v":""},null,{"$f":"IFERROR(VLOOKUP(LEFT(M19,20),Item_VIP!$A$2:$B$7499,1,FALSE),\"\")","v":""},null,null,null,null,null,"GAL",{"$f":"IF('Page 2'!A36=\"06\",24,IF('Page 2'!A36=\"08\",24,IF('Page 2'!A36=\"10\",24,IF('Page 2'!A36=\"12\",24,IF('Page 2'!A36=\"14\",24,IF('Page 2'!A36=\"16\",24,IF('Page 2'!A36=\"18\",24,IF('Page 2'!A36=\"20\",24,IF('Page 2'!A36=\"22\",24,IF('Page 2'!A36=\"24\",24,IF('Page 2'!A36=\"26\",24,IF('Page 2'!A36=\"28\",22,IF('Page 2'!A36=\"30\",22,IF('Page 2'!A36=\"32\",22,IF('Page 2'!A36=\"34\",22,IF('Page 2'!A36=\"36\",22,IF('Page 2'!A36=\"38\",22,IF('Page 2'!A36=\"40\",22,IF('Page 2'!A36=\"42\",22,IF('Page 2'!A36=\"44\",22,IF('Page 2'!A36=\"46\",22,IF('Page 2'!A36=\"48\",22,\"\"))))))))))))))))))))))","v":""},"2\""]
[null,{"$f":"IF('Page 2'!$A$19<>\"\",\"V\",\"\")","v":""},{"$f":"IF('Page 2'!$A$36<>\"\",\"C\",\"\")","v":""},{"$f":"IF('Page 2'!$A$19<>\"\",\"-\",\"\")","v":""},{"$f":"IF('Page 2'!$A$19<>\"\",'Page 2'!$A$36,\"\")","v":""},{"$f":"IF('Page 2'!C44<>\"\",'Page 2'!D44,\"\")","v":""},{"$f":"IF('Page 2'!$D$19<>\"\",\"A\",IF('Page 2'!$D$20<>\"\",\"B\",\"\"))","v":""},{"$f":"IF('Page 2'!$F$21<>\"\",\"20\",IF('Page 2'!$D$19<>\"\",IF('Page 2'!$F$22<>\"\",$U$12,\"\"),IF('Page 2'!$D$20<>\"\",IF('Page 2'!$F$22<>\"\",$U$15,\"\"),\"\")))","v":""},{"$f":"IF('Page 2'!$H$19<>\"\",\"A\",IF('Page 2'!$H$20<>\"\",\"B\",IF('Page 2'!$H$21<>\"\",\"C\",\"\")))","v":""},{"$f":"IF('Page 2'!$K$19<>\"\",\"26\",IF('Page 2'!$K$20<>\"\",\"24\",IF('Page 2'!$K$21<>\"\",\"20\",IF($Z$12<>\"\",$Z$12,IF($Z$15<>\"\",$Z$15,IF($Z$18<>\"\",$Z$18,\"\"))))))","v":""},{"$f":"IF('Page 2'!$M$19<>\"\",\"1\",IF('Page 2'!$M$20<>\"\",\"2\",IF('Page 2'!$M$21<>\"\",\"4\",\"\")))","v":""},null,{"$f":"IF('Page 2'!C44<>\"\",IF('Page 2'!D44<>\"\",CONCATENATE(B20,C20,D20,E20,F20,G20,H20,I20,J20,K20),\"\"),\"\")","v":""},{"$f":"IF('Page 2'!C44<>\"\",'Page 2'!C44,\"\")","v":""},null,{"$f":"IFERROR(VLOOKUP(LEFT(M20,20),Item_VIP!$A$2:$B$7499,1,FALSE),\"\")","v":""},null,null,null,null,null,"GAL",{"$f":"IF('Page 2'!A36=\"06\",24,IF('Page 2'!A36=\"08\",24,IF('Page 2'!A36=\"10\",24,IF('Page 2'!A36=\"12\",24,IF('Page 2'!A36=\"14\",24,IF('Page 2'!A36=\"16\",24,IF('Page 2'!A36=\"18\",24,IF('Page 2'!A36=\"20\",24,IF('Page 2'!A36=\"22\",22,IF('Page 2'!A36=\"24\",22,IF('Page 2'!A36=\"26\",22,IF('Page 2'!A36=\"28\",22,IF('Page 2'!A36=\"30\",22,IF('Page 2'!A36=\"32\",22,IF('Page 2'!A36=\"34\",22,IF('Page 2'!A36=\"36\",22,IF('Page 2'!A36=\"38\",22,IF('Page 2'!A36=\"40\",22,IF('Page 2'!A36=\"42\",22,IF('Page 2'!A36=\"44\",22,IF('Page 2'!A36=\"46\",22,IF('Page 2'!A36=\"48\",22,\"\"))))))))))))))))))))))","v":""},"4\""]
[null,{"$f":"IF('Page 2'!$A$19<>\"\",\"V\",\"\")","v":""},{"$f":"IF('Page 2'!$A$36<>\"\",\"C\",\"\")","v":""},{"$f":"IF('Page 2'!$A$19<>\"\",\"-\",\"\")","v":""},{"$f":"IF('Page 2'!$A$19<>\"\",'Page 2'!$A$36,\"\")","v":""},{"$f":"IF('Page 2'!C45<>\"\",'Page 2'!D45,\"\")","v":""},{"$f":"IF('Page 2'!$D$19<>\"\",\"A\",IF('Page 2'!$D$20<>\"\",\"B\",\"\"))","v":""},{"$f":"IF('Page 2'!$F$21<>\"\",\"20\",IF('Page 2'!$D$19<>\"\",IF('Page 2'!$F$22<>\"\",$U$12,\"\"),IF('Page 2'!$D$20<>\"\",IF('Page 2'!$F$22<>\"\",$U$15,\"\"),\"\")))","v":""},{"$f":"IF('Page 2'!$H$19<>\"\",\"A\",IF('Page 2'!$H$20<>\"\",\"B\",IF('Page 2'!$H$21<>\"\",\"C\",\"\")))","v":""},{"$f":"IF('Page 2'!$K$19<>\"\",\"26\",IF('Page 2'!$K$20<>\"\",\"24\",IF('Page 2'!$K$21<>\"\",\"20\",IF($Z$12<>\"\",$Z$12,IF($Z$15<>\"\",$Z$15,IF($Z$18<>\"\",$Z$18,\"\"))))))","v":""},{"$f":"IF('Page 2'!$M$19<>\"\",\"1\",IF('Page 2'!$M$20<>\"\",\"2\",IF('Page 2'!$M$21<>\"\",\"4\",\"\")))","v":""},null,{"$f":"IF('Page 2'!C45<>\"\",IF('Page 2'!D45<>\"\",CONCATENATE(B21,C21,D21,E21,F21,G21,H21,I21,J21,K21),\"\"),\"\")","v":""},{"$f":"IF('Page 2'!C45<>\"\",'Page 2'!C45,\"\")","v":""},null,{"$f":"IFERROR(VLOOKUP(LEFT(M21,20),Item_VIP!$A$2:$B$7499,1,FALSE),\"\")","v":""},null,"ELBOW","SS 304","STD",{"$f":"IF('Page 2'!A47=\"06\",24,IF('Page 2'!A47=\"08\",24,IF('Page 2'!A47=\"10\",24,IF('Page 2'!A47=\"12\",24,IF('Page 2'!A47=\"14\",24,IF('Page 2'!A47=\"16\",24,IF('Page 2'!A47=\"18\",24,IF('Page 2'!A47=\"20\",24,IF('Page 2'!A47=\"22\",24,IF('Page 2'!A47=\"24\",24,IF('Page 2'!A47=\"26\",24,IF('Page 2'!A47=\"28\",24,IF('Page 2'!A47=\"30\",20,IF('Page 2'!A47=\"32\",20,IF('Page 2'!A47=\"34\",20,IF('Page 2'!A47=\"36\",20,IF('Page 2'!A47=\"38\",20,IF('Page 2'!A47=\"40\",20,IF('Page 2'!A47=\"42\",20,IF('Page 2'!A47=\"44\",20,IF('Page 2'!A47=\"46\",20,IF('Page 2'!A47=\"48\",20,\"\"))))))))))))))))))))))","v":""},"STD",{"$f":"IF('Page 2'!A47=\"06\",24,IF('Page 2'!A47=\"08\",24,IF('Page 2'!A47=\"10\",24,IF('Page 2'!A47=\"12\",24,IF('Page 2'!A47=\"14\",24,IF('Page 2'!A47=\"16\",24,IF('Page 2'!A47=\"18\",24,IF('Page 2'!A47=\"20\",24,IF('Page 2'!A47=\"22\",24,IF('Page 2'!A47=\"24\",24,IF('Page 2'!A47=\"26\",24,IF('Page 2'!A47=\"28\",24,IF('Page 2'!A47=\"30\",20,IF('Page 2'!A47=\"32\",20,IF('Page 2'!A47=\"34\",20,IF('Page 2'!A47=\"36\",20,IF('Page 2'!A47=\"38\",20,IF('Page 2'!A47=\"40\",20,IF('Page 2'!A47=\"42\",20,IF('Page 2'!A47=\"44\",20,IF('Page 2'!A47=\"46\",20,IF('Page 2'!A47=\"48\",20,\"\"))))))))))))))))))))))","v":""},"1\"",null,{"$f":"IF('Page 2'!$H$19<>\"\",IF('Page 2'!$M$19<>\"\",IF('Page 2'!$K$22<>\"\",$W$21,\"\"),IF('Page 2'!$H$19<>\"\",IF('Page 2'!$M$20<>\"\",IF('Page 2'!$K$22<>\"\",$W$22,\"\"),IF('Page 2'!$H$19<>\"\",IF('Page 2'!$M$21<>\"\",IF('Page 2'!$K$22<>\"\",$W$23,\"\"),\"\"))))),\"\")","v":""},"SI 1\" OU 2\" OU 4\""]
[null,{"$f":"IF('Page 2'!$A$19<>\"\",\"V\",\"\")","v":""},{"$f":"IF('Page 2'!$A$47<>\"\",\"E\",\"\")","v":""},{"$f":"IF('Page 2'!$A$19<>\"\",\"-\",\"\")","v":""},{"$f":"IF('Page 2'!$A$19<>\"\",'Page 2'!$A$47,\"\")","v":""},{"$f":"IF('Page 2'!$C$47<>\"\",'Page 2'!D47,\"\")","v":""},{"$f":"IF('Page 2'!$D$19<>\"\",\"A\",IF('Page 2'!$D$20<>\"\",\"B\",\"\"))","v":""},{"$f":"IF('Page 2'!$F$20<>\"\",\"24\",IF('Page 2'!$F$21<>\"\",\"20\",IF('Page 2'!$D$19<>\"\",IF('Page 2'!$F$22<>\"\",$U$21,\"\"),IF('Page 2'!$D$20<>\"\",IF('Page 2'!$F$22<>\"\",$U$24,\"\"),\"\"))))","v":""},{"$f":"IF('Page 2'!$H$19<>\"\",\"A\",IF('Page 2'!$H$20<>\"\",\"B\",IF('Page 2'!$H$21<>\"\",\"C\",\"\")))","v":""},{"$f":"IF('Page 2'!$K$20<>\"\",\"24\",IF('Page 2'!$K$21<>\"\",\"20\",IF($Z$21<>\"\",$Z$21,IF($Z$24<>\"\",$Z$24,IF($Z$27<>\"\",$Z$27,\"\")))))","v":""},{"$f":"IF('Page 2'!$M$19<>\"\",\"1\",IF('Page 2'!$M$20<>\"\",\"2\",IF('Page 2'!$M$21<>\"\",\"4\",\"\")))","v":""},null,{"$f":"IF('Page 2'!$C$47<>\"\",IF('Page 2'!$D$47<>\"\",CONCATENATE(B22,C22,D22,E22,F22,G22,H22,I22,J22,K22),\"\"),\"\")","v":""},{"$f":"IF('Page 2'!C47<>\"\",'Page 2'!C47,\"\")","v":""},null,{"$f":"IFERROR(VLOOKUP(LEFT(M22,20),Item_VIP!$A$2:$B$7499,1,FALSE),\"\")","v":""},null,null,null,null,null,"STD",{"$f":"IF('Page 2'!A47=\"06\",24,IF('Page 2'!A47=\"08\",24,IF('Page 2'!A47=\"10\",24,IF('Page 2'!A47=\"12\",24,IF('Page 2'!A47=\"14\",24,IF('Page 2'!A47=\"16\",24,IF('Page 2'!A47=\"18\",24,IF('Page 2'!A47=\"20\",24,IF('Page 2'!A47=\"22\",24,IF('Page 2'!A47=\"24\",24,IF('Page 2'!A47=\"26\",24,IF('Page 2'!A47=\"28\",20,IF('Page 2'!A47=\"30\",20,IF('Page 2'!A47=\"32\",20,IF('Page 2'!A47=\"34\",20,IF('Page 2'!A47=\"36\",20,IF('Page 2'!A47=\"38\",20,IF('Page 2'!A47=\"40\",20,IF('Page 2'!A47=\"42\",20,IF('Page 2'!A47=\"44\",20,IF('Page 2'!A47=\"46\",20,IF('Page 2'!A47=\"48\",20,\"\"))))))))))))))))))))))","v":""},"2\""]
[null,{"$f":"IF('Page 2'!$A$19<>\"\",\"V\",\"\")","v":""},{"$f":"IF('Page 2'!$A$47<>\"\",\"E\",\"\")","v":""},{"$f":"IF('Page 2'!$A$19<>\"\",\"-\",\"\")","v":""},{"$f":"IF('Page 2'!$A$19<>\"\",'Page 2'!$A$47,\"\")","v":""},{"$f":"IF('Page 2'!$C$48<>\"\",'Page 2'!D48,\"\")","v":""},{"$f":"IF('Page 2'!$D$19<>\"\",\"A\",IF('Page 2'!$D$20<>\"\",\"B\",\"\"))","v":""},{"$f":"IF('Page 2'!$F$20<>\"\",\"24\",IF('Page 2'!$F$21<>\"\",\"20\",IF('Page 2'!$D$19<>\"\",IF('Page 2'!$F$22<>\"\",$U$21,\"\"),IF('Page 2'!$D$20<>\"\",IF('Page 2'!$F$22<>\"\",$U$24,\"\"),\"\"))))","v":""},{"$f":"IF('Page 2'!$H$19<>\"\",\"A\",IF('Page 2'!$H$20<>\"\",\"B\",IF('Page 2'!$H$21<>\"\",\"C\",\"\")))","v":""},{"$f":"IF('Page 2'!$K$20<>\"\",\"24\",IF('Page 2'!$K$21<>\"\",\"20\",IF($Z$21<>\"\",$Z$21,IF($Z$24<>\"\",$Z$24,IF($Z$27<>\"\",$Z$27,\"\")))))","v":""},{"$f":"IF('Page 2'!$M$19<>\"\",\"1\",IF('Page 2'!$M$20<>\"\",\"2\",IF('Page 2'!$M$21<>\"\",\"4\",\"\")))","v":""},null,{"$f":"IF('Page 2'!$C$48<>\"\",CONCATENATE(B23,C23,D23,E23,F23,G23,H23,I23,J23,K23),\"\")","v":""},{"$f":"IF('Page 2'!C48<>\"\",'Page 2'!C48,\"\")","v":""},null,{"$f":"IFERROR(VLOOKUP(LEFT(M23,20),Item_VIP!$A$2:$B$7499,1,FALSE),\"\")","v":""},null,null,null,null,null,"STD",{"$f":"IF('Page 2'!A47=\"06\",26,IF('Page 2'!A47=\"08\",26,IF('Page 2'!A47=\"10\",24,IF('Page 2'!A47=\"12\",24,IF('Page 2'!A47=\"14\",24,IF('Page 2'!A47=\"16\",24,IF('Page 2'!A47=\"18\",24,IF('Page 2'!A47=\"20\",24,IF('Page 2'!A47=\"22\",20,IF('Page 2'!A47=\"24\",20,IF('Page 2'!A47=\"26\",20,IF('Page 2'!A47=\"28\",20,IF('Page 2'!A47=\"30\",20,IF('Page 2'!A47=\"32\",20,IF('Page 2'!A47=\"34\",20,IF('Page 2'!A47=\"36\",20,IF('Page 2'!A47=\"38\",20,IF('Page 2'!A47=\"40\",20,IF('Page 2'!A47=\"42\",20,IF('Page 2'!A47=\"44\",20,IF('Page 2'!A47=\"46\",20,IF('Page 2'!A47=\"48\",20,\"\"))))))))))))))))))))))","v":""},"4\""]
[null,{"$f":"IF('Page 2'!$A$19<>\"\",\"V\",\"\")","v":""},{"$f":"IF('Page 2'!$A$47<>\"\",\"E\",\"\")","v":""},{"$f":"IF('Page 2'!$A$19<>\"\",\"-\",\"\")","v":""},{"$f":"IF('Page 2'!$A$19<>\"\",'Page 2'!$A$47,\"\")","v":""},{"$f":"IF('Page 2'!$C$49<>\"\",'Page 2'!D49,\"\")","v":""},{"$f":"IF('Page 2'!$D$19<>\"\",\"A\",IF('Page 2'!$D$20<>\"\",\"B\",\"\"))","v":""},{"$f":"IF('Page 2'!$F$20<>\"\",\"24\",IF('Page 2'!$F$21<>\"\",\"20\",IF('Page 2'!$D$19<>\"\",IF('Page 2'!$F$22<>\"\",$U$21,\"\"),IF('Page 2'!$D$20<>\"\",IF('Page 2'!$F$22<>\"\",$U$24,\"\"),\"\"))))","v":""},{"$f":"IF('Page 2'!$H$19<>\"\",\"A\",IF('Page 2'!$H$20<>\"\",\"B\",IF('Page 2'!$H$21<>\"\",\"C\",\"\")))","v":""},{"$f":"IF('Page 2'!$K$20<>\"\",\"24\",IF('Page 2'!$K$21<>\"\",\"20\",IF($Z$21<>\"\",$Z$21,IF($Z$24<>\"\",$Z$24,IF($Z$27<>\"\",$Z$27,\"\")))))","v":""},{"$f":"IF('Page 2'!$M$19<>\"\",\"1\",IF('Page 2'!$M$20<>\"\",\"2\",IF('Page 2'!$M$21<>\"\",\"4\",\"\")))","v":""},null,{"$f":"IF('Page 2'!$C$49<>\"\",CONCATENATE(B24,C24,D24,E24,F24,G24,H24,I24,J24,K24),\"\")","v":""},{"$f":"IF('Page 2'!C49<>\"\",'Page 2'!C49,\"\")","v":""},null,{"$f":"IFERROR(VLOOKUP(LEFT(M24,20),Item_VIP!$A$2:$B$7499,1,FALSE),\"\")","v":""},null,null,"SS 316","STD",{"$f":"IF('Page 2'!A47=\"06\",24,IF('Page 2'!A47=\"08\",24,IF('Page 2'!A47=\"10\",24,IF('Page 2'!A47=\"12\",24,IF('Page 2'!A47=\"14\",24,IF('Page 2'!A47=\"16\",24,IF('Page 2'!A47=\"18\",24,IF('Page 2'!A47=\"20\",24,IF('Page 2'!A47=\"22\",24,IF('Page 2'!A47=\"24\",24,IF('Page 2'!A47=\"26\",24,IF('Page 2'!A47=\"28\",24,IF('Page 2'!A47=\"30\",20,IF('Page 2'!A47=\"32\",20,IF('Page 2'!A47=\"34\",20,IF('Page 2'!A47=\"36\",20,IF('Page 2'!A47=\"38\",20,IF('Page 2'!A47=\"40\",20,IF('Page 2'!A47=\"42\",20,IF('Page 2'!A47=\"44\",20,IF('Page 2'!A47=\"46\",20,IF('Page 2'!A47=\"48\",20,\"\"))))))))))))))))))))))","v":""},"STD",{"$f":"IF('Page 2'!A47=\"06\",24,IF('Page 2'!A47=\"08\",24,IF('Page 2'!A47=\"10\",24,IF('Page 2'!A47=\"12\",24,IF('Page 2'!A47=\"14\",24,IF('Page 2'!A47=\"16\",24,IF('Page 2'!A47=\"18\",24,IF('Page 2'!A47=\"24\",24,IF('Page 2'!A47=\"22\",24,IF('Page 2'!A47=\"24\",24,IF('Page 2'!A47=\"26\",24,IF('Page 2'!A47=\"28\",24,IF('Page 2'!A47=\"30\",20,IF('Page 2'!A47=\"32\",20,IF('Page 2'!A47=\"34\",20,IF('Page 2'!A47=\"36\",20,IF('Page 2'!A47=\"38\",20,IF('Page 2'!A47=\"40\",20,IF('Page 2'!A47=\"42\",20,IF('Page 2'!A47=\"44\",20,IF('Page 2'!A47=\"46\",20,IF('Page 2'!A47=\"48\",20,\"\"))))))))))))))))))))))","v":""},"1\"",null,{"$f":"IF('Page 2'!$H$20<>\"\",IF('Page 2'!$M$19<>\"\",IF('Page 2'!$K$22<>\"\",$W$24,\"\"),IF('Page 2'!$H$20<>\"\",IF('Page 2'!$M$20<>\"\",IF('Page 2'!$K$22<>\"\",$W$25,\"\"),IF('Page 2'!$H$20<>\"\",IF('Page 2'!$M$21<>\"\",IF('Page 2'!$K$22<>\"\",$W$26,\"\"),\"\"))))),\"\")","v":""},"SI 1\" OU 2\" OU 4\""]
[null,{"$f":"IF('Page 2'!$A$19<>\"\",\"V\",\"\")","v":""},{"$f":"IF('Page 2'!$A$47<>\"\",\"E\",\"\")","v":""},{"$f":"IF('Page 2'!$A$19<>\"\",\"-\",\"\")","v":""},{"$f":"IF('Page 2'!$A$19<>\"\",'Page 2'!$A$47,\"\")","v":""},{"$f":"IF('Page 2'!$C$50<>\"\",'Page 2'!D50,\"\")","v":""},{"$f":"IF('Page 2'!$D$19<>\"\",\"A\",IF('Page 2'!$D$20<>\"\",\"B\",\"\"))","v":""},{"$f":"IF('Page 2'!$F$20<>\"\",\"24\",IF('Page 2'!$F$21<>\"\",\"20\",IF('Page 2'!$D$19<>\"\",IF('Page 2'!$F$22<>\"\",$U$21,\"\"),IF('Page 2'!$D$20<>\"\",IF('Page 2'!$F$22<>\"\",$U$24,\"\"),\"\"))))","v":""},{"$f":"IF('Page 2'!$H$19<>\"\",\"A\",IF('Page 2'!$H$20<>\"\",\"B\",IF('Page 2'!$H$21<>\"\",\"C\",\"\")))","v":""},{"$f":"IF('Page 2'!$K$20<>\"\",\"24\",IF('Page 2'!$K$21<>\"\",\"20\",IF($Z$21<>\"\",$Z$21,IF($Z$24<>\"\",$Z$24,IF($Z$27<>\"\",$Z$27,\"\")))))","v":""},{"$f":"IF('Page 2'!$M$19<>\"\",\"1\",IF('Page 2'!$M$20<>\"\",\"2\",IF('Page 2'!$M$21<>\"\",\"4\",\"\")))","v":""},null,{"$f":"IF('Page 2'!$C$50<>\"\",CONCATENATE(B25,C25,D25,E25,F25,G25,H25,I25,J25,K25),\"\")","v":""},{"$f":"IF('Page 2'!C50<>\"\",'Page 2'!C50,\"\")","v":""},null,{"$f":"IFERROR(VLOOKUP(LEFT(M25,20),Item_VIP!$A$2:$B$7499,1,FALSE),\"\")","v":""},null,null,null,null,null,"STD",{"$f":"IF('Page 2'!A47=\"06\",24,IF('Page 2'!A47=\"08\",24,IF('Page 2'!A47=\"10\",24,IF('Page 2'!A47=\"12\",24,IF('Page 2'!A47=\"14\",24,IF('Page 2'!A47=\"16\",24,IF('Page 2'!A47=\"18\",24,IF('Page 2'!A47=\"20\",24,IF('Page 2'!A47=\"22\",24,IF('Page 2'!A47=\"24\",24,IF('Page 2'!A47=\"26\",24,IF('Page 2'!A47=\"28\",20,IF('Page 2'!A47=\"30\",20,IF('Page 2'!A47=\"32\",20,IF('Page 2'!A47=\"34\",20,IF('Page 2'!A47=\"36\",20,IF('Page 2'!A47=\"38\",20,IF('Page 2'!A47=\"40\",20,IF('Page 2'!A47=\"42\",20,IF('Page 2'!A47=\"44\",20,IF('Page 2'!A47=\"46\",20,IF('Page 2'!A47=\"48\",20,\"\"))))))))))))))))))))))","v":""},"2\""]
[null,{"$f":"IF('Page 2'!$A$19<>\"\",\"V\",\"\")","v":""},{"$f":"IF('Page 2'!$A$52<>\"\",\"E\",\"\")","v":""},{"$f":"IF('Page 2'!$A$19<>\"\",\"-\",\"\")","v":""},{"$f":"IF('Page 2'!$A$19<>\"\",'Page 2'!$A$52,\"\")","v":""},{"$f":"IF('Page 2'!$C$52<>\"\",'Page 2'!D52,\"\")","v":""},{"$f":"IF('Page 2'!$D$19<>\"\",\"A\",IF('Page 2'!$D$20<>\"\",\"B\",\"\"))","v":""},{"$f":"IF('Page 2'!$F$21<>\"\",\"20\",IF('Page 2'!$D$19<>\"\",IF('Page 2'!$F$22<>\"\",$U$30,\"\"),IF('Page 2'!$D$20<>\"\",IF('Page 2'!$F$22<>\"\",$U$33,\"\"),\"\")))","v":""},{"$f":"IF('Page 2'!$H$19<>\"\",\"A\",IF('Page 2'!$H$20<>\"\",\"B\",IF('Page 2'!$H$21<>\"\",\"C\",\"\")))","v":""},{"$f":"IF('Page 2'!$K$20<>\"\",\"24\",IF('Page 2'!$K$21<>\"\",\"20\",IF($Z$30<>\"\",$Z$30,IF($Z$33<>\"\",$Z$33,IF($Z$36<>\"\",$Z$36,\"\")))))","v":""},{"$f":"IF('Page 2'!$M$19<>\"\",\"1\",IF('Page 2'!$M$20<>\"\",\"2\",IF('Page 2'!$M$21<>\"\",\"4\",\"\")))","v":""},null,{"$f":"IF('Page 2'!$C$52<>\"\",CONCATENATE(B26,C26,D26,E26,F26,G26,H26,I26,J26,K26),\"\")","v":""},{"$f":"IF('Page 2'!C52<>\"\",'Page 2'!C52,\"\")","v":""},null,{"$f":"IFERROR(VLOOKUP(LEFT(M26,20),Item_VIP!$A$2:$B$7499,1,FALSE),\"\")","v":""},null,null,null,null,null,"STD",{"$f":"IF('Page 2'!A47=\"06\",26,IF('Page 2'!A47=\"08\",26,IF('Page 2'!A47=\"10\",24,IF('Page 2'!A47=\"12\",24,IF('Page 2'!A47=\"14\",24,IF('Page 2'!A47=\"16\",24,IF('Page 2'!A47=\"18\",24,IF('Page 2'!A47=\"20\",24,IF('Page 2'!A47=\"22\",20,IF('Page 2'!A47=\"24\",20,IF('Page 2'!A47=\"26\",20,IF('Page 2'!A47=\"28\",20,IF('Page 2'!A47=\"30\",20,IF('Page 2'!A47=\"32\",20,IF('Page 2'!A47=\"34\",20,IF('Page 2'!A47=\"36\",20,IF('Page 2'!A47=\"38\",20,IF('Page 2'!A47=\"40\",20,IF('Page 2'!A47=\"42\",20,IF('Page 2'!A47=\"44\",20,IF('Page 2'!A47=\"46\",20,IF('Page 2'!A47=\"48\",20,\"\"))))))))))))))))))))))","v":""},"4\""]
[null,{"$f":"IF('Page 2'!$A$19<>\"\",\"V\",\"\")","v":""},{"$f":"IF('Page 2'!$A$52<>\"\",\"E\",\"\")","v":""},{"$f":"IF('Page 2'!$A$19<>\"\",\"-\",\"\")","v":""},{"$f":"IF('Page 2'!$A$19<>\"\",'Page 2'!$A$53,\"\")","v":""},{"$f":"IF('Page 2'!$C$53<>\"\",'Page 2'!D53,\"\")","v":""},{"$f":"IF('Page 2'!$D$19<>\"\",\"A\",IF('Page 2'!$D$20<>\"\",\"B\",\"\"))","v":""},{"$f":"IF('Page 2'!$F$21<>\"\",\"20\",IF('Page 2'!$D$19<>\"\",IF('Page 2'!$F$22<>\"\",$U$30,\"\"),IF('Page 2'!$D$20<>\"\",IF('Page 2'!$F$22<>\"\",$U$33,\"\"),\"\")))","v":""},{"$f":"IF('Page 2'!$H$19<>\"\",\"A\",IF('Page 2'!$H$20<>\"\",\"B\",IF('Page 2'!$H$21<>\"\",\"C\",\"\")))","v":""},{"$f":"IF('Page 2'!$K$20<>\"\",\"24\",IF('Page 2'!$K$21<>\"\",\"20\",IF($Z$30<>\"\",$Z$30,IF($Z$33<>\"\",$Z$33,IF($Z$36<>\"\",$Z$36,\"\")))))","v":""},{"$f":"IF('Page 2'!$M$19<>\"\",\"1\",IF('Page 2'!$M$20<>\"\",\"2\",IF('Page 2'!$M$21<>\"\",\"4\",\"\")))","v":""},{"$f":"IF('Page 2'!$B$53<>\"\",'Page 2'!$B$53,\"\")","v":""},{"$f":"IF('Page 2'!$C$53<>\"\",CONCATENATE(B27,C27,D27,E27,F27,G27,H27,I27,J27,K27,L27),\"\")","v":""},{"$f":"IF('Page 2'!C53<>\"\",'Page 2'!C53,\"\")","v":""},null,{"$f":"IFERROR(VLOOKUP(LEFT(M27,20),Item_VIP!$A$2:$B$7499,1,FALSE),\"\")","v":""},null,null,"GALVALUME STD",null,null,"GAL",{"$f":"IF('Page 2'!A47=\"06\",24,IF('Page 2'!A47=\"08\",24,IF('Page 2'!A47=\"10\",24,IF('Page 2'!A47=\"12\",24,IF('Page 2'!A47=\"14\",24,IF('Page 2'!A47=\"16\",24,IF('Page 2'!A47=\"18\",24,IF('Page 2'!A47=\"24\",24,IF('Page 2'!A47=\"22\",24,IF('Page 2'!A47=\"24\",24,IF('Page 2'!A47=\"26\",24,IF('Page 2'!A47=\"28\",24,IF('Page 2'!A47=\"30\",22,IF('Page 2'!A47=\"32\",22,IF('Page 2'!A47=\"34\",22,IF('Page 2'!A47=\"36\",22,IF('Page 2'!A47=\"38\",22,IF('Page 2'!A47=\"40\",22,IF('Page 2'!A47=\"42\",22,IF('Page 2'!A47=\"44\",22,IF('Page 2'!A47=\"46\",22,IF('Page 2'!A47=\"48\",22,\"\"))))))))))))))))))))))","v":""},"1\"",null,{"$f":"IF('Page 2'!$H$21<>\"\",IF('Page 2'!$M$19<>\"\",IF('Page 2'!$K$22<>\"\",$W$27,\"\"),IF('Page 2'!$H$21<>\"\",IF('Page 2'!$M$20<>\"\",IF('Page 2'!$K$22<>\"\",$W$28,\"\"),IF('Page 2'!$H$21<>\"\",IF('Page 2'!$M$21<>\"\",IF('Page 2'!$K$22<>\"\",$W$29,\"\"),\"\"))))),\"\")","v":""},"SI 1\" OU 2\" OU 4\""]
[null,{"$f":"IF('Page 2'!$A$19<>\"\",\"V\",\"\")","v":""},{"$f":"IF('Page 2'!$A$52<>\"\",\"E\",\"\")","v":""},{"$f":"IF('Page 2'!$A$19<>\"\",\"-\",\"\")","v":""},{"$f":"IF('Page 2'!$A$19<>\"\",'Page 2'!$A$52,\"\")","v":""},{"$f":"IF('Page 2'!$C$54<>\"\",'Page 2'!D54,\"\")","v":""},{"$f":"IF('Page 2'!$D$19<>\"\",\"A\",IF('Page 2'!$D$20<>\"\",\"B\",\"\"))","v":""},{"$f":"IF('Page 2'!$F$21<>\"\",\"20\",IF('Page 2'!$D$19<>\"\",IF('Page 2'!$F$22<>\"\",$U$30,\"\"),IF('Page 2'!$D$20<>\"\",IF('Page 2'!$F$22<>\"\",$U$33,\"\"),\"\")))","v":""},{"$f":"IF('Page 2'!$H$19<>\"\",\"A\",IF('Page 2'!$H$20<>\"\",\"B\",IF('Page 2'!$H$21<>\"\",\"C\",\"\")))","v":""},{"$f":"IF('Page 2'!$K$20<>\"\",\"24\",IF('Page 2'!$K$21<>\"\",\"20\",IF($Z$30<>\"\",$Z$30,IF($Z$33<>\"\",$Z$33,IF($Z$36<>\"\",$Z$36,\"\")))))","v":""},{"$f":"IF('Page 2'!$M$19<>\"\",\"1\",IF('Page 2'!$M$20<>\"\",\"2\",IF('Page 2'!$M$21<>\"\",\"4\",\"\")))","v":""},null,{"$f":"IF('Page 2'!$C$54<>\"\",CONCATENATE(B28,C28,D28,E28,F28,G28,H28,I28,J28,K28),\"\")","v":""},{"$f":"IF('Page 2'!C54<>\"\",'Page 2'!C54,\"\")","v":""},null,{"$f":"IFERROR(VLOOKUP(LEFT(M28,20),Item_VIP!$A$2:$B$7499,1,FALSE),\"\")","v":""},null,null,null,null,null,"GAL",{"$f":"IF('Page 2'!A47=\"06\",24,IF('Page 2'!A47=\"08\",24,IF('Page 2'!A47=\"10\",24,IF('Page 2'!A47=\"12\",24,IF('Page 2'!A47=\"14\",24,IF('Page 2'!A47=\"16\",24,IF('Page 2'!A47=\"18\",24,IF('Page 2'!A47=\"24\",24,IF('Page 2'!A47=\"22\",24,IF('Page 2'!A47=\"24\",24,IF('Page 2'!A47=\"26\",24,IF('Page 2'!A47=\"28\",22,IF('Page 2'!A47=\"30\",22,IF('Page 2'!A47=\"32\",22,IF('Page 2'!A47=\"34\",22,IF('Page 2'!A47=\"36\",22,IF('Page 2'!A47=\"38\",22,IF('Page 2'!A47=\"40\",22,IF('Page 2'!A47=\"42\",22,IF('Page 2'!A47=\"44\",22,IF('Page 2'!A47=\"46\",22,IF('Page 2'!A47=\"48\",22,\"\"))))))))))))))))))))))","v":""},"2\""]
[null,{"$f":"IF('Page 2'!$A$19<>\"\",\"V\",\"\")","v":""},{"$f":"IF('Page 2'!$A$52<>\"\",\"E\",\"\")","v":""},{"$f":"IF('Page 2'!$A$19<>\"\",\"-\",\"\")","v":""},{"$f":"IF('Page 2'!$A$19<>\"\",'Page 2'!$A$55,\"\")","v":""},{"$f":"IF('Page 2'!$C$55<>\"\",'Page 2'!D55,\"\")","v":""},{"$f":"IF('Page 2'!$D$19<>\"\",\"A\",IF('Page 2'!$D$20<>\"\",\"B\",\"\"))","v":""},{"$f":"IF('Page 2'!$F$21<>\"\",\"20\",IF('Page 2'!$D$19<>\"\",IF('Page 2'!$F$22<>\"\",$U$30,\"\"),IF('Page 2'!$D$20<>\"\",IF('Page 2'!$F$22<>\"\",$U$33,\"\"),\"\")))","v":""},{"$f":"IF('Page 2'!$H$19<>\"\",\"A\",IF('Page 2'!$H$20<>\"\",\"B\",IF('Page 2'!$H$21<>\"\",\"C\",\"\")))","v":""},{"$f":"IF('Page 2'!$K$20<>\"\",\"24\",IF('Page 2'!$K$21<>\"\",\"20\",IF($Z$30<>\"\",$Z$30,IF($Z$33<>\"\",$Z$33,IF($Z$36<>\"\",$Z$36,\"\")))))","v":""},{"$f":"IF('Page 2'!$M$19<>\"\",\"1\",IF('Page 2'!$M$20<>\"\",\"2\",IF('Page 2'!$M$21<>\"\",\"4\",\"\")))","v":""},{"$f":"IF('Page 2'!$B$55<>\"\",'Page 2'!$B$55,\"\")","v":""},{"$f":"IF('Page 2'!$C$55<>\"\",CONCATENATE(B29,C29,D29,E29,F29,G29,H29,I29,J29,K29,L29),\"\")","v":""},{"$f":"IF('Page 2'!C55<>\"\",'Page 2'!C55,\"\")","v":""},null,{"$f":"IFERROR(VLOOKUP(LEFT(M29,20),Item_VIP!$A$2:$B$7499,1,FALSE),\"\")","v":""},null,null,null,null,null,"GAL",{"$f":"IF('Page 2'!A47=\"06\",24,IF('Page 2'!A47=\"08\",24,IF('Page 2'!A47=\"10\",24,IF('Page 2'!A47=\"12\",24,IF('Page 2'!A47=\"14\",24,IF('Page 2'!A47=\"16\",24,IF('Page 2'!A47=\"18\",22,IF('Page 2'!A47=\"24\",22,IF('Page 2'!A47=\"22\",22,IF('Page 2'!A47=\"24\",22,IF('Page 2'!A47=\"26\",22,IF('Page 2'!A47=\"28\",22,IF('Page 2'!A47=\"30\",22,IF('Page 2'!A47=\"32\",22,IF('Page 2'!A47=\"34\",22,IF('Page 2'!A47=\"36\",22,IF('Page 2'!A47=\"38\",22,IF('Page 2'!A47=\"40\",22,IF('Page 2'!A47=\"42\",22,IF('Page 2'!A47=\"44\",22,IF('Page 2'!A47=\"46\",22,IF('Page 2'!A47=\"48\",22,\"\"))))))))))))))))))))))","v":""},"4\""]
[null,{"$f":"IF('Page 2'!$A$19<>\"\",\"V\",\"\")","v":""},{"$f":"IF('Page 2'!$A$52<>\"\",\"E\",\"\")","v":""},{"$f":"IF('Page 2'!$A$19<>\"\",\"-\",\"\")","v":""},{"$f":"IF('Page 2'!$A$19<>\"\",'Page 2'!$A$52,\"\")","v":""},{"$f":"IF('Page 2'!$C$56<>\"\",'Page 2'!D56,\"\")","v":""},{"$f":"IF('Page 2'!$D$19<>\"\",\"A\",IF('Page 2'!$D$20<>\"\",\"B\",\"\"))","v":""},{"$f":"IF('Page 2'!$F$20<>\"\",\"20\",IF('Page 2'!$F$21<>\"\",\"20\",IF('Page 2'!$D$19<>\"\",IF('Page 2'!$F$22<>\"\",$U$39,\"\"),IF('Page 2'!$D$20<>\"\",IF('Page 2'!$F$22<>\"\",$U$40,\"\"),\"\"))))","v":""},{"$f":"IF(G30<>\"\",G30,\"\")","v":""},{"$f":"IF(H30<>\"\",H30,\"\")","v":""},{"$f":"IF('Page 2'!$M$19<>\"\",\"1\",IF('Page 2'!$M$20<>\"\",\"2\",IF('Page 2'!$M$21<>\"\",\"4\",\"\")))","v":""},null,{"$f":"IF('Page 2'!$C$56<>\"\",CONCATENATE(B30,C30,D30,E30,F30,G30,H30,I30,J30,K30),\"\")","v":""},{"$f":"IF('Page 2'!C56<>\"\",'Page 2'!C56,\"\")","v":""},null,{"$f":"IFERROR(VLOOKUP(LEFT(M30,20),Item_VIP!$A$2:$B$7499,1,FALSE),\"\")","v":""},null,"TEE","SS 304","STD",{"$f":"IF('Page 2'!A52=\"06\",20,IF('Page 2'!A52=\"08\",20,IF('Page 2'!A52=\"10\",20,IF('Page 2'!A52=\"12\",20,IF('Page 2'!A52=\"14\",20,IF('Page 2'!A52=\"16\",20,IF('Page 2'!A52=\"18\",20,IF('Page 2'!A52=\"20\",20,IF('Page 2'!A52=\"22\",20,IF('Page 2'!A52=\"24\",20,IF('Page 2'!A52=\"26\",20,IF('Page 2'!A52=\"28\",20,IF('Page 2'!A52=\"30\",20,IF('Page 2'!A52=\"32\",20,IF('Page 2'!A52=\"34\",20,IF('Page 2'!A52=\"36\",20,IF('Page 2'!A52=\"38\",20,IF('Page 2'!A52=\"40\",20,IF('Page 2'!A52=\"42\",20,IF('Page 2'!A52=\"44\",20,IF('Page 2'!A52=\"46\",20,IF('Page 2'!A52=\"48\",20,\"\"))))))))))))))))))))))","v":""},"STD",{"$f":"IF('Page 2'!A52=\"06\",24,IF('Page 2'!A52=\"08\",24,IF('Page 2'!A52=\"10\",24,IF('Page 2'!A52=\"12\",24,IF('Page 2'!A52=\"14\",24,IF('Page 2'!A52=\"16\",24,IF('Page 2'!A52=\"18\",24,IF('Page 2'!A52=\"20\",24,IF('Page 2'!A52=\"22\",24,IF('Page 2'!A52=\"24\",20,IF('Page 2'!A52=\"26\",20,IF('Page 2'!A52=\"28\",20,IF('Page 2'!A52=\"30\",20,IF('Page 2'!A52=\"32\",20,IF('Page 2'!A52=\"34\",20,IF('Page 2'!A52=\"36\",20,IF('Page 2'!A52=\"38\",20,IF('Page 2'!A52=\"40\",20,IF('Page 2'!A52=\"42\",20,IF('Page 2'!A52=\"44\",20,IF('Page 2'!A52=\"46\",20,IF('Page 2'!A52=\"48\",20,\"\"))))))))))))))))))))))","v":""},"1\"",null,{"$f":"IF('Page 2'!$H$19<>\"\",IF('Page 2'!$M$19<>\"\",IF('Page 2'!$K$22<>\"\",$W$30,\"\"),IF('Page 2'!$H$19<>\"\",IF('Page 2'!$M$20<>\"\",IF('Page 2'!$K$22<>\"\",$W$31,\"\"),IF('Page 2'!$H$19<>\"\",IF('Page 2'!$M$21<>\"\",IF('Page 2'!$K$22<>\"\",$W$32,\"\"),\"\"))))),\"\")","v":""},"SI 1\" OU 2\" OU 4\""]
[null,{"$f":"IF('Page 2'!$A$19<>\"\",\"V\",\"\")","v":""},{"$f":"IF('Page 2'!$A$52<>\"\",\"E\",\"\")","v":""},{"$f":"IF('Page 2'!$A$19<>\"\",\"-\",\"\")","v":""},{"$f":"IF('Page 2'!$A$19<>\"\",'Page 2'!$A$52,\"\")","v":""},{"$f":"IF('Page 2'!$C$57<>\"\",'Page 2'!D57,\"\")","v":""},{"$f":"IF('Page 2'!$D$19<>\"\",\"A\",IF('Page 2'!$D$20<>\"\",\"B\",\"\"))","v":""},{"$f":"IF('Page 2'!$F$20<>\"\",\"20\",IF('Page 2'!$F$21<>\"\",\"20\",IF('Page 2'!$D$19<>\"\",IF('Page 2'!$F$22<>\"\",$U$39,\"\"),IF('Page 2'!$D$20<>\"\",IF('Page 2'!$F$22<>\"\",$U$40,\"\"),\"\"))))","v":""},{"$f":"IF(G31<>\"\",G31,\"\")","v":""},{"$f":"IF(H31<>\"\",H31,\"\")","v":""},{"$f":"IF('Page 2'!$M$19<>\"\",\"1\",IF('Page 2'!$M$20<>\"\",\"2\",IF('Page 2'!$M$21<>\"\",\"4\",\"\")))","v":""},null,{"$f":"IF('Page 2'!$C$57<>\"\",CONCATENATE(B31,C31,D31,E31,F31,G31,H31,I31,J31,K31),\"\")","v":""},{"$f":"IF('Page 2'!C57<>\"\",'Page 2'!C57,\"\")","v":""},null,{"$f":"IFERROR(VLOOKUP(LEFT(M31,20),Item_VIP!$A$2:$B$7499,1,FALSE),\"\")","v":""},null,null,null,null,null,"STD",{"$f":"IF('Page 2'!A52=\"06\",24,IF('Page 2'!A52=\"08\",24,IF('Page 2'!A52=\"10\",24,IF('Page 2'!A52=\"12\",24,IF('Page 2'!A52=\"14\",24,IF('Page 2'!A52=\"16\",24,IF('Page 2'!A52=\"18\",24,IF('Page 2'!A52=\"20\",24,IF('Page 2'!A52=\"22\",24,IF('Page 2'!A52=\"24\",24,IF('Page 2'!A52=\"26\",20,IF('Page 2'!A52=\"28\",20,IF('Page 2'!A52=\"30\",20,IF('Page 2'!A52=\"32\",20,IF('Page 2'!A52=\"34\",20,IF('Page 2'!A52=\"36\",20,IF('Page 2'!A52=\"38\",20,IF('Page 2'!A52=\"40\",20,IF('Page 2'!A52=\"42\",20,IF('Page 2'!A52=\"44\",20,IF('Page 2'!A52=\"46\",20,IF('Page 2'!A52=\"48\",20,\"\"))))))))))))))))))))))","v":""},"2\""]
[null,{"$f":"IF('Page 2'!$A$19<>\"\",\"V\",\"\")","v":""},{"$f":"IF('Page 2'!$A$59<>\"\",\"F\",\"\")","v":""},{"$f":"IF('Page 2'!$A$19<>\"\",\"-\",\"\")","v":""},{"$f":"$C$5","v":""},{"$f":"IF('Page 2'!$C$59<>\"\",'Page 2'!D59,\"\")","v":""},{"$f":"IF('Page 2'!C59<>\"\",\"0\",\"\")","v":""},{"$f":"IF('Page 2'!C59<>\"\",\"00\",\"\")","v":""},{"$f":"IF('Page 2'!G59<>\"\",\"A\",\"C\")","v":"C"},{"$f":"IF(I32=\"C\",IF('Page 2'!$M$19<>\"\",$W$44,IF('Page 2'!$M$20<>\"\",$W$45,IF('Page 2'!$M$21<>\"\",$W$46,\"\"))),IF(I32=\"A\",IF('Page 2'!$M$19<>\"\",$W$41,IF('Page 2'!$M$20<>\"\",$W$42,IF('Page 2'!$M$21<>\"\",$W$43,\"\")))))","v":""},{"$f":"IF('Page 2'!$M$19<>\"\",\"1\",IF('Page 2'!$M$20<>\"\",\"1\",IF('Page 2'!$M$21<>\"\",\"1\",\"\")))","v":""},null,{"$f":"IF('Page 2'!$C$59<>\"\",CONCATENATE(B32,C32,D32,E32,F32,G32,H32,I32,J32,K32),\"\")","v":""},{"$f":"IF('Page 2'!C59<>\"\",'Page 2'!C59,\"\")","v":""},null,{"$f":"IFERROR(VLOOKUP(LEFT(M32,20),Item_VIP!$A$2:$B$7499,1,FALSE),\"\")","v":""},null,null,null,null,null,"STD",{"$f":"IF('Page 2'!A52=\"06\",26,IF('Page 2'!A52=\"08\",26,IF('Page 2'!A52=\"10\",24,IF('Page 2'!A52=\"12\",24,IF('Page 2'!A52=\"14\",24,IF('Page 2'!A52=\"16\",20,IF('Page 2'!A52=\"18\",20,IF('Page 2'!A52=\"20\",20,IF('Page 2'!A52=\"22\",20,IF('Page 2'!A52=\"24\",20,IF('Page 2'!A52=\"26\",20,IF('Page 2'!A52=\"28\",20,IF('Page 2'!A52=\"30\",20,IF('Page 2'!A52=\"32\",20,IF('Page 2'!A52=\"34\",20,IF('Page 2'!A52=\"36\",20,IF('Page 2'!A52=\"38\",20,IF('Page 2'!A52=\"40\",20,IF('Page 2'!A52=\"42\",20,IF('Page 2'!A52=\"44\",20,IF('Page 2'!A52=\"46\",20,IF('Page 2'!A52=\"48\",20,\"\"))))))))))))))))))))))","v":""},"4\""]
[null,{"$f":"IF('Page 2'!$A$19<>\"\",\"V\",\"\")","v":""},{"$f":"IF('Page 2'!$A$59<>\"\",\"F\",\"\")","v":""},{"$f":"IF('Page 2'!$A$19<>\"\",\"-\",\"\")","v":""},"",{"$f":"IF('Page 2'!$C$60<>\"\",'Page 2'!D60,\"\")","v":""},{"$f":"IF('Page 2'!C60<>\"\",\"0\",\"\")","v":""},{"$f":"IF('Page 2'!C60<>\"\",\"00\",\"\")","v":""},{"$f":"IF('Page 2'!G60<>\"\",\"A\",\"C\")","v":"C"},{"$f":"IF(I33=\"C\",IF('Page 2'!$M$19<>\"\",$W$47,IF('Page 2'!$M$20<>\"\",$W$48,IF('Page 2'!$M$21<>\"\",$W$49,\"\"))),IF(I33=\"A\",IF('Page 2'!$M$19<>\"\",$W$41,IF('Page 2'!$M$20<>\"\",$W$42,IF('Page 2'!$M$21<>\"\",$W$43,\"\")))))","v":""},{"$f":"IF('Page 2'!$M$19<>\"\",\"1\",IF('Page 2'!$M$20<>\"\",\"1\",IF('Page 2'!$M$21<>\"\",\"1\",\"\")))","v":""},null,{"$f":"IF('Page 2'!$C$60<>\"\",CONCATENATE(B33,C33,D33,E33,F33,G33,H33,I33,J33,K33,L33),\"\")","v":""},{"$f":"IF('Page 2'!C60<>\"\",'Page 2'!C60,\"\")","v":""},null,{"$f":"IFERROR(VLOOKUP(LEFT(M33,20),Item_VIP!$A$2:$B$7499,1,FALSE),\"\")","v":""},null,null,"SS 316","STD",{"$f":"IF('Page 2'!A52=\"06\",20,IF('Page 2'!A52=\"08\",20,IF('Page 2'!A52=\"10\",20,IF('Page 2'!A52=\"12\",20,IF('Page 2'!A52=\"14\",20,IF('Page 2'!A52=\"16\",20,IF('Page 2'!A52=\"18\",20,IF('Page 2'!A52=\"20\",20,IF('Page 2'!A52=\"22\",20,IF('Page 2'!A52=\"24\",20,IF('Page 2'!A52=\"26\",20,IF('Page 2'!A52=\"28\",20,IF('Page 2'!A52=\"30\",20,IF('Page 2'!A52=\"32\",20,IF('Page 2'!A52=\"34\",20,IF('Page 2'!A52=\"36\",20,IF('Page 2'!A52=\"38\",20,IF('Page 2'!A52=\"40\",20,IF('Page 2'!A52=\"42\",20,IF('Page 2'!A52=\"44\",20,IF('Page 2'!A52=\"46\",20,IF('Page 2'!A52=\"48\",20,\"\"))))))))))))))))))))))","v":""},"STD",{"$f":"IF('Page 2'!A52=\"06\",24,IF('Page 2'!A52=\"08\",24,IF('Page 2'!A52=\"10\",24,IF('Page 2'!A52=\"12\",24,IF('Page 2'!A52=\"14\",24,IF('Page 2'!A52=\"16\",24,IF('Page 2'!A52=\"18\",24,IF('Page 2'!A52=\"20\",24,IF('Page 2'!A52=\"22\",24,IF('Page 2'!A52=\"24\",20,IF('Page 2'!A52=\"26\",20,IF('Page 2'!A52=\"28\",20,IF('Page 2'!A52=\"30\",20,IF('Page 2'!A52=\"32\",20,IF('Page 2'!A52=\"34\",20,IF('Page 2'!A52=\"36\",20,IF('Page 2'!A52=\"38\",20,IF('Page 2'!A52=\"40\",20,IF('Page 2'!A52=\"42\",20,IF('Page 2'!A52=\"44\",20,IF('Page 2'!A52=\"46\",20,IF('Page 2'!A52=\"48\",20,\"\"))))))))))))))))))))))","v":""},"1\"",null,{"$f":"IF('Page 2'!$H$20<>\"\",IF('Page 2'!$M$19<>\"\",IF('Page 2'!$K$22<>\"\",$W$33,\"\"),IF('Page 2'!$H$20<>\"\",IF('Page 2'!$M$20<>\"\",IF('Page 2'!$K$22<>\"\",$W$34,\"\"),IF('Page 2'!$H$20<>\"\",IF('Page 2'!$M$21<>\"\",IF('Page 2'!$K$22<>\"\",$W$35,\"\"),\"\"))))),\"\")","v":""},"SI 1\" OU 2\" OU 4\""]
[null,{"$f":"IF('Page 2'!$A$19<>\"\",\"V\",\"\")","v":""},{"$f":"IF('Page 2'!$A$59<>\"\",\"F\",\"\")","v":""},{"$f":"IF('Page 2'!$A$19<>\"\",\"-\",\"\")","v":""},"",{"$f":"IF('Page 2'!$C$61<>\"\",'Page 2'!D61,\"\")","v":""},{"$f":"IF('Page 2'!C61<>\"\",\"0\",\"\")","v":""},{"$f":"IF('Page 2'!C61<>\"\",\"00\",\"\")","v":""},{"$f":"IF('Page 2'!G61<>\"\",\"A\",\"C\")","v":"C"},{"$f":"IF(I34=\"C\",IF('Page 2'!$M$19<>\"\",$W$47,IF('Page 2'!$M$20<>\"\",$W$48,IF('Page 2'!$M$21<>\"\",$W$49,\"\"))),IF(I34=\"A\",IF('Page 2'!$M$19<>\"\",$W$41,IF('Page 2'!$M$20<>\"\",$W$42,IF('Page 2'!$M$21<>\"\",$W$43,\"\")))))","v":""},{"$f":"IF('Page 2'!$M$19<>\"\",\"1\",IF('Page 2'!$M$20<>\"\",\"1\",IF('Page 2'!$M$21<>\"\",\"1\",\"\")))","v":""},null,{"$f":"IF('Page 2'!$C$61<>\"\",CONCATENATE(B34,C34,D34,E34,F34,G34,H34,I34,J34,K34),\"\")","v":""},{"$f":"IF('Page 2'!C61<>\"\",'Page 2'!C61,\"\")","v":""},null,{"$f":"IFERROR(VLOOKUP(LEFT(M34,20),Item_VIP!$A$2:$B$7499,1,FALSE),\"\")","v":""},null,null,null,null,null,"STD",{"$f":"IF('Page 2'!A52=\"06\",24,IF('Page 2'!A52=\"08\",24,IF('Page 2'!A52=\"10\",24,IF('Page 2'!A52=\"12\",24,IF('Page 2'!A52=\"14\",24,IF('Page 2'!A52=\"16\",24,IF('Page 2'!A52=\"18\",24,IF('Page 2'!A52=\"20\",24,IF('Page 2'!A52=\"22\",24,IF('Page 2'!A52=\"24\",24,IF('Page 2'!A52=\"26\",20,IF('Page 2'!A52=\"28\",20,IF('Page 2'!A52=\"30\",20,IF('Page 2'!A52=\"32\",20,IF('Page 2'!A52=\"34\",20,IF('Page 2'!A52=\"36\",20,IF('Page 2'!A52=\"38\",20,IF('Page 2'!A52=\"40\",20,IF('Page 2'!A52=\"42\",20,IF('Page 2'!A52=\"44\",20,IF('Page 2'!A52=\"46\",20,IF('Page 2'!A52=\"48\",20,\"\"))))))))))))))))))))))","v":""},"2\""]
[null,{"$f":"IF('Page 2'!$A$19<>\"\",\"V\",\"\")","v":""},{"$f":"IF('Page 2'!$A$59<>\"\",\"M\",\"\")","v":""},{"$f":"IF('Page 2'!$A$19<>\"\",\"-\",\"\")","v":""},"",{"$f":"IF('Page 2'!$C$62<>\"\",'Page 2'!D62,\"\")","v":""},{"$f":"IF('Page 2'!C62<>\"\",\"0\",\"\")","v":""},{"$f":"IF('Page 2'!C62<>\"\",\"00\",\"\")","v":""},{"$f":"IF('Page 2'!G62<>\"\",\"A\",\"C\")","v":"C"},{"$f":"IF(I35=\"C\",IF('Page 2'!$M$19<>\"\",$W$53,IF('Page 2'!$M$20<>\"\",$W$54,IF('Page 2'!$M$21<>\"\",$W$55,\"\"))),IF(I35=\"A\",IF('Page 2'!$M$19<>\"\",$W$50,IF('Page 2'!$M$20<>\"\",$W$51,IF('Page 2'!$M$21<>\"\",$W$52,\"\")))))","v":""},{"$f":"IF('Page 2'!$M$19<>\"\",\"1\",IF('Page 2'!$M$20<>\"\",\"1\",IF('Page 2'!$M$21<>\"\",\"1\",\"\")))","v":""},null,{"$f":"IF('Page 2'!$C$62<>\"\",CONCATENATE(B35,C35,D35,E35,F35,G35,H35,I35,J35,K35,L35),\"\")","v":""},{"$f":"IF('Page 2'!C62<>\"\",'Page 2'!C62,\"\")","v":""},null,{"$f":"IFERROR(VLOOKUP(LEFT(M35,20),Item_VIP!$A$2:$B$7499,1,FALSE),\"\")","v":""},null,null,null,null,null,"STD",{"$f":"IF('Page 2'!A52=\"06\",26,IF('Page 2'!A52=\"08\",26,IF('Page 2'!A52=\"10\",24,IF('Page 2'!A52=\"12\",24,IF('Page 2'!A52=\"14\",24,IF('Page 2'!A52=\"16\",24,IF('Page 2'!A52=\"18\",24,IF('Page 2'!A52=\"20\",24,IF('Page 2'!A52=\"22\",20,IF('Page 2'!A52=\"24\",20,IF('Page 2'!A52=\"26\",20,IF('Page 2'!A52=\"28\",20,IF('Page 2'!A52=\"30\",20,IF('Page 2'!A52=\"32\",20,IF('Page 2'!A52=\"34\",20,IF('Page 2'!A52=\"36\",20,IF('Page 2'!A52=\"38\",20,IF('Page 2'!A52=\"40\",20,IF('Page 2'!A52=\"42\",20,IF('Page 2'!A52=\"44\",20,IF('Page 2'!A52=\"46\",20,IF('Page 2'!A52=\"48\",20,\"\"))))))))))))))))))))))","v":""},"4\""]
[null,{"$f":"IF('Page 2'!$A$19<>\"\",\"V\",\"\")","v":""},{"$f":"IF('Page 2'!$H$36<>\"\",\"M\",\"\")","v":""},{"$f":"IF('Page 2'!$A$19<>\"\",\"-\",\"\")","v":""},"",{"$f":"IF('Page 2'!J36<>\"\",'Page 2'!K36,\"\")","v":""},{"$f":"IF('Page 2'!J36<>\"\",\"0\",\"\")","v":""},{"$f":"IF('Page 2'!J36<>\"\",\"00\",\"\")","v":""},{"$f":"IF('Page 2'!N36<>\"\",\"A\",\"C\")","v":"C"},{"$f":"IF(I36=\"C\",IF('Page 2'!$M$19<>\"\",$W$59,IF('Page 2'!$M$20<>\"\",$W$60,IF('Page 2'!$M$21<>\"\",$W$61,\"\"))),IF(I36=\"A\",IF('Page 2'!$M$19<>\"\",$W$56,IF('Page 2'!$M$20<>\"\",$W$57,IF('Page 2'!$M$21<>\"\",$W$58,\"\")))))","v":""},{"$f":"IF('Page 2'!$M$19<>\"\",\"1\",IF('Page 2'!$M$20<>\"\",\"1\",IF('Page 2'!$M$21<>\"\",\"1\",\"\")))","v":""},null,{"$f":"IF('Page 2'!$J$36<>\"\",CONCATENATE(B36,C36,D36,E36,F36,G36,H36,I36,J36,K36,L36),\"\")","v":""},{"$f":"IF('Page 2'!J36<>\"\",'Page 2'!J36,\"\")","v":""},null,{"$f":"IFERROR(VLOOKUP(LEFT(M36,20),Item_VIP!$A$2:$B$7499,1,FALSE),\"\")","v":""},null,null,"GALVALUME STD",null,null,"GAL",{"$f":"IF('Page 2'!A52=\"06\",24,IF('Page 2'!A52=\"08\",24,IF('Page 2'!A52=\"10\",24,IF('Page 2'!A52=\"12\",24,IF('Page 2'!A52=\"14\",24,IF('Page 2'!A52=\"16\",24,IF('Page 2'!A52=\"18\",24,IF('Page 2'!A52=\"20\",24,IF('Page 2'!A52=\"22\",24,IF('Page 2'!A52=\"24\",22,IF('Page 2'!A52=\"26\",22,IF('Page 2'!A52=\"28\",22,IF('Page 2'!A52=\"30\",22,IF('Page 2'!A52=\"32\",22,IF('Page 2'!A52=\"34\",22,IF('Page 2'!A52=\"36\",22,IF('Page 2'!A52=\"38\",22,IF('Page 2'!A52=\"40\",22,IF('Page 2'!A52=\"42\",22,IF('Page 2'!A52=\"44\",22,IF('Page 2'!A52=\"46\",22,IF('Page 2'!A52=\"48\",20,\"\"))))))))))))))))))))))","v":""},"1\"",null,{"$f":"IF('Page 2'!$H$21<>\"\",IF('Page 2'!$M$19<>\"\",IF('Page 2'!$K$22<>\"\",$W$36,\"\"),IF('Page 2'!$H$21<>\"\",IF('Page 2'!$M$20<>\"\",IF('Page 2'!$K$22<>\"\",$W$37,\"\"),IF('Page 2'!$H$21<>\"\",IF('Page 2'!$M$21<>\"\",IF('Page 2'!$K$22<>\"\",$W$38,\"\"),\"\"))))),\"\")","v":""},"SI 1\" OU 2\" OU 4\""]
[null,{"$f":"IF('Page 2'!$A$19<>\"\",\"V\",\"\")","v":""},{"$f":"IF('Page 2'!$H$36<>\"\",\"M\",\"\")","v":""},{"$f":"IF('Page 2'!$A$19<>\"\",\"-\",\"\")","v":""},"",{"$f":"IF('Page 2'!J37<>\"\",'Page 2'!K37,\"\")","v":""},{"$f":"IF('Page 2'!J37<>\"\",\"0\",\"\")","v":""},{"$f":"IF('Page 2'!J37<>\"\",\"00\",\"\")","v":""},{"$f":"IF('Page 2'!N37<>\"\",\"A\",\"C\")","v":"C"},{"$f":"IF(I37=\"C\",IF('Page 2'!$M$19<>\"\",$W$59,IF('Page 2'!$M$20<>\"\",$W$60,IF('Page 2'!$M$21<>\"\",$W$61,\"\"))),IF(I37=\"A\",IF('Page 2'!$M$19<>\"\",$W$56,IF('Page 2'!$M$20<>\"\",$W$57,IF('Page 2'!$M$21<>\"\",$W$58,\"\")))))","v":""},{"$f":"IF('Page 2'!$M$19<>\"\",\"1\",IF('Page 2'!$M$20<>\"\",\"1\",IF('Page 2'!$M$21<>\"\",\"1\",\"\")))","v":""},null,{"$f":"IF('Page 2'!$J$37<>\"\",CONCATENATE(B37,C37,D37,E37,F37,G37,H37,I37,J37,K37,L37),\"\")","v":""},{"$f":"IF('Page 2'!J37<>\"\",'Page 2'!J37,\"\")","v":""},null,{"$f":"IFERROR(VLOOKUP(LEFT(M37,20),Item_VIP!$A$2:$B$7499,1,FALSE),\"\")","v":""},null,null,null,null,null,"GAL",{"$f":"IF('Page 2'!A52=\"06\",24,IF('Page 2'!A52=\"08\",24,IF('Page 2'!A52=\"10\",24,IF('Page 2'!A52=\"12\",24,IF('Page 2'!A52=\"14\",24,IF('Page 2'!A52=\"16\",24,IF('Page 2'!A52=\"18\",24,IF('Page 2'!A52=\"20\",24,IF('Page 2'!A52=\"22\",24,IF('Page 2'!A52=\"24\",24,IF('Page 2'!A52=\"26\",22,IF('Page 2'!A52=\"28\",22,IF('Page 2'!A52=\"30\",22,IF('Page 2'!A52=\"32\",22,IF('Page 2'!A52=\"34\",22,IF('Page 2'!A52=\"36\",22,IF('Page 2'!A52=\"38\",22,IF('Page 2'!A52=\"40\",22,IF('Page 2'!A52=\"42\",22,IF('Page 2'!A52=\"44\",22,IF('Page 2'!A52=\"46\",22,IF('Page 2'!A52=\"48\",22,\"\"))))))))))))))))))))))","v":""},"2\""]
[null,{"$f":"IF('Page 2'!$A$19<>\"\",\"V\",\"\")","v":""},{"$f":"IF('Page 2'!$H$36<>\"\",\"M\",\"\")","v":""},{"$f":"IF('Page 2'!$A$19<>\"\",\"-\",\"\")","v":""},"",{"$f":"IF('Page 2'!J38<>\"\",'Page 2'!K38,\"\")","v":""},{"$f":"IF('Page 2'!J38<>\"\",\"0\",\"\")","v":""},{"$f":"IF('Page 2'!J38<>\"\",\"00\",\"\")","v":""},{"$f":"IF('Page 2'!N38<>\"\",\"A\",\"C\")","v":"C"},{"$f":"IF(I38=\"C\",IF('Page 2'!$M$19<>\"\",$W$59,IF('Page 2'!$M$20<>\"\",$W$60,IF('Page 2'!$M$21<>\"\",$W$61,\"\"))),IF(I38=\"A\",IF('Page 2'!$M$19<>\"\",$W$56,IF('Page 2'!$M$20<>\"\",$W$57,IF('Page 2'!$M$21<>\"\",$W$58,\"\")))))","v":""},{"$f":"IF('Page 2'!$M$19<>\"\",\"1\",IF('Page 2'!$M$20<>\"\",\"1\",IF('Page 2'!$M$21<>\"\",\"1\",\"\")))","v":""},null,{"$f":"IF('Page 2'!$J$38<>\"\",CONCATENATE(B38,C38,D38,E38,F38,G38,H38,I38,J38,K38,L38),\"\")","v":""},{"$f":"IF('Page 2'!J38<>\"\",'Page 2'!J38,\"\")","v":""},null,{"$f":"IFERROR(VLOOKUP(LEFT(M38,20),Item_VIP!$A$2:$B$7499,1,FALSE),\"\")","v":""},null,null,null,null,null,"GAL",{"$f":"IF('Page 2'!A52=\"06\",26,IF('Page 2'!A52=\"08\",26,IF('Page 2'!A52=\"10\",24,IF('Page 2'!A52=\"12\",24,IF('Page 2'!A52=\"14\",24,IF('Page 2'!A52=\"16\",22,IF('Page 2'!A52=\"18\",22,IF('Page 2'!A52=\"20\",22,IF('Page 2'!A52=\"22\",22,IF('Page 2'!A52=\"24\",22,IF('Page 2'!A52=\"26\",22,IF('Page 2'!A52=\"28\",22,IF('Page 2'!A52=\"30\",22,IF('Page 2'!A52=\"32\",22,IF('Page 2'!A52=\"34\",22,IF('Page 2'!A52=\"36\",22,IF('Page 2'!A52=\"38\",22,IF('Page 2'!A52=\"40\",22,IF('Page 2'!A52=\"42\",22,IF('Page 2'!A52=\"44\",22,IF('Page 2'!A52=\"46\",20,IF('Page 2'!A52=\"48\",22,\"\"))))))))))))))))))))))","v":""},"4\""]
[null,{"$f":"IF('Page 2'!$A$19<>\"\",\"V\",\"\")","v":""},{"$f":"IF('Page 2'!$H$36<>\"\",\"M\",\"\")","v":""},{"$f":"IF('Page 2'!$A$19<>\"\",\"-\",\"\")","v":""},"",{"$f":"IF('Page 2'!J39<>\"\",'Page 2'!K39,\"\")","v":""},{"$f":"IF('Page 2'!J39<>\"\",\"0\",\"\")","v":""},{"$f":"IF('Page 2'!J39<>\"\",\"00\",\"\")","v":""},{"$f":"IF('Page 2'!N39<>\"\",\"A\",\"C\")","v":"C"},{"$f":"IF(I39=\"C\",IF('Page 2'!$M$19<>\"\",$W$59,IF('Page 2'!$M$20<>\"\",$W$60,IF('Page 2'!$M$21<>\"\",$W$61,\"\"))),IF(I39=\"A\",IF('Page 2'!$M$19<>\"\",$W$56,IF('Page 2'!$M$20<>\"\",$W$57,IF('Page 2'!$M$21<>\"\",$W$58,\"\")))))","v":""},{"$f":"IF('Page 2'!$M$19<>\"\",\"1\",IF('Page 2'!$M$20<>\"\",\"1\",IF('Page 2'!$M$21<>\"\",\"1\",\"\")))","v":""},null,{"$f":"IF('Page 2'!$J$39<>\"\",CONCATENATE(B39,C39,D39,E39,F39,G39,H39,I39,J39,K39,L39),\"\")","v":""},{"$f":"IF('Page 2'!J39<>\"\",'Page 2'!J39,\"\")","v":""},null,{"$f":"IFERROR(VLOOKUP(LEFT(M39,20),Item_VIP!$A$2:$B$7499,1,FALSE),\"\")","v":""},null,"TEE","SS 304","STD",{"$f":"IF('Page 2'!A56=\"06\",24,IF('Page 2'!A56=\"08\",24,IF('Page 2'!A56=\"10\",24,IF('Page 2'!A56=\"12\",24,IF('Page 2'!A56=\"14\",24,IF('Page 2'!A56=\"16\",24,IF('Page 2'!A56=\"18\",24,IF('Page 2'!A56=\"20\",24,IF('Page 2'!A56=\"22\",24,IF('Page 2'!A56=\"24\",24,IF('Page 2'!A56=\"26\",24,IF('Page 2'!A56=\"28\",24,IF('Page 2'!A56=\"30\",20,IF('Page 2'!A56=\"32\",20,IF('Page 2'!A56=\"34\",20,IF('Page 2'!A56=\"36\",20,IF('Page 2'!A56=\"38\",20,IF('Page 2'!A56=\"40\",20,IF('Page 2'!A56=\"42\",20,IF('Page 2'!A56=\"44\",20,IF('Page 2'!A56=\"46\",20,IF('Page 2'!A56=\"48\",20,\"\"))))))))))))))))))))))","v":""}]
[null,{"$f":"IF('Page 2'!$A$19<>\"\",\"V\",\"\")","v":""},{"$f":"IF('Page 2'!$H$36<>\"\",\"M\",\"\")","v":""},{"$f":"IF('Page 2'!$A$19<>\"\",\"-\",\"\")","v":""},"",{"$f":"IF('Page 2'!J40<>\"\",'Page 2'!K40,\"\")","v":""},{"$f":"IF('Page 2'!J40<>\"\",\"0\",\"\")","v":""},{"$f":"IF('Page 2'!J40<>\"\",\"00\",\"\")","v":""},{"$f":"IF('Page 2'!N40<>\"\",\"A\",\"C\")","v":"C"},{"$f":"IF(I40=\"C\",IF('Page 2'!$M$19<>\"\",$W$59,IF('Page 2'!$M$20<>\"\",$W$60,IF('Page 2'!$M$21<>\"\",$W$61,\"\"))),IF(I40=\"A\",IF('Page 2'!$M$19<>\"\",$W$56,IF('Page 2'!$M$20<>\"\",$W$57,IF('Page 2'!$M$21<>\"\",$W$58,\"\")))))","v":""},{"$f":"IF('Page 2'!$M$19<>\"\",\"1\",IF('Page 2'!$M$20<>\"\",\"1\",IF('Page 2'!$M$21<>\"\",\"1\",\"\")))","v":""},null,{"$f":"IF('Page 2'!$J$40<>\"\",CONCATENATE(B40,C40,D40,E40,F40,G40,H40,I40,J40,K40,L40),\"\")","v":""},{"$f":"IF('Page 2'!J40<>\"\",'Page 2'!J40,\"\")","v":""},null,{"$f":"IFERROR(VLOOKUP(LEFT(M40,20),Item_VIP!$A$2:$B$7499,1,FALSE),\"\")","v":""},null,null,"SS 316","STD",{"$f":"IF('Page 2'!A56=\"06\",24,IF('Page 2'!A56=\"08\",24,IF('Page 2'!A56=\"10\",24,IF('Page 2'!A56=\"12\",24,IF('Page 2'!A56=\"14\",24,IF('Page 2'!A56=\"16\",24,IF('Page 2'!A56=\"18\",24,IF('Page 2'!A56=\"20\",24,IF('Page 2'!A56=\"22\",24,IF('Page 2'!A56=\"24\",24,IF('Page 2'!A56=\"26\",24,IF('Page 2'!A56=\"28\",24,IF('Page 2'!A56=\"30\",20,IF('Page 2'!A56=\"32\",20,IF('Page 2'!A56=\"34\",20,IF('Page 2'!A56=\"36\",20,IF('Page 2'!A56=\"38\",20,IF('Page 2'!A56=\"40\",20,IF('Page 2'!A56=\"42\",20,IF('Page 2'!A56=\"44\",20,IF('Page 2'!A56=\"46\",20,IF('Page 2'!A56=\"48\",20,\"\"))))))))))))))))))))))","v":""}]
[null,{"$f":"IF('Page 2'!$A$19<>\"\",\"V\",\"\")","v":""},{"$f":"IF('Page 2'!$H$36<>\"\",\"M\",\"\")","v":""},{"$f":"IF('Page 2'!$A$19<>\"\",\"-\",\"\")","v":""},"",{"$f":"IF('Page 2'!J41<>\"\",'Page 2'!K41,\"\")","v":""},{"$f":"IF('Page 2'!J41<>\"\",\"0\",\"\")","v":""},{"$f":"IF('Page 2'!J41<>\"\",\"00\",\"\")","v":""},{"$f":"IF('Page 2'!N41<>\"\",\"A\",\"C\")","v":"C"},{"$f":"IF(I41=\"C\",IF('Page 2'!$M$19<>\"\",$W$59,IF('Page 2'!$M$20<>\"\",$W$60,IF('Page 2'!$M$21<>\"\",$W$61,\"\"))),IF(I41=\"A\",IF('Page 2'!$M$19<>\"\",$W$56,IF('Page 2'!$M$20<>\"\",$W$57,IF('Page 2'!$M$21<>\"\",$W$58,\"\")))))","v":""},{"$f":"IF('Page 2'!$M$19<>\"\",\"1\",IF('Page 2'!$M$20<>\"\",\"1\",IF('Page 2'!$M$21<>\"\",\"1\",\"\")))","v":""},null,{"$f":"IF('Page 2'!$J$41<>\"\",CONCATENATE(B41,C41,D41,E41,F41,G41,H41,I41,J41,K41,L41),\"\")","v":""},{"$f":"IF('Page 2'!J41<>\"\",'Page 2'!J41,\"\")","v":""},null,{"$f":"IFERROR(VLOOKUP(LEFT(M41,20),Item_VIP!$A$2:$B$7499,1,FALSE),\"\")","v":""},null,"FLASHING","SS 304",null,null,"STD",{"$f":"IF('Page 2'!A59=\"06\",24,IF('Page 2'!A59=\"08\",24,IF('Page 2'!A59=\"10\",24,IF('Page 2'!A59=\"12\",24,IF('Page 2'!A59=\"14\",24,IF('Page 2'!A59=\"16\",24,IF('Page 2'!A59=\"18\",24,IF('Page 2'!A59=\"20\",24,IF('Page 2'!A59=\"22\",24,IF('Page 2'!A59=\"24\",20,IF('Page 2'!A59=\"26\",24,IF('Page 2'!A59=\"28\",24,IF('Page 2'!A59=\"30\",20,IF('Page 2'!A59=\"32\",20,IF('Page 2'!A59=\"34\",20,IF('Page 2'!A59=\"36\",20,IF('Page 2'!A59=\"38\",20,IF('Page 2'!A59=\"40\",20,IF('Page 2'!A59=\"42\",20,IF('Page 2'!A59=\"44\",20,IF('Page 2'!A59=\"46\",20,IF('Page 2'!A59=\"48\",20,\"\"))))))))))))))))))))))","v":""},"1\""]
[null,{"$f":"IF('Page 2'!$A$19<>\"\",\"V\",\"\")","v":""},{"$f":"IF('Page 2'!$H$36<>\"\",\"M\",\"\")","v":""},{"$f":"IF('Page 2'!$A$19<>\"\",\"-\",\"\")","v":""},"",{"$f":"IF('Page 2'!J42<>\"\",'Page 2'!K42,\"\")","v":""},{"$f":"IF('Page 2'!J42<>\"\",\"0\",\"\")","v":""},{"$f":"IF('Page 2'!J42<>\"\",\"00\",\"\")","v":""},{"$f":"IF('Page 2'!N42<>\"\",\"A\",\"C\")","v":"C"},{"$f":"IF(F42<>\"\",11,\"\")","v":""},{"$f":"IF('Page 2'!$M$19<>\"\",\"1\",IF('Page 2'!$M$20<>\"\",\"1\",IF('Page 2'!$M$21<>\"\",\"1\",\"\")))","v":""},null,{"$f":"IF('Page 2'!$J$42<>\"\",CONCATENATE(B42,C42,D42,E42,F42,G42,H42,I42,J42,K42,L42),\"\")","v":""},{"$f":"IF('Page 2'!J42<>\"\",'Page 2'!J42,\"\")","v":""},null,{"$f":"IFERROR(VLOOKUP(LEFT(M42,20),Item_VIP!$A$2:$B$7499,1,FALSE),\"\")","v":""},null,null,null,null,null,"STD",{"$f":"IF('Page 2'!A59=\"06\",24,IF('Page 2'!A59=\"08\",24,IF('Page 2'!A59=\"10\",24,IF('Page 2'!A59=\"12\",24,IF('Page 2'!A59=\"14\",24,IF('Page 2'!A59=\"16\",24,IF('Page 2'!A59=\"18\",24,IF('Page 2'!A59=\"20\",24,IF('Page 2'!A59=\"22\",24,IF('Page 2'!A59=\"24\",24,IF('Page 2'!A59=\"26\",24,IF('Page 2'!A59=\"28\",20,IF('Page 2'!A59=\"30\",20,IF('Page 2'!A59=\"32\",20,IF('Page 2'!A59=\"34\",20,IF('Page 2'!A59=\"36\",20,IF('Page 2'!A59=\"38\",20,IF('Page 2'!A59=\"40\",20,IF('Page 2'!A59=\"42\",20,IF('Page 2'!A59=\"44\",20,IF('Page 2'!A59=\"46\",20,IF('Page 2'!A59=\"48\",20,\"\"))))))))))))))))))))))","v":""},"2\""]
[null,{"$f":"IF('Page 2'!$A$19<>\"\",\"V\",\"\")","v":""},{"$f":"IF('Page 2'!$H$36<>\"\",\"M\",\"\")","v":""},{"$f":"IF('Page 2'!$A$19<>\"\",\"-\",\"\")","v":""},"",{"$f":"IF('Page 2'!J43<>\"\",'Page 2'!K43,\"\")","v":""},{"$f":"IF('Page 2'!J43<>\"\",\"0\",\"\")","v":""},{"$f":"IF('Page 2'!J43<>\"\",\"00\",\"\")","v":""},{"$f":"IF('Page 2'!N43<>\"\",\"A\",\"C\")","v":"C"},{"$f":"IF(I43=\"C\",IF('Page 2'!$M$19<>\"\",$W$59,IF('Page 2'!$M$20<>\"\",$W$60,IF('Page 2'!$M$21<>\"\",$W$61,\"\"))),IF(I43=\"A\",IF('Page 2'!$M$19<>\"\",$W$56,IF('Page 2'!$M$20<>\"\",$W$57,IF('Page 2'!$M$21<>\"\",$W$58,\"\")))))","v":""},{"$f":"IF('Page 2'!$M$19<>\"\",\"1\",IF('Page 2'!$M$20<>\"\",\"1\",IF('Page 2'!$M$21<>\"\",\"1\",\"\")))","v":""},null,{"$f":"IF('Page 2'!$J$43<>\"\",CONCATENATE(B43,C43,D43,E43,F43,G43,H43,I43,J43,K43,L43),\"\")","v":""},{"$f":"IF('Page 2'!J43<>\"\",'Page 2'!J43,\"\")","v":""},null,{"$f":"IFERROR(VLOOKUP(LEFT(M43,20),Item_VIP!$A$2:$B$7499,1,FALSE),\"\")","v":""},null,null,null,null,null,"STD",{"$f":"IF('Page 2'!A59=\"06\",24,IF('Page 2'!A59=\"08\",24,IF('Page 2'!A59=\"10\",24,IF('Page 2'!A59=\"12\",24,IF('Page 2'!A59=\"14\",24,IF('Page 2'!A59=\"16\",24,IF('Page 2'!A59=\"18\",24,IF('Page 2'!A59=\"20\",24,IF('Page 2'!A59=\"22\",24,IF('Page 2'!A59=\"24\",20,IF('Page 2'!A59=\"26\",20,IF('Page 2'!A59=\"28\",20,IF('Page 2'!A59=\"30\",20,IF('Page 2'!A59=\"32\",20,IF('Page 2'!A59=\"34\",20,IF('Page 2'!A59=\"36\",20,IF('Page 2'!A59=\"38\",20,IF('Page 2'!A59=\"40\",20,IF('Page 2'!A59=\"42\",20,IF('Page 2'!A59=\"44\",20,IF('Page 2'!A59=\"46\",20,IF('Page 2'!A59=\"48\",20,\"\"))))))))))))))))))))))","v":""},"4\""]
[null,{"$f":"IF('Page 2'!$A$19<>\"\",\"V\",\"\")","v":""},{"$f":"IF('Page 2'!J45<>\"\",\"M\",\"\")","v":""},{"$f":"IF('Page 2'!$A$19<>\"\",\"-\",\"\")","v":""},{"$f":"IF('Page 2'!$A$19<>\"\",'Page 2'!$H$45,\"\")","v":""},{"$f":"IF('Page 2'!$J$45<>\"\",'Page 2'!K45,\"\")","v":""},{"$f":"IF('Page 2'!$D$19<>\"\",\"A\",IF('Page 2'!$D$20<>\"\",\"B\",\"\"))","v":""},{"$f":"IF('Page 2'!$F$20<>\"\",\"24\",IF('Page 2'!$F$21<>\"\",\"20\",IF('Page 2'!$D$19<>\"\",IF('Page 2'!$F$22<>\"\",$U$62,\"\"),IF('Page 2'!$D$20<>\"\",IF('Page 2'!$F$22<>\"\",$U$63,\"\"),\"\"))))","v":""},{"$f":"IF(G44<>\"\",G44,\"\")","v":""},"",{"$f":"IF('Page 2'!$M$19<>\"\",\"1\",IF('Page 2'!$M$20<>\"\",\"2\",IF('Page 2'!$M$21<>\"\",\"4\",\"\")))","v":""},null,{"$f":"IF('Page 2'!J45<>\"\",CONCATENATE(B44,C44,D44,E44,F44,G44,H44,I44,J44,K44),\"\")","v":""},{"$f":"IF('Page 2'!J45<>\"\",'Page 2'!J45,\"\")","v":""},null,{"$f":"IFERROR(VLOOKUP(LEFT(M44,20),Item_VIP!$A$2:$B$7499,1,FALSE),\"\")","v":""},null,null,"GALVALUME STD",null,null,"GAL",{"$f":"IF('Page 2'!A59=\"06\",28,IF('Page 2'!A59=\"08\",28,IF('Page 2'!A59=\"10\",24,IF('Page 2'!A59=\"12\",24,IF('Page 2'!A59=\"14\",24,IF('Page 2'!A59=\"16\",24,IF('Page 2'!A59=\"18\",24,IF('Page 2'!A59=\"20\",24,IF('Page 2'!A59=\"22\",24,IF('Page 2'!A59=\"24\",20,IF('Page 2'!A59=\"26\",24,IF('Page 2'!A59=\"28\",24,IF('Page 2'!A59=\"30\",24,IF('Page 2'!A59=\"32\",22,IF('Page 2'!A59=\"34\",22,IF('Page 2'!A59=\"36\",22,IF('Page 2'!A59=\"38\",22,IF('Page 2'!A59=\"40\",22,IF('Page 2'!A59=\"42\",22,IF('Page 2'!A59=\"44\",22,IF('Page 2'!A59=\"46\",22,IF('Page 2'!A59=\"48\",22,\"\"))))))))))))))))))))))","v":""},"1\""]
[null,{"$f":"IF('Page 2'!$A$19<>\"\",\"V\",\"\")","v":""},{"$f":"IF('Page 2'!J46<>\"\",\"M\",\"\")","v":""},{"$f":"IF('Page 2'!$A$19<>\"\",\"-\",\"\")","v":""},{"$f":"IF('Page 2'!$A$19<>\"\",'Page 2'!$H$45,\"\")","v":""},{"$f":"IF('Page 2'!$J$46<>\"\",'Page 2'!K46,\"\")","v":""},{"$f":"IF('Page 2'!$D$19<>\"\",\"A\",IF('Page 2'!$D$20<>\"\",\"B\",\"\"))","v":""},{"$f":"IF('Page 2'!$F$20<>\"\",\"24\",IF('Page 2'!$F$21<>\"\",\"20\",IF('Page 2'!$D$19<>\"\",IF('Page 2'!$F$22<>\"\",$U$62,\"\"),IF('Page 2'!$D$20<>\"\",IF('Page 2'!$F$22<>\"\",$U$63,\"\"),\"\"))))","v":""},"","",{"$f":"IF('Page 2'!$M$19<>\"\",\"1\",IF('Page 2'!$M$20<>\"\",\"2\",IF('Page 2'!$M$21<>\"\",\"4\",\"\")))","v":""},null,{"$f":"IF('Page 2'!J46<>\"\",CONCATENATE(B45,C45,D45,E45,F45,G45,H45,I45,J45,K45),\"\")","v":""},{"$f":"IF('Page 2'!J46<>\"\",'Page 2'!J46,\"\")","v":""},null,{"$f":"IFERROR(VLOOKUP(LEFT(M45,20),Item_VIP!$A$2:$B$7499,1,FALSE),\"\")","v":""},null,null,"FF",null,null,"GAL",{"$f":"IF('Page 2'!A59=\"06\",24,IF('Page 2'!A59=\"08\",24,IF('Page 2'!A59=\"10\",24,IF('Page 2'!A59=\"12\",24,IF('Page 2'!A59=\"14\",24,IF('Page 2'!A59=\"16\",24,IF('Page 2'!A59=\"18\",24,IF('Page 2'!A59=\"20\",24,IF('Page 2'!A59=\"22\",24,IF('Page 2'!A59=\"24\",24,IF('Page 2'!A59=\"26\",24,IF('Page 2'!A59=\"28\",24,IF('Page 2'!A59=\"30\",22,IF('Page 2'!A59=\"32\",22,IF('Page 2'!A59=\"34\",22,IF('Page 2'!A59=\"36\",22,IF('Page 2'!A59=\"38\",22,IF('Page 2'!A59=\"40\",22,IF('Page 2'!A59=\"42\",22,IF('Page 2'!A59=\"44\",22,IF('Page 2'!A59=\"46\",22,IF('Page 2'!A59=\"48\",22,\"\"))))))))))))))))))))))","v":""},"2\""]
[null,{"$f":"IF('Page 2'!$A$19<>\"\",\"V\",\"\")","v":""},{"$f":"IF('Page 2'!J47<>\"\",\"M\",\"\")","v":""},{"$f":"IF('Page 2'!$A$19<>\"\",\"-\",\"\")","v":""},{"$f":"IF('Page 2'!$A$19<>\"\",'Page 2'!$H$45,\"\")","v":""},{"$f":"IF('Page 2'!$J$47<>\"\",'Page 2'!K47,\"\")","v":""},{"$f":"IF('Page 2'!$D$19<>\"\",\"A\",IF('Page 2'!$D$20<>\"\",\"B\",\"\"))","v":""},{"$f":"IF('Page 2'!$F$20<>\"\",\"24\",IF('Page 2'!$F$21<>\"\",\"20\",IF('Page 2'!$D$19<>\"\",IF('Page 2'!$F$22<>\"\",$U$64,\"\"),IF('Page 2'!$D$20<>\"\",IF('Page 2'!$F$22<>\"\",$U$65,\"\"),\"\"))))","v":""},"","",{"$f":"IF('Page 2'!$M$19<>\"\",\"1\",IF('Page 2'!$M$20<>\"\",\"2\",IF('Page 2'!$M$21<>\"\",\"4\",\"\")))","v":""},null,{"$f":"IF('Page 2'!J47<>\"\",CONCATENATE(B46,C46,D46,E46,F46,G46,H46,I46,J46,K46),\"\")","v":""},{"$f":"IF('Page 2'!J47<>\"\",'Page 2'!J47,\"\")","v":""},null,{"$f":"IFERROR(VLOOKUP(LEFT(M46,20),Item_VIP!$A$2:$B$7499,1,FALSE),\"\")","v":""},null,null,null,null,null,"GAL",{"$f":"IF('Page 2'!A59=\"06\",24,IF('Page 2'!A59=\"08\",24,IF('Page 2'!A59=\"10\",24,IF('Page 2'!A59=\"12\",24,IF('Page 2'!A59=\"14\",24,IF('Page 2'!A59=\"16\",24,IF('Page 2'!A59=\"18\",24,IF('Page 2'!A59=\"20\",24,IF('Page 2'!A59=\"22\",24,IF('Page 2'!A59=\"24\",24,IF('Page 2'!A59=\"26\",22,IF('Page 2'!A59=\"28\",22,IF('Page 2'!A59=\"30\",22,IF('Page 2'!A59=\"32\",22,IF('Page 2'!A59=\"34\",22,IF('Page 2'!A59=\"36\",22,IF('Page 2'!A59=\"38\",22,IF('Page 2'!A59=\"40\",22,IF('Page 2'!A59=\"42\",22,IF('Page 2'!A59=\"44\",22,IF('Page 2'!A59=\"46\",22,IF('Page 2'!A59=\"48\",22,\"\"))))))))))))))))))))))","v":""},"4\""]
[null,{"$f":"IF('Page 2'!$A$19<>\"\",\"V\",\"\")","v":""},{"$f":"IF('Page 2'!J48<>\"\",\"S\",\"\")","v":""},{"$f":"IF('Page 2'!$A$19<>\"\",\"-\",\"\")","v":""},{"$f":"IF('Page 2'!$A$19<>\"\",'Page 2'!$H$45,\"\")","v":""},{"$f":"IF('Page 2'!$J$48<>\"\",'Page 2'!K48,\"\")","v":""},{"$f":"IF('Page 2'!$D$19<>\"\",\"A\",IF('Page 2'!$D$20<>\"\",\"B\",\"\"))","v":""},{"$f":"IF('Page 2'!$F$20<>\"\",\"24\",IF('Page 2'!$F$21<>\"\",\"20\",IF('Page 2'!$D$19<>\"\",IF('Page 2'!$F$22<>\"\",$U$64,\"\"),IF('Page 2'!$D$20<>\"\",IF('Page 2'!$F$22<>\"\",$U$65,\"\"),\"\"))))","v":""},"","",{"$f":"IF('Page 2'!$M$19<>\"\",\"1\",IF('Page 2'!$M$20<>\"\",\"2\",IF('Page 2'!$M$21<>\"\",\"4\",\"\")))","v":""},{"$f":"IF('Page 2'!J48<>\"\",\"-NC\",\"\")","v":""},{"$f":"IF('Page 2'!J48<>\"\",CONCATENATE(B47,C47,D47,E47,F47,G47,H47,I47,J47,K47,L47),\"\")","v":""},{"$f":"IF('Page 2'!J48<>\"\",'Page 2'!J48,\"\")","v":""},null,{"$f":"IFERROR(VLOOKUP(LEFT(M47,20),Item_VIP!$A$2:$B$7499,1,FALSE),\"\")","v":""},null,null,"GALVALUME STD",null,null,"GAL",{"$f":"IF('Page 2'!A59=\"06\",24,IF('Page 2'!A59=\"08\",24,IF('Page 2'!A59=\"10\",24,IF('Page 2'!A59=\"12\",24,IF('Page 2'!A59=\"14\",24,IF('Page 2'!A59=\"16\",24,IF('Page 2'!A59=\"18\",24,IF('Page 2'!A59=\"20\",24,IF('Page 2'!A59=\"22\",24,IF('Page 2'!A59=\"24\",20,IF('Page 2'!A59=\"26\",24,IF('Page 2'!A59=\"28\",24,IF('Page 2'!A59=\"30\",22,IF('Page 2'!A59=\"32\",22,IF('Page 2'!A59=\"34\",22,IF('Page 2'!A59=\"36\",22,IF('Page 2'!A59=\"38\",22,IF('Page 2'!A59=\"40\",22,IF('Page 2'!A59=\"42\",22,IF('Page 2'!A59=\"44\",22,IF('Page 2'!A59=\"46\",22,IF('Page 2'!A59=\"48\",22,\"\"))))))))))))))))))))))","v":""},"1\""]
[null,{"$f":"IF('Page 2'!$A$19<>\"\",\"V\",\"\")","v":""},{"$f":"IF('Page 2'!J49<>\"\",\"S\",\"\")","v":""},{"$f":"IF('Page 2'!$A$19<>\"\",\"-\",\"\")","v":""},{"$f":"IF('Page 2'!$A$19<>\"\",'Page 2'!$H$45,\"\")","v":""},{"$f":"IF('Page 2'!$J$49<>\"\",'Page 2'!K49,\"\")","v":""},{"$f":"IF('Page 2'!$D$19<>\"\",\"A\",IF('Page 2'!$D$20<>\"\",\"B\",\"\"))","v":""},{"$f":"IF('Page 2'!$F$20<>\"\",\"24\",IF('Page 2'!$F$21<>\"\",\"20\",IF('Page 2'!$D$19<>\"\",IF('Page 2'!$F$22<>\"\",$U$64,\"\"),IF('Page 2'!$D$20<>\"\",IF('Page 2'!$F$22<>\"\",$U$65,\"\"),\"\"))))","v":""},"","",{"$f":"IF('Page 2'!$M$19<>\"\",\"1\",IF('Page 2'!$M$20<>\"\",\"2\",IF('Page 2'!$M$21<>\"\",\"4\",\"\")))","v":""},{"$f":"IF('Page 2'!J49<>\"\",\"-F\",\"\")","v":""},{"$f":"IF('Page 2'!J49<>\"\",CONCATENATE(B48,C48,D48,E48,F48,G48,H48,I48,J48,K48,L48),\"\")","v":""},{"$f":"IF('Page 2'!J49<>\"\",'Page 2'!J49,\"\")","v":""},null,{"$f":"IFERROR(VLOOKUP(LEFT(M48,20),Item_VIP!$A$2:$B$7499,1,FALSE),\"\")","v":""},null,null,"FA &FB",null,null,"GAL",{"$f":"IF('Page 2'!A59=\"06\",24,IF('Page 2'!A59=\"08\",24,IF('Page 2'!A59=\"10\",24,IF('Page 2'!A59=\"12\",24,IF('Page 2'!A59=\"14\",24,IF('Page 2'!A59=\"16\",24,IF('Page 2'!A59=\"18\",24,IF('Page 2'!A59=\"20\",24,IF('Page 2'!A59=\"22\",24,IF('Page 2'!A59=\"24\",20,IF('Page 2'!A59=\"26\",24,IF('Page 2'!A59=\"28\",24,IF('Page 2'!A59=\"30\",22,IF('Page 2'!A59=\"32\",22,IF('Page 2'!A59=\"34\",22,IF('Page 2'!A59=\"36\",22,IF('Page 2'!A59=\"38\",22,IF('Page 2'!A59=\"40\",22,IF('Page 2'!A59=\"42\",22,IF('Page 2'!A59=\"44\",22,IF('Page 2'!A59=\"46\",22,IF('Page 2'!A59=\"48\",22,\"\"))))))))))))))))))))))","v":""},"2\""]
[null,{"$f":"IF('Page 2'!$A$19<>\"\",\"V\",\"\")","v":""},{"$f":"IF('Page 2'!$H$45<>\"\",\"M\",\"\")","v":""},{"$f":"IF('Page 2'!$A$19<>\"\",\"-\",\"\")","v":""},{"$f":"IF('Page 2'!$A$19<>\"\",'Page 2'!$H$45,\"\")","v":""},{"$f":"IF('Page 2'!J50<>\"\",'Page 2'!K50,\"\")","v":""},{"$f":"IF('Page 2'!J50<>\"\",\"0\",\"\")","v":""},{"$f":"IF('Page 2'!J50<>\"\",\"00\",\"\")","v":""},{"$f":"IF('Page 2'!$D$19<>\"\",\"A\",IF('Page 2'!$D$20<>\"\",\"B\",\"\"))","v":""},{"$f":"IF('Page 2'!$F$20<>\"\",\"24\",IF('Page 2'!$F$21<>\"\",\"20\",IF('Page 2'!$D$19<>\"\",IF('Page 2'!$F$22<>\"\",$U$64,\"\"),IF('Page 2'!$D$20<>\"\",IF('Page 2'!$F$22<>\"\",$U$65,\"\"),\"\"))))","v":""},{"$f":"IF('Page 2'!$M$19<>\"\",\"1\",IF('Page 2'!$M$20<>\"\",\"2\",IF('Page 2'!$M$21<>\"\",\"4\",\"\")))","v":""},null,{"$f":"IF('Page 2'!J50<>\"\",CONCATENATE(B49,C49,D49,E49,F49,G49,H49,I49,J49,K49),\"\")","v":""},{"$f":"IF('Page 2'!J50<>\"\",'Page 2'!J50,\"\")","v":""},null,{"$f":"IFERROR(VLOOKUP(LEFT(M49,20),Item_VIP!$A$2:$B$7499,1,FALSE),\"\")","v":""},null,null,null,null,null,"GAL",{"$f":"IF('Page 2'!A59=\"06\",24,IF('Page 2'!A59=\"08\",24,IF('Page 2'!A59=\"10\",24,IF('Page 2'!A59=\"12\",24,IF('Page 2'!A59=\"14\",24,IF('Page 2'!A59=\"16\",24,IF('Page 2'!A59=\"18\",24,IF('Page 2'!A59=\"20\",24,IF('Page 2'!A59=\"22\",24,IF('Page 2'!A59=\"24\",24,IF('Page 2'!A59=\"26\",22,IF('Page 2'!A59=\"28\",22,IF('Page 2'!A59=\"30\",22,IF('Page 2'!A59=\"32\",22,IF('Page 2'!A59=\"34\",22,IF('Page 2'!A59=\"36\",22,IF('Page 2'!A59=\"38\",22,IF('Page 2'!A59=\"40\",22,IF('Page 2'!A59=\"42\",22,IF('Page 2'!A59=\"44\",22,IF('Page 2'!A59=\"46\",22,IF('Page 2'!A59=\"48\",22,\"\"))))))))))))))))))))))","v":""},"4\""]
[null,{"$f":"IF('Page 2'!$A$19<>\"\",\"V\",\"\")","v":""},{"$f":"IF('Page 2'!$H$45<>\"\",\"M\",\"\")","v":""},{"$f":"IF('Page 2'!$A$19<>\"\",\"-\",\"\")","v":""},{"$f":"IF('Page 2'!$A$19<>\"\",'Page 2'!$H$45,\"\")","v":""},{"$f":"IF('Page 2'!J51<>\"\",'Page 2'!K51,\"\")","v":""},{"$f":"IF('Page 2'!J51<>\"\",\"0\",\"\")","v":""},{"$f":"IF('Page 2'!J51<>\"\",\"00\",\"\")","v":""},{"$f":"IF('Page 2'!$D$19<>\"\",\"A\",IF('Page 2'!$D$20<>\"\",\"B\",\"\"))","v":""},{"$f":"IF('Page 2'!$F$20<>\"\",\"24\",IF('Page 2'!$F$21<>\"\",\"20\",IF('Page 2'!$D$19<>\"\",IF('Page 2'!$F$22<>\"\",$U$64,\"\"),IF('Page 2'!$D$20<>\"\",IF('Page 2'!$F$22<>\"\",$U$65,\"\"),\"\"))))","v":""},{"$f":"IF('Page 2'!$M$19<>\"\",\"1\",IF('Page 2'!$M$20<>\"\",\"2\",IF('Page 2'!$M$21<>\"\",\"4\",\"\")))","v":""},null,{"$f":"IF('Page 2'!J51<>\"\",CONCATENATE(B50,C50,D50,E50,F50,G50,H50,I50,J50,K50),\"\")","v":""},{"$f":"IF('Page 2'!J51<>\"\",'Page 2'!J51,\"\")","v":""},null,{"$f":"IFERROR(VLOOKUP(LEFT(M50,20),Item_VIP!$A$2:$B$7499,1,FALSE),\"\")","v":""},null,"SC","SS 304",null,null,"STD",{"$f":"IF('Page 2'!A59=\"06\",24,IF('Page 2'!A59=\"08\",24,IF('Page 2'!A59=\"10\",24,IF('Page 2'!A59=\"12\",24,IF('Page 2'!A59=\"14\",24,IF('Page 2'!A59=\"16\",24,IF('Page 2'!A59=\"18\",24,IF('Page 2'!A59=\"20\",24,IF('Page 2'!A59=\"22\",24,IF('Page 2'!A59=\"24\",24,IF('Page 2'!A59=\"26\",24,IF('Page 2'!A59=\"28\",24,IF('Page 2'!A59=\"30\",24,IF('Page 2'!A59=\"32\",20,IF('Page 2'!A59=\"34\",20,IF('Page 2'!A59=\"36\",20,IF('Page 2'!A59=\"38\",20,IF('Page 2'!A59=\"40\",20,IF('Page 2'!A59=\"42\",20,IF('Page 2'!A59=\"44\",20,IF('Page 2'!A59=\"46\",20,IF('Page 2'!A59=\"48\",20,\"\"))))))))))))))))))))))","v":""},"1\""]
[null,{"$f":"IF('Page 2'!$A$19<>\"\",\"V\",\"\")","v":""},{"$f":"IF('Page 2'!$H$45<>\"\",\"M\",\"\")","v":""},{"$f":"IF('Page 2'!$A$19<>\"\",\"-\",\"\")","v":""},{"$f":"IF('Page 2'!$A$19<>\"\",'Page 2'!$H$45,\"\")","v":""},{"$f":"IF('Page 2'!J52<>\"\",'Page 2'!K52,\"\")","v":""},{"$f":"IF('Page 2'!$D$19<>\"\",\"A\",IF('Page 2'!$D$20<>\"\",\"B\",\"\"))","v":""},{"$f":"IF('Page 2'!$F$20<>\"\",\"24\",IF('Page 2'!$F$21<>\"\",\"20\",IF('Page 2'!$D$19<>\"\",IF('Page 2'!$F$22<>\"\",$U$68,\"\"),IF('Page 2'!$D$20<>\"\",IF('Page 2'!$F$22<>\"\",$U$69,\"\"),\"\"))))","v":""},{"$f":"IF('Page 2'!$D$19<>\"\",\"A\",IF('Page 2'!$D$20<>\"\",\"B\",\"\"))","v":""},{"$f":"IF(H51<>\"\",H51,\"\")","v":""},{"$f":"IF('Page 2'!$M$19<>\"\",\"1\",IF('Page 2'!$M$20<>\"\",\"2\",IF('Page 2'!$M$21<>\"\",\"4\",\"\")))","v":""},null,{"$f":"IF('Page 2'!J52<>\"\",CONCATENATE(B51,C51,D51,E51,F51,G51,H51,I51,J51,K51),\"\")","v":""},{"$f":"IF('Page 2'!J52<>\"\",'Page 2'!J52,\"\")","v":""},null,{"$f":"IFERROR(VLOOKUP(LEFT(M51,20),Item_VIP!$A$2:$B$7499,1,FALSE),\"\")","v":""},null,null,null,null,null,"STD",{"$f":"IF('Page 2'!A59=\"06\",24,IF('Page 2'!A59=\"08\",24,IF('Page 2'!A59=\"10\",24,IF('Page 2'!A59=\"12\",24,IF('Page 2'!A59=\"14\",24,IF('Page 2'!A59=\"16\",24,IF('Page 2'!A59=\"18\",24,IF('Page 2'!A59=\"20\",24,IF('Page 2'!A59=\"22\",24,IF('Page 2'!A59=\"24\",24,IF('Page 2'!A59=\"26\",24,IF('Page 2'!A59=\"28\",24,IF('Page 2'!A59=\"30\",20,IF('Page 2'!A59=\"32\",20,IF('Page 2'!A59=\"34\",20,IF('Page 2'!A59=\"36\",20,IF('Page 2'!A59=\"38\",20,IF('Page 2'!A59=\"40\",20,IF('Page 2'!A59=\"42\",20,IF('Page 2'!A59=\"44\",20,IF('Page 2'!A59=\"46\",20,IF('Page 2'!A59=\"48\",20,\"\"))))))))))))))))))))))","v":""},"2\""]
[null,{"$f":"IF('Page 2'!$A$19<>\"\",\"V\",\"\")","v":""},{"$f":"IF('Page 2'!$H$45<>\"\",\"M\",\"\")","v":""},{"$f":"IF('Page 2'!$A$19<>\"\",\"-\",\"\")","v":""},{"$f":"IF('Page 2'!$A$19<>\"\",'Page 2'!$H$45,\"\")","v":""},{"$f":"IF('Page 2'!J53<>\"\",'Page 2'!K53,\"\")","v":""},{"$f":"IF('Page 2'!J53<>\"\",\"0\",\"\")","v":""},{"$f":"IF('Page 2'!J53<>\"\",\"00\",\"\")","v":""},{"$f":"IF('Page 2'!$D$19<>\"\",\"A\",IF('Page 2'!$D$20<>\"\",\"B\",\"\"))","v":""},{"$f":"IF('Page 2'!$F$20<>\"\",\"24\",IF('Page 2'!$F$21<>\"\",\"20\",IF('Page 2'!$D$19<>\"\",IF('Page 2'!$F$22<>\"\",$W$70,\"\"),IF('Page 2'!$D$20<>\"\",IF('Page 2'!$F$22<>\"\",$W$71,\"\"),\"\"))))","v":""},{"$f":"IF('Page 2'!$M$19<>\"\",\"1\",IF('Page 2'!$M$20<>\"\",\"2\",IF('Page 2'!$M$21<>\"\",\"4\",\"\")))","v":""},null,{"$f":"IF('Page 2'!J53<>\"\",CONCATENATE(B52,C52,D52,E52,F52,G52,H52,I52,J52,K52),\"\")","v":""},{"$f":"IF('Page 2'!J53<>\"\",'Page 2'!J53,\"\")","v":""},null,{"$f":"IFERROR(VLOOKUP(LEFT(M52,20),Item_VIP!$A$2:$B$7499,1,FALSE),\"\")","v":""},null,null,null,null,null,"STD",{"$f":"IF('Page 2'!A59=\"06\",24,IF('Page 2'!A59=\"08\",24,IF('Page 2'!A59=\"10\",24,IF('Page 2'!A59=\"12\",24,IF('Page 2'!A59=\"14\",24,IF('Page 2'!A59=\"16\",24,IF('Page 2'!A59=\"18\",24,IF('Page 2'!A59=\"20\",24,IF('Page 2'!A59=\"22\",24,IF('Page 2'!A59=\"24\",24,IF('Page 2'!A59=\"26\",20,IF('Page 2'!A59=\"28\",20,IF('Page 2'!A59=\"30\",20,IF('Page 2'!A59=\"32\",20,IF('Page 2'!A59=\"34\",20,IF('Page 2'!A59=\"36\",20,IF('Page 2'!A59=\"38\",20,IF('Page 2'!A59=\"40\",20,IF('Page 2'!A59=\"42\",20,IF('Page 2'!A59=\"44\",20,IF('Page 2'!A59=\"46\",20,IF('Page 2'!A59=\"48\",20,\"\"))))))))))))))))))))))","v":""},"4\""]
[null,{"$f":"IF('Page 2'!$A$19<>\"\",\"V\",\"\")","v":""},{"$f":"IF('Page 2'!$H$45<>\"\",\"M\",\"\")","v":""},{"$f":"IF('Page 2'!$A$19<>\"\",\"-\",\"\")","v":""},{"$f":"IF('Page 2'!$A$19<>\"\",'Page 2'!$H$45,\"\")","v":""},{"$f":"IF('Page 2'!J54<>\"\",'Page 2'!K54,\"\")","v":""},{"$f":"IF('Page 2'!$D$19<>\"\",\"A\",IF('Page 2'!$D$20<>\"\",\"B\",\"\"))","v":""},{"$f":"IF('Page 2'!$F$20<>\"\",\"20\",IF('Page 2'!$F$21<>\"\",\"20\",IF('Page 2'!$D$19<>\"\",IF('Page 2'!$F$22<>\"\",$U$72,\"\"),IF('Page 2'!$D$20<>\"\",IF('Page 2'!$F$22<>\"\",$U$73,\"\"),\"\"))))","v":""},{"$f":"IF(G53<>\"\",G53,\"\")","v":""},{"$f":"IF(H53<>\"\",H53,\"\")","v":""},{"$f":"IF('Page 2'!$M$19<>\"\",\"1\",IF('Page 2'!$M$20<>\"\",\"2\",IF('Page 2'!$M$21<>\"\",\"4\",\"\")))","v":""},null,{"$f":"IF('Page 2'!J54<>\"\",CONCATENATE(B53,C53,D53,E53,F53,G53,H53,I53,J53,K53),\"\")","v":""},{"$f":"IF('Page 2'!J54<>\"\",'Page 2'!J54,\"\")","v":""},null,{"$f":"IFERROR(VLOOKUP(LEFT(M53,20),Item_VIP!$A$2:$B$7499,1,FALSE),\"\")","v":""},null,null,"GALVALUME STD",null,null,"GAL",{"$f":"IF('Page 2'!A59=\"06\",24,IF('Page 2'!A59=\"08\",24,IF('Page 2'!A59=\"10\",24,IF('Page 2'!A59=\"12\",24,IF('Page 2'!A59=\"14\",24,IF('Page 2'!A59=\"16\",24,IF('Page 2'!A59=\"18\",24,IF('Page 2'!A59=\"20\",24,IF('Page 2'!A59=\"22\",24,IF('Page 2'!A59=\"24\",24,IF('Page 2'!A59=\"26\",24,IF('Page 2'!A59=\"28\",24,IF('Page 2'!A59=\"30\",24,IF('Page 2'!A59=\"32\",22,IF('Page 2'!A59=\"34\",22,IF('Page 2'!A59=\"36\",22,IF('Page 2'!A59=\"38\",22,IF('Page 2'!A59=\"40\",22,IF('Page 2'!A59=\"42\",22,IF('Page 2'!A59=\"44\",22,IF('Page 2'!A59=\"46\",22,IF('Page 2'!A59=\"48\",22,\"\"))))))))))))))))))))))","v":""},"1\""]
[null,{"$f":"IF('Page 2'!$A$19<>\"\",\"V\",\"\")","v":""},{"$f":"IF('Page 2'!$H$36<>\"\",\"M\",\"\")","v":""},{"$f":"IF('Page 2'!$A$19<>\"\",\"-\",\"\")","v":""},{"$f":"C5","v":""},{"$f":"IF('Page 2'!J56<>\"\",'Page 2'!K56,\"\")","v":""},{"$f":"IF('Page 2'!J56<>\"\",\"0\",\"\")","v":""},{"$f":"IF('Page 2'!J56<>\"\",\"00\",\"\")","v":""},{"$f":"IF('Page 2'!N56<>\"\",\"A\",\"C\")","v":"C"},{"$f":"IF(I54=\"C\",IF('Page 2'!$M$19<>\"\",$W$77,IF('Page 2'!$M$20<>\"\",$W$78,IF('Page 2'!$M$21<>\"\",$W$79,\"\"))),IF(I54=\"A\",IF('Page 2'!$M$19<>\"\",$W$80,IF('Page 2'!$M$20<>\"\",$W$81,IF('Page 2'!$M$21<>\"\",$W$82,\"\")))))","v":""},{"$f":"IF('Page 2'!$M$19<>\"\",\"1\",IF('Page 2'!$M$20<>\"\",\"1\",IF('Page 2'!$M$21<>\"\",\"1\",\"\")))","v":""},null,{"$f":"IF('Page 2'!$J$56<>\"\",CONCATENATE(B54,C54,D54,E54,F54,G54,H54,I54,J54,K54,L54),\"\")","v":""},{"$f":"IF('Page 2'!J56<>\"\",'Page 2'!J56,\"\")","v":""},null,{"$f":"IFERROR(VLOOKUP(LEFT(M54,20),Item_VIP!$A$2:$B$7499,1,FALSE),\"\")","v":""},null,null,null,null,null,"GAL",{"$f":"IF('Page 2'!A59=\"06\",24,IF('Page 2'!A59=\"08\",24,IF('Page 2'!A59=\"10\",24,IF('Page 2'!A59=\"12\",24,IF('Page 2'!A59=\"14\",24,IF('Page 2'!A59=\"16\",24,IF('Page 2'!A59=\"18\",24,IF('Page 2'!A59=\"20\",24,IF('Page 2'!A59=\"22\",24,IF('Page 2'!A59=\"24\",24,IF('Page 2'!A59=\"26\",24,IF('Page 2'!A59=\"28\",24,IF('Page 2'!A59=\"30\",22,IF('Page 2'!A59=\"32\",22,IF('Page 2'!A59=\"34\",22,IF('Page 2'!A59=\"36\",22,IF('Page 2'!A59=\"38\",22,IF('Page 2'!A59=\"40\",22,IF('Page 2'!A59=\"42\",22,IF('Page 2'!A59=\"44\",22,IF('Page 2'!A59=\"46\",22,IF('Page 2'!A59=\"48\",22,\"\"))))))))))))))))))))))","v":""},"2\""]
[null,{"$f":"IF('Page 2'!$A$19<>\"\",\"V\",\"\")","v":""},{"$f":"IF('Page 2'!$H$36<>\"\",\"M\",\"\")","v":""},{"$f":"IF('Page 2'!$A$19<>\"\",\"-\",\"\")","v":""},{"$f":"C5","v":""},{"$f":"IF('Page 2'!J57<>\"\",'Page 2'!K57,\"\")","v":""},{"$f":"IF('Page 2'!J57<>\"\",\"0\",\"\")","v":""},{"$f":"IF('Page 2'!J57<>\"\",\"00\",\"\")","v":""},{"$f":"IF('Page 2'!N57<>\"\",\"A\",\"C\")","v":"C"},{"$f":"IF(I55=\"C\",IF('Page 2'!$M$19<>\"\",$W$83,IF('Page 2'!$M$20<>\"\",$W$84,IF('Page 2'!$M$21<>\"\",$W$85,\"\"))),IF(I55=\"A\",IF('Page 2'!$M$19<>\"\",$W$80,IF('Page 2'!$M$20<>\"\",$W$81,IF('Page 2'!$M$21<>\"\",$W$82,\"\")))))","v":""},{"$f":"IF('Page 2'!$M$19<>\"\",\"1\",IF('Page 2'!$M$20<>\"\",\"1\",IF('Page 2'!$M$21<>\"\",\"1\",\"\")))","v":""},null,{"$f":"IF('Page 2'!$J$57<>\"\",CONCATENATE(B55,C55,D55,E55,F55,G55,H55,I55,J55,K55,L55),\"\")","v":""},{"$f":"IF('Page 2'!J57<>\"\",'Page 2'!J57,\"\")","v":""},null,{"$f":"IFERROR(VLOOKUP(LEFT(M55,20),Item_VIP!$A$2:$B$7499,1,FALSE),\"\")","v":""},null,null,null,null,null,"GAL",{"$f":"IF('Page 2'!A59=\"06\",24,IF('Page 2'!A59=\"08\",24,IF('Page 2'!A59=\"10\",24,IF('Page 2'!A59=\"12\",24,IF('Page 2'!A59=\"14\",24,IF('Page 2'!A59=\"16\",24,IF('Page 2'!A59=\"18\",24,IF('Page 2'!A59=\"20\",24,IF('Page 2'!A59=\"22\",24,IF('Page 2'!A59=\"24\",24,IF('Page 2'!A59=\"26\",22,IF('Page 2'!A59=\"28\",22,IF('Page 2'!A59=\"30\",22,IF('Page 2'!A59=\"32\",22,IF('Page 2'!A59=\"34\",22,IF('Page 2'!A59=\"36\",22,IF('Page 2'!A59=\"38\",22,IF('Page 2'!A59=\"40\",22,IF('Page 2'!A59=\"42\",22,IF('Page 2'!A59=\"44\",22,IF('Page 2'!A59=\"46\",22,IF('Page 2'!A59=\"48\",22,\"\"))))))))))))))))))))))","v":""},"4\""]
[null,{"$f":"IF('Page 2'!$A$19<>\"\",\"V\",\"\")","v":""},{"$f":"IF('Page 2'!$H$56<>\"\",\"M\",\"\")","v":""},{"$f":"IF('Page 2'!$A$19<>\"\",\"-\",\"\")","v":""},{"$f":"IF('Page 2'!$A$19<>\"\",'Page 2'!$H$56,\"\")","v":""},{"$f":"IF('Page 2'!J58<>\"\",'Page 2'!K58,\"\")","v":""},{"$f":"IF('Page 2'!$D$19<>\"\",\"A\",IF('Page 2'!$D$20<>\"\",\"B\",\"\"))","v":""},{"$f":"IF('Page 2'!$F$19<>\"\",\"26\",IF('Page 2'!$F$20<>\"\",\"24\",IF('Page 2'!$F$21<>\"\",\"20\",IF('Page 2'!$D$19<>\"\",IF('Page 2'!$F$22<>\"\",$U$86,\"\"),IF('Page 2'!$D$20<>\"\",IF('Page 2'!$F$22<>\"\",$U$89,\"\"),\"\")))))","v":""},{"$f":"IF('Page 2'!$H$19<>\"\",\"A\",IF('Page 2'!$H$20<>\"\",\"B\",IF('Page 2'!$H$21<>\"\",\"C\",\"\")))","v":""},{"$f":"IF('Page 2'!$K$19<>\"\",\"26\",IF('Page 2'!$K$20<>\"\",\"24\",IF('Page 2'!$K$21<>\"\",\"20\",IF($Z$86<>\"\",$Z$86,IF($Z$89<>\"\",$Z$89,IF($Z$92<>\"\",$Z$92,\"\"))))))","v":""},{"$f":"IF('Page 2'!$M$19<>\"\",\"1\",IF('Page 2'!$M$20<>\"\",\"2\",IF('Page 2'!$M$21<>\"\",\"4\",\"\")))","v":""},{"$f":"IF('Page 2'!$I$58<>\"\",'Page 2'!$I$58,\"\")","v":""},{"$f":"IF('Page 2'!$J$58<>\"\",CONCATENATE(B56,C56,D56,E56,F56,G56,H56,I56,J56,K56,L56),\"\")","v":""},{"$f":"IF('Page 2'!J58<>\"\",'Page 2'!J58,\"\")","v":""},null,{"$f":"IFERROR(VLOOKUP(LEFT(M56,20),Item_VIP!$A$2:$B$7499,1,FALSE),\"\")","v":""},null,"SUPPORTS","SS 304",null,null,"STD",{"$f":"IF('Page 2'!H36=\"06\",20,IF('Page 2'!H36=\"08\",20,IF('Page 2'!H36=\"10\",20,IF('Page 2'!H36=\"12\",20,IF('Page 2'!H36=\"14\",20,IF('Page 2'!H36=\"16\",20,IF('Page 2'!H36=\"18\",20,IF('Page 2'!H36=\"20\",20,IF('Page 2'!H36=\"22\",20,IF('Page 2'!H36=\"24\",20,IF('Page 2'!H36=\"26\",20,IF('Page 2'!H36=\"28\",20,IF('Page 2'!H36=\"30\",20,IF('Page 2'!H36=\"32\",20,IF('Page 2'!H36=\"34\",20,IF('Page 2'!H36=\"36\",20,IF('Page 2'!H36=\"38\",20,IF('Page 2'!H36=\"40\",20,IF('Page 2'!H36=\"42\",20,IF('Page 2'!H36=\"44\",20,IF('Page 2'!H36=\"46\",20,IF('Page 2'!H36=\"48\",20,\"\"))))))))))))))))))))))","v":""},"1\""]
[null,{"$f":"IF('Page 2'!$A$19<>\"\",\"V\",\"\")","v":""},{"$f":"IF('Page 2'!$H$56<>\"\",\"M\",\"\")","v":""},{"$f":"IF('Page 2'!$A$19<>\"\",\"-\",\"\")","v":""},{"$f":"IF('Page 2'!$A$19<>\"\",'Page 2'!$H$56,\"\")","v":""},{"$f":"IF('Page 2'!J59<>\"\",'Page 2'!K59,\"\")","v":""},{"$f":"IF('Page 2'!$D$19<>\"\",\"A\",IF('Page 2'!$D$20<>\"\",\"B\",\"\"))","v":""},{"$f":"IF('Page 2'!$F$19<>\"\",\"26\",IF('Page 2'!$F$20<>\"\",\"24\",IF('Page 2'!$F$21<>\"\",\"20\",IF('Page 2'!$D$19<>\"\",IF('Page 2'!$F$22<>\"\",$U$86,\"\"),IF('Page 2'!$D$20<>\"\",IF('Page 2'!$F$22<>\"\",$U$89,\"\"),\"\")))))","v":""},{"$f":"IF('Page 2'!$H$19<>\"\",\"A\",IF('Page 2'!$H$20<>\"\",\"B\",IF('Page 2'!$H$21<>\"\",\"C\",\"\")))","v":""},{"$f":"IF('Page 2'!$K$19<>\"\",\"26\",IF('Page 2'!$K$20<>\"\",\"24\",IF('Page 2'!$K$21<>\"\",\"20\",IF($Z$86<>\"\",$Z$86,IF($Z$89<>\"\",$Z$89,IF($Z$92<>\"\",$Z$92,\"\"))))))","v":""},{"$f":"IF('Page 2'!$M$19<>\"\",\"1\",IF('Page 2'!$M$20<>\"\",\"2\",IF('Page 2'!$M$21<>\"\",\"4\",\"\")))","v":""},{"$f":"IF('Page 2'!$I$58<>\"\",'Page 2'!$I$58,\"\")","v":""},{"$f":"IF('Page 2'!$J$58<>\"\",CONCATENATE(B57,C57,D57,E57,F57,G57,H57,I57,J57,K57,L57),\"\")","v":""},{"$f":"IF('Page 2'!J59<>\"\",'Page 2'!J59,\"\")","v":""},null,{"$f":"IFERROR(VLOOKUP(LEFT(M57,20),Item_VIP!$A$2:$B$7499,1,FALSE),\"\")","v":""},null,null,null,null,null,"STD",{"$f":"IF('Page 2'!H36=\"06\",20,IF('Page 2'!H36=\"08\",20,IF('Page 2'!H36=\"10\",20,IF('Page 2'!H36=\"12\",20,IF('Page 2'!H36=\"14\",20,IF('Page 2'!H36=\"16\",20,IF('Page 2'!H36=\"18\",20,IF('Page 2'!H36=\"20\",20,IF('Page 2'!H36=\"22\",20,IF('Page 2'!H36=\"24\",20,IF('Page 2'!H36=\"26\",20,IF('Page 2'!H36=\"28\",20,IF('Page 2'!H36=\"30\",20,IF('Page 2'!H36=\"32\",20,IF('Page 2'!H36=\"34\",20,IF('Page 2'!H36=\"36\",20,IF('Page 2'!H36=\"38\",20,IF('Page 2'!H36=\"40\",20,IF('Page 2'!H36=\"42\",20,IF('Page 2'!H36=\"44\",20,IF('Page 2'!H36=\"46\",20,IF('Page 2'!H36=\"48\",20,\"\"))))))))))))))))))))))","v":""},"2\""]
[null,{"$f":"IF('Page 2'!$A$19<>\"\",\"V\",\"\")","v":""},{"$f":"IF('Page 2'!$H$56<>\"\",\"M\",\"\")","v":""},{"$f":"IF('Page 2'!$A$19<>\"\",\"-\",\"\")","v":""},{"$f":"IF('Page 2'!$A$19<>\"\",'Page 2'!$H$56,\"\")","v":""},{"$f":"IF('Page 2'!J60<>\"\",'Page 2'!K60,\"\")","v":""},{"$f":"IF('Page 2'!$D$19<>\"\",\"A\",IF('Page 2'!$D$20<>\"\",\"B\",\"\"))","v":""},{"$f":"IF('Page 2'!$F$20<>\"\",\"24\",IF('Page 2'!$F$21<>\"\",\"20\",IF('Page 2'!$D$19<>\"\",IF('Page 2'!$F$22<>\"\",$U$21,\"\"),IF('Page 2'!$D$20<>\"\",IF('Page 2'!$F$22<>\"\",$U$24,\"\"),\"\"))))","v":""},{"$f":"IF('Page 2'!$H$19<>\"\",\"A\",IF('Page 2'!$H$20<>\"\",\"B\",IF('Page 2'!$H$21<>\"\",\"C\",\"\")))","v":""},{"$f":"IF('Page 2'!$K$20<>\"\",\"24\",IF('Page 2'!$K$21<>\"\",\"20\",IF($Z$21<>\"\",$Z$21,IF($Z$24<>\"\",$Z$24,IF($Z$27<>\"\",$Z$27,\"\")))))","v":""},{"$f":"IF('Page 2'!$M$19<>\"\",\"1\",IF('Page 2'!$M$20<>\"\",\"2\",IF('Page 2'!$M$21<>\"\",\"4\",\"\")))","v":""},null,{"$f":"IF('Page 2'!$J$58<>\"\",CONCATENATE(B58,C58,D58,E58,F58,G58,H58,I58,J58,K58,L58),\"\")","v":""},{"$f":"IF('Page 2'!J60<>\"\",'Page 2'!J60,\"\")","v":""},null,{"$f":"IFERROR(VLOOKUP(LEFT(M58,20),Item_VIP!$A$2:$B$7499,1,FALSE),\"\")","v":""},null,null,null,null,null,"STD",{"$f":"IF('Page 2'!H36=\"06\",20,IF('Page 2'!H36=\"08\",20,IF('Page 2'!H36=\"10\",20,IF('Page 2'!H36=\"12\",20,IF('Page 2'!H36=\"14\",20,IF('Page 2'!H36=\"16\",20,IF('Page 2'!H36=\"18\",20,IF('Page 2'!H36=\"20\",20,IF('Page 2'!H36=\"22\",20,IF('Page 2'!H36=\"24\",20,IF('Page 2'!H36=\"26\",20,IF('Page 2'!H36=\"28\",20,IF('Page 2'!H36=\"30\",20,IF('Page 2'!H36=\"32\",20,IF('Page 2'!H36=\"34\",20,IF('Page 2'!H36=\"36\",20,IF('Page 2'!H36=\"38\",20,IF('Page 2'!H36=\"40\",20,IF('Page 2'!H36=\"42\",20,IF('Page 2'!H36=\"44\",20,IF('Page 2'!H36=\"46\",20,IF('Page 2'!H36=\"48\",20,\"\"))))))))))))))))))))))","v":""},"4\""]
[null,null,null,null,null,null,null,null,null,null,null,null,null,null,null,null,null,null,"GALVALUME STD",null,null,"GAL",{"$f":"IF('Page 2'!H36=\"06\",22,IF('Page 2'!H36=\"08\",22,IF('Page 2'!H36=\"10\",22,IF('Page 2'!H36=\"12\",22,IF('Page 2'!H36=\"14\",22,IF('Page 2'!H36=\"16\",22,IF('Page 2'!H36=\"18\",22,IF('Page 2'!H36=\"20\",22,IF('Page 2'!H36=\"22\",22,IF('Page 2'!H36=\"24\",22,IF('Page 2'!H36=\"26\",22,IF('Page 2'!H36=\"28\",22,IF('Page 2'!H36=\"30\",22,IF('Page 2'!H36=\"32\",22,IF('Page 2'!H36=\"34\",22,IF('Page 2'!H36=\"36\",22,IF('Page 2'!H36=\"38\",22,IF('Page 2'!H36=\"40\",22,IF('Page 2'!H36=\"42\",22,IF('Page 2'!H36=\"44\",22,IF('Page 2'!H36=\"46\",22,IF('Page 2'!H36=\"48\",22,\"\"))))))))))))))))))))))","v":""},"1\""]
[null,null,null,null,null,null,null,null,null,null,null,null,null,null,null,null,null,null,null,null,null,"GAL",{"$f":"IF('Page 2'!H36=\"06\",22,IF('Page 2'!H36=\"08\",22,IF('Page 2'!H36=\"10\",22,IF('Page 2'!H36=\"12\",22,IF('Page 2'!H36=\"14\",22,IF('Page 2'!H36=\"16\",22,IF('Page 2'!H36=\"18\",22,IF('Page 2'!H36=\"20\",22,IF('Page 2'!H36=\"22\",22,IF('Page 2'!H36=\"24\",22,IF('Page 2'!H36=\"26\",22,IF('Page 2'!H36=\"28\",22,IF('Page 2'!H36=\"30\",22,IF('Page 2'!H36=\"32\",22,IF('Page 2'!H36=\"34\",22,IF('Page 2'!H36=\"36\",22,IF('Page 2'!H36=\"38\",22,IF('Page 2'!H36=\"40\",22,IF('Page 2'!H36=\"42\",22,IF('Page 2'!H36=\"44\",22,IF('Page 2'!H36=\"46\",22,IF('Page 2'!H36=\"48\",22,\"\"))))))))))))))))))))))","v":""},"2\""]
[null,null,null,null,null,null,null,null,null,null,null,null,null,null,null,null,null,null,null,null,null,"GAL",{"$f":"IF('Page 2'!H36=\"06\",22,IF('Page 2'!H36=\"08\",22,IF('Page 2'!H36=\"10\",22,IF('Page 2'!H36=\"12\",22,IF('Page 2'!H36=\"14\",22,IF('Page 2'!H36=\"16\",22,IF('Page 2'!H36=\"18\",22,IF('Page 2'!H36=\"20\",22,IF('Page 2'!H36=\"22\",22,IF('Page 2'!H36=\"24\",22,IF('Page 2'!H36=\"26\",22,IF('Page 2'!H36=\"28\",22,IF('Page 2'!H36=\"30\",22,IF('Page 2'!H36=\"32\",22,IF('Page 2'!H36=\"34\",22,IF('Page 2'!H36=\"36\",22,IF('Page 2'!H36=\"38\",22,IF('Page 2'!H36=\"40\",22,IF('Page 2'!H36=\"42\",22,IF('Page 2'!H36=\"44\",22,IF('Page 2'!H36=\"46\",22,IF('Page 2'!H36=\"48\",22,\"\"))))))))))))))))))))))","v":""},"4\""]
[null,null,null,null,null,null,null,null,null,null,null,null,null,null,null,null,null,"AP","SS 304","STD",{"$f":"IF('Page 2'!H45=\"06\",24,IF('Page 2'!H45=\"08\",24,IF('Page 2'!H45=\"10\",24,IF('Page 2'!H45=\"12\",24,IF('Page 2'!H45=\"14\",24,IF('Page 2'!H45=\"16\",24,IF('Page 2'!H45=\"18\",24,IF('Page 2'!H45=\"20\",24,IF('Page 2'!H45=\"22\",20,IF('Page 2'!H45=\"24\",20,IF('Page 2'!H45=\"26\",20,IF('Page 2'!H45=\"28\",20,IF('Page 2'!H45=\"30\",20,IF('Page 2'!H45=\"32\",20,IF('Page 2'!H45=\"34\",20,IF('Page 2'!H45=\"36\",20,IF('Page 2'!H45=\"38\",20,IF('Page 2'!H45=\"40\",20,IF('Page 2'!H45=\"42\",20,IF('Page 2'!H45=\"44\",20,IF('Page 2'!H45=\"46\",20,IF('Page 2'!H45=\"48\",20,\"\"))))))))))))))))))))))","v":""}]
[null,null,null,null,null,null,null,null,null,null,null,null,null,null,null,null,null,null,"SS 316","STD",{"$f":"IF('Page 2'!H45=\"06\",24,IF('Page 2'!H45=\"08\",24,IF('Page 2'!H45=\"10\",24,IF('Page 2'!H45=\"12\",24,IF('Page 2'!H45=\"14\",24,IF('Page 2'!H45=\"16\",24,IF('Page 2'!H45=\"18\",24,IF('Page 2'!H45=\"20\",24,IF('Page 2'!H45=\"22\",20,IF('Page 2'!H45=\"20\",24,IF('Page 2'!H45=\"26\",20,IF('Page 2'!H45=\"28\",20,IF('Page 2'!H45=\"30\",20,IF('Page 2'!H45=\"32\",20,IF('Page 2'!H45=\"34\",20,IF('Page 2'!H45=\"36\",20,IF('Page 2'!H45=\"38\",20,IF('Page 2'!H45=\"40\",20,IF('Page 2'!H45=\"42\",20,IF('Page 2'!H45=\"44\",20,IF('Page 2'!H45=\"46\",20,IF('Page 2'!H45=\"48\",20,\"\"))))))))))))))))))))))","v":""}]
[null,null,null,null,null,null,null,null,null,null,null,null,null,null,null,null,null,"EX","SS 304","STD",{"$f":"IF('Page 2'!H45=\"06\",24,IF('Page 2'!H45=\"08\",24,IF('Page 2'!H45=\"10\",24,IF('Page 2'!H45=\"12\",24,IF('Page 2'!H45=\"14\",24,IF('Page 2'!H45=\"16\",24,IF('Page 2'!H45=\"18\",24,IF('Page 2'!H45=\"20\",24,IF('Page 2'!H45=\"22\",24,IF('Page 2'!H45=\"24\",24,IF('Page 2'!H45=\"26\",24,IF('Page 2'!H45=\"28\",24,IF('Page 2'!H45=\"30\",20,IF('Page 2'!H45=\"32\",20,IF('Page 2'!H45=\"34\",20,IF('Page 2'!H45=\"36\",20,IF('Page 2'!H45=\"38\",20,IF('Page 2'!H45=\"40\",20,IF('Page 2'!H45=\"42\",20,IF('Page 2'!H45=\"44\",20,IF('Page 2'!H45=\"46\",20,IF('Page 2'!H45=\"48\",20,\"\"))))))))))))))))))))))","v":""}]
[null,null,null,null,null,null,null,null,null,null,null,null,null,null,null,null,null,null,"SS 316","STD",{"$f":"IF('Page 2'!H45=\"06\",24,IF('Page 2'!H45=\"08\",24,IF('Page 2'!H45=\"10\",24,IF('Page 2'!H45=\"12\",24,IF('Page 2'!H45=\"14\",24,IF('Page 2'!H45=\"16\",24,IF('Page 2'!H45=\"18\",24,IF('Page 2'!H45=\"24\",24,IF('Page 2'!H45=\"22\",24,IF('Page 2'!H45=\"24\",24,IF('Page 2'!H45=\"26\",24,IF('Page 2'!H45=\"28\",24,IF('Page 2'!H45=\"30\",20,IF('Page 2'!H45=\"32\",20,IF('Page 2'!H45=\"34\",20,IF('Page 2'!H45=\"36\",20,IF('Page 2'!H45=\"38\",20,IF('Page 2'!H45=\"40\",20,IF('Page 2'!H45=\"42\",20,IF('Page 2'!H45=\"44\",20,IF('Page 2'!H45=\"46\",20,IF('Page 2'!H45=\"48\",20,\"\"))))))))))))))))))))))","v":""}]
[null,null,null,null,null,null,null,null,null,null,null,null,null,null,null,null,null,"RC/CB","SS 304","STD",null,"STD",{"$f":"IF('Page 2'!H45=\"06\",24,IF('Page 2'!H45=\"08\",24,IF('Page 2'!H45=\"10\",24,IF('Page 2'!H45=\"12\",24,IF('Page 2'!H45=\"14\",24,IF('Page 2'!H45=\"16\",24,IF('Page 2'!H45=\"18\",24,IF('Page 2'!H45=\"20\",24,IF('Page 2'!H45=\"22\",24,IF('Page 2'!H45=\"24\",20,IF('Page 2'!H45=\"26\",20,IF('Page 2'!H45=\"28\",20,IF('Page 2'!H45=\"30\",20,IF('Page 2'!H45=\"32\",20,IF('Page 2'!H45=\"34\",20,IF('Page 2'!H45=\"36\",20,IF('Page 2'!H45=\"38\",20,IF('Page 2'!H45=\"40\",20,IF('Page 2'!H45=\"42\",20,IF('Page 2'!H45=\"44\",20,IF('Page 2'!H45=\"46\",20,IF('Page 2'!H45=\"48\",20,\"\"))))))))))))))))))))))","v":""}]
[null,null,null,null,null,null,null,null,null,null,null,null,null,null,null,null,null,null,"SS 316","STD",null,"STD",{"$f":"IF('Page 2'!H45=\"06\",24,IF('Page 2'!H45=\"08\",24,IF('Page 2'!H45=\"10\",24,IF('Page 2'!H45=\"12\",24,IF('Page 2'!H45=\"14\",24,IF('Page 2'!H45=\"16\",24,IF('Page 2'!H45=\"18\",24,IF('Page 2'!H45=\"20\",24,IF('Page 2'!H45=\"22\",24,IF('Page 2'!H45=\"24\",20,IF('Page 2'!H45=\"26\",20,IF('Page 2'!H45=\"28\",20,IF('Page 2'!H45=\"30\",20,IF('Page 2'!H45=\"32\",20,IF('Page 2'!H45=\"34\",20,IF('Page 2'!H45=\"36\",20,IF('Page 2'!H45=\"38\",20,IF('Page 2'!H45=\"40\",20,IF('Page 2'!H45=\"42\",20,IF('Page 2'!H45=\"44\",20,IF('Page 2'!H45=\"46\",20,IF('Page 2'!H45=\"48\",20,\"\"))))))))))))))))))))))","v":""}]
[null,null,null,null,null,null,null,null,null,null,null,null,null,null,null,null,null,"EC","SS 304","STD",{"$f":"IF('Page 2'!H45=\"06\",24,IF('Page 2'!H45=\"08\",24,IF('Page 2'!H45=\"10\",24,IF('Page 2'!H45=\"12\",24,IF('Page 2'!H45=\"14\",24,IF('Page 2'!H45=\"16\",24,IF('Page 2'!H45=\"18\",24,IF('Page 2'!H45=\"20\",24,IF('Page 2'!H45=\"22\",24,IF('Page 2'!H45=\"24\",24,IF('Page 2'!H45=\"26\",24,IF('Page 2'!H45=\"28\",24,IF('Page 2'!H45=\"30\",20,IF('Page 2'!H45=\"32\",20,IF('Page 2'!H45=\"34\",20,IF('Page 2'!H45=\"36\",20,IF('Page 2'!H45=\"38\",20,IF('Page 2'!H45=\"40\",20,IF('Page 2'!H45=\"42\",20,IF('Page 2'!H45=\"44\",20,IF('Page 2'!H45=\"46\",20,IF('Page 2'!H45=\"48\",20,\"\"))))))))))))))))))))))","v":""}]
[null,null,null,null,null,null,null,null,null,null,null,null,null,null,null,null,null,null,"SS 316","STD",{"$f":"IF('Page 2'!H45=\"06\",24,IF('Page 2'!H45=\"08\",24,IF('Page 2'!H45=\"10\",24,IF('Page 2'!H45=\"12\",24,IF('Page 2'!H45=\"14\",24,IF('Page 2'!H45=\"16\",24,IF('Page 2'!H45=\"18\",24,IF('Page 2'!H45=\"20\",24,IF('Page 2'!H45=\"22\",20,IF('Page 2'!H45=\"24\",20,IF('Page 2'!H45=\"26\",20,IF('Page 2'!H45=\"28\",20,IF('Page 2'!H45=\"30\",20,IF('Page 2'!H45=\"32\",20,IF('Page 2'!H45=\"34\",20,IF('Page 2'!H45=\"36\",20,IF('Page 2'!H45=\"38\",20,IF('Page 2'!H45=\"40\",20,IF('Page 2'!H45=\"42\",20,IF('Page 2'!H45=\"44\",20,IF('Page 2'!H45=\"46\",20,IF('Page 2'!H45=\"48\",20,\"\"))))))))))))))))))))))","v":""}]
[null,null,null,null,null,null,null,null,null,null,null,null,null,null,null,null,null,"FT","SS 304","STD",null,"STD",{"$f":"IF('Page 2'!H45=\"06\",24,IF('Page 2'!H45=\"08\",24,IF('Page 2'!H45=\"10\",24,IF('Page 2'!H45=\"12\",24,IF('Page 2'!H45=\"14\",24,IF('Page 2'!H45=\"16\",24,IF('Page 2'!H45=\"18\",24,IF('Page 2'!H45=\"20\",24,IF('Page 2'!H45=\"22\",24,IF('Page 2'!H45=\"24\",20,IF('Page 2'!H45=\"26\",20,IF('Page 2'!H45=\"28\",20,IF('Page 2'!H45=\"30\",20,IF('Page 2'!H45=\"32\",20,IF('Page 2'!H45=\"34\",20,IF('Page 2'!H45=\"36\",20,IF('Page 2'!H45=\"38\",20,IF('Page 2'!H45=\"40\",20,IF('Page 2'!H45=\"42\",20,IF('Page 2'!H45=\"44\",20,IF('Page 2'!H45=\"46\",20,IF('Page 2'!H45=\"48\",20,\"\"))))))))))))))))))))))","v":""}]
[null,null,null,null,null,null,null,null,null,null,null,null,null,null,null,null,null,null,"SS 316","STD",null,"STD",{"$f":"IF('Page 2'!H45=\"06\",24,IF('Page 2'!H45=\"08\",24,IF('Page 2'!H45=\"10\",24,IF('Page 2'!H45=\"12\",24,IF('Page 2'!H45=\"14\",24,IF('Page 2'!H45=\"16\",24,IF('Page 2'!H45=\"18\",24,IF('Page 2'!H45=\"20\",24,IF('Page 2'!H45=\"22\",24,IF('Page 2'!H45=\"24\",20,IF('Page 2'!H45=\"26\",20,IF('Page 2'!H45=\"28\",20,IF('Page 2'!H45=\"30\",20,IF('Page 2'!H45=\"32\",20,IF('Page 2'!H45=\"34\",20,IF('Page 2'!H45=\"36\",20,IF('Page 2'!H45=\"38\",20,IF('Page 2'!H45=\"40\",20,IF('Page 2'!H45=\"42\",20,IF('Page 2'!H45=\"44\",20,IF('Page 2'!H45=\"46\",20,IF('Page 2'!H45=\"48\",20,\"\"))))))))))))))))))))))","v":""}]
[null,null,null,null,null,null,null,null,null,null,null,null,null,null,null,null,null,"MC","SS 304","STD",{"$f":"IF('Page 2'!H45=\"06\",20,IF('Page 2'!H45=\"08\",20,IF('Page 2'!H45=\"10\",20,IF('Page 2'!H45=\"12\",20,IF('Page 2'!H45=\"14\",20,IF('Page 2'!H45=\"16\",20,IF('Page 2'!H45=\"18\",20,IF('Page 2'!H45=\"20\",20,IF('Page 2'!H45=\"22\",20,IF('Page 2'!H45=\"24\",20,IF('Page 2'!H45=\"26\",20,IF('Page 2'!H45=\"28\",20,IF('Page 2'!H45=\"30\",20,IF('Page 2'!H45=\"32\",20,IF('Page 2'!H45=\"34\",20,IF('Page 2'!H45=\"36\",20,IF('Page 2'!H45=\"38\",20,IF('Page 2'!H45=\"40\",20,IF('Page 2'!H45=\"42\",20,IF('Page 2'!H45=\"44\",20,IF('Page 2'!H45=\"46\",20,IF('Page 2'!H45=\"48\",20,\"\"))))))))))))))))))))))","v":""}]
[null,null,null,null,null,null,null,null,null,null,null,null,null,null,null,null,null,null,"SS 316","STD",{"$f":"IF('Page 2'!H45=\"06\",20,IF('Page 2'!H45=\"08\",20,IF('Page 2'!H45=\"10\",20,IF('Page 2'!H45=\"12\",20,IF('Page 2'!H45=\"14\",20,IF('Page 2'!H45=\"16\",20,IF('Page 2'!H45=\"18\",20,IF('Page 2'!H45=\"20\",20,IF('Page 2'!H45=\"22\",20,IF('Page 2'!H45=\"20\",20,IF('Page 2'!H45=\"26\",20,IF('Page 2'!H45=\"28\",20,IF('Page 2'!H45=\"30\",20,IF('Page 2'!H45=\"32\",20,IF('Page 2'!H45=\"34\",20,IF('Page 2'!H45=\"36\",20,IF('Page 2'!H45=\"38\",20,IF('Page 2'!H45=\"40\",20,IF('Page 2'!H45=\"42\",20,IF('Page 2'!H45=\"44\",20,IF('Page 2'!H45=\"46\",20,IF('Page 2'!H45=\"48\",20,\"\"))))))))))))))))))))))","v":""}]
[null,null,null,null,null,null,null,null,null,null,null,null,null,null,null,null,null,"RS","SS 304",null,null,"STD",{"$f":"IF('Page 2'!H56=\"06\",24,IF('Page 2'!H56=\"08\",24,IF('Page 2'!H56=\"10\",24,IF('Page 2'!H56=\"12\",24,IF('Page 2'!H56=\"14\",24,IF('Page 2'!H56=\"16\",24,IF('Page 2'!H56=\"18\",24,IF('Page 2'!H56=\"20\",24,IF('Page 2'!H56=\"22\",24,IF('Page 2'!H56=\"24\",24,IF('Page 2'!H56=\"26\",24,IF('Page 2'!H56=\"28\",24,IF('Page 2'!H56=\"30\",24,IF('Page 2'!H56=\"32\",24,IF('Page 2'!H56=\"34\",24,IF('Page 2'!H56=\"36\",24,IF('Page 2'!H56=\"38\",24,IF('Page 2'!H56=\"40\",24,IF('Page 2'!H56=\"42\",24,IF('Page 2'!H56=\"44\",24,IF('Page 2'!H56=\"46\",24,IF('Page 2'!H56=\"48\",24,\"\"))))))))))))))))))))))","v":""},"1\""]
[null,null,null,null,null,null,null,null,null,null,null,null,null,null,null,null,null,null,null,null,null,"STD",{"$f":"IF('Page 2'!H56=\"06\",24,IF('Page 2'!H56=\"08\",24,IF('Page 2'!H56=\"10\",24,IF('Page 2'!H56=\"12\",24,IF('Page 2'!H56=\"14\",24,IF('Page 2'!H56=\"16\",24,IF('Page 2'!H56=\"18\",24,IF('Page 2'!H56=\"20\",24,IF('Page 2'!H56=\"22\",24,IF('Page 2'!H56=\"24\",24,IF('Page 2'!H56=\"26\",24,IF('Page 2'!H56=\"28\",24,IF('Page 2'!H56=\"30\",24,IF('Page 2'!H56=\"32\",24,IF('Page 2'!H56=\"34\",24,IF('Page 2'!H56=\"36\",24,IF('Page 2'!H56=\"38\",24,IF('Page 2'!H56=\"40\",24,IF('Page 2'!H56=\"42\",24,IF('Page 2'!H56=\"44\",24,IF('Page 2'!H56=\"46\",24,IF('Page 2'!H56=\"48\",24,\"\"))))))))))))))))))))))","v":""},"2\""]
[null,null,null,null,null,null,null,null,null,null,null,null,null,null,null,null,null,null,null,null,null,"STD",{"$f":"IF('Page 2'!H56=\"06\",24,IF('Page 2'!H56=\"08\",24,IF('Page 2'!H56=\"10\",24,IF('Page 2'!H56=\"12\",24,IF('Page 2'!H56=\"14\",24,IF('Page 2'!H56=\"16\",24,IF('Page 2'!H56=\"18\",24,IF('Page 2'!H56=\"20\",24,IF('Page 2'!H56=\"22\",24,IF('Page 2'!H56=\"24\",24,IF('Page 2'!H56=\"26\",24,IF('Page 2'!H56=\"28\",24,IF('Page 2'!H56=\"30\",24,IF('Page 2'!H56=\"32\",24,IF('Page 2'!H56=\"34\",24,IF('Page 2'!H56=\"36\",24,IF('Page 2'!H56=\"38\",24,IF('Page 2'!H56=\"40\",24,IF('Page 2'!H56=\"42\",24,IF('Page 2'!H56=\"44\",24,IF('Page 2'!H56=\"46\",24,IF('Page 2'!H56=\"48\",24,\"\"))))))))))))))))))))))","v":""},"4\""]
[null,null,null,null,null,null,null,null,null,null,null,null,null,null,null,null,null,null,"GALVALUME STD",null,null,"GAL",{"$f":"IF('Page 2'!H56=\"06\",24,IF('Page 2'!H56=\"08\",24,IF('Page 2'!H56=\"10\",24,IF('Page 2'!H56=\"12\",24,IF('Page 2'!H56=\"14\",24,IF('Page 2'!H56=\"16\",24,IF('Page 2'!H56=\"18\",24,IF('Page 2'!H56=\"20\",24,IF('Page 2'!H56=\"22\",24,IF('Page 2'!H56=\"24\",24,IF('Page 2'!H56=\"26\",24,IF('Page 2'!H56=\"28\",24,IF('Page 2'!H56=\"30\",24,IF('Page 2'!H56=\"32\",22,IF('Page 2'!H56=\"34\",22,IF('Page 2'!H56=\"36\",22,IF('Page 2'!H56=\"38\",22,IF('Page 2'!H56=\"40\",22,IF('Page 2'!H56=\"42\",22,IF('Page 2'!H56=\"44\",22,IF('Page 2'!H56=\"46\",22,IF('Page 2'!H56=\"48\",22,\"\"))))))))))))))))))))))","v":""},"1\""]
[null,null,null,null,null,null,null,null,null,null,null,null,null,null,null,null,null,null,null,null,null,"GAL",{"$f":"IF('Page 2'!H56=\"06\",24,IF('Page 2'!H56=\"08\",24,IF('Page 2'!H56=\"10\",24,IF('Page 2'!H56=\"12\",24,IF('Page 2'!H56=\"14\",24,IF('Page 2'!H56=\"16\",24,IF('Page 2'!H56=\"18\",24,IF('Page 2'!H56=\"20\",24,IF('Page 2'!H56=\"22\",24,IF('Page 2'!H56=\"24\",24,IF('Page 2'!H56=\"26\",24,IF('Page 2'!H56=\"28\",24,IF('Page 2'!H56=\"30\",22,IF('Page 2'!H56=\"32\",22,IF('Page 2'!H56=\"34\",22,IF('Page 2'!H56=\"36\",22,IF('Page 2'!H56=\"38\",22,IF('Page 2'!H56=\"40\",22,IF('Page 2'!H56=\"42\",22,IF('Page 2'!H56=\"44\",22,IF('Page 2'!H56=\"46\",22,IF('Page 2'!H56=\"48\",20,\"\"))))))))))))))))))))))","v":""},"2\""]
[null,null,null,null,null,null,null,null,null,null,null,null,null,null,null,null,null,null,null,null,null,"GAL",{"$f":"IF('Page 2'!H56=\"06\",24,IF('Page 2'!H56=\"08\",24,IF('Page 2'!H56=\"10\",24,IF('Page 2'!H56=\"12\",24,IF('Page 2'!H56=\"14\",24,IF('Page 2'!H56=\"16\",24,IF('Page 2'!H56=\"18\",24,IF('Page 2'!H56=\"20\",24,IF('Page 2'!H56=\"22\",24,IF('Page 2'!H56=\"24\",24,IF('Page 2'!H56=\"26\",22,IF('Page 2'!H56=\"28\",22,IF('Page 2'!H56=\"30\",22,IF('Page 2'!H56=\"32\",22,IF('Page 2'!H56=\"34\",22,IF('Page 2'!H56=\"36\",22,IF('Page 2'!H56=\"38\",22,IF('Page 2'!H56=\"40\",22,IF('Page 2'!H56=\"42\",22,IF('Page 2'!H56=\"44\",22,IF('Page 2'!H56=\"46\",22,IF('Page 2'!H56=\"48\",22,\"\"))))))))))))))))))))))","v":""},"4\""]
[null,null,null,null,null,null,null,null,null,null,null,null,null,null,null,null,null,"FS","SS 304",null,null,"STD",{"$f":"IF('Page 2'!H56=\"06\",24,IF('Page 2'!H56=\"08\",24,IF('Page 2'!H56=\"10\",24,IF('Page 2'!H56=\"12\",24,IF('Page 2'!H56=\"14\",24,IF('Page 2'!H56=\"16\",24,IF('Page 2'!H56=\"18\",24,IF('Page 2'!H56=\"20\",24,IF('Page 2'!H56=\"22\",24,IF('Page 2'!H56=\"24\",24,IF('Page 2'!H56=\"26\",24,IF('Page 2'!H56=\"28\",24,IF('Page 2'!H56=\"30\",24,IF('Page 2'!H56=\"32\",24,IF('Page 2'!H56=\"34\",24,IF('Page 2'!H56=\"36\",24,IF('Page 2'!H56=\"38\",24,IF('Page 2'!H56=\"40\",24,IF('Page 2'!H56=\"42\",24,IF('Page 2'!H56=\"44\",24,IF('Page 2'!H56=\"46\",24,IF('Page 2'!H56=\"48\",24,\"\"))))))))))))))))))))))","v":""},"1\""]
[null,null,null,null,null,null,null,null,null,null,null,null,null,null,null,null,null,null,null,null,null,"STD",{"$f":"IF('Page 2'!H56=\"06\",24,IF('Page 2'!H56=\"08\",24,IF('Page 2'!H56=\"10\",24,IF('Page 2'!H56=\"12\",24,IF('Page 2'!H56=\"14\",24,IF('Page 2'!H56=\"16\",24,IF('Page 2'!H56=\"18\",24,IF('Page 2'!H56=\"20\",24,IF('Page 2'!H56=\"22\",24,IF('Page 2'!H56=\"24\",24,IF('Page 2'!H56=\"26\",24,IF('Page 2'!H56=\"28\",24,IF('Page 2'!H56=\"30\",24,IF('Page 2'!H56=\"32\",24,IF('Page 2'!H56=\"34\",24,IF('Page 2'!H56=\"36\",24,IF('Page 2'!H56=\"38\",24,IF('Page 2'!H56=\"40\",24,IF('Page 2'!H56=\"42\",24,IF('Page 2'!H56=\"44\",24,IF('Page 2'!H56=\"46\",24,IF('Page 2'!H56=\"48\",24,\"\"))))))))))))))))))))))","v":""},"2\""]
[null,null,null,null,null,null,null,null,null,null,null,null,null,null,null,null,null,null,null,null,null,"STD",{"$f":"IF('Page 2'!H56=\"06\",24,IF('Page 2'!H56=\"08\",24,IF('Page 2'!H56=\"10\",24,IF('Page 2'!H56=\"12\",24,IF('Page 2'!H56=\"14\",24,IF('Page 2'!H56=\"16\",24,IF('Page 2'!H56=\"18\",24,IF('Page 2'!H56=\"20\",24,IF('Page 2'!H56=\"22\",24,IF('Page 2'!H56=\"24\",24,IF('Page 2'!H56=\"26\",24,IF('Page 2'!H56=\"28\",24,IF('Page 2'!H56=\"30\",24,IF('Page 2'!H56=\"32\",24,IF('Page 2'!H56=\"34\",24,IF('Page 2'!H56=\"36\",24,IF('Page 2'!H56=\"38\",24,IF('Page 2'!H56=\"40\",24,IF('Page 2'!H56=\"42\",24,IF('Page 2'!H56=\"44\",24,IF('Page 2'!H56=\"46\",24,IF('Page 2'!H56=\"48\",24,\"\"))))))))))))))))))))))","v":""},"4\""]
[null,null,null,null,null,null,null,null,null,null,null,null,null,null,null,null,null,null,"GALVALUME STD",null,null,"GAL",{"$f":"IF('Page 2'!H56=\"06\",24,IF('Page 2'!H56=\"08\",24,IF('Page 2'!H56=\"10\",24,IF('Page 2'!H56=\"12\",24,IF('Page 2'!H56=\"14\",24,IF('Page 2'!H56=\"16\",24,IF('Page 2'!H56=\"18\",24,IF('Page 2'!H56=\"20\",24,IF('Page 2'!H56=\"22\",24,IF('Page 2'!H56=\"24\",24,IF('Page 2'!H56=\"26\",24,IF('Page 2'!H56=\"28\",24,IF('Page 2'!H56=\"30\",24,IF('Page 2'!H56=\"32\",24,IF('Page 2'!H56=\"34\",24,IF('Page 2'!H56=\"36\",22,IF('Page 2'!H56=\"38\",22,IF('Page 2'!H56=\"40\",22,IF('Page 2'!H56=\"42\",22,IF('Page 2'!H56=\"44\",22,IF('Page 2'!H56=\"46\",22,IF('Page 2'!H56=\"48\",22,\"\"))))))))))))))))))))))","v":""},"1\""]
[null,null,null,null,null,null,null,null,null,null,null,null,null,null,null,null,null,null,null,null,null,"GAL",{"$f":"IF('Page 2'!H56=\"06\",24,IF('Page 2'!H56=\"08\",24,IF('Page 2'!H56=\"10\",24,IF('Page 2'!H56=\"12\",24,IF('Page 2'!H56=\"14\",24,IF('Page 2'!H56=\"16\",24,IF('Page 2'!H56=\"18\",24,IF('Page 2'!H56=\"20\",24,IF('Page 2'!H56=\"22\",24,IF('Page 2'!H56=\"24\",24,IF('Page 2'!H56=\"26\",24,IF('Page 2'!H56=\"28\",24,IF('Page 2'!H56=\"30\",24,IF('Page 2'!H56=\"32\",24,IF('Page 2'!H56=\"34\",22,IF('Page 2'!H56=\"36\",22,IF('Page 2'!H56=\"38\",22,IF('Page 2'!H56=\"40\",22,IF('Page 2'!H56=\"42\",22,IF('Page 2'!H56=\"44\",22,IF('Page 2'!H56=\"46\",22,IF('Page 2'!H56=\"48\",22,\"\"))))))))))))))))))))))","v":""},"2\""]
[null,null,null,null,null,null,null,null,null,null,null,null,null,null,null,null,null,null,null,null,null,"GAL",{"$f":"IF('Page 2'!H56=\"06\",24,IF('Page 2'!H56=\"08\",24,IF('Page 2'!H56=\"10\",24,IF('Page 2'!H56=\"12\",24,IF('Page 2'!H56=\"14\",24,IF('Page 2'!H56=\"16\",24,IF('Page 2'!H56=\"18\",24,IF('Page 2'!H56=\"20\",24,IF('Page 2'!H56=\"22\",24,IF('Page 2'!H56=\"24\",24,IF('Page 2'!H56=\"26\",24,IF('Page 2'!H56=\"28\",24,IF('Page 2'!H56=\"30\",22,IF('Page 2'!H56=\"32\",22,IF('Page 2'!H56=\"34\",22,IF('Page 2'!H56=\"36\",22,IF('Page 2'!H56=\"38\",22,IF('Page 2'!H56=\"40\",22,IF('Page 2'!H56=\"42\",22,IF('Page 2'!H56=\"44\",22,IF('Page 2'!H56=\"46\",22,IF('Page 2'!H56=\"48\",22,\"\"))))))))))))))))))))))","v":""},"4\""]
[null,null,null,null,null,null,null,null,null,null,null,null,null,null,null,null,null,"IT","SS 304","STD",{"$f":"IF('Page 2'!H58=\"06\",24,IF('Page 2'!H58=\"08\",24,IF('Page 2'!H58=\"10\",24,IF('Page 2'!H58=\"12\",24,IF('Page 2'!H58=\"14\",24,IF('Page 2'!H58=\"16\",24,IF('Page 2'!H58=\"18\",24,IF('Page 2'!H58=\"20\",24,IF('Page 2'!H58=\"22\",24,IF('Page 2'!H58=\"24\",24,IF('Page 2'!H58=\"26\",24,IF('Page 2'!H58=\"28\",24,IF('Page 2'!H58=\"30\",20,IF('Page 2'!H58=\"32\",20,IF('Page 2'!H58=\"34\",20,IF('Page 2'!H58=\"36\",20,IF('Page 2'!H58=\"38\",20,IF('Page 2'!H58=\"40\",20,IF('Page 2'!H58=\"42\",20,IF('Page 2'!H58=\"44\",20,IF('Page 2'!H58=\"46\",20,IF('Page 2'!H58=\"48\",20,\"\"))))))))))))))))))))))","v":""},"STD",{"$f":"IF('Page 2'!H58=\"06\",24,IF('Page 2'!H58=\"08\",24,IF('Page 2'!H58=\"10\",24,IF('Page 2'!H58=\"12\",24,IF('Page 2'!H58=\"14\",24,IF('Page 2'!H58=\"16\",24,IF('Page 2'!H58=\"18\",24,IF('Page 2'!H58=\"20\",24,IF('Page 2'!H58=\"22\",24,IF('Page 2'!H58=\"24\",24,IF('Page 2'!H58=\"26\",24,IF('Page 2'!H58=\"28\",24,IF('Page 2'!H58=\"30\",20,IF('Page 2'!H58=\"32\",20,IF('Page 2'!H58=\"34\",20,IF('Page 2'!H58=\"36\",20,IF('Page 2'!H58=\"38\",20,IF('Page 2'!H58=\"40\",20,IF('Page 2'!H58=\"42\",20,IF('Page 2'!H58=\"44\",20,IF('Page 2'!H58=\"46\",20,IF('Page 2'!H58=\"48\",20,\"\"))))))))))))))))))))))","v":""},"1\"",null,{"$f":"IF('Page 2'!$H$19<>\"\",IF('Page 2'!$M$19<>\"\",IF('Page 2'!$K$22<>\"\",$W$86,\"\"),IF('Page 2'!$H$19<>\"\",IF('Page 2'!$M$20<>\"\",IF('Page 2'!$K$22<>\"\",$W$87,\"\"),IF('Page 2'!$H$19<>\"\",IF('Page 2'!$M$21<>\"\",IF('Page 2'!$K$22<>\"\",$W$88,\"\"),\"\"))))),\"\")","v":""},"SI 1\" OU 2\" OU 4\""]
[null,null,null,null,null,null,null,null,null,null,null,null,null,null,null,null,null,null,null,null,null,"STD",{"$f":"IF('Page 2'!H58=\"06\",24,IF('Page 2'!H58=\"08\",24,IF('Page 2'!H58=\"10\",24,IF('Page 2'!H58=\"12\",24,IF('Page 2'!H58=\"14\",24,IF('Page 2'!H58=\"16\",24,IF('Page 2'!H58=\"18\",24,IF('Page 2'!H58=\"20\",24,IF('Page 2'!H58=\"22\",24,IF('Page 2'!H58=\"24\",24,IF('Page 2'!H58=\"26\",24,IF('Page 2'!H58=\"28\",24,IF('Page 2'!H58=\"30\",20,IF('Page 2'!H58=\"32\",20,IF('Page 2'!H58=\"34\",20,IF('Page 2'!H58=\"36\",20,IF('Page 2'!H58=\"38\",20,IF('Page 2'!H58=\"40\",20,IF('Page 2'!H58=\"42\",20,IF('Page 2'!H58=\"44\",20,IF('Page 2'!H58=\"46\",20,IF('Page 2'!H58=\"48\",20,\"\"))))))))))))))))))))))","v":""},"2\""]
[null,null,null,null,null,null,null,null,null,null,null,null,null,null,null,null,null,null,null,null,null,"STD",{"$f":"IF('Page 2'!H58=\"06\",24,IF('Page 2'!H58=\"08\",24,IF('Page 2'!H58=\"10\",24,IF('Page 2'!H58=\"12\",24,IF('Page 2'!H58=\"14\",24,IF('Page 2'!H58=\"16\",24,IF('Page 2'!H58=\"18\",24,IF('Page 2'!H58=\"20\",24,IF('Page 2'!H58=\"22\",24,IF('Page 2'!H58=\"24\",24,IF('Page 2'!H58=\"26\",24,IF('Page 2'!H58=\"28\",24,IF('Page 2'!H58=\"30\",20,IF('Page 2'!H58=\"32\",20,IF('Page 2'!H58=\"34\",20,IF('Page 2'!H58=\"36\",20,IF('Page 2'!H58=\"38\",20,IF('Page 2'!H58=\"40\",20,IF('Page 2'!H58=\"42\",20,IF('Page 2'!H58=\"44\",20,IF('Page 2'!H58=\"46\",20,IF('Page 2'!H58=\"48\",20,\"\"))))))))))))))))))))))","v":""},"4\""]
[null,null,null,null,null,null,null,null,null,null,null,null,null,null,null,null,null,null,"SS 316","STD",{"$f":"IF('Page 2'!H58=\"06\",24,IF('Page 2'!H58=\"08\",24,IF('Page 2'!H58=\"10\",24,IF('Page 2'!H58=\"12\",24,IF('Page 2'!H58=\"14\",24,IF('Page 2'!H58=\"16\",24,IF('Page 2'!H58=\"18\",24,IF('Page 2'!H58=\"20\",24,IF('Page 2'!H58=\"22\",24,IF('Page 2'!H58=\"24\",24,IF('Page 2'!H58=\"26\",24,IF('Page 2'!H58=\"28\",24,IF('Page 2'!H58=\"30\",20,IF('Page 2'!H58=\"32\",20,IF('Page 2'!H58=\"34\",20,IF('Page 2'!H58=\"36\",20,IF('Page 2'!H58=\"38\",20,IF('Page 2'!H58=\"40\",20,IF('Page 2'!H58=\"42\",20,IF('Page 2'!H58=\"44\",20,IF('Page 2'!H58=\"46\",20,IF('Page 2'!H58=\"48\",20,\"\"))))))))))))))))))))))","v":""},"STD",{"$f":"IF('Page 2'!H58=\"06\",24,IF('Page 2'!H58=\"08\",24,IF('Page 2'!H58=\"10\",24,IF('Page 2'!H58=\"12\",24,IF('Page 2'!H58=\"14\",24,IF('Page 2'!H58=\"16\",24,IF('Page 2'!H58=\"18\",24,IF('Page 2'!H58=\"20\",24,IF('Page 2'!H58=\"22\",24,IF('Page 2'!H58=\"24\",24,IF('Page 2'!H58=\"26\",24,IF('Page 2'!H58=\"28\",24,IF('Page 2'!H58=\"30\",20,IF('Page 2'!H58=\"32\",20,IF('Page 2'!H58=\"34\",20,IF('Page 2'!H58=\"36\",20,IF('Page 2'!H58=\"38\",20,IF('Page 2'!H58=\"40\",20,IF('Page 2'!H58=\"42\",20,IF('Page 2'!H58=\"44\",20,IF('Page 2'!H58=\"46\",20,IF('Page 2'!H58=\"48\",20,\"\"))))))))))))))))))))))","v":""},"1\"",null,{"$f":"IF('Page 2'!$H$20<>\"\",IF('Page 2'!$M$19<>\"\",IF('Page 2'!$K$22<>\"\",$W$89,\"\"),IF('Page 2'!$H$20<>\"\",IF('Page 2'!$M$20<>\"\",IF('Page 2'!$K$22<>\"\",$W$90,\"\"),IF('Page 2'!$H$20<>\"\",IF('Page 2'!$M$21<>\"\",IF('Page 2'!$K$22<>\"\",$W$91,\"\"),\"\"))))),\"\")","v":""},"SI 1\" OU 2\" OU 4\""]
[null,null,null,null,null,null,null,null,null,null,null,null,null,null,null,null,null,null,null,null,null,"STD",{"$f":"IF('Page 2'!H58=\"06\",24,IF('Page 2'!H58=\"08\",24,IF('Page 2'!H58=\"10\",24,IF('Page 2'!H58=\"12\",24,IF('Page 2'!H58=\"14\",24,IF('Page 2'!H58=\"16\",24,IF('Page 2'!H58=\"18\",24,IF('Page 2'!H58=\"20\",24,IF('Page 2'!H58=\"22\",24,IF('Page 2'!H58=\"24\",24,IF('Page 2'!H58=\"26\",24,IF('Page 2'!H58=\"28\",24,IF('Page 2'!H58=\"30\",20,IF('Page 2'!H58=\"32\",20,IF('Page 2'!H58=\"34\",20,IF('Page 2'!H58=\"36\",20,IF('Page 2'!H58=\"38\",20,IF('Page 2'!H58=\"40\",20,IF('Page 2'!H58=\"42\",20,IF('Page 2'!H58=\"44\",20,IF('Page 2'!H58=\"46\",20,IF('Page 2'!H58=\"48\",20,\"\"))))))))))))))))))))))","v":""},"2\""]
[null,null,null,null,null,null,null,null,null,null,null,null,null,null,null,null,null,null,null,null,null,"STD",{"$f":"IF('Page 2'!H58=\"06\",24,IF('Page 2'!H58=\"08\",24,IF('Page 2'!H58=\"10\",24,IF('Page 2'!H58=\"12\",24,IF('Page 2'!H58=\"14\",24,IF('Page 2'!H58=\"16\",24,IF('Page 2'!H58=\"18\",24,IF('Page 2'!H58=\"20\",24,IF('Page 2'!H58=\"22\",24,IF('Page 2'!H58=\"24\",24,IF('Page 2'!H58=\"26\",24,IF('Page 2'!H58=\"28\",24,IF('Page 2'!H58=\"30\",20,IF('Page 2'!H58=\"32\",20,IF('Page 2'!H58=\"34\",20,IF('Page 2'!H58=\"36\",20,IF('Page 2'!H58=\"38\",20,IF('Page 2'!H58=\"40\",20,IF('Page 2'!H58=\"42\",20,IF('Page 2'!H58=\"44\",20,IF('Page 2'!H58=\"46\",20,IF('Page 2'!H58=\"48\",20,\"\"))))))))))))))))))))))","v":""},"4\""]
[null,null,null,null,null,null,null,null,null,null,null,null,null,null,null,null,null,null,"GALVALUME STD",null,null,"GAL",{"$f":"IF('Page 2'!H58=\"06\",24,IF('Page 2'!H58=\"08\",24,IF('Page 2'!H58=\"10\",24,IF('Page 2'!H58=\"12\",24,IF('Page 2'!H58=\"14\",24,IF('Page 2'!H58=\"16\",24,IF('Page 2'!H58=\"18\",24,IF('Page 2'!H58=\"20\",24,IF('Page 2'!H58=\"22\",24,IF('Page 2'!H58=\"24\",24,IF('Page 2'!H58=\"26\",24,IF('Page 2'!H58=\"28\",24,IF('Page 2'!H58=\"30\",20,IF('Page 2'!H58=\"32\",20,IF('Page 2'!H58=\"34\",20,IF('Page 2'!H58=\"36\",20,IF('Page 2'!H58=\"38\",20,IF('Page 2'!H58=\"40\",20,IF('Page 2'!H58=\"42\",20,IF('Page 2'!H58=\"44\",20,IF('Page 2'!H58=\"46\",20,IF('Page 2'!H58=\"48\",20,\"\"))))))))))))))))))))))","v":""},"1\"",null,{"$f":"IF('Page 2'!$H$21<>\"\",IF('Page 2'!$M$19<>\"\",IF('Page 2'!$K$22<>\"\",$W$92,\"\"),IF('Page 2'!$H$21<>\"\",IF('Page 2'!$M$20<>\"\",IF('Page 2'!$K$22<>\"\",$W$93,\"\"),IF('Page 2'!$H$21<>\"\",IF('Page 2'!$M$21<>\"\",IF('Page 2'!$K$22<>\"\",$W$93,\"\"),\"\"))))),\"\")","v":""},"SI 1\" OU 2\" OU 4\""]
[null,null,null,null,null,null,null,null,null,null,null,null,null,null,null,null,null,null,null,null,null,"GAL",{"$f":"IF('Page 2'!H58=\"06\",24,IF('Page 2'!H58=\"08\",24,IF('Page 2'!H58=\"10\",24,IF('Page 2'!H58=\"12\",24,IF('Page 2'!H58=\"14\",24,IF('Page 2'!H58=\"16\",24,IF('Page 2'!H58=\"18\",24,IF('Page 2'!H58=\"20\",24,IF('Page 2'!H58=\"22\",24,IF('Page 2'!H58=\"24\",24,IF('Page 2'!H58=\"26\",24,IF('Page 2'!H58=\"28\",24,IF('Page 2'!H58=\"30\",20,IF('Page 2'!H58=\"32\",20,IF('Page 2'!H58=\"34\",20,IF('Page 2'!H58=\"36\",20,IF('Page 2'!H58=\"38\",20,IF('Page 2'!H58=\"40\",20,IF('Page 2'!H58=\"42\",20,IF('Page 2'!H58=\"44\",20,IF('Page 2'!H58=\"46\",20,IF('Page 2'!H58=\"48\",20,\"\"))))))))))))))))))))))","v":""},"2\""]
[null,null,null,null,null,null,null,null,null,null,null,null,null,null,null,null,null,null,null,null,null,"GAL",{"$f":"IF('Page 2'!H58=\"06\",26,IF('Page 2'!H58=\"08\",26,IF('Page 2'!H58=\"10\",26,IF('Page 2'!H58=\"12\",26,IF('Page 2'!H58=\"14\",26,IF('Page 2'!H58=\"16\",24,IF('Page 2'!H58=\"18\",24,IF('Page 2'!H58=\"20\",24,IF('Page 2'!H58=\"22\",24,IF('Page 2'!H58=\"24\",24,IF('Page 2'!H58=\"26\",24,IF('Page 2'!H58=\"28\",24,IF('Page 2'!H58=\"30\",20,IF('Page 2'!H58=\"32\",20,IF('Page 2'!H58=\"34\",20,IF('Page 2'!H58=\"36\",20,IF('Page 2'!H58=\"38\",20,IF('Page 2'!H58=\"40\",20,IF('Page 2'!H58=\"42\",20,IF('Page 2'!H58=\"44\",20,IF('Page 2'!H58=\"46\",20,IF('Page 2'!H58=\"48\",20,\"\"))))))))))))))))))))))","v":""},"4\""]

{"sheet":"Page 3","index":5,"n_rows":63,"n_cols":14,"rows_kept":63,"cut":false,"hidden":false,"merged":[[66,0,66,6],[66,7,66,8],[66,11,66,13],[67,0,67,6],[68,0,68,6],[64,0,64,6],[64,7,64,8],[64,11,64,13],[65,0,65,6],[65,7,65,8],[65,11,65,13],[62,0,62,6],[62,7,62,8],[62,11,62,13],[63,0,63,6],[63,7,63,8],[63,11,63,13],[57,0,57,5],[57,11,57,13],[58,0,61,1],[58,11,58,13],[59,7,59,8],[59,11,59,13],[60,7,60,13],[61,7,61,8],[61,11,61,13],[55,0,56,1],[55,4,55,6],[55,7,56,8],[55,11,55,12],[56,4,56,6],[56,11,56,12],[52,4,52,6],[52,11,52,13],[53,0,53,1],[53,4,53,6],[53,11,53,13],[54,4,54,6],[54,7,54,12],[49,4,49,6],[49,11,49,13],[50,0,50,6],[50,11,50,13],[51,0,51,1],[51,4,51,6],[51,11,51,13],[46,4,46,6],[46,11,46,13],[47,4,47,6],[47,11,47,13],[48,4,48,6],[48,11,48,13],[33,0,33,1],[33,4,33,6],[33,7,33,8],[33,11,33,13],[34,0,34,6],[34,7,34,12],[35,0,44,1],[35,4,35,6],[35,7,42,8],[36,4,36,6],[37,4,37,6],[38,4,38,6],[39,4,39,6],[40,4,40,6],[41,4,41,6],[42,4,42,6],[43,4,43,6],[43,7,43,13],[44,4,44,6],[44,7,53,8],[44,11,44,13],[45,0,45,6],[45,11,45,13],[46,0,49,1],[6,7,7,8],[7,0,7,1],[7,2,7,5],[8,0,8,1],[26,0,26,13],[27,0,29,0],[27,1,29,2],[27,12,29,12],[27,13,29,13],[22,0,22,13],[23,0,25,0],[23,1,25,2],[23,5,23,6],[23,12,25,12],[23,13,25,13],[17,7,17,9],[17,10,17,11],[17,12,17,13],[18,0,21,0],[18,1,21,2],[18,8,18,9],[19,8,19,9],[20,8,20,9],[21,7,21,9],[8,2,8,5],[9,0,9,1],[9,2,9,5],[12,0,15,4],[17,0,17,2],[17,3,17,4],[17,5,17,6],[0,0,4,4],[5,0,5,1],[5,2,5,5],[6,0,6,1],[6,2,6,5]]}
["VIP"]
[]
[null,null,null,null,null,null,null,"COMMERCIAL CHIMNEY"]
[null,null,null,null,null,null,null,"QUOTATION REQUEST"]
[null,null,null,null,null,null,null,{"$f":"IF('Page 1'!H5<>\"\",'Page 1'!H5,\"\")","v":"Revised: November 7, 2015"}]
["Name:",null,{"$f":"IF('Page 1'!C6<>\"\",'Page 1'!C6,\"\")","v":""}]
["Date:",null,{"$f":"IF('Page 1'!C7<>\"\",'Page 1'!C7,\"\")","v":""},null,null,null,null,"Page 3"]
["Job:",null,{"$f":"IF('Page 1'!C8<>\"\",'Page 1'!C8,\"\")","v":""}]
["ZIP Code:",null,{"$f":"IF('Page 1'!C9<>\"\",'Page 1'!C9,\"\")","v":""},null,null,null,"(ZIP FOR FREIGHT QUOTE)",null,null,null,null,"Phone: ","(450) 565-6336"]
["Page:",null,null,null,null,null,null,null,null,null,null,"FAX: ","(450) 565-6519"]
[null,null,null,null,null,"email:","industrial@icc-rsf.com"]
[]
["When using Excel: Type an \"X\" in the approprIate shaded cell.",null,null,null,null,null,"SS 304 / SS 304 STD",null,null,null,null,"SS 316 / SS 316 STD"]
[null,null,null,null,null,null,"SS 304 / SS 304",null,null,null,null,"SS 316 / SS 316"]
[null,null,null,null,null,null,"SS 304 / GAL. STD",null,null,null,null,"SS 316 / SS 304 STD"]
[null,null,null,null,null,null,"SS 304 / GAL.",null,null,null,null,"SS 316 / SS 304"]
[]
["MODEL",null,null,"INTERIOR",null,"GAUGE",null,"EXTERIOR",null,null,"GAUGE",null,"INSULATION"]
[{"$f":"IF(F13<>\"\",\"X\",IF(F14<>\"\",\"X\",IF(F15<>\"\",\"X\",IF(F16<>\"\",\"X\",IF(K13<>\"\",\"X\",IF(K14<>\"\",\"X\",IF(K15<>\"\",\"X\",IF(K16<>\"\",\"X\",\"\"))))))))","v":""},"VIP",null,{"$f":"IF(F13<>\"\",\"X\",IF(F14<>\"\",\"X\",IF(F15<>\"\",\"X\",IF(F16<>\"\",\"X\",\"\"))))","v":""},"A = SS 304",null,"26 = 0.018\"",{"$f":"IF(F13<>\"\",\"X\",IF(F14<>\"\",\"X\",IF(K15<>\"\",\"X\",IF(K16<>\"\",\"X\",\"\"))))","v":""},"A = SS 304",null,null,"26 = 0.018\"",null,"1\" "]
[null,null,null,{"$f":"IF(K13<>\"\",\"X\",IF(K14<>\"\",\"X\",IF(K15<>\"\",\"X\",IF(K16<>\"\",\"X\",\"\"))))","v":""},"B= SS 316",null,"24= 0.025\"",{"$f":"IF(K13<>\"\",\"X\",IF(K14<>\"\",\"X\",\"\"))","v":""},"B= SS 316",null,null,"24= 0.025\"",null,"2\""]
[null,null,null,null,null,null,"20= 0.035\"",{"$f":"IF(F15<>\"\",\"X\",IF(F16<>\"\",\"X\",\"\"))","v":""},{"$f":"IF(D20=\"\",\"C= GALVALUME\",\"\")","v":"C= GALVALUME"},null,null,"20= 0.035\"",null,"4\""]
[null,null,null,null,null,{"$f":"IF(F13<>\"\",\"X\",IF(F15<>\"\",\"X\",IF(K13<>\"\",\"X\",IF(K15<>\"\",\"X\",\"\"))))","v":""},"Standard",null,null,null,{"$f":"IF(F13<>\"\",\"X\",IF(F15<>\"\",\"X\",IF(K13<>\"\",\"X\",IF(K15<>\"\",\"X\",\"\"))))","v":""},"Standard"]
[]
[null,"IS",null,null,"A = SS 304","Standard",null,null,"A = SS 304",null,"Standard",null,null,"1\" "]
[]
[null,null,null,null,null,null,null,null,"C= GALVALUME",null,"Standard"]
[]
[null,"LINER",null,null,"A = SS 304",null,"20= 0.035\""]
[null,null,null,null,"B = SS 316",null,"Standard"]
[]
[]
["When using Excel: Type interior diameter (INT. Ø) and quantities in the approprIate shaded cells."]
[]
["INT. Ø",null,"QTY","CODE","DESCRIPTION",null,null,"INT. Ø",null,"QTY","CODE","DESCRIPTION"]
["CHIMNEY LENGTH",null,null,null,null,null,null,"SUPPORT",null,null,null,null,null,"SS 304"]
[null,null,null,{"$f":"IF(A36=\"\",\"L4\",IF(A36=\"38\",\"\",IF(A36=\"40\",\"\",IF(A36=\"42\",\"\",IF(A36=\"44\",\"\",IF(A36=\"46\",\"\",IF(A36=\"48\",\"\",\"L4\")))))))","v":"L4"},"48\" Length",null,null,{"$f":"IF(A36<>0,A36,\"\")","v":""},null,null,"BS","Base Support"]
[null,null,null,"L2","24\" Length",null,null,null,null,null,"SR","Roof Support"]
[null,null,null,"A2","Adjust. Length 2' (VIP & IS ONLY)",null,null,null,null,null,"GB","Guy Band"]
[null,null,null,"L1","12\" Length",null,null,null,null,null,"RB","Roof Brace"]
[null,null,null,"L1","12\" Length - WITH SAMPLING PORT",null,null,null,null,null,"WS","Wall Support"]
[null,null,null,"A1","Adjustable Length 1'",null,null,null,null,null,"WB","Wall Band"]
[null,null,null,"L6","6\" Length",null,null,null,null,null,"HB","Horizontal Band"]
[null,null,null,"D1","12\" Drain Length",null,null,null,null,null,"OS","Offset Support"]
[null,null,null,"D2","24\" Drain Length",null,null,"RAIN CAP and ADAPTORS"]
[null,null,null,"DB","Length Drain Base",null,null,{"$f":"IF(A36<>0,A36,\"\")","v":""},null,null,"AP","Male Anchor Plate (std: round)"]
["ELBOW",null,null,null,null,null,null,null,null,null,"AF","Female Anchor Plate (std: square)"]
[{"$f":"IF(A36<>0,A36,\"\")","v":""},null,null,{"$f":"IF(A47=\"\",\"E4\",IF(A47=\"24\",\"\",IF(A47=\"26\",\"\",IF(A47=\"28\",\"\",IF(A47=\"30\",\"\",IF(A47=\"32\",\"\",IF(A47=\"34\",\"\",IF(A47=\"36\",\"\",IF(A47=\"38\",\"\",IF(A47=\"40\",\"\",IF(A47=\"42\",\"\",IF(A47=\"44\",\"\",IF(A47=\"46\",\"\",IF(A47=\"48\",\"\",\"E4\"))))))))))))))","v":"E4"},"Elbow 45°",null,null,null,null,null,"EX","Flue Extention  - CRIMP"]
[null,null,null,"E3","Elbow 30°",null,null,null,null,null,"EX","Flue Extention  - NO CRIMP"]
[null,null,null,"E2","Elbow 22.5°",null,null,null,null,null,"EX","Flue Extention  - FEMALE (NC)"]
[null,null,null,"E1","Elbow 15°",null,null,null,null,null,"RC","Rain Cap"]
["TEE",null,null,null,null,null,null,null,null,null,"CB","Rain Cap Base"]
[{"$f":"IF(A36<>0,A36,\"\")","v":""},null,null,"TR","Tee 90° (Regular)",null,null,null,null,null,"EC","Exit Cone"]
[{"$f":"IF(A36<>0,A36,\"\")","v":""},null,null,"TR","Tee 90° (Manifold)",null,null,null,null,null,"FT","Flip Top & Adapter"]
[{"$f":"IF(A36<>0,A36,\"\")","v":""},null,null,"TY","Tee 45° (Regular)",null,null,null,null,null,"MC","Miter Cut Length"]
[{"$f":"IF(A36<>0,A36,\"\")","v":""},null,null,"TY","Tee 45° (Manifold)",null,null,"MISCELLANEOUS",null,null,null,null,null,"SS 304"]
[{"$f":"IF(A36<>0,A36,\"\")","v":""},null,null,"TC","Tee Cap",null,null,{"$f":"IF(A36<>0,A36,\"\")","v":""},null,null,"RS","Radiation Shield"]
[null,null,null,"TD","Tee Cap, Drain",null,null,null,null,null,"FS","Firestop"]
["FLASHING",null,null,null,null,null,"SS 304",{"$f":"IF(A36<>0,A36,\"\")","v":""},null,null,"IT","Taper Increaser"]
[{"$f":"IF(A36<>0,A36,\"\")","v":""},null,null,"FF","Flat flashing",null,null,{"$f":"IF(A36<>0,A36,\"\")","v":""},null,null,"SI","Step Increaser"]
[null,null,null,"FA","Flashing 1/12-7/12",null,null,{"$f":"IF(A36<>0,A36,\"\")","v":""},null,null,"RV","Presurre Releif Valve"]
[null,null,null,"FB","Flashing 8/12-12/12",null,null,"Special Request"]
[null,null,null,"SC","Storm Collar"]
["Special Request"]

{"sheet":"LOP3","index":6,"n_rows":94,"n_cols":27,"rows_kept":94,"cut":false,"hidden":true,"merged":[[85,17,93,17],[91,18,91,20],[73,17,78,17],[76,18,76,20],[77,18,78,20],[79,17,84,17],[82,18,82,20],[83,18,84,20],[71,17,72,17],[49,17,54,17],[52,18,52,20],[53,18,54,20],[55,17,60,17],[58,18,58,20],[59,18,60,20],[61,17,62,17],[63,17,64,17],[65,17,66,17],[67,17,68,17],[69,17,70,17],[29,17,37,17],[35,18,35,20],[38,17,39,17],[40,17,48,17],[43,18,43,20],[44,18,45,20],[46,18,46,20],[47,18,48,20],[2,17,10,17],[8,18,8,20],[11,17,19,17],[17,18,17,20],[20,17,28,17],[26,18,26,20]]}
[]
[null,null,null,null,null,null,null,null,null,null,null,null,null,null,null,null,null,null,null,null,"Int. STD",null,"Ext. STD"]
[null,null,{"$f":"IF('Page 3'!$M$19<>\"\",'Page 3'!$A$59,IF('Page 3'!$M$20<>\"\",'Page 3'!$A$59+2,IF('Page 3'!$M$21<>\"\",'Page 3'!$A$59+6,\"\")))","v":""},null,null,null,null,null,null,null,null,null,null,null,null,null,null,"LENGTH","SS 304","STD",{"$f":"IF('Page 3'!A36=\"06\",26,IF('Page 3'!A36=\"08\",26,IF('Page 3'!A36=\"10\",26,IF('Page 3'!A36=\"12\",26,IF('Page 3'!A36=\"14\",26,IF('Page 3'!A36=\"16\",26,IF('Page 3'!A36=\"18\",24,IF('Page 3'!A36=\"20\",24,IF('Page 3'!A36=\"22\",24,IF('Page 3'!A36=\"24\",24,IF('Page 3'!A36=\"26\",24,IF('Page 3'!A36=\"28\",24,IF('Page 3'!A36=\"30\",20,IF('Page 3'!A36=\"32\",20,IF('Page 3'!A36=\"34\",20,IF('Page 3'!A36=\"36\",20,IF('Page 3'!A36=\"38\",20,IF('Page 3'!A36=\"40\",20,IF('Page 3'!A36=\"42\",20,IF('Page 3'!A36=\"44\",20,IF('Page 3'!A36=\"46\",20,IF('Page 3'!A36=\"48\",20,\"\"))))))))))))))))))))))","v":""},"STD",{"$f":"IF('Page 3'!A36=\"06\",26,IF('Page 3'!A36=\"08\",26,IF('Page 3'!A36=\"10\",26,IF('Page 3'!A36=\"12\",26,IF('Page 3'!A36=\"14\",26,IF('Page 3'!A36=\"16\",24,IF('Page 3'!A36=\"18\",24,IF('Page 3'!A36=\"20\",24,IF('Page 3'!A36=\"22\",24,IF('Page 3'!A36=\"24\",24,IF('Page 3'!A36=\"26\",24,IF('Page 3'!A36=\"28\",24,IF('Page 3'!A36=\"30\",20,IF('Page 3'!A36=\"32\",20,IF('Page 3'!A36=\"34\",20,IF('Page 3'!A36=\"36\",20,IF('Page 3'!A36=\"38\",20,IF('Page 3'!A36=\"40\",20,IF('Page 3'!A36=\"42\",20,IF('Page 3'!A36=\"44\",20,IF('Page 3'!A36=\"46\",20,IF('Page 3'!A36=\"48\",20,\"\"))))))))))))))))))))))","v":""},"1\"",null,{"$f":"IF('Page 3'!$H$19<>\"\",IF('Page 3'!$M$19<>\"\",IF('Page 3'!$K$22<>\"\",$W$3,\"\"),IF('Page 3'!$H$19<>\"\",IF('Page 3'!$M$20<>\"\",IF('Page 3'!$K$22<>\"\",$W$4,\"\"),IF('Page 3'!$H$19<>\"\",IF('Page 3'!$M$21<>\"\",IF('Page 3'!$K$22<>\"\",$W$5,\"\"),\"\"))))),\"\")","v":""},"SI 1\" OU 2\" OU 4\""]
[null,null,{"$f":"IF('Page 3'!$M$20<>\"\",'Page 3'!$A$59+2,)","v":0},null,null,null,null,null,null,null,null,null,null,null,null,null,null,null,null,null,null,"STD",{"$f":"IF('Page 3'!A36=\"06\",26,IF('Page 3'!A36=\"08\",26,IF('Page 3'!A36=\"10\",26,IF('Page 3'!A36=\"12\",26,IF('Page 3'!A36=\"14\",24,IF('Page 3'!A36=\"16\",24,IF('Page 3'!A36=\"18\",24,IF('Page 3'!A36=\"20\",24,IF('Page 3'!A36=\"22\",24,IF('Page 3'!A36=\"24\",24,IF('Page 3'!A36=\"26\",24,IF('Page 3'!A36=\"28\",20,IF('Page 3'!A36=\"30\",20,IF('Page 3'!A36=\"32\",20,IF('Page 3'!A36=\"34\",20,IF('Page 3'!A36=\"36\",20,IF('Page 3'!A36=\"38\",20,IF('Page 3'!A36=\"40\",20,IF('Page 3'!A36=\"42\",20,IF('Page 3'!A36=\"44\",20,IF('Page 3'!A36=\"46\",20,IF('Page 3'!A36=\"48\",20,\"\"))))))))))))))))))))))","v":""},"2\""]
[null,null,{"$f":"IF(C4=8,\"08\",C3)","v":""},null,null,null,null,null,null,null,null,null,null,null,null,null,null,null,null,null,null,"STD",{"$f":"IF('Page 3'!A36=\"06\",26,IF('Page 3'!A36=\"08\",24,IF('Page 3'!A36=\"10\",24,IF('Page 3'!A36=\"12\",24,IF('Page 3'!A36=\"14\",24,IF('Page 3'!A36=\"16\",24,IF('Page 3'!A36=\"18\",24,IF('Page 3'!A36=\"20\",24,IF('Page 3'!A36=\"22\",20,IF('Page 3'!A36=\"24\",20,IF('Page 3'!A36=\"26\",20,IF('Page 3'!A36=\"28\",20,IF('Page 3'!A36=\"30\",20,IF('Page 3'!A36=\"32\",20,IF('Page 3'!A36=\"34\",20,IF('Page 3'!A36=\"36\",20,IF('Page 3'!A36=\"38\",20,IF('Page 3'!A36=\"40\",20,IF('Page 3'!A36=\"42\",20,IF('Page 3'!A36=\"44\",20,IF('Page 3'!A36=\"46\",20,IF('Page 3'!A36=\"48\",20,\"\"))))))))))))))))))))))","v":""},"4\""]
[null,null,null,null,null,null,null,null,null,null,null,null,null,null,null,null,null,null,"SS 316","STD",{"$f":"IF('Page 3'!A36=\"06\",24,IF('Page 3'!A36=\"08\",24,IF('Page 3'!A36=\"10\",24,IF('Page 3'!A36=\"12\",24,IF('Page 3'!A36=\"14\",24,IF('Page 3'!A36=\"16\",24,IF('Page 3'!A36=\"18\",24,IF('Page 3'!A36=\"20\",24,IF('Page 3'!A36=\"22\",24,IF('Page 3'!A36=\"24\",24,IF('Page 3'!A36=\"26\",24,IF('Page 3'!A36=\"28\",24,IF('Page 3'!A36=\"30\",20,IF('Page 3'!A36=\"32\",20,IF('Page 3'!A36=\"34\",20,IF('Page 3'!A36=\"36\",20,IF('Page 3'!A36=\"38\",20,IF('Page 3'!A36=\"40\",20,IF('Page 3'!A36=\"42\",20,IF('Page 3'!A36=\"44\",20,IF('Page 3'!A36=\"46\",20,IF('Page 3'!A36=\"48\",20,\"\"))))))))))))))))))))))","v":""},"STD",{"$f":"IF('Page 3'!A36=\"06\",24,IF('Page 3'!A36=\"08\",24,IF('Page 3'!A36=\"10\",24,IF('Page 3'!A36=\"12\",24,IF('Page 3'!A36=\"14\",24,IF('Page 3'!A36=\"16\",24,IF('Page 3'!A36=\"18\",24,IF('Page 3'!A36=\"20\",24,IF('Page 3'!A36=\"22\",24,IF('Page 3'!A36=\"24\",24,IF('Page 3'!A36=\"26\",24,IF('Page 3'!A36=\"28\",24,IF('Page 3'!A36=\"30\",20,IF('Page 3'!A36=\"32\",20,IF('Page 3'!A36=\"34\",20,IF('Page 3'!A36=\"36\",20,IF('Page 3'!A36=\"38\",20,IF('Page 3'!A36=\"40\",20,IF('Page 3'!A36=\"42\",20,IF('Page 3'!A36=\"44\",20,IF('Page 3'!A36=\"46\",20,IF('Page 3'!A36=\"48\",20,\"\"))))))))))))))))))))))","v":""},"1\"",null,{"$f":"IF('Page 3'!$H$20<>\"\",IF('Page 3'!$M$19<>\"\",IF('Page 3'!$K$22<>\"\",$W$6,\"\"),IF('Page 3'!$H$20<>\"\",IF('Page 3'!$M$20<>\"\",IF('Page 3'!$K$22<>\"\",$W$7,\"\"),IF('Page 3'!$H$20<>\"\",IF('Page 3'!$M$21<>\"\",IF('Page 3'!$K$22<>\"\",$W$8,\"\"),\"\"))))),\"\")","v":""},"SI 1\" OU 2\" OU 4\""]
[null,null,null,null,null,null,null,null,null,null,null,null,null,null,null,null,null,null,null,null,null,"STD",{"$f":"IF('Page 3'!A36=\"06\",24,IF('Page 3'!A36=\"08\",24,IF('Page 3'!A36=\"10\",24,IF('Page 3'!A36=\"12\",24,IF('Page 3'!A36=\"14\",24,IF('Page 3'!A36=\"16\",24,IF('Page 3'!A36=\"18\",24,IF('Page 3'!A36=\"20\",24,IF('Page 3'!A36=\"22\",24,IF('Page 3'!A36=\"24\",24,IF('Page 3'!A36=\"26\",24,IF('Page 3'!A36=\"28\",20,IF('Page 3'!A36=\"30\",20,IF('Page 3'!A36=\"32\",20,IF('Page 3'!A36=\"34\",20,IF('Page 3'!A36=\"36\",20,IF('Page 3'!A36=\"38\",20,IF('Page 3'!A36=\"40\",20,IF('Page 3'!A36=\"42\",20,IF('Page 3'!A36=\"44\",20,IF('Page 3'!A36=\"46\",20,IF('Page 3'!A36=\"48\",20,\"\"))))))))))))))))))))))","v":""},"2\""]
[null,null,null,null,null,null,null,null,null,null,null,null,null,null,null,null,null,null,null,null,null,"STD",{"$f":"IF('Page 3'!A36=\"06\",24,IF('Page 3'!A36=\"08\",24,IF('Page 3'!A36=\"10\",24,IF('Page 3'!A36=\"12\",24,IF('Page 3'!A36=\"14\",24,IF('Page 3'!A36=\"16\",24,IF('Page 3'!A36=\"18\",24,IF('Page 3'!A36=\"20\",24,IF('Page 3'!A36=\"22\",20,IF('Page 3'!A36=\"24\",20,IF('Page 3'!A36=\"26\",20,IF('Page 3'!A36=\"28\",20,IF('Page 3'!A36=\"30\",20,IF('Page 3'!A36=\"32\",20,IF('Page 3'!A36=\"34\",20,IF('Page 3'!A36=\"36\",20,IF('Page 3'!A36=\"38\",20,IF('Page 3'!A36=\"40\",20,IF('Page 3'!A36=\"42\",20,IF('Page 3'!A36=\"44\",20,IF('Page 3'!A36=\"46\",20,IF('Page 3'!A36=\"48\",20,\"\"))))))))))))))))))))))","v":""},"4\""]
[null,null,null,null,null,null,null,null,null,null,null,null,null,null,null,null,null,null,"GALVALUME STD",null,null,"GAL",{"$f":"IF('Page 3'!A36=\"06\",24,IF('Page 3'!A36=\"08\",24,IF('Page 3'!A36=\"10\",24,IF('Page 3'!A36=\"12\",24,IF('Page 3'!A36=\"14\",24,IF('Page 3'!A36=\"16\",24,IF('Page 3'!A36=\"18\",24,IF('Page 3'!A36=\"20\",24,IF('Page 3'!A36=\"22\",24,IF('Page 3'!A36=\"24\",24,IF('Page 3'!A36=\"26\",24,IF('Page 3'!A36=\"28\",24,IF('Page 3'!A36=\"30\",22,IF('Page 3'!A36=\"32\",22,IF('Page 3'!A36=\"34\",22,IF('Page 3'!A36=\"36\",22,IF('Page 3'!A36=\"38\",22,IF('Page 3'!A36=\"40\",22,IF('Page 3'!A36=\"42\",22,IF('Page 3'!A36=\"44\",22,IF('Page 3'!A36=\"46\",22,IF('Page 3'!A36=\"48\",22,\"\"))))))))))))))))))))))","v":""},"1\"",null,{"$f":"IF('Page 3'!$H$21<>\"\",IF('Page 3'!$M$19<>\"\",IF('Page 3'!$K$22<>\"\",$W$9,\"\"),IF('Page 3'!$H$21<>\"\",IF('Page 3'!$M$20<>\"\",IF('Page 3'!$K$22<>\"\",$W$10,\"\"),IF('Page 3'!$H$21<>\"\",IF('Page 3'!$M$21<>\"\",IF('Page 3'!$K$22<>\"\",$W$11,\"\"),\"\"))))),\"\")","v":""},"SI 1\" OU 2\" OU 4\""]
[null,null,null,null,null,null,null,null,null,null,null,null,null,null,null,null,null,null,null,null,null,"GAL",{"$f":"IF('Page 3'!A36=\"06\",24,IF('Page 3'!A36=\"08\",24,IF('Page 3'!A36=\"10\",24,IF('Page 3'!A36=\"12\",24,IF('Page 3'!A36=\"14\",24,IF('Page 3'!A36=\"16\",24,IF('Page 3'!A36=\"18\",24,IF('Page 3'!A36=\"20\",24,IF('Page 3'!A36=\"22\",24,IF('Page 3'!A36=\"24\",24,IF('Page 3'!A36=\"26\",24,IF('Page 3'!A36=\"28\",22,IF('Page 3'!A36=\"30\",22,IF('Page 3'!A36=\"32\",22,IF('Page 3'!A36=\"34\",22,IF('Page 3'!A36=\"36\",22,IF('Page 3'!A36=\"38\",22,IF('Page 3'!A36=\"40\",22,IF('Page 3'!A36=\"42\",22,IF('Page 3'!A36=\"44\",22,IF('Page 3'!A36=\"46\",22,IF('Page 3'!A36=\"48\",22,\"\"))))))))))))))))))))))","v":""},"2\""]
[null,null,null,null,null,null,null,null,null,null,null,null,"SyteLine","QTY",null,"VALIDATION",null,null,null,null,null,"GAL",{"$f":"IF('Page 3'!A36=\"06\",24,IF('Page 3'!A36=\"08\",24,IF('Page 3'!A36=\"10\",24,IF('Page 3'!A36=\"12\",24,IF('Page 3'!A36=\"14\",24,IF('Page 3'!A36=\"16\",24,IF('Page 3'!A36=\"18\",24,IF('Page 3'!A36=\"20\",24,IF('Page 3'!A36=\"22\",22,IF('Page 3'!A36=\"24\",22,IF('Page 3'!A36=\"26\",22,IF('Page 3'!A36=\"28\",22,IF('Page 3'!A36=\"30\",22,IF('Page 3'!A36=\"32\",22,IF('Page 3'!A36=\"34\",22,IF('Page 3'!A36=\"36\",22,IF('Page 3'!A36=\"38\",22,IF('Page 3'!A36=\"40\",22,IF('Page 3'!A36=\"42\",22,IF('Page 3'!A36=\"44\",22,IF('Page 3'!A36=\"46\",22,IF('Page 3'!A36=\"48\",22,\"\"))))))))))))))))))))))","v":""},"4\""]
[null,{"$f":"IF('Page 3'!$A$19<>\"\",\"V\",\"\")","v":""},{"$f":"IF('Page 3'!$A$36<>\"\",\"C\",\"\")","v":""},{"$f":"IF('Page 3'!$A$19<>\"\",\"-\",\"\")","v":""},{"$f":"IF('Page 3'!$A$19<>\"\",'Page 3'!$A$36,\"\")","v":""},{"$f":"IF('Page 3'!C36<>\"\",'Page 3'!D36,\"\")","v":""},{"$f":"IF('Page 3'!$D$19<>\"\",\"A\",IF('Page 3'!$D$20<>\"\",\"B\",\"\"))","v":""},{"$f":"IF('Page 3'!$F$19<>\"\",\"26\",IF('Page 3'!$F$20<>\"\",\"24\",IF('Page 3'!$F$21<>\"\",\"20\",IF('Page 3'!$D$19<>\"\",IF('Page 3'!$F$22<>\"\",$U$3,\"\"),IF('Page 3'!$D$20<>\"\",IF('Page 3'!$F$22<>\"\",$U$6,\"\"),\"\")))))","v":""},{"$f":"IF('Page 3'!$H$19<>\"\",\"A\",IF('Page 3'!$H$20<>\"\",\"B\",IF('Page 3'!$H$21<>\"\",\"C\",\"\")))","v":""},{"$f":"IF('Page 3'!$K$19<>\"\",\"26\",IF('Page 3'!$K$20<>\"\",\"24\",IF('Page 3'!$K$21<>\"\",\"20\",IF($Z$3<>\"\",$Z$3,IF($Z$6<>\"\",$Z$6,IF($Z$9<>\"\",$Z$9,\"\"))))))","v":""},{"$f":"IF('Page 3'!$M$19<>\"\",\"1\",IF('Page 3'!$M$20<>\"\",\"2\",IF('Page 3'!$M$21<>\"\",\"4\",\"\")))","v":""},null,{"$f":"IF('Page 3'!C36<>\"\",IF('Page 3'!D36<>\"\",CONCATENATE(B12,C12,D12,E12,F12,G12,H12,I12,J12,K12),\"\"),\"\")","v":""},{"$f":"IF('Page 3'!C36<>\"\",'Page 3'!C36,\"\")","v":""},null,{"$f":"IFERROR(VLOOKUP(LEFT(M12,20),Item_VIP!$A$2:$B$7499,1,FALSE),\"\")","v":""},null,"LENGTH D1, D2 & DB","SS 304","STD",{"$f":"IF('Page 3'!A36=\"06\",20,IF('Page 3'!A36=\"08\",20,IF('Page 3'!A36=\"10\",20,IF('Page 3'!A36=\"12\",20,IF('Page 3'!A36=\"14\",20,IF('Page 3'!A36=\"16\",20,IF('Page 3'!A36=\"18\",20,IF('Page 3'!A36=\"20\",20,IF('Page 3'!A36=\"22\",20,IF('Page 3'!A36=\"24\",20,IF('Page 3'!A36=\"26\",20,IF('Page 3'!A36=\"28\",20,IF('Page 3'!A36=\"30\",20,IF('Page 3'!A36=\"32\",20,IF('Page 3'!A36=\"34\",20,IF('Page 3'!A36=\"36\",20,IF('Page 3'!A36=\"38\",20,IF('Page 3'!A36=\"40\",20,IF('Page 3'!A36=\"42\",20,IF('Page 3'!A36=\"44\",20,IF('Page 3'!A36=\"46\",20,IF('Page 3'!A36=\"48\",20,\"\"))))))))))))))))))))))","v":""},"STD",{"$f":"IF('Page 3'!A36=\"06\",26,IF('Page 3'!A36=\"08\",26,IF('Page 3'!A36=\"10\",26,IF('Page 3'!A36=\"12\",26,IF('Page 3'!A36=\"14\",26,IF('Page 3'!A36=\"16\",24,IF('Page 3'!A36=\"18\",24,IF('Page 3'!A36=\"20\",24,IF('Page 3'!A36=\"22\",24,IF('Page 3'!A36=\"24\",24,IF('Page 3'!A36=\"26\",24,IF('Page 3'!A36=\"28\",24,IF('Page 3'!A36=\"30\",20,IF('Page 3'!A36=\"32\",20,IF('Page 3'!A36=\"34\",20,IF('Page 3'!A36=\"36\",20,IF('Page 3'!A36=\"38\",20,IF('Page 3'!A36=\"40\",20,IF('Page 3'!A36=\"42\",20,IF('Page 3'!A36=\"44\",20,IF('Page 3'!A36=\"46\",20,IF('Page 3'!A36=\"48\",20,\"\"))))))))))))))))))))))","v":""},"1\"",null,{"$f":"IF('Page 3'!$H$19<>\"\",IF('Page 3'!$M$19<>\"\",IF('Page 3'!$K$22<>\"\",$W$12,\"\"),IF('Page 3'!$H$19<>\"\",IF('Page 3'!$M$20<>\"\",IF('Page 3'!$K$22<>\"\",$W$13,\"\"),IF('Page 3'!$H$19<>\"\",IF('Page 3'!$M$21<>\"\",IF('Page 3'!$K$22<>\"\",$W$14,\"\"),\"\"))))),\"\")","v":""},"SI 1\" OU 2\" OU 4\""]
[null,{"$f":"IF('Page 3'!$A$19<>\"\",\"V\",\"\")","v":""},{"$f":"IF('Page 3'!$A$36<>\"\",\"C\",\"\")","v":""},{"$f":"IF('Page 3'!$A$19<>\"\",\"-\",\"\")","v":""},{"$f":"IF('Page 3'!$A$19<>\"\",'Page 3'!$A$36,\"\")","v":""},{"$f":"IF('Page 3'!C37<>\"\",'Page 3'!D37,\"\")","v":""},{"$f":"IF('Page 3'!$D$19<>\"\",\"A\",IF('Page 3'!$D$20<>\"\",\"B\",\"\"))","v":""},{"$f":"IF('Page 3'!$F$19<>\"\",\"26\",IF('Page 3'!$F$20<>\"\",\"24\",IF('Page 3'!$F$21<>\"\",\"20\",IF('Page 3'!$D$19<>\"\",IF('Page 3'!$F$22<>\"\",$U$3,\"\"),IF('Page 3'!$D$20<>\"\",IF('Page 3'!$F$22<>\"\",$U$6,\"\"),\"\")))))","v":""},{"$f":"IF('Page 3'!$H$19<>\"\",\"A\",IF('Page 3'!$H$20<>\"\",\"B\",IF('Page 3'!$H$21<>\"\",\"C\",\"\")))","v":""},{"$f":"IF('Page 3'!$K$19<>\"\",\"26\",IF('Page 3'!$K$20<>\"\",\"24\",IF('Page 3'!$K$21<>\"\",\"20\",IF($Z$3<>\"\",$Z$3,IF($Z$6<>\"\",$Z$6,IF($Z$9<>\"\",$Z$9,\"\"))))))","v":""},{"$f":"IF('Page 3'!$M$19<>\"\",\"1\",IF('Page 3'!$M$20<>\"\",\"2\",IF('Page 3'!$M$21<>\"\",\"4\",\"\")))","v":""},null,{"$f":"IF('Page 3'!C37<>\"\",IF('Page 3'!D37<>\"\",CONCATENATE(B13,C13,D13,E13,F13,G13,H13,I13,J13,K13),\"\"),\"\")","v":""},{"$f":"IF('Page 3'!C37<>\"\",'Page 3'!C37,\"\")","v":""},null,{"$f":"IFERROR(VLOOKUP(LEFT(M13,20),Item_VIP!$A$2:$B$7499,1,FALSE),\"\")","v":""},null,null,null,null,null,"STD",{"$f":"IF('Page 3'!A36=\"06\",26,IF('Page 3'!A36=\"08\",26,IF('Page 3'!A36=\"10\",26,IF('Page 3'!A36=\"12\",26,IF('Page 3'!A36=\"14\",24,IF('Page 3'!A36=\"16\",24,IF('Page 3'!A36=\"18\",24,IF('Page 3'!A36=\"20\",24,IF('Page 3'!A36=\"22\",24,IF('Page 3'!A36=\"24\",24,IF('Page 3'!A36=\"26\",24,IF('Page 3'!A36=\"28\",20,IF('Page 3'!A36=\"30\",20,IF('Page 3'!A36=\"32\",20,IF('Page 3'!A36=\"34\",20,IF('Page 3'!A36=\"36\",20,IF('Page 3'!A36=\"38\",20,IF('Page 3'!A36=\"40\",20,IF('Page 3'!A36=\"42\",20,IF('Page 3'!A36=\"44\",20,IF('Page 3'!A36=\"46\",20,IF('Page 3'!A36=\"48\",20,\"\"))))))))))))))))))))))","v":""},"2\""]
[null,{"$f":"IF('Page 3'!$A$19<>\"\",\"V\",\"\")","v":""},{"$f":"IF('Page 3'!$A$36<>\"\",\"C\",\"\")","v":""},{"$f":"IF('Page 3'!$A$19<>\"\",\"-\",\"\")","v":""},{"$f":"IF('Page 3'!$A$19<>\"\",'Page 3'!$A$36,\"\")","v":""},{"$f":"IF('Page 3'!C38<>\"\",'Page 3'!D38,\"\")","v":""},{"$f":"IF('Page 3'!$D$19<>\"\",\"A\",IF('Page 3'!$D$20<>\"\",\"B\",\"\"))","v":""},{"$f":"IF('Page 3'!$F$19<>\"\",\"26\",IF('Page 3'!$F$20<>\"\",\"24\",IF('Page 3'!$F$21<>\"\",\"20\",IF('Page 3'!$D$19<>\"\",IF('Page 3'!$F$22<>\"\",$U$3,\"\"),IF('Page 3'!$D$20<>\"\",IF('Page 3'!$F$22<>\"\",$U$6,\"\"),\"\")))))","v":""},{"$f":"IF('Page 3'!$H$19<>\"\",\"A\",IF('Page 3'!$H$20<>\"\",\"B\",IF('Page 3'!$H$21<>\"\",\"C\",\"\")))","v":""},{"$f":"IF('Page 3'!$K$19<>\"\",\"26\",IF('Page 3'!$K$20<>\"\",\"24\",IF('Page 3'!$K$21<>\"\",\"20\",IF($Z$3<>\"\",$Z$3,IF($Z$6<>\"\",$Z$6,IF($Z$9<>\"\",$Z$9,\"\"))))))","v":""},{"$f":"IF('Page 3'!$M$19<>\"\",\"1\",IF('Page 3'!$M$20<>\"\",\"2\",IF('Page 3'!$M$21<>\"\",\"4\",\"\")))","v":""},null,{"$f":"IF('Page 3'!C38<>\"\",IF('Page 3'!D38<>\"\",CONCATENATE(B14,C14,D14,E14,F14,G14,H14,I14,J14,K14),\"\"),\"\")","v":""},{"$f":"IF('Page 3'!C38<>\"\",'Page 3'!C38,\"\")","v":""},null,{"$f":"IFERROR(VLOOKUP(LEFT(M14,20),Item_VIP!$A$2:$B$7499,1,FALSE),\"\")","v":""},null,null,null,null,null,"STD",{"$f":"IF('Page 3'!A36=\"06\",26,IF('Page 3'!A36=\"08\",26,IF('Page 3'!A36=\"10\",24,IF('Page 3'!A36=\"12\",24,IF('Page 3'!A36=\"14\",24,IF('Page 3'!A36=\"16\",24,IF('Page 3'!A36=\"18\",24,IF('Page 3'!A36=\"20\",24,IF('Page 3'!A36=\"22\",20,IF('Page 3'!A36=\"24\",20,IF('Page 3'!A36=\"26\",20,IF('Page 3'!A36=\"28\",20,IF('Page 3'!A36=\"30\",20,IF('Page 3'!A36=\"32\",20,IF('Page 3'!A36=\"34\",20,IF('Page 3'!A36=\"36\",20,IF('Page 3'!A36=\"38\",20,IF('Page 3'!A36=\"40\",20,IF('Page 3'!A36=\"42\",20,IF('Page 3'!A36=\"44\",20,IF('Page 3'!A36=\"46\",20,IF('Page 3'!A36=\"48\",20,\"\"))))))))))))))))))))))","v":""},"4\""]
[null,{"$f":"IF('Page 3'!$A$19<>\"\",\"V\",\"\")","v":""},{"$f":"IF('Page 3'!$A$36<>\"\",\"C\",\"\")","v":""},{"$f":"IF('Page 3'!$A$19<>\"\",\"-\",\"\")","v":""},{"$f":"IF('Page 3'!$A$19<>\"\",'Page 3'!$A$36,\"\")","v":""},{"$f":"IF('Page 3'!C39<>\"\",'Page 3'!D39,\"\")","v":""},{"$f":"IF('Page 3'!$D$19<>\"\",\"A\",IF('Page 3'!$D$20<>\"\",\"B\",\"\"))","v":""},{"$f":"IF('Page 3'!$F$19<>\"\",\"26\",IF('Page 3'!$F$20<>\"\",\"24\",IF('Page 3'!$F$21<>\"\",\"20\",IF('Page 3'!$D$19<>\"\",IF('Page 3'!$F$22<>\"\",$U$3,\"\"),IF('Page 3'!$D$20<>\"\",IF('Page 3'!$F$22<>\"\",$U$6,\"\"),\"\")))))","v":""},{"$f":"IF('Page 3'!$H$19<>\"\",\"A\",IF('Page 3'!$H$20<>\"\",\"B\",IF('Page 3'!$H$21<>\"\",\"C\",\"\")))","v":""},{"$f":"IF('Page 3'!$K$19<>\"\",\"26\",IF('Page 3'!$K$20<>\"\",\"24\",IF('Page 3'!$K$21<>\"\",\"20\",IF($Z$3<>\"\",$Z$3,IF($Z$6<>\"\",$Z$6,IF($Z$9<>\"\",$Z$9,\"\"))))))","v":""},{"$f":"IF('Page 3'!$M$19<>\"\",\"1\",IF('Page 3'!$M$20<>\"\",\"2\",IF('Page 3'!$M$21<>\"\",\"4\",\"\")))","v":""},null,{"$f":"IF('Page 3'!C39<>\"\",IF('Page 3'!D39<>\"\",CONCATENATE(B15,C15,D15,E15,F15,G15,H15,I15,J15,K15),\"\"),\"\")","v":""},{"$f":"IF('Page 3'!C39<>\"\",'Page 3'!C39,\"\")","v":""},null,{"$f":"IFERROR(VLOOKUP(LEFT(M15,20),Item_VIP!$A$2:$B$7499,1,FALSE),\"\")","v":""},null,null,"SS 316","STD",{"$f":"IF('Page 3'!A36=\"06\",20,IF('Page 3'!A36=\"08\",20,IF('Page 3'!A36=\"10\",20,IF('Page 3'!A36=\"12\",20,IF('Page 3'!A36=\"14\",20,IF('Page 3'!A36=\"16\",20,IF('Page 3'!A36=\"18\",20,IF('Page 3'!A36=\"20\",20,IF('Page 3'!A36=\"22\",20,IF('Page 3'!A36=\"24\",24,IF('Page 3'!A36=\"26\",20,IF('Page 3'!A36=\"28\",20,IF('Page 3'!A36=\"30\",20,IF('Page 3'!A36=\"32\",20,IF('Page 3'!A36=\"34\",20,IF('Page 3'!A36=\"36\",20,IF('Page 3'!A36=\"38\",20,IF('Page 3'!A36=\"40\",20,IF('Page 3'!A36=\"42\",20,IF('Page 3'!A36=\"44\",20,IF('Page 3'!A36=\"46\",20,IF('Page 3'!A36=\"48\",20,\"\"))))))))))))))))))))))","v":""},"STD",{"$f":"IF('Page 3'!A36=\"06\",24,IF('Page 3'!A36=\"08\",24,IF('Page 3'!A36=\"10\",24,IF('Page 3'!A36=\"12\",24,IF('Page 3'!A36=\"14\",24,IF('Page 3'!A36=\"16\",24,IF('Page 3'!A36=\"18\",24,IF('Page 3'!A36=\"20\",24,IF('Page 3'!A36=\"22\",24,IF('Page 3'!A36=\"24\",24,IF('Page 3'!A36=\"26\",24,IF('Page 3'!A36=\"28\",24,IF('Page 3'!A36=\"30\",20,IF('Page 3'!A36=\"32\",20,IF('Page 3'!A36=\"34\",20,IF('Page 3'!A36=\"36\",20,IF('Page 3'!A36=\"38\",20,IF('Page 3'!A36=\"40\",20,IF('Page 3'!A36=\"42\",20,IF('Page 3'!A36=\"44\",20,IF('Page 3'!A36=\"46\",20,IF('Page 3'!A36=\"48\",20,\"\"))))))))))))))))))))))","v":""},"1\"",null,{"$f":"IF('Page 3'!$H$20<>\"\",IF('Page 3'!$M$19<>\"\",IF('Page 3'!$K$22<>\"\",$W$15,\"\"),IF('Page 3'!$H$20<>\"\",IF('Page 3'!$M$20<>\"\",IF('Page 3'!$K$22<>\"\",$W$16,\"\"),IF('Page 3'!$H$20<>\"\",IF('Page 3'!$M$21<>\"\",IF('Page 3'!$K$22<>\"\",$W$17,\"\"),\"\"))))),\"\")","v":""},"SI 1\" OU 2\" OU 4\""]
[null,{"$f":"IF('Page 3'!$A$19<>\"\",\"V\",\"\")","v":""},"S",{"$f":"IF('Page 3'!$A$19<>\"\",\"-\",\"\")","v":""},{"$f":"IF('Page 3'!$A$19<>\"\",'Page 3'!$A$36,\"\")","v":""},{"$f":"IF('Page 3'!C40<>\"\",'Page 3'!D40,\"\")","v":""},{"$f":"IF('Page 3'!$D$19<>\"\",\"A\",IF('Page 3'!$D$20<>\"\",\"B\",\"\"))","v":""},20,{"$f":"IF('Page 3'!$H$19<>\"\",\"A\",IF('Page 3'!$H$20<>\"\",\"B\",IF('Page 3'!$H$21<>\"\",\"C\",\"\")))","v":""},{"$f":"IF('Page 3'!$K$20<>\"\",\"24\",IF('Page 3'!$K$21<>\"\",\"20\",IF($Z$21<>\"\",$Z$21,IF($Z$24<>\"\",$Z$24,IF($Z$27<>\"\",$Z$27,\"\")))))","v":""},{"$f":"IF('Page 3'!$M$19<>\"\",\"1\",IF('Page 3'!$M$20<>\"\",\"2\",IF('Page 3'!$M$21<>\"\",\"4\",\"\")))","v":""},"-SP",{"$f":"IF('Page 3'!C40<>\"\",IF('Page 3'!D40<>\"\",CONCATENATE(B16,C16,D16,E16,F16,G16,H16,I16,J16,K16,L16),\"\"),\"\")","v":""},{"$f":"IF('Page 3'!C40<>\"\",'Page 3'!C40,\"\")","v":""},null,{"$f":"IFERROR(VLOOKUP(LEFT(M16,20),Item_VIP!$A$2:$B$7499,1,FALSE),\"\")","v":""},null,null,null,null,null,"STD",{"$f":"IF('Page 3'!A36=\"06\",24,IF('Page 3'!A36=\"08\",24,IF('Page 3'!A36=\"10\",24,IF('Page 3'!A36=\"12\",24,IF('Page 3'!A36=\"14\",24,IF('Page 3'!A36=\"16\",24,IF('Page 3'!A36=\"18\",24,IF('Page 3'!A36=\"20\",24,IF('Page 3'!A36=\"22\",24,IF('Page 3'!A36=\"24\",24,IF('Page 3'!A36=\"26\",24,IF('Page 3'!A36=\"28\",20,IF('Page 3'!A36=\"30\",20,IF('Page 3'!A36=\"32\",20,IF('Page 3'!A36=\"34\",20,IF('Page 3'!A36=\"36\",20,IF('Page 3'!A36=\"38\",20,IF('Page 3'!A36=\"40\",20,IF('Page 3'!A36=\"42\",20,IF('Page 3'!A36=\"44\",20,IF('Page 3'!A36=\"46\",20,IF('Page 3'!A36=\"48\",20,\"\"))))))))))))))))))))))","v":""},"2\""]
[null,{"$f":"IF('Page 3'!$A$19<>\"\",\"V\",\"\")","v":""},{"$f":"IF('Page 3'!$A$36<>\"\",\"C\",\"\")","v":""},{"$f":"IF('Page 3'!$A$19<>\"\",\"-\",\"\")","v":""},{"$f":"IF('Page 3'!$A$19<>\"\",'Page 3'!$A$36,\"\")","v":""},{"$f":"IF('Page 3'!C41<>\"\",'Page 3'!D41,\"\")","v":""},{"$f":"IF('Page 3'!$D$19<>\"\",\"A\",IF('Page 3'!$D$20<>\"\",\"B\",\"\"))","v":""},{"$f":"IF('Page 3'!$F$19<>\"\",\"26\",IF('Page 3'!$F$20<>\"\",\"24\",IF('Page 3'!$F$21<>\"\",\"20\",IF('Page 3'!$D$19<>\"\",IF('Page 3'!$F$22<>\"\",$U$3,\"\"),IF('Page 3'!$D$20<>\"\",IF('Page 3'!$F$22<>\"\",$U$6,\"\"),\"\")))))","v":""},{"$f":"IF('Page 3'!$H$19<>\"\",\"A\",IF('Page 3'!$H$20<>\"\",\"B\",IF('Page 3'!$H$21<>\"\",\"C\",\"\")))","v":""},{"$f":"IF('Page 3'!$K$19<>\"\",\"26\",IF('Page 3'!$K$20<>\"\",\"24\",IF('Page 3'!$K$21<>\"\",\"20\",IF($Z$3<>\"\",$Z$3,IF($Z$6<>\"\",$Z$6,IF($Z$9<>\"\",$Z$9,\"\"))))))","v":""},{"$f":"IF('Page 3'!$M$19<>\"\",\"1\",IF('Page 3'!$M$20<>\"\",\"2\",IF('Page 3'!$M$21<>\"\",\"4\",\"\")))","v":""},null,{"$f":"IF('Page 3'!C41<>\"\",IF('Page 3'!D41<>\"\",CONCATENATE(B17,C17,D17,E17,F17,G17,H17,I17,J17,K17),\"\"),\"\")","v":""},{"$f":"IF('Page 3'!C41<>\"\",'Page 3'!C41,\"\")","v":""},null,{"$f":"IFERROR(VLOOKUP(LEFT(M17,20),Item_VIP!$A$2:$B$7499,1,FALSE),\"\")","v":""},null,null,null,null,null,"STD",{"$f":"IF('Page 3'!A36=\"06\",24,IF('Page 3'!A36=\"08\",24,IF('Page 3'!A36=\"10\",24,IF('Page 3'!A36=\"12\",24,IF('Page 3'!A36=\"14\",24,IF('Page 3'!A36=\"16\",24,IF('Page 3'!A36=\"18\",24,IF('Page 3'!A36=\"20\",24,IF('Page 3'!A36=\"22\",20,IF('Page 3'!A36=\"24\",20,IF('Page 3'!A36=\"26\",20,IF('Page 3'!A36=\"28\",20,IF('Page 3'!A36=\"30\",20,IF('Page 3'!A36=\"32\",20,IF('Page 3'!A36=\"34\",20,IF('Page 3'!A36=\"36\",20,IF('Page 3'!A36=\"38\",20,IF('Page 3'!A36=\"40\",20,IF('Page 3'!A36=\"42\",20,IF('Page 3'!A36=\"44\",20,IF('Page 3'!A36=\"46\",20,IF('Page 3'!A36=\"48\",20,\"\"))))))))))))))))))))))","v":""},"4\""]
[null,{"$f":"IF('Page 3'!$A$19<>\"\",\"V\",\"\")","v":""},{"$f":"IF('Page 3'!$A$36<>\"\",\"C\",\"\")","v":""},{"$f":"IF('Page 3'!$A$19<>\"\",\"-\",\"\")","v":""},{"$f":"IF('Page 3'!$A$19<>\"\",'Page 3'!$A$36,\"\")","v":""},{"$f":"IF('Page 3'!C42<>\"\",'Page 3'!D42,\"\")","v":""},{"$f":"IF('Page 3'!$D$19<>\"\",\"A\",IF('Page 3'!$D$20<>\"\",\"B\",\"\"))","v":""},{"$f":"IF('Page 3'!$F$19<>\"\",\"26\",IF('Page 3'!$F$20<>\"\",\"24\",IF('Page 3'!$F$21<>\"\",\"20\",IF('Page 3'!$D$19<>\"\",IF('Page 3'!$F$22<>\"\",$U$3,\"\"),IF('Page 3'!$D$20<>\"\",IF('Page 3'!$F$22<>\"\",$U$6,\"\"),\"\")))))","v":""},{"$f":"IF('Page 3'!$H$19<>\"\",\"A\",IF('Page 3'!$H$20<>\"\",\"B\",IF('Page 3'!$H$21<>\"\",\"C\",\"\")))","v":""},{"$f":"IF('Page 3'!$K$19<>\"\",\"26\",IF('Page 3'!$K$20<>\"\",\"24\",IF('Page 3'!$K$21<>\"\",\"20\",IF($Z$3<>\"\",$Z$3,IF($Z$6<>\"\",$Z$6,IF($Z$9<>\"\",$Z$9,\"\"))))))","v":""},{"$f":"IF('Page 3'!$M$19<>\"\",\"1\",IF('Page 3'!$M$20<>\"\",\"2\",IF('Page 3'!$M$21<>\"\",\"4\",\"\")))","v":""},null,{"$f":"IF('Page 3'!C42<>\"\",IF('Page 3'!D42<>\"\",CONCATENATE(B18,C18,D18,E18,F18,G18,H18,I18,J18,K18),\"\"),\"\")","v":""},{"$f":"IF('Page 3'!C42<>\"\",'Page 3'!C42,\"\")","v":""},null,{"$f":"IFERROR(VLOOKUP(LEFT(M18,20),Item_VIP!$A$2:$B$7499,1,FALSE),\"\")","v":""},null,null,"GALVALUME STD",null,null,"GAL",{"$f":"IF('Page 3'!A36=\"06\",24,IF('Page 3'!A36=\"08\",24,IF('Page 3'!A36=\"10\",24,IF('Page 3'!A36=\"12\",24,IF('Page 3'!A36=\"14\",24,IF('Page 3'!A36=\"16\",24,IF('Page 3'!A36=\"18\",24,IF('Page 3'!A36=\"20\",24,IF('Page 3'!A36=\"22\",24,IF('Page 3'!A36=\"24\",24,IF('Page 3'!A36=\"26\",24,IF('Page 3'!A36=\"28\",24,IF('Page 3'!A36=\"30\",22,IF('Page 3'!A36=\"32\",22,IF('Page 3'!A36=\"34\",22,IF('Page 3'!A36=\"36\",22,IF('Page 3'!A36=\"38\",22,IF('Page 3'!A36=\"40\",22,IF('Page 3'!A36=\"42\",22,IF('Page 3'!A36=\"44\",22,IF('Page 3'!A36=\"46\",22,IF('Page 3'!A36=\"48\",22,\"\"))))))))))))))))))))))","v":""},"1\"",null,{"$f":"IF('Page 3'!$H$21<>\"\",IF('Page 3'!$M$19<>\"\",IF('Page 3'!$K$22<>\"\",$W$18,\"\"),IF('Page 3'!$H$21<>\"\",IF('Page 3'!$M$20<>\"\",IF('Page 3'!$K$22<>\"\",$W$19,\"\"),IF('Page 3'!$H$21<>\"\",IF('Page 3'!$M$21<>\"\",IF('Page 3'!$K$22<>\"\",$W$20,\"\"),\"\"))))),\"\")","v":""},"SI 1\" OU 2\" OU 4\""]
[null,{"$f":"IF('Page 3'!$A$19<>\"\",\"V\",\"\")","v":""},{"$f":"IF('Page 3'!$A$36<>\"\",\"C\",\"\")","v":""},{"$f":"IF('Page 3'!$A$19<>\"\",\"-\",\"\")","v":""},{"$f":"IF('Page 3'!$A$19<>\"\",'Page 3'!$A$36,\"\")","v":""},{"$f":"IF('Page 3'!C43<>\"\",'Page 3'!D43,\"\")","v":""},{"$f":"IF('Page 3'!$D$19<>\"\",\"A\",IF('Page 3'!$D$20<>\"\",\"B\",\"\"))","v":""},{"$f":"IF('Page 3'!$F$21<>\"\",\"20\",IF('Page 3'!$D$19<>\"\",IF('Page 3'!$F$22<>\"\",$U$12,\"\"),IF('Page 3'!$D$20<>\"\",IF('Page 3'!$F$22<>\"\",$U$15,\"\"),\"\")))","v":""},{"$f":"IF('Page 3'!$H$19<>\"\",\"A\",IF('Page 3'!$H$20<>\"\",\"B\",IF('Page 3'!$H$21<>\"\",\"C\",\"\")))","v":""},{"$f":"IF('Page 3'!$K$19<>\"\",\"26\",IF('Page 3'!$K$20<>\"\",\"24\",IF('Page 3'!$K$21<>\"\",\"20\",IF($Z$12<>\"\",$Z$12,IF($Z$15<>\"\",$Z$15,IF($Z$18<>\"\",$Z$18,\"\"))))))","v":""},{"$f":"IF('Page 3'!$M$19<>\"\",\"1\",IF('Page 3'!$M$20<>\"\",\"2\",IF('Page 3'!$M$21<>\"\",\"4\",\"\")))","v":""},null,{"$f":"IF('Page 3'!C43<>\"\",IF('Page 3'!D43<>\"\",CONCATENATE(B19,C19,D19,E19,F19,G19,H19,I19,J19,K19),\"\"),\"\")","v":""},{"$f":"IF('Page 3'!C43<>\"\",'Page 3'!C43,\"\")","v":""},null,{"$f":"IFERROR(VLOOKUP(LEFT(M19,20),Item_VIP!$A$2:$B$7499,1,FALSE),\"\")","v":""},null,null,null,null,null,"GAL",{"$f":"IF('Page 3'!A36=\"06\",24,IF('Page 3'!A36=\"08\",24,IF('Page 3'!A36=\"10\",24,IF('Page 3'!A36=\"12\",24,IF('Page 3'!A36=\"14\",24,IF('Page 3'!A36=\"16\",24,IF('Page 3'!A36=\"18\",24,IF('Page 3'!A36=\"20\",24,IF('Page 3'!A36=\"22\",24,IF('Page 3'!A36=\"24\",24,IF('Page 3'!A36=\"26\",24,IF('Page 3'!A36=\"28\",22,IF('Page 3'!A36=\"30\",22,IF('Page 3'!A36=\"32\",22,IF('Page 3'!A36=\"34\",22,IF('Page 3'!A36=\"36\",22,IF('Page 3'!A36=\"38\",22,IF('Page 3'!A36=\"40\",22,IF('Page 3'!A36=\"42\",22,IF('Page 3'!A36=\"44\",22,IF('Page 3'!A36=\"46\",22,IF('Page 3'!A36=\"48\",22,\"\"))))))))))))))))))))))","v":""},"2\""]
[null,{"$f":"IF('Page 3'!$A$19<>\"\",\"V\",\"\")","v":""},{"$f":"IF('Page 3'!$A$36<>\"\",\"C\",\"\")","v":""},{"$f":"IF('Page 3'!$A$19<>\"\",\"-\",\"\")","v":""},{"$f":"IF('Page 3'!$A$19<>\"\",'Page 3'!$A$36,\"\")","v":""},{"$f":"IF('Page 3'!C44<>\"\",'Page 3'!D44,\"\")","v":""},{"$f":"IF('Page 3'!$D$19<>\"\",\"A\",IF('Page 3'!$D$20<>\"\",\"B\",\"\"))","v":""},{"$f":"IF('Page 3'!$F$21<>\"\",\"20\",IF('Page 3'!$D$19<>\"\",IF('Page 3'!$F$22<>\"\",$U$12,\"\"),IF('Page 3'!$D$20<>\"\",IF('Page 3'!$F$22<>\"\",$U$15,\"\"),\"\")))","v":""},{"$f":"IF('Page 3'!$H$19<>\"\",\"A\",IF('Page 3'!$H$20<>\"\",\"B\",IF('Page 3'!$H$21<>\"\",\"C\",\"\")))","v":""},{"$f":"IF('Page 3'!$K$19<>\"\",\"26\",IF('Page 3'!$K$20<>\"\",\"24\",IF('Page 3'!$K$21<>\"\",\"20\",IF($Z$12<>\"\",$Z$12,IF($Z$15<>\"\",$Z$15,IF($Z$18<>\"\",$Z$18,\"\"))))))","v":""},{"$f":"IF('Page 3'!$M$19<>\"\",\"1\",IF('Page 3'!$M$20<>\"\",\"2\",IF('Page 3'!$M$21<>\"\",\"4\",\"\")))","v":""},null,{"$f":"IF('Page 3'!C44<>\"\",IF('Page 3'!D44<>\"\",CONCATENATE(B20,C20,D20,E20,F20,G20,H20,I20,J20,K20),\"\"),\"\")","v":""},{"$f":"IF('Page 3'!C44<>\"\",'Page 3'!C44,\"\")","v":""},null,{"$f":"IFERROR(VLOOKUP(LEFT(M20,20),Item_VIP!$A$2:$B$7499,1,FALSE),\"\")","v":""},null,null,null,null,null,"GAL",{"$f":"IF('Page 3'!A36=\"06\",24,IF('Page 3'!A36=\"08\",24,IF('Page 3'!A36=\"10\",24,IF('Page 3'!A36=\"12\",24,IF('Page 3'!A36=\"14\",24,IF('Page 3'!A36=\"16\",24,IF('Page 3'!A36=\"18\",24,IF('Page 3'!A36=\"20\",24,IF('Page 3'!A36=\"22\",22,IF('Page 3'!A36=\"24\",22,IF('Page 3'!A36=\"26\",22,IF('Page 3'!A36=\"28\",22,IF('Page 3'!A36=\"30\",22,IF('Page 3'!A36=\"32\",22,IF('Page 3'!A36=\"34\",22,IF('Page 3'!A36=\"36\",22,IF('Page 3'!A36=\"38\",22,IF('Page 3'!A36=\"40\",22,IF('Page 3'!A36=\"42\",22,IF('Page 3'!A36=\"44\",22,IF('Page 3'!A36=\"46\",22,IF('Page 3'!A36=\"48\",22,\"\"))))))))))))))))))))))","v":""},"4\""]
[null,{"$f":"IF('Page 3'!$A$19<>\"\",\"V\",\"\")","v":""},{"$f":"IF('Page 3'!$A$36<>\"\",\"C\",\"\")","v":""},{"$f":"IF('Page 3'!$A$19<>\"\",\"-\",\"\")","v":""},{"$f":"IF('Page 3'!$A$19<>\"\",'Page 3'!$A$36,\"\")","v":""},{"$f":"IF('Page 3'!C45<>\"\",'Page 3'!D45,\"\")","v":""},{"$f":"IF('Page 3'!$D$19<>\"\",\"A\",IF('Page 3'!$D$20<>\"\",\"B\",\"\"))","v":""},{"$f":"IF('Page 3'!$F$21<>\"\",\"20\",IF('Page 3'!$D$19<>\"\",IF('Page 3'!$F$22<>\"\",$U$12,\"\"),IF('Page 3'!$D$20<>\"\",IF('Page 3'!$F$22<>\"\",$U$15,\"\"),\"\")))","v":""},{"$f":"IF('Page 3'!$H$19<>\"\",\"A\",IF('Page 3'!$H$20<>\"\",\"B\",IF('Page 3'!$H$21<>\"\",\"C\",\"\")))","v":""},{"$f":"IF('Page 3'!$K$19<>\"\",\"26\",IF('Page 3'!$K$20<>\"\",\"24\",IF('Page 3'!$K$21<>\"\",\"20\",IF($Z$12<>\"\",$Z$12,IF($Z$15<>\"\",$Z$15,IF($Z$18<>\"\",$Z$18,\"\"))))))","v":""},{"$f":"IF('Page 3'!$M$19<>\"\",\"1\",IF('Page 3'!$M$20<>\"\",\"2\",IF('Page 3'!$M$21<>\"\",\"4\",\"\")))","v":""},null,{"$f":"IF('Page 3'!C45<>\"\",IF('Page 3'!D45<>\"\",CONCATENATE(B21,C21,D21,E21,F21,G21,H21,I21,J21,K21),\"\"),\"\")","v":""},{"$f":"IF('Page 3'!C45<>\"\",'Page 3'!C45,\"\")","v":""},null,{"$f":"IFERROR(VLOOKUP(LEFT(M21,20),Item_VIP!$A$2:$B$7499,1,FALSE),\"\")","v":""},null,"ELBOW","SS 304","STD",{"$f":"IF('Page 3'!A47=\"06\",24,IF('Page 3'!A47=\"08\",24,IF('Page 3'!A47=\"10\",24,IF('Page 3'!A47=\"12\",24,IF('Page 3'!A47=\"14\",24,IF('Page 3'!A47=\"16\",24,IF('Page 3'!A47=\"18\",24,IF('Page 3'!A47=\"20\",24,IF('Page 3'!A47=\"22\",24,IF('Page 3'!A47=\"24\",24,IF('Page 3'!A47=\"26\",24,IF('Page 3'!A47=\"28\",24,IF('Page 3'!A47=\"30\",20,IF('Page 3'!A47=\"32\",20,IF('Page 3'!A47=\"34\",20,IF('Page 3'!A47=\"36\",20,IF('Page 3'!A47=\"38\",20,IF('Page 3'!A47=\"40\",20,IF('Page 3'!A47=\"42\",20,IF('Page 3'!A47=\"44\",20,IF('Page 3'!A47=\"46\",20,IF('Page 3'!A47=\"48\",20,\"\"))))))))))))))))))))))","v":""},"STD",{"$f":"IF('Page 3'!A47=\"06\",24,IF('Page 3'!A47=\"08\",24,IF('Page 3'!A47=\"10\",24,IF('Page 3'!A47=\"12\",24,IF('Page 3'!A47=\"14\",24,IF('Page 3'!A47=\"16\",24,IF('Page 3'!A47=\"18\",24,IF('Page 3'!A47=\"20\",24,IF('Page 3'!A47=\"22\",24,IF('Page 3'!A47=\"24\",24,IF('Page 3'!A47=\"26\",24,IF('Page 3'!A47=\"28\",24,IF('Page 3'!A47=\"30\",20,IF('Page 3'!A47=\"32\",20,IF('Page 3'!A47=\"34\",20,IF('Page 3'!A47=\"36\",20,IF('Page 3'!A47=\"38\",20,IF('Page 3'!A47=\"40\",20,IF('Page 3'!A47=\"42\",20,IF('Page 3'!A47=\"44\",20,IF('Page 3'!A47=\"46\",20,IF('Page 3'!A47=\"48\",20,\"\"))))))))))))))))))))))","v":""},"1\"",null,{"$f":"IF('Page 3'!$H$19<>\"\",IF('Page 3'!$M$19<>\"\",IF('Page 3'!$K$22<>\"\",$W$21,\"\"),IF('Page 3'!$H$19<>\"\",IF('Page 3'!$M$20<>\"\",IF('Page 3'!$K$22<>\"\",$W$22,\"\"),IF('Page 3'!$H$19<>\"\",IF('Page 3'!$M$21<>\"\",IF('Page 3'!$K$22<>\"\",$W$23,\"\"),\"\"))))),\"\")","v":""},"SI 1\" OU 2\" OU 4\""]
[null,{"$f":"IF('Page 3'!$A$19<>\"\",\"V\",\"\")","v":""},{"$f":"IF('Page 3'!$A$47<>\"\",\"E\",\"\")","v":""},{"$f":"IF('Page 3'!$A$19<>\"\",\"-\",\"\")","v":""},{"$f":"IF('Page 3'!$A$19<>\"\",'Page 3'!$A$47,\"\")","v":""},{"$f":"IF('Page 3'!$C$47<>\"\",'Page 3'!D47,\"\")","v":""},{"$f":"IF('Page 3'!$D$19<>\"\",\"A\",IF('Page 3'!$D$20<>\"\",\"B\",\"\"))","v":""},{"$f":"IF('Page 3'!$F$20<>\"\",\"24\",IF('Page 3'!$F$21<>\"\",\"20\",IF('Page 3'!$D$19<>\"\",IF('Page 3'!$F$22<>\"\",$U$21,\"\"),IF('Page 3'!$D$20<>\"\",IF('Page 3'!$F$22<>\"\",$U$24,\"\"),\"\"))))","v":""},{"$f":"IF('Page 3'!$H$19<>\"\",\"A\",IF('Page 3'!$H$20<>\"\",\"B\",IF('Page 3'!$H$21<>\"\",\"C\",\"\")))","v":""},{"$f":"IF('Page 3'!$K$20<>\"\",\"24\",IF('Page 3'!$K$21<>\"\",\"20\",IF($Z$21<>\"\",$Z$21,IF($Z$24<>\"\",$Z$24,IF($Z$27<>\"\",$Z$27,\"\")))))","v":""},{"$f":"IF('Page 3'!$M$19<>\"\",\"1\",IF('Page 3'!$M$20<>\"\",\"2\",IF('Page 3'!$M$21<>\"\",\"4\",\"\")))","v":""},null,{"$f":"IF('Page 3'!$C$47<>\"\",IF('Page 3'!$D$47<>\"\",CONCATENATE(B22,C22,D22,E22,F22,G22,H22,I22,J22,K22),\"\"),\"\")","v":""},{"$f":"IF('Page 3'!C47<>\"\",'Page 3'!C47,\"\")","v":""},null,{"$f":"IFERROR(VLOOKUP(LEFT(M22,20),Item_VIP!$A$2:$B$7499,1,FALSE),\"\")","v":""},null,null,null,null,null,"STD",{"$f":"IF('Page 3'!A47=\"06\",24,IF('Page 3'!A47=\"08\",24,IF('Page 3'!A47=\"10\",24,IF('Page 3'!A47=\"12\",24,IF('Page 3'!A47=\"14\",24,IF('Page 3'!A47=\"16\",24,IF('Page 3'!A47=\"18\",24,IF('Page 3'!A47=\"20\",24,IF('Page 3'!A47=\"22\",24,IF('Page 3'!A47=\"24\",24,IF('Page 3'!A47=\"26\",24,IF('Page 3'!A47=\"28\",20,IF('Page 3'!A47=\"30\",20,IF('Page 3'!A47=\"32\",20,IF('Page 3'!A47=\"34\",20,IF('Page 3'!A47=\"36\",20,IF('Page 3'!A47=\"38\",20,IF('Page 3'!A47=\"40\",20,IF('Page 3'!A47=\"42\",20,IF('Page 3'!A47=\"44\",20,IF('Page 3'!A47=\"46\",20,IF('Page 3'!A47=\"48\",20,\"\"))))))))))))))))))))))","v":""},"2\""]
[null,{"$f":"IF('Page 3'!$A$19<>\"\",\"V\",\"\")","v":""},{"$f":"IF('Page 3'!$A$47<>\"\",\"E\",\"\")","v":""},{"$f":"IF('Page 3'!$A$19<>\"\",\"-\",\"\")","v":""},{"$f":"IF('Page 3'!$A$19<>\"\",'Page 3'!$A$47,\"\")","v":""},{"$f":"IF('Page 3'!$C$48<>\"\",'Page 3'!D48,\"\")","v":""},{"$f":"IF('Page 3'!$D$19<>\"\",\"A\",IF('Page 3'!$D$20<>\"\",\"B\",\"\"))","v":""},{"$f":"IF('Page 3'!$F$20<>\"\",\"24\",IF('Page 3'!$F$21<>\"\",\"20\",IF('Page 3'!$D$19<>\"\",IF('Page 3'!$F$22<>\"\",$U$21,\"\"),IF('Page 3'!$D$20<>\"\",IF('Page 3'!$F$22<>\"\",$U$24,\"\"),\"\"))))","v":""},{"$f":"IF('Page 3'!$H$19<>\"\",\"A\",IF('Page 3'!$H$20<>\"\",\"B\",IF('Page 3'!$H$21<>\"\",\"C\",\"\")))","v":""},{"$f":"IF('Page 3'!$K$20<>\"\",\"24\",IF('Page 3'!$K$21<>\"\",\"20\",IF($Z$21<>\"\",$Z$21,IF($Z$24<>\"\",$Z$24,IF($Z$27<>\"\",$Z$27,\"\")))))","v":""},{"$f":"IF('Page 3'!$M$19<>\"\",\"1\",IF('Page 3'!$M$20<>\"\",\"2\",IF('Page 3'!$M$21<>\"\",\"4\",\"\")))","v":""},null,{"$f":"IF('Page 3'!$C$48<>\"\",CONCATENATE(B23,C23,D23,E23,F23,G23,H23,I23,J23,K23),\"\")","v":""},{"$f":"IF('Page 3'!C48<>\"\",'Page 3'!C48,\"\")","v":""},null,{"$f":"IFERROR(VLOOKUP(LEFT(M23,20),Item_VIP!$A$2:$B$7499,1,FALSE),\"\")","v":""},null,null,null,null,null,"STD",{"$f":"IF('Page 3'!A47=\"06\",26,IF('Page 3'!A47=\"08\",26,IF('Page 3'!A47=\"10\",24,IF('Page 3'!A47=\"12\",24,IF('Page 3'!A47=\"14\",24,IF('Page 3'!A47=\"16\",24,IF('Page 3'!A47=\"18\",24,IF('Page 3'!A47=\"20\",24,IF('Page 3'!A47=\"22\",20,IF('Page 3'!A47=\"24\",20,IF('Page 3'!A47=\"26\",20,IF('Page 3'!A47=\"28\",20,IF('Page 3'!A47=\"30\",20,IF('Page 3'!A47=\"32\",20,IF('Page 3'!A47=\"34\",20,IF('Page 3'!A47=\"36\",20,IF('Page 3'!A47=\"38\",20,IF('Page 3'!A47=\"40\",20,IF('Page 3'!A47=\"42\",20,IF('Page 3'!A47=\"44\",20,IF('Page 3'!A47=\"46\",20,IF('Page 3'!A47=\"48\",20,\"\"))))))))))))))))))))))","v":""},"4\""]
[null,{"$f":"IF('Page 3'!$A$19<>\"\",\"V\",\"\")","v":""},{"$f":"IF('Page 3'!$A$47<>\"\",\"E\",\"\")","v":""},{"$f":"IF('Page 3'!$A$19<>\"\",\"-\",\"\")","v":""},{"$f":"IF('Page 3'!$A$19<>\"\",'Page 3'!$A$47,\"\")","v":""},{"$f":"IF('Page 3'!$C$49<>\"\",'Page 3'!D49,\"\")","v":""},{"$f":"IF('Page 3'!$D$19<>\"\",\"A\",IF('Page 3'!$D$20<>\"\",\"B\",\"\"))","v":""},{"$f":"IF('Page 3'!$F$20<>\"\",\"24\",IF('Page 3'!$F$21<>\"\",\"20\",IF('Page 3'!$D$19<>\"\",IF('Page 3'!$F$22<>\"\",$U$21,\"\"),IF('Page 3'!$D$20<>\"\",IF('Page 3'!$F$22<>\"\",$U$24,\"\"),\"\"))))","v":""},{"$f":"IF('Page 3'!$H$19<>\"\",\"A\",IF('Page 3'!$H$20<>\"\",\"B\",IF('Page 3'!$H$21<>\"\",\"C\",\"\")))","v":""},{"$f":"IF('Page 3'!$K$20<>\"\",\"24\",IF('Page 3'!$K$21<>\"\",\"20\",IF($Z$21<>\"\",$Z$21,IF($Z$24<>\"\",$Z$24,IF($Z$27<>\"\",$Z$27,\"\")))))","v":""},{"$f":"IF('Page 3'!$M$19<>\"\",\"1\",IF('Page 3'!$M$20<>\"\",\"2\",IF('Page 3'!$M$21<>\"\",\"4\",\"\")))","v":""},null,{"$f":"IF('Page 3'!$C$49<>\"\",CONCATENATE(B24,C24,D24,E24,F24,G24,H24,I24,J24,K24),\"\")","v":""},{"$f":"IF('Page 3'!C49<>\"\",'Page 3'!C49,\"\")","v":""},null,{"$f":"IFERROR(VLOOKUP(LEFT(M24,20),Item_VIP!$A$2:$B$7499,1,FALSE),\"\")","v":""},null,null,"SS 316","STD",{"$f":"IF('Page 3'!A47=\"06\",24,IF('Page 3'!A47=\"08\",24,IF('Page 3'!A47=\"10\",24,IF('Page 3'!A47=\"12\",24,IF('Page 3'!A47=\"14\",24,IF('Page 3'!A47=\"16\",24,IF('Page 3'!A47=\"18\",24,IF('Page 3'!A47=\"20\",24,IF('Page 3'!A47=\"22\",24,IF('Page 3'!A47=\"24\",24,IF('Page 3'!A47=\"26\",24,IF('Page 3'!A47=\"28\",24,IF('Page 3'!A47=\"30\",20,IF('Page 3'!A47=\"32\",20,IF('Page 3'!A47=\"34\",20,IF('Page 3'!A47=\"36\",20,IF('Page 3'!A47=\"38\",20,IF('Page 3'!A47=\"40\",20,IF('Page 3'!A47=\"42\",20,IF('Page 3'!A47=\"44\",20,IF('Page 3'!A47=\"46\",20,IF('Page 3'!A47=\"48\",20,\"\"))))))))))))))))))))))","v":""},"STD",{"$f":"IF('Page 3'!A47=\"06\",24,IF('Page 3'!A47=\"08\",24,IF('Page 3'!A47=\"10\",24,IF('Page 3'!A47=\"12\",24,IF('Page 3'!A47=\"14\",24,IF('Page 3'!A47=\"16\",24,IF('Page 3'!A47=\"18\",24,IF('Page 3'!A47=\"24\",24,IF('Page 3'!A47=\"22\",24,IF('Page 3'!A47=\"24\",24,IF('Page 3'!A47=\"26\",24,IF('Page 3'!A47=\"28\",24,IF('Page 3'!A47=\"30\",20,IF('Page 3'!A47=\"32\",20,IF('Page 3'!A47=\"34\",20,IF('Page 3'!A47=\"36\",20,IF('Page 3'!A47=\"38\",20,IF('Page 3'!A47=\"40\",20,IF('Page 3'!A47=\"42\",20,IF('Page 3'!A47=\"44\",20,IF('Page 3'!A47=\"46\",20,IF('Page 3'!A47=\"48\",20,\"\"))))))))))))))))))))))","v":""},"1\"",null,{"$f":"IF('Page 3'!$H$20<>\"\",IF('Page 3'!$M$19<>\"\",IF('Page 3'!$K$22<>\"\",$W$24,\"\"),IF('Page 3'!$H$20<>\"\",IF('Page 3'!$M$20<>\"\",IF('Page 3'!$K$22<>\"\",$W$25,\"\"),IF('Page 3'!$H$20<>\"\",IF('Page 3'!$M$21<>\"\",IF('Page 3'!$K$22<>\"\",$W$26,\"\"),\"\"))))),\"\")","v":""},"SI 1\" OU 2\" OU 4\""]
[null,{"$f":"IF('Page 3'!$A$19<>\"\",\"V\",\"\")","v":""},{"$f":"IF('Page 3'!$A$47<>\"\",\"E\",\"\")","v":""},{"$f":"IF('Page 3'!$A$19<>\"\",\"-\",\"\")","v":""},{"$f":"IF('Page 3'!$A$19<>\"\",'Page 3'!$A$47,\"\")","v":""},{"$f":"IF('Page 3'!$C$50<>\"\",'Page 3'!D50,\"\")","v":""},{"$f":"IF('Page 3'!$D$19<>\"\",\"A\",IF('Page 3'!$D$20<>\"\",\"B\",\"\"))","v":""},{"$f":"IF('Page 3'!$F$20<>\"\",\"24\",IF('Page 3'!$F$21<>\"\",\"20\",IF('Page 3'!$D$19<>\"\",IF('Page 3'!$F$22<>\"\",$U$21,\"\"),IF('Page 3'!$D$20<>\"\",IF('Page 3'!$F$22<>\"\",$U$24,\"\"),\"\"))))","v":""},{"$f":"IF('Page 3'!$H$19<>\"\",\"A\",IF('Page 3'!$H$20<>\"\",\"B\",IF('Page 3'!$H$21<>\"\",\"C\",\"\")))","v":""},{"$f":"IF('Page 3'!$K$20<>\"\",\"24\",IF('Page 3'!$K$21<>\"\",\"20\",IF($Z$21<>\"\",$Z$21,IF($Z$24<>\"\",$Z$24,IF($Z$27<>\"\",$Z$27,\"\")))))","v":""},{"$f":"IF('Page 3'!$M$19<>\"\",\"1\",IF('Page 3'!$M$20<>\"\",\"2\",IF('Page 3'!$M$21<>\"\",\"4\",\"\")))","v":""},null,{"$f":"IF('Page 3'!$C$50<>\"\",CONCATENATE(B25,C25,D25,E25,F25,G25,H25,I25,J25,K25),\"\")","v":""},{"$f":"IF('Page 3'!C50<>\"\",'Page 3'!C50,\"\")","v":""},null,{"$f":"IFERROR(VLOOKUP(LEFT(M25,20),Item_VIP!$A$2:$B$7499,1,FALSE),\"\")","v":""},null,null,null,null,null,"STD",{"$f":"IF('Page 3'!A47=\"06\",24,IF('Page 3'!A47=\"08\",24,IF('Page 3'!A47=\"10\",24,IF('Page 3'!A47=\"12\",24,IF('Page 3'!A47=\"14\",24,IF('Page 3'!A47=\"16\",24,IF('Page 3'!A47=\"18\",24,IF('Page 3'!A47=\"20\",24,IF('Page 3'!A47=\"22\",24,IF('Page 3'!A47=\"24\",24,IF('Page 3'!A47=\"26\",24,IF('Page 3'!A47=\"28\",20,IF('Page 3'!A47=\"30\",20,IF('Page 3'!A47=\"32\",20,IF('Page 3'!A47=\"34\",20,IF('Page 3'!A47=\"36\",20,IF('Page 3'!A47=\"38\",20,IF('Page 3'!A47=\"40\",20,IF('Page 3'!A47=\"42\",20,IF('Page 3'!A47=\"44\",20,IF('Page 3'!A47=\"46\",20,IF('Page 3'!A47=\"48\",20,\"\"))))))))))))))))))))))","v":""},"2\""]
[null,{"$f":"IF('Page 3'!$A$19<>\"\",\"V\",\"\")","v":""},{"$f":"IF('Page 3'!$A$52<>\"\",\"E\",\"\")","v":""},{"$f":"IF('Page 3'!$A$19<>\"\",\"-\",\"\")","v":""},{"$f":"IF('Page 3'!$A$19<>\"\",'Page 3'!$A$52,\"\")","v":""},{"$f":"IF('Page 3'!$C$52<>\"\",'Page 3'!D52,\"\")","v":""},{"$f":"IF('Page 3'!$D$19<>\"\",\"A\",IF('Page 3'!$D$20<>\"\",\"B\",\"\"))","v":""},{"$f":"IF('Page 3'!$F$21<>\"\",\"20\",IF('Page 3'!$D$19<>\"\",IF('Page 3'!$F$22<>\"\",$U$30,\"\"),IF('Page 3'!$D$20<>\"\",IF('Page 3'!$F$22<>\"\",$U$33,\"\"),\"\")))","v":""},{"$f":"IF('Page 3'!$H$19<>\"\",\"A\",IF('Page 3'!$H$20<>\"\",\"B\",IF('Page 3'!$H$21<>\"\",\"C\",\"\")))","v":""},{"$f":"IF('Page 3'!$K$20<>\"\",\"24\",IF('Page 3'!$K$21<>\"\",\"20\",IF($Z$30<>\"\",$Z$30,IF($Z$33<>\"\",$Z$33,IF($Z$36<>\"\",$Z$36,\"\")))))","v":""},{"$f":"IF('Page 3'!$M$19<>\"\",\"1\",IF('Page 3'!$M$20<>\"\",\"2\",IF('Page 3'!$M$21<>\"\",\"4\",\"\")))","v":""},null,{"$f":"IF('Page 3'!$C$52<>\"\",CONCATENATE(B26,C26,D26,E26,F26,G26,H26,I26,J26,K26),\"\")","v":""},{"$f":"IF('Page 3'!C52<>\"\",'Page 3'!C52,\"\")","v":""},null,{"$f":"IFERROR(VLOOKUP(LEFT(M26,20),Item_VIP!$A$2:$B$7499,1,FALSE),\"\")","v":""},null,null,null,null,null,"STD",{"$f":"IF('Page 3'!A47=\"06\",26,IF('Page 3'!A47=\"08\",26,IF('Page 3'!A47=\"10\",24,IF('Page 3'!A47=\"12\",24,IF('Page 3'!A47=\"14\",24,IF('Page 3'!A47=\"16\",24,IF('Page 3'!A47=\"18\",24,IF('Page 3'!A47=\"20\",24,IF('Page 3'!A47=\"22\",20,IF('Page 3'!A47=\"24\",20,IF('Page 3'!A47=\"26\",20,IF('Page 3'!A47=\"28\",20,IF('Page 3'!A47=\"30\",20,IF('Page 3'!A47=\"32\",20,IF('Page 3'!A47=\"34\",20,IF('Page 3'!A47=\"36\",20,IF('Page 3'!A47=\"38\",20,IF('Page 3'!A47=\"40\",20,IF('Page 3'!A47=\"42\",20,IF('Page 3'!A47=\"44\",20,IF('Page 3'!A47=\"46\",20,IF('Page 3'!A47=\"48\",20,\"\"))))))))))))))))))))))","v":""},"4\""]
[null,{"$f":"IF('Page 3'!$A$19<>\"\",\"V\",\"\")","v":""},{"$f":"IF('Page 3'!$A$52<>\"\",\"E\",\"\")","v":""},{"$f":"IF('Page 3'!$A$19<>\"\",\"-\",\"\")","v":""},{"$f":"IF('Page 3'!$A$19<>\"\",'Page 3'!$A$53,\"\")","v":""},{"$f":"IF('Page 3'!$C$53<>\"\",'Page 3'!D53,\"\")","v":""},{"$f":"IF('Page 3'!$D$19<>\"\",\"A\",IF('Page 3'!$D$20<>\"\",\"B\",\"\"))","v":""},{"$f":"IF('Page 3'!$F$21<>\"\",\"20\",IF('Page 3'!$D$19<>\"\",IF('Page 3'!$F$22<>\"\",$U$30,\"\"),IF('Page 3'!$D$20<>\"\",IF('Page 3'!$F$22<>\"\",$U$33,\"\"),\"\")))","v":""},{"$f":"IF('Page 3'!$H$19<>\"\",\"A\",IF('Page 3'!$H$20<>\"\",\"B\",IF('Page 3'!$H$21<>\"\",\"C\",\"\")))","v":""},{"$f":"IF('Page 3'!$K$20<>\"\",\"24\",IF('Page 3'!$K$21<>\"\",\"20\",IF($Z$30<>\"\",$Z$30,IF($Z$33<>\"\",$Z$33,IF($Z$36<>\"\",$Z$36,\"\")))))","v":""},{"$f":"IF('Page 3'!$M$19<>\"\",\"1\",IF('Page 3'!$M$20<>\"\",\"2\",IF('Page 3'!$M$21<>\"\",\"4\",\"\")))","v":""},{"$f":"IF('Page 3'!$B$53<>\"\",'Page 3'!$B$53,\"\")","v":""},{"$f":"IF('Page 3'!$C$53<>\"\",CONCATENATE(B27,C27,D27,E27,F27,G27,H27,I27,J27,K27,L27),\"\")","v":""},{"$f":"IF('Page 3'!C53<>\"\",'Page 3'!C53,\"\")","v":""},null,{"$f":"IFERROR(VLOOKUP(LEFT(M27,20),Item_VIP!$A$2:$B$7499,1,FALSE),\"\")","v":""},null,null,"GALVALUME STD",null,null,"GAL",{"$f":"IF('Page 3'!A47=\"06\",24,IF('Page 3'!A47=\"08\",24,IF('Page 3'!A47=\"10\",24,IF('Page 3'!A47=\"12\",24,IF('Page 3'!A47=\"14\",24,IF('Page 3'!A47=\"16\",24,IF('Page 3'!A47=\"18\",24,IF('Page 3'!A47=\"24\",24,IF('Page 3'!A47=\"22\",24,IF('Page 3'!A47=\"24\",24,IF('Page 3'!A47=\"26\",24,IF('Page 3'!A47=\"28\",24,IF('Page 3'!A47=\"30\",22,IF('Page 3'!A47=\"32\",22,IF('Page 3'!A47=\"34\",22,IF('Page 3'!A47=\"36\",22,IF('Page 3'!A47=\"38\",22,IF('Page 3'!A47=\"40\",22,IF('Page 3'!A47=\"42\",22,IF('Page 3'!A47=\"44\",22,IF('Page 3'!A47=\"46\",22,IF('Page 3'!A47=\"48\",22,\"\"))))))))))))))))))))))","v":""},"1\"",null,{"$f":"IF('Page 3'!$H$21<>\"\",IF('Page 3'!$M$19<>\"\",IF('Page 3'!$K$22<>\"\",$W$27,\"\"),IF('Page 3'!$H$21<>\"\",IF('Page 3'!$M$20<>\"\",IF('Page 3'!$K$22<>\"\",$W$28,\"\"),IF('Page 3'!$H$21<>\"\",IF('Page 3'!$M$21<>\"\",IF('Page 3'!$K$22<>\"\",$W$29,\"\"),\"\"))))),\"\")","v":""},"SI 1\" OU 2\" OU 4\""]
[null,{"$f":"IF('Page 3'!$A$19<>\"\",\"V\",\"\")","v":""},{"$f":"IF('Page 3'!$A$52<>\"\",\"E\",\"\")","v":""},{"$f":"IF('Page 3'!$A$19<>\"\",\"-\",\"\")","v":""},{"$f":"IF('Page 3'!$A$19<>\"\",'Page 3'!$A$52,\"\")","v":""},{"$f":"IF('Page 3'!$C$54<>\"\",'Page 3'!D54,\"\")","v":""},{"$f":"IF('Page 3'!$D$19<>\"\",\"A\",IF('Page 3'!$D$20<>\"\",\"B\",\"\"))","v":""},{"$f":"IF('Page 3'!$F$21<>\"\",\"20\",IF('Page 3'!$D$19<>\"\",IF('Page 3'!$F$22<>\"\",$U$30,\"\"),IF('Page 3'!$D$20<>\"\",IF('Page 3'!$F$22<>\"\",$U$33,\"\"),\"\")))","v":""},{"$f":"IF('Page 3'!$H$19<>\"\",\"A\",IF('Page 3'!$H$20<>\"\",\"B\",IF('Page 3'!$H$21<>\"\",\"C\",\"\")))","v":""},{"$f":"IF('Page 3'!$K$20<>\"\",\"24\",IF('Page 3'!$K$21<>\"\",\"20\",IF($Z$30<>\"\",$Z$30,IF($Z$33<>\"\",$Z$33,IF($Z$36<>\"\",$Z$36,\"\")))))","v":""},{"$f":"IF('Page 3'!$M$19<>\"\",\"1\",IF('Page 3'!$M$20<>\"\",\"2\",IF('Page 3'!$M$21<>\"\",\"4\",\"\")))","v":""},null,{"$f":"IF('Page 3'!$C$54<>\"\",CONCATENATE(B28,C28,D28,E28,F28,G28,H28,I28,J28,K28),\"\")","v":""},{"$f":"IF('Page 3'!C54<>\"\",'Page 3'!C54,\"\")","v":""},null,{"$f":"IFERROR(VLOOKUP(LEFT(M28,20),Item_VIP!$A$2:$B$7499,1,FALSE),\"\")","v":""},null,null,null,null,null,"GAL",{"$f":"IF('Page 3'!A47=\"06\",24,IF('Page 3'!A47=\"08\",24,IF('Page 3'!A47=\"10\",24,IF('Page 3'!A47=\"12\",24,IF('Page 3'!A47=\"14\",24,IF('Page 3'!A47=\"16\",24,IF('Page 3'!A47=\"18\",24,IF('Page 3'!A47=\"24\",24,IF('Page 3'!A47=\"22\",24,IF('Page 3'!A47=\"24\",24,IF('Page 3'!A47=\"26\",24,IF('Page 3'!A47=\"28\",22,IF('Page 3'!A47=\"30\",22,IF('Page 3'!A47=\"32\",22,IF('Page 3'!A47=\"34\",22,IF('Page 3'!A47=\"36\",22,IF('Page 3'!A47=\"38\",22,IF('Page 3'!A47=\"40\",22,IF('Page 3'!A47=\"42\",22,IF('Page 3'!A47=\"44\",22,IF('Page 3'!A47=\"46\",22,IF('Page 3'!A47=\"48\",22,\"\"))))))))))))))))))))))","v":""},"2\""]
[null,{"$f":"IF('Page 3'!$A$19<>\"\",\"V\",\"\")","v":""},{"$f":"IF('Page 3'!$A$52<>\"\",\"E\",\"\")","v":""},{"$f":"IF('Page 3'!$A$19<>\"\",\"-\",\"\")","v":""},{"$f":"IF('Page 3'!$A$19<>\"\",'Page 3'!$A$55,\"\")","v":""},{"$f":"IF('Page 3'!$C$55<>\"\",'Page 3'!D55,\"\")","v":""},{"$f":"IF('Page 3'!$D$19<>\"\",\"A\",IF('Page 3'!$D$20<>\"\",\"B\",\"\"))","v":""},{"$f":"IF('Page 3'!$F$21<>\"\",\"20\",IF('Page 3'!$D$19<>\"\",IF('Page 3'!$F$22<>\"\",$U$30,\"\"),IF('Page 3'!$D$20<>\"\",IF('Page 3'!$F$22<>\"\",$U$33,\"\"),\"\")))","v":""},{"$f":"IF('Page 3'!$H$19<>\"\",\"A\",IF('Page 3'!$H$20<>\"\",\"B\",IF('Page 3'!$H$21<>\"\",\"C\",\"\")))","v":""},{"$f":"IF('Page 3'!$K$20<>\"\",\"24\",IF('Page 3'!$K$21<>\"\",\"20\",IF($Z$30<>\"\",$Z$30,IF($Z$33<>\"\",$Z$33,IF($Z$36<>\"\",$Z$36,\"\")))))","v":""},{"$f":"IF('Page 3'!$M$19<>\"\",\"1\",IF('Page 3'!$M$20<>\"\",\"2\",IF('Page 3'!$M$21<>\"\",\"4\",\"\")))","v":""},{"$f":"IF('Page 3'!$B$55<>\"\",'Page 3'!$B$55,\"\")","v":""},{"$f":"IF('Page 3'!$C$55<>\"\",CONCATENATE(B29,C29,D29,E29,F29,G29,H29,I29,J29,K29,L29),\"\")","v":""},{"$f":"IF('Page 3'!C55<>\"\",'Page 3'!C55,\"\")","v":""},null,{"$f":"IFERROR(VLOOKUP(LEFT(M29,20),Item_VIP!$A$2:$B$7499,1,FALSE),\"\")","v":""},null,null,null,null,null,"GAL",{"$f":"IF('Page 3'!A47=\"06\",24,IF('Page 3'!A47=\"08\",24,IF('Page 3'!A47=\"10\",24,IF('Page 3'!A47=\"12\",24,IF('Page 3'!A47=\"14\",24,IF('Page 3'!A47=\"16\",24,IF('Page 3'!A47=\"18\",22,IF('Page 3'!A47=\"24\",22,IF('Page 3'!A47=\"22\",22,IF('Page 3'!A47=\"24\",22,IF('Page 3'!A47=\"26\",22,IF('Page 3'!A47=\"28\",22,IF('Page 3'!A47=\"30\",22,IF('Page 3'!A47=\"32\",22,IF('Page 3'!A47=\"34\",22,IF('Page 3'!A47=\"36\",22,IF('Page 3'!A47=\"38\",22,IF('Page 3'!A47=\"40\",22,IF('Page 3'!A47=\"42\",22,IF('Page 3'!A47=\"44\",22,IF('Page 3'!A47=\"46\",22,IF('Page 3'!A47=\"48\",22,\"\"))))))))))))))))))))))","v":""},"4\""]
[null,{"$f":"IF('Page 3'!$A$19<>\"\",\"V\",\"\")","v":""},{"$f":"IF('Page 3'!$A$52<>\"\",\"E\",\"\")","v":""},{"$f":"IF('Page 3'!$A$19<>\"\",\"-\",\"\")","v":""},{"$f":"IF('Page 3'!$A$19<>\"\",'Page 3'!$A$52,\"\")","v":""},{"$f":"IF('Page 3'!$C$56<>\"\",'Page 3'!D56,\"\")","v":""},{"$f":"IF('Page 3'!$D$19<>\"\",\"A\",IF('Page 3'!$D$20<>\"\",\"B\",\"\"))","v":""},{"$f":"IF('Page 3'!$F$20<>\"\",\"20\",IF('Page 3'!$F$21<>\"\",\"20\",IF('Page 3'!$D$19<>\"\",IF('Page 3'!$F$22<>\"\",$U$39,\"\"),IF('Page 3'!$D$20<>\"\",IF('Page 3'!$F$22<>\"\",$U$40,\"\"),\"\"))))","v":""},{"$f":"IF(G30<>\"\",G30,\"\")","v":""},{"$f":"IF(H30<>\"\",H30,\"\")","v":""},{"$f":"IF('Page 3'!$M$19<>\"\",\"1\",IF('Page 3'!$M$20<>\"\",\"2\",IF('Page 3'!$M$21<>\"\",\"4\",\"\")))","v":""},null,{"$f":"IF('Page 3'!$C$56<>\"\",CONCATENATE(B30,C30,D30,E30,F30,G30,H30,I30,J30,K30),\"\")","v":""},{"$f":"IF('Page 3'!C56<>\"\",'Page 3'!C56,\"\")","v":""},null,{"$f":"IFERROR(VLOOKUP(LEFT(M30,20),Item_VIP!$A$2:$B$7499,1,FALSE),\"\")","v":""},null,"TEE","SS 304","STD",{"$f":"IF('Page 3'!A52=\"06\",20,IF('Page 3'!A52=\"08\",20,IF('Page 3'!A52=\"10\",20,IF('Page 3'!A52=\"12\",20,IF('Page 3'!A52=\"14\",20,IF('Page 3'!A52=\"16\",20,IF('Page 3'!A52=\"18\",20,IF('Page 3'!A52=\"20\",20,IF('Page 3'!A52=\"22\",20,IF('Page 3'!A52=\"24\",20,IF('Page 3'!A52=\"26\",20,IF('Page 3'!A52=\"28\",20,IF('Page 3'!A52=\"30\",20,IF('Page 3'!A52=\"32\",20,IF('Page 3'!A52=\"34\",20,IF('Page 3'!A52=\"36\",20,IF('Page 3'!A52=\"38\",20,IF('Page 3'!A52=\"40\",20,IF('Page 3'!A52=\"42\",20,IF('Page 3'!A52=\"44\",20,IF('Page 3'!A52=\"46\",20,IF('Page 3'!A52=\"48\",20,\"\"))))))))))))))))))))))","v":""},"STD",{"$f":"IF('Page 3'!A52=\"06\",24,IF('Page 3'!A52=\"08\",24,IF('Page 3'!A52=\"10\",24,IF('Page 3'!A52=\"12\",24,IF('Page 3'!A52=\"14\",24,IF('Page 3'!A52=\"16\",24,IF('Page 3'!A52=\"18\",24,IF('Page 3'!A52=\"20\",24,IF('Page 3'!A52=\"22\",24,IF('Page 3'!A52=\"24\",20,IF('Page 3'!A52=\"26\",20,IF('Page 3'!A52=\"28\",20,IF('Page 3'!A52=\"30\",20,IF('Page 3'!A52=\"32\",20,IF('Page 3'!A52=\"34\",20,IF('Page 3'!A52=\"36\",20,IF('Page 3'!A52=\"38\",20,IF('Page 3'!A52=\"40\",20,IF('Page 3'!A52=\"42\",20,IF('Page 3'!A52=\"44\",20,IF('Page 3'!A52=\"46\",20,IF('Page 3'!A52=\"48\",20,\"\"))))))))))))))))))))))","v":""},"1\"",null,{"$f":"IF('Page 3'!$H$19<>\"\",IF('Page 3'!$M$19<>\"\",IF('Page 3'!$K$22<>\"\",$W$30,\"\"),IF('Page 3'!$H$19<>\"\",IF('Page 3'!$M$20<>\"\",IF('Page 3'!$K$22<>\"\",$W$31,\"\"),IF('Page 3'!$H$19<>\"\",IF('Page 3'!$M$21<>\"\",IF('Page 3'!$K$22<>\"\",$W$32,\"\"),\"\"))))),\"\")","v":""},"SI 1\" OU 2\" OU 4\""]
[null,{"$f":"IF('Page 3'!$A$19<>\"\",\"V\",\"\")","v":""},{"$f":"IF('Page 3'!$A$52<>\"\",\"E\",\"\")","v":""},{"$f":"IF('Page 3'!$A$19<>\"\",\"-\",\"\")","v":""},{"$f":"IF('Page 3'!$A$19<>\"\",'Page 3'!$A$52,\"\")","v":""},{"$f":"IF('Page 3'!$C$57<>\"\",'Page 3'!D57,\"\")","v":""},{"$f":"IF('Page 3'!$D$19<>\"\",\"A\",IF('Page 3'!$D$20<>\"\",\"B\",\"\"))","v":""},{"$f":"IF('Page 3'!$F$20<>\"\",\"20\",IF('Page 3'!$F$21<>\"\",\"20\",IF('Page 3'!$D$19<>\"\",IF('Page 3'!$F$22<>\"\",$U$39,\"\"),IF('Page 3'!$D$20<>\"\",IF('Page 3'!$F$22<>\"\",$U$40,\"\"),\"\"))))","v":""},{"$f":"IF(G31<>\"\",G31,\"\")","v":""},{"$f":"IF(H31<>\"\",H31,\"\")","v":""},{"$f":"IF('Page 3'!$M$19<>\"\",\"1\",IF('Page 3'!$M$20<>\"\",\"2\",IF('Page 3'!$M$21<>\"\",\"4\",\"\")))","v":""},null,{"$f":"IF('Page 3'!$C$57<>\"\",CONCATENATE(B31,C31,D31,E31,F31,G31,H31,I31,J31,K31),\"\")","v":""},{"$f":"IF('Page 3'!C57<>\"\",'Page 3'!C57,\"\")","v":""},null,{"$f":"IFERROR(VLOOKUP(LEFT(M31,20),Item_VIP!$A$2:$B$7499,1,FALSE),\"\")","v":""},null,null,null,null,null,"STD",{"$f":"IF('Page 3'!A52=\"06\",24,IF('Page 3'!A52=\"08\",24,IF('Page 3'!A52=\"10\",24,IF('Page 3'!A52=\"12\",24,IF('Page 3'!A52=\"14\",24,IF('Page 3'!A52=\"16\",24,IF('Page 3'!A52=\"18\",24,IF('Page 3'!A52=\"20\",24,IF('Page 3'!A52=\"22\",24,IF('Page 3'!A52=\"24\",24,IF('Page 3'!A52=\"26\",20,IF('Page 3'!A52=\"28\",20,IF('Page 3'!A52=\"30\",20,IF('Page 3'!A52=\"32\",20,IF('Page 3'!A52=\"34\",20,IF('Page 3'!A52=\"36\",20,IF('Page 3'!A52=\"38\",20,IF('Page 3'!A52=\"40\",20,IF('Page 3'!A52=\"42\",20,IF('Page 3'!A52=\"44\",20,IF('Page 3'!A52=\"46\",20,IF('Page 3'!A52=\"48\",20,\"\"))))))))))))))))))))))","v":""},"2\""]
[null,{"$f":"IF('Page 3'!$A$19<>\"\",\"V\",\"\")","v":""},{"$f":"IF('Page 3'!$A$59<>\"\",\"F\",\"\")","v":""},{"$f":"IF('Page 3'!$A$19<>\"\",\"-\",\"\")","v":""},{"$f":"$C$5","v":""},{"$f":"IF('Page 3'!$C$59<>\"\",'Page 3'!D59,\"\")","v":""},{"$f":"IF('Page 3'!C59<>\"\",\"0\",\"\")","v":""},{"$f":"IF('Page 3'!C59<>\"\",\"00\",\"\")","v":""},{"$f":"IF('Page 3'!G59<>\"\",\"A\",\"C\")","v":"C"},{"$f":"IF(I32=\"C\",IF('Page 3'!$M$19<>\"\",$W$44,IF('Page 3'!$M$20<>\"\",$W$45,IF('Page 3'!$M$21<>\"\",$W$46,\"\"))),IF(I32=\"A\",IF('Page 3'!$M$19<>\"\",$W$41,IF('Page 3'!$M$20<>\"\",$W$42,IF('Page 3'!$M$21<>\"\",$W$43,\"\")))))","v":""},{"$f":"IF('Page 3'!$M$19<>\"\",\"1\",IF('Page 3'!$M$20<>\"\",\"1\",IF('Page 3'!$M$21<>\"\",\"1\",\"\")))","v":""},null,{"$f":"IF('Page 3'!$C$59<>\"\",CONCATENATE(B32,C32,D32,E32,F32,G32,H32,I32,J32,K32),\"\")","v":""},{"$f":"IF('Page 3'!C59<>\"\",'Page 3'!C59,\"\")","v":""},null,{"$f":"IFERROR(VLOOKUP(LEFT(M32,20),Item_VIP!$A$2:$B$7499,1,FALSE),\"\")","v":""},null,null,null,null,null,"STD",{"$f":"IF('Page 3'!A52=\"06\",26,IF('Page 3'!A52=\"08\",26,IF('Page 3'!A52=\"10\",24,IF('Page 3'!A52=\"12\",24,IF('Page 3'!A52=\"14\",24,IF('Page 3'!A52=\"16\",20,IF('Page 3'!A52=\"18\",20,IF('Page 3'!A52=\"20\",20,IF('Page 3'!A52=\"22\",20,IF('Page 3'!A52=\"24\",20,IF('Page 3'!A52=\"26\",20,IF('Page 3'!A52=\"28\",20,IF('Page 3'!A52=\"30\",20,IF('Page 3'!A52=\"32\",20,IF('Page 3'!A52=\"34\",20,IF('Page 3'!A52=\"36\",20,IF('Page 3'!A52=\"38\",20,IF('Page 3'!A52=\"40\",20,IF('Page 3'!A52=\"42\",20,IF('Page 3'!A52=\"44\",20,IF('Page 3'!A52=\"46\",20,IF('Page 3'!A52=\"48\",20,\"\"))))))))))))))))))))))","v":""},"4\""]
[null,{"$f":"IF('Page 3'!$A$19<>\"\",\"V\",\"\")","v":""},{"$f":"IF('Page 3'!$A$59<>\"\",\"F\",\"\")","v":""},{"$f":"IF('Page 3'!$A$19<>\"\",\"-\",\"\")","v":""},"",{"$f":"IF('Page 3'!$C$60<>\"\",'Page 3'!D60,\"\")","v":""},{"$f":"IF('Page 3'!C60<>\"\",\"0\",\"\")","v":""},{"$f":"IF('Page 3'!C60<>\"\",\"00\",\"\")","v":""},{"$f":"IF('Page 3'!G60<>\"\",\"A\",\"C\")","v":"C"},{"$f":"IF(I33=\"C\",IF('Page 3'!$M$19<>\"\",$W$47,IF('Page 3'!$M$20<>\"\",$W$48,IF('Page 3'!$M$21<>\"\",$W$49,\"\"))),IF(I33=\"A\",IF('Page 3'!$M$19<>\"\",$W$41,IF('Page 3'!$M$20<>\"\",$W$42,IF('Page 3'!$M$21<>\"\",$W$43,\"\")))))","v":""},{"$f":"IF('Page 3'!$M$19<>\"\",\"1\",IF('Page 3'!$M$20<>\"\",\"1\",IF('Page 3'!$M$21<>\"\",\"1\",\"\")))","v":""},null,{"$f":"IF('Page 3'!$C$60<>\"\",CONCATENATE(B33,C33,D33,E33,F33,G33,H33,I33,J33,K33,L33),\"\")","v":""},{"$f":"IF('Page 3'!C60<>\"\",'Page 3'!C60,\"\")","v":""},null,{"$f":"IFERROR(VLOOKUP(LEFT(M33,20),Item_VIP!$A$2:$B$7499,1,FALSE),\"\")","v":""},null,null,"SS 316","STD",{"$f":"IF('Page 3'!A52=\"06\",20,IF('Page 3'!A52=\"08\",20,IF('Page 3'!A52=\"10\",20,IF('Page 3'!A52=\"12\",20,IF('Page 3'!A52=\"14\",20,IF('Page 3'!A52=\"16\",20,IF('Page 3'!A52=\"18\",20,IF('Page 3'!A52=\"20\",20,IF('Page 3'!A52=\"22\",20,IF('Page 3'!A52=\"24\",20,IF('Page 3'!A52=\"26\",20,IF('Page 3'!A52=\"28\",20,IF('Page 3'!A52=\"30\",20,IF('Page 3'!A52=\"32\",20,IF('Page 3'!A52=\"34\",20,IF('Page 3'!A52=\"36\",20,IF('Page 3'!A52=\"38\",20,IF('Page 3'!A52=\"40\",20,IF('Page 3'!A52=\"42\",20,IF('Page 3'!A52=\"44\",20,IF('Page 3'!A52=\"46\",20,IF('Page 3'!A52=\"48\",20,\"\"))))))))))))))))))))))","v":""},"STD",{"$f":"IF('Page 3'!A52=\"06\",24,IF('Page 3'!A52=\"08\",24,IF('Page 3'!A52=\"10\",24,IF('Page 3'!A52=\"12\",24,IF('Page 3'!A52=\"14\",24,IF('Page 3'!A52=\"16\",24,IF('Page 3'!A52=\"18\",24,IF('Page 3'!A52=\"20\",24,IF('Page 3'!A52=\"22\",24,IF('Page 3'!A52=\"24\",20,IF('Page 3'!A52=\"26\",20,IF('Page 3'!A52=\"28\",20,IF('Page 3'!A52=\"30\",20,IF('Page 3'!A52=\"32\",20,IF('Page 3'!A52=\"34\",20,IF('Page 3'!A52=\"36\",20,IF('Page 3'!A52=\"38\",20,IF('Page 3'!A52=\"40\",20,IF('Page 3'!A52=\"42\",20,IF('Page 3'!A52=\"44\",20,IF('Page 3'!A52=\"46\",20,IF('Page 3'!A52=\"48\",20,\"\"))))))))))))))))))))))","v":""},"1\"",null,{"$f":"IF('Page 3'!$H$20<>\"\",IF('Page 3'!$M$19<>\"\",IF('Page 3'!$K$22<>\"\",$W$33,\"\"),IF('Page 3'!$H$20<>\"\",IF('Page 3'!$M$20<>\"\",IF('Page 3'!$K$22<>\"\",$W$34,\"\"),IF('Page 3'!$H$20<>\"\",IF('Page 3'!$M$21<>\"\",IF('Page 3'!$K$22<>\"\",$W$35,\"\"),\"\"))))),\"\")","v":""},"SI 1\" OU 2\" OU 4\""]
[null,{"$f":"IF('Page 3'!$A$19<>\"\",\"V\",\"\")","v":""},{"$f":"IF('Page 3'!$A$59<>\"\",\"F\",\"\")","v":""},{"$f":"IF('Page 3'!$A$19<>\"\",\"-\",\"\")","v":""},"",{"$f":"IF('Page 3'!$C$61<>\"\",'Page 3'!D61,\"\")","v":""},{"$f":"IF('Page 3'!C61<>\"\",\"0\",\"\")","v":""},{"$f":"IF('Page 3'!C61<>\"\",\"00\",\"\")","v":""},{"$f":"IF('Page 3'!G61<>\"\",\"A\",\"C\")","v":"C"},{"$f":"IF(I34=\"C\",IF('Page 3'!$M$19<>\"\",$W$47,IF('Page 3'!$M$20<>\"\",$W$48,IF('Page 3'!$M$21<>\"\",$W$49,\"\"))),IF(I34=\"A\",IF('Page 3'!$M$19<>\"\",$W$41,IF('Page 3'!$M$20<>\"\",$W$42,IF('Page 3'!$M$21<>\"\",$W$43,\"\")))))","v":""},{"$f":"IF('Page 3'!$M$19<>\"\",\"1\",IF('Page 3'!$M$20<>\"\",\"1\",IF('Page 3'!$M$21<>\"\",\"1\",\"\")))","v":""},null,{"$f":"IF('Page 3'!$C$61<>\"\",CONCATENATE(B34,C34,D34,E34,F34,G34,H34,I34,J34,K34),\"\")","v":""},{"$f":"IF('Page 3'!C61<>\"\",'Page 3'!C61,\"\")","v":""},null,{"$f":"IFERROR(VLOOKUP(LEFT(M34,20),Item_VIP!$A$2:$B$7499,1,FALSE),\"\")","v":""},null,null,null,null,null,"STD",{"$f":"IF('Page 3'!A52=\"06\",24,IF('Page 3'!A52=\"08\",24,IF('Page 3'!A52=\"10\",24,IF('Page 3'!A52=\"12\",24,IF('Page 3'!A52=\"14\",24,IF('Page 3'!A52=\"16\",24,IF('Page 3'!A52=\"18\",24,IF('Page 3'!A52=\"20\",24,IF('Page 3'!A52=\"22\",24,IF('Page 3'!A52=\"24\",24,IF('Page 3'!A52=\"26\",20,IF('Page 3'!A52=\"28\",20,IF('Page 3'!A52=\"30\",20,IF('Page 3'!A52=\"32\",20,IF('Page 3'!A52=\"34\",20,IF('Page 3'!A52=\"36\",20,IF('Page 3'!A52=\"38\",20,IF('Page 3'!A52=\"40\",20,IF('Page 3'!A52=\"42\",20,IF('Page 3'!A52=\"44\",20,IF('Page 3'!A52=\"46\",20,IF('Page 3'!A52=\"48\",20,\"\"))))))))))))))))))))))","v":""},"2\""]
[null,{"$f":"IF('Page 3'!$A$19<>\"\",\"V\",\"\")","v":""},{"$f":"IF('Page 3'!$A$59<>\"\",\"M\",\"\")","v":""},{"$f":"IF('Page 3'!$A$19<>\"\",\"-\",\"\")","v":""},"",{"$f":"IF('Page 3'!$C$62<>\"\",'Page 3'!D62,\"\")","v":""},{"$f":"IF('Page 3'!C62<>\"\",\"0\",\"\")","v":""},{"$f":"IF('Page 3'!C62<>\"\",\"00\",\"\")","v":""},{"$f":"IF('Page 3'!G62<>\"\",\"A\",\"C\")","v":"C"},{"$f":"IF(I35=\"C\",IF('Page 3'!$M$19<>\"\",$W$53,IF('Page 3'!$M$20<>\"\",$W$54,IF('Page 3'!$M$21<>\"\",$W$55,\"\"))),IF(I35=\"A\",IF('Page 3'!$M$19<>\"\",$W$50,IF('Page 3'!$M$20<>\"\",$W$51,IF('Page 3'!$M$21<>\"\",$W$52,\"\")))))","v":""},{"$f":"IF('Page 3'!$M$19<>\"\",\"1\",IF('Page 3'!$M$20<>\"\",\"1\",IF('Page 3'!$M$21<>\"\",\"1\",\"\")))","v":""},null,{"$f":"IF('Page 3'!$C$62<>\"\",CONCATENATE(B35,C35,D35,E35,F35,G35,H35,I35,J35,K35,L35),\"\")","v":""},{"$f":"IF('Page 3'!C62<>\"\",'Page 3'!C62,\"\")","v":""},null,{"$f":"IFERROR(VLOOKUP(LEFT(M35,20),Item_VIP!$A$2:$B$7499,1,FALSE),\"\")","v":""},null,null,null,null,null,"STD",{"$f":"IF('Page 3'!A52=\"06\",26,IF('Page 3'!A52=\"08\",26,IF('Page 3'!A52=\"10\",24,IF('Page 3'!A52=\"12\",24,IF('Page 3'!A52=\"14\",24,IF('Page 3'!A52=\"16\",24,IF('Page 3'!A52=\"18\",24,IF('Page 3'!A52=\"20\",24,IF('Page 3'!A52=\"22\",20,IF('Page 3'!A52=\"24\",20,IF('Page 3'!A52=\"26\",20,IF('Page 3'!A52=\"28\",20,IF('Page 3'!A52=\"30\",20,IF('Page 3'!A52=\"32\",20,IF('Page 3'!A52=\"34\",20,IF('Page 3'!A52=\"36\",20,IF('Page 3'!A52=\"38\",20,IF('Page 3'!A52=\"40\",20,IF('Page 3'!A52=\"42\",20,IF('Page 3'!A52=\"44\",20,IF('Page 3'!A52=\"46\",20,IF('Page 3'!A52=\"48\",20,\"\"))))))))))))))))))))))","v":""},"4\""]
[null,{"$f":"IF('Page 3'!$A$19<>\"\",\"V\",\"\")","v":""},{"$f":"IF('Page 3'!$H$36<>\"\",\"M\",\"\")","v":""},{"$f":"IF('Page 3'!$A$19<>\"\",\"-\",\"\")","v":""},"",{"$f":"IF('Page 3'!J36<>\"\",'Page 3'!K36,\"\")","v":""},{"$f":"IF('Page 3'!J36<>\"\",\"0\",\"\")","v":""},{"$f":"IF('Page 3'!J36<>\"\",\"00\",\"\")","v":""},{"$f":"IF('Page 3'!N36<>\"\",\"A\",\"C\")","v":"C"},{"$f":"IF(I36=\"C\",IF('Page 3'!$M$19<>\"\",$W$59,IF('Page 3'!$M$20<>\"\",$W$60,IF('Page 3'!$M$21<>\"\",$W$61,\"\"))),IF(I36=\"A\",IF('Page 3'!$M$19<>\"\",$W$56,IF('Page 3'!$M$20<>\"\",$W$57,IF('Page 3'!$M$21<>\"\",$W$58,\"\")))))","v":""},{"$f":"IF('Page 3'!$M$19<>\"\",\"1\",IF('Page 3'!$M$20<>\"\",\"1\",IF('Page 3'!$M$21<>\"\",\"1\",\"\")))","v":""},null,{"$f":"IF('Page 3'!$J$36<>\"\",CONCATENATE(B36,C36,D36,E36,F36,G36,H36,I36,J36,K36,L36),\"\")","v":""},{"$f":"IF('Page 3'!J36<>\"\",'Page 3'!J36,\"\")","v":""},null,{"$f":"IFERROR(VLOOKUP(LEFT(M36,20),Item_VIP!$A$2:$B$7499,1,FALSE),\"\")","v":""},null,null,"GALVALUME STD",null,null,"GAL",{"$f":"IF('Page 3'!A52=\"06\",24,IF('Page 3'!A52=\"08\",24,IF('Page 3'!A52=\"10\",24,IF('Page 3'!A52=\"12\",24,IF('Page 3'!A52=\"14\",24,IF('Page 3'!A52=\"16\",24,IF('Page 3'!A52=\"18\",24,IF('Page 3'!A52=\"20\",24,IF('Page 3'!A52=\"22\",24,IF('Page 3'!A52=\"24\",22,IF('Page 3'!A52=\"26\",22,IF('Page 3'!A52=\"28\",22,IF('Page 3'!A52=\"30\",22,IF('Page 3'!A52=\"32\",22,IF('Page 3'!A52=\"34\",22,IF('Page 3'!A52=\"36\",22,IF('Page 3'!A52=\"38\",22,IF('Page 3'!A52=\"40\",22,IF('Page 3'!A52=\"42\",22,IF('Page 3'!A52=\"44\",22,IF('Page 3'!A52=\"46\",22,IF('Page 3'!A52=\"48\",20,\"\"))))))))))))))))))))))","v":""},"1\"",null,{"$f":"IF('Page 3'!$H$21<>\"\",IF('Page 3'!$M$19<>\"\",IF('Page 3'!$K$22<>\"\",$W$36,\"\"),IF('Page 3'!$H$21<>\"\",IF('Page 3'!$M$20<>\"\",IF('Page 3'!$K$22<>\"\",$W$37,\"\"),IF('Page 3'!$H$21<>\"\",IF('Page 3'!$M$21<>\"\",IF('Page 3'!$K$22<>\"\",$W$38,\"\"),\"\"))))),\"\")","v":""},"SI 1\" OU 2\" OU 4\""]
[null,{"$f":"IF('Page 3'!$A$19<>\"\",\"V\",\"\")","v":""},{"$f":"IF('Page 3'!$H$36<>\"\",\"M\",\"\")","v":""},{"$f":"IF('Page 3'!$A$19<>\"\",\"-\",\"\")","v":""},"",{"$f":"IF('Page 3'!J37<>\"\",'Page 3'!K37,\"\")","v":""},{"$f":"IF('Page 3'!J37<>\"\",\"0\",\"\")","v":""},{"$f":"IF('Page 3'!J37<>\"\",\"00\",\"\")","v":""},{"$f":"IF('Page 3'!N37<>\"\",\"A\",\"C\")","v":"C"},{"$f":"IF(I37=\"C\",IF('Page 3'!$M$19<>\"\",$W$59,IF('Page 3'!$M$20<>\"\",$W$60,IF('Page 3'!$M$21<>\"\",$W$61,\"\"))),IF(I37=\"A\",IF('Page 3'!$M$19<>\"\",$W$56,IF('Page 3'!$M$20<>\"\",$W$57,IF('Page 3'!$M$21<>\"\",$W$58,\"\")))))","v":""},{"$f":"IF('Page 3'!$M$19<>\"\",\"1\",IF('Page 3'!$M$20<>\"\",\"1\",IF('Page 3'!$M$21<>\"\",\"1\",\"\")))","v":""},null,{"$f":"IF('Page 3'!$J$37<>\"\",CONCATENATE(B37,C37,D37,E37,F37,G37,H37,I37,J37,K37,L37),\"\")","v":""},{"$f":"IF('Page 3'!J37<>\"\",'Page 3'!J37,\"\")","v":""},null,{"$f":"IFERROR(VLOOKUP(LEFT(M37,20),Item_VIP!$A$2:$B$7499,1,FALSE),\"\")","v":""},null,null,null,null,null,"GAL",{"$f":"IF('Page 3'!A52=\"06\",24,IF('Page 3'!A52=\"08\",24,IF('Page 3'!A52=\"10\",24,IF('Page 3'!A52=\"12\",24,IF('Page 3'!A52=\"14\",24,IF('Page 3'!A52=\"16\",24,IF('Page 3'!A52=\"18\",24,IF('Page 3'!A52=\"20\",24,IF('Page 3'!A52=\"22\",24,IF('Page 3'!A52=\"24\",24,IF('Page 3'!A52=\"26\",22,IF('Page 3'!A52=\"28\",22,IF('Page 3'!A52=\"30\",22,IF('Page 3'!A52=\"32\",22,IF('Page 3'!A52=\"34\",22,IF('Page 3'!A52=\"36\",22,IF('Page 3'!A52=\"38\",22,IF('Page 3'!A52=\"40\",22,IF('Page 3'!A52=\"42\",22,IF('Page 3'!A52=\"44\",22,IF('Page 3'!A52=\"46\",22,IF('Page 3'!A52=\"48\",22,\"\"))))))))))))))))))))))","v":""},"2\""]
[null,{"$f":"IF('Page 3'!$A$19<>\"\",\"V\",\"\")","v":""},{"$f":"IF('Page 3'!$H$36<>\"\",\"M\",\"\")","v":""},{"$f":"IF('Page 3'!$A$19<>\"\",\"-\",\"\")","v":""},"",{"$f":"IF('Page 3'!J38<>\"\",'Page 3'!K38,\"\")","v":""},{"$f":"IF('Page 3'!J38<>\"\",\"0\",\"\")","v":""},{"$f":"IF('Page 3'!J38<>\"\",\"00\",\"\")","v":""},{"$f":"IF('Page 3'!N38<>\"\",\"A\",\"C\")","v":"C"},{"$f":"IF(I38=\"C\",IF('Page 3'!$M$19<>\"\",$W$59,IF('Page 3'!$M$20<>\"\",$W$60,IF('Page 3'!$M$21<>\"\",$W$61,\"\"))),IF(I38=\"A\",IF('Page 3'!$M$19<>\"\",$W$56,IF('Page 3'!$M$20<>\"\",$W$57,IF('Page 3'!$M$21<>\"\",$W$58,\"\")))))","v":""},{"$f":"IF('Page 3'!$M$19<>\"\",\"1\",IF('Page 3'!$M$20<>\"\",\"1\",IF('Page 3'!$M$21<>\"\",\"1\",\"\")))","v":""},null,{"$f":"IF('Page 3'!$J$38<>\"\",CONCATENATE(B38,C38,D38,E38,F38,G38,H38,I38,J38,K38,L38),\"\")","v":""},{"$f":"IF('Page 3'!J38<>\"\",'Page 3'!J38,\"\")","v":""},null,{"$f":"IFERROR(VLOOKUP(LEFT(M38,20),Item_VIP!$A$2:$B$7499,1,FALSE),\"\")","v":""},null,null,null,null,null,"GAL",{"$f":"IF('Page 3'!A52=\"06\",26,IF('Page 3'!A52=\"08\",26,IF('Page 3'!A52=\"10\",24,IF('Page 3'!A52=\"12\",24,IF('Page 3'!A52=\"14\",24,IF('Page 3'!A52=\"16\",22,IF('Page 3'!A52=\"18\",22,IF('Page 3'!A52=\"20\",22,IF('Page 3'!A52=\"22\",22,IF('Page 3'!A52=\"24\",22,IF('Page 3'!A52=\"26\",22,IF('Page 3'!A52=\"28\",22,IF('Page 3'!A52=\"30\",22,IF('Page 3'!A52=\"32\",22,IF('Page 3'!A52=\"34\",22,IF('Page 3'!A52=\"36\",22,IF('Page 3'!A52=\"38\",22,IF('Page 3'!A52=\"40\",22,IF('Page 3'!A52=\"42\",22,IF('Page 3'!A52=\"44\",22,IF('Page 3'!A52=\"46\",20,IF('Page 3'!A52=\"48\",22,\"\"))))))))))))))))))))))","v":""},"4\""]
[null,{"$f":"IF('Page 3'!$A$19<>\"\",\"V\",\"\")","v":""},{"$f":"IF('Page 3'!$H$36<>\"\",\"M\",\"\")","v":""},{"$f":"IF('Page 3'!$A$19<>\"\",\"-\",\"\")","v":""},"",{"$f":"IF('Page 3'!J39<>\"\",'Page 3'!K39,\"\")","v":""},{"$f":"IF('Page 3'!J39<>\"\",\"0\",\"\")","v":""},{"$f":"IF('Page 3'!J39<>\"\",\"00\",\"\")","v":""},{"$f":"IF('Page 3'!N39<>\"\",\"A\",\"C\")","v":"C"},{"$f":"IF(I39=\"C\",IF('Page 3'!$M$19<>\"\",$W$59,IF('Page 3'!$M$20<>\"\",$W$60,IF('Page 3'!$M$21<>\"\",$W$61,\"\"))),IF(I39=\"A\",IF('Page 3'!$M$19<>\"\",$W$56,IF('Page 3'!$M$20<>\"\",$W$57,IF('Page 3'!$M$21<>\"\",$W$58,\"\")))))","v":""},{"$f":"IF('Page 3'!$M$19<>\"\",\"1\",IF('Page 3'!$M$20<>\"\",\"1\",IF('Page 3'!$M$21<>\"\",\"1\",\"\")))","v":""},null,{"$f":"IF('Page 3'!$J$39<>\"\",CONCATENATE(B39,C39,D39,E39,F39,G39,H39,I39,J39,K39,L39),\"\")","v":""},{"$f":"IF('Page 3'!J39<>\"\",'Page 3'!J39,\"\")","v":""},null,{"$f":"IFERROR(VLOOKUP(LEFT(M39,20),Item_VIP!$A$2:$B$7499,1,FALSE),\"\")","v":""},null,"TEE","SS 304","STD",{"$f":"IF('Page 3'!A56=\"06\",24,IF('Page 3'!A56=\"08\",24,IF('Page 3'!A56=\"10\",24,IF('Page 3'!A56=\"12\",24,IF('Page 3'!A56=\"14\",24,IF('Page 3'!A56=\"16\",24,IF('Page 3'!A56=\"18\",24,IF('Page 3'!A56=\"20\",24,IF('Page 3'!A56=\"22\",24,IF('Page 3'!A56=\"24\",24,IF('Page 3'!A56=\"26\",24,IF('Page 3'!A56=\"28\",24,IF('Page 3'!A56=\"30\",20,IF('Page 3'!A56=\"32\",20,IF('Page 3'!A56=\"34\",20,IF('Page 3'!A56=\"36\",20,IF('Page 3'!A56=\"38\",20,IF('Page 3'!A56=\"40\",20,IF('Page 3'!A56=\"42\",20,IF('Page 3'!A56=\"44\",20,IF('Page 3'!A56=\"46\",20,IF('Page 3'!A56=\"48\",20,\"\"))))))))))))))))))))))","v":""}]
[null,{"$f":"IF('Page 3'!$A$19<>\"\",\"V\",\"\")","v":""},{"$f":"IF('Page 3'!$H$36<>\"\",\"M\",\"\")","v":""},{"$f":"IF('Page 3'!$A$19<>\"\",\"-\",\"\")","v":""},"",{"$f":"IF('Page 3'!J40<>\"\",'Page 3'!K40,\"\")","v":""},{"$f":"IF('Page 3'!J40<>\"\",\"0\",\"\")","v":""},{"$f":"IF('Page 3'!J40<>\"\",\"00\",\"\")","v":""},{"$f":"IF('Page 3'!N40<>\"\",\"A\",\"C\")","v":"C"},{"$f":"IF(I40=\"C\",IF('Page 3'!$M$19<>\"\",$W$59,IF('Page 3'!$M$20<>\"\",$W$60,IF('Page 3'!$M$21<>\"\",$W$61,\"\"))),IF(I40=\"A\",IF('Page 3'!$M$19<>\"\",$W$56,IF('Page 3'!$M$20<>\"\",$W$57,IF('Page 3'!$M$21<>\"\",$W$58,\"\")))))","v":""},{"$f":"IF('Page 3'!$M$19<>\"\",\"1\",IF('Page 3'!$M$20<>\"\",\"1\",IF('Page 3'!$M$21<>\"\",\"1\",\"\")))","v":""},null,{"$f":"IF('Page 3'!$J$40<>\"\",CONCATENATE(B40,C40,D40,E40,F40,G40,H40,I40,J40,K40,L40),\"\")","v":""},{"$f":"IF('Page 3'!J40<>\"\",'Page 3'!J40,\"\")","v":""},null,{"$f":"IFERROR(VLOOKUP(LEFT(M40,20),Item_VIP!$A$2:$B$7499,1,FALSE),\"\")","v":""},null,null,"SS 316","STD",{"$f":"IF('Page 3'!A56=\"06\",24,IF('Page 3'!A56=\"08\",24,IF('Page 3'!A56=\"10\",24,IF('Page 3'!A56=\"12\",24,IF('Page 3'!A56=\"14\",24,IF('Page 3'!A56=\"16\",24,IF('Page 3'!A56=\"18\",24,IF('Page 3'!A56=\"20\",24,IF('Page 3'!A56=\"22\",24,IF('Page 3'!A56=\"24\",24,IF('Page 3'!A56=\"26\",24,IF('Page 3'!A56=\"28\",24,IF('Page 3'!A56=\"30\",20,IF('Page 3'!A56=\"32\",20,IF('Page 3'!A56=\"34\",20,IF('Page 3'!A56=\"36\",20,IF('Page 3'!A56=\"38\",20,IF('Page 3'!A56=\"40\",20,IF('Page 3'!A56=\"42\",20,IF('Page 3'!A56=\"44\",20,IF('Page 3'!A56=\"46\",20,IF('Page 3'!A56=\"48\",20,\"\"))))))))))))))))))))))","v":""}]
[null,{"$f":"IF('Page 3'!$A$19<>\"\",\"V\",\"\")","v":""},{"$f":"IF('Page 3'!$H$36<>\"\",\"M\",\"\")","v":""},{"$f":"IF('Page 3'!$A$19<>\"\",\"-\",\"\")","v":""},"",{"$f":"IF('Page 3'!J41<>\"\",'Page 3'!K41,\"\")","v":""},{"$f":"IF('Page 3'!J41<>\"\",\"0\",\"\")","v":""},{"$f":"IF('Page 3'!J41<>\"\",\"00\",\"\")","v":""},{"$f":"IF('Page 3'!N41<>\"\",\"A\",\"C\")","v":"C"},{"$f":"IF(I41=\"C\",IF('Page 3'!$M$19<>\"\",$W$59,IF('Page 3'!$M$20<>\"\",$W$60,IF('Page 3'!$M$21<>\"\",$W$61,\"\"))),IF(I41=\"A\",IF('Page 3'!$M$19<>\"\",$W$56,IF('Page 3'!$M$20<>\"\",$W$57,IF('Page 3'!$M$21<>\"\",$W$58,\"\")))))","v":""},{"$f":"IF('Page 3'!$M$19<>\"\",\"1\",IF('Page 3'!$M$20<>\"\",\"1\",IF('Page 3'!$M$21<>\"\",\"1\",\"\")))","v":""},null,{"$f":"IF('Page 3'!$J$41<>\"\",CONCATENATE(B41,C41,D41,E41,F41,G41,H41,I41,J41,K41,L41),\"\")","v":""},{"$f":"IF('Page 3'!J41<>\"\",'Page 3'!J41,\"\")","v":""},null,{"$f":"IFERROR(VLOOKUP(LEFT(M41,20),Item_VIP!$A$2:$B$7499,1,FALSE),\"\")","v":""},null,"FLASHING","SS 304",null,null,"STD",{"$f":"IF('Page 3'!A59=\"06\",24,IF('Page 3'!A59=\"08\",24,IF('Page 3'!A59=\"10\",24,IF('Page 3'!A59=\"12\",24,IF('Page 3'!A59=\"14\",24,IF('Page 3'!A59=\"16\",24,IF('Page 3'!A59=\"18\",24,IF('Page 3'!A59=\"20\",24,IF('Page 3'!A59=\"22\",24,IF('Page 3'!A59=\"24\",20,IF('Page 3'!A59=\"26\",24,IF('Page 3'!A59=\"28\",24,IF('Page 3'!A59=\"30\",20,IF('Page 3'!A59=\"32\",20,IF('Page 3'!A59=\"34\",20,IF('Page 3'!A59=\"36\",20,IF('Page 3'!A59=\"38\",20,IF('Page 3'!A59=\"40\",20,IF('Page 3'!A59=\"42\",20,IF('Page 3'!A59=\"44\",20,IF('Page 3'!A59=\"46\",20,IF('Page 3'!A59=\"48\",20,\"\"))))))))))))))))))))))","v":""},"1\""]
[null,{"$f":"IF('Page 3'!$A$19<>\"\",\"V\",\"\")","v":""},{"$f":"IF('Page 3'!$H$36<>\"\",\"M\",\"\")","v":""},{"$f":"IF('Page 3'!$A$19<>\"\",\"-\",\"\")","v":""},"",{"$f":"IF('Page 3'!J42<>\"\",'Page 3'!K42,\"\")","v":""},{"$f":"IF('Page 3'!J42<>\"\",\"0\",\"\")","v":""},{"$f":"IF('Page 3'!J42<>\"\",\"00\",\"\")","v":""},{"$f":"IF('Page 3'!N42<>\"\",\"A\",\"C\")","v":"C"},{"$f":"IF(F42<>\"\",11,\"\")","v":""},{"$f":"IF('Page 3'!$M$19<>\"\",\"1\",IF('Page 3'!$M$20<>\"\",\"1\",IF('Page 3'!$M$21<>\"\",\"1\",\"\")))","v":""},null,{"$f":"IF('Page 3'!$J$42<>\"\",CONCATENATE(B42,C42,D42,E42,F42,G42,H42,I42,J42,K42,L42),\"\")","v":""},{"$f":"IF('Page 3'!J42<>\"\",'Page 3'!J42,\"\")","v":""},null,{"$f":"IFERROR(VLOOKUP(LEFT(M42,20),Item_VIP!$A$2:$B$7499,1,FALSE),\"\")","v":""},null,null,null,null,null,"STD",{"$f":"IF('Page 3'!A59=\"06\",24,IF('Page 3'!A59=\"08\",24,IF('Page 3'!A59=\"10\",24,IF('Page 3'!A59=\"12\",24,IF('Page 3'!A59=\"14\",24,IF('Page 3'!A59=\"16\",24,IF('Page 3'!A59=\"18\",24,IF('Page 3'!A59=\"20\",24,IF('Page 3'!A59=\"22\",24,IF('Page 3'!A59=\"24\",24,IF('Page 3'!A59=\"26\",24,IF('Page 3'!A59=\"28\",20,IF('Page 3'!A59=\"30\",20,IF('Page 3'!A59=\"32\",20,IF('Page 3'!A59=\"34\",20,IF('Page 3'!A59=\"36\",20,IF('Page 3'!A59=\"38\",20,IF('Page 3'!A59=\"40\",20,IF('Page 3'!A59=\"42\",20,IF('Page 3'!A59=\"44\",20,IF('Page 3'!A59=\"46\",20,IF('Page 3'!A59=\"48\",20,\"\"))))))))))))))))))))))","v":""},"2\""]
[null,{"$f":"IF('Page 3'!$A$19<>\"\",\"V\",\"\")","v":""},{"$f":"IF('Page 3'!$H$36<>\"\",\"M\",\"\")","v":""},{"$f":"IF('Page 3'!$A$19<>\"\",\"-\",\"\")","v":""},"",{"$f":"IF('Page 3'!J43<>\"\",'Page 3'!K43,\"\")","v":""},{"$f":"IF('Page 3'!J43<>\"\",\"0\",\"\")","v":""},{"$f":"IF('Page 3'!J43<>\"\",\"00\",\"\")","v":""},{"$f":"IF('Page 3'!N43<>\"\",\"A\",\"C\")","v":"C"},{"$f":"IF(I43=\"C\",IF('Page 3'!$M$19<>\"\",$W$59,IF('Page 3'!$M$20<>\"\",$W$60,IF('Page 3'!$M$21<>\"\",$W$61,\"\"))),IF(I43=\"A\",IF('Page 3'!$M$19<>\"\",$W$56,IF('Page 3'!$M$20<>\"\",$W$57,IF('Page 3'!$M$21<>\"\",$W$58,\"\")))))","v":""},{"$f":"IF('Page 3'!$M$19<>\"\",\"1\",IF('Page 3'!$M$20<>\"\",\"1\",IF('Page 3'!$M$21<>\"\",\"1\",\"\")))","v":""},null,{"$f":"IF('Page 3'!$J$43<>\"\",CONCATENATE(B43,C43,D43,E43,F43,G43,H43,I43,J43,K43,L43),\"\")","v":""},{"$f":"IF('Page 3'!J43<>\"\",'Page 3'!J43,\"\")","v":""},null,{"$f":"IFERROR(VLOOKUP(LEFT(M43,20),Item_VIP!$A$2:$B$7499,1,FALSE),\"\")","v":""},null,null,null,null,null,"STD",{"$f":"IF('Page 3'!A59=\"06\",24,IF('Page 3'!A59=\"08\",24,IF('Page 3'!A59=\"10\",24,IF('Page 3'!A59=\"12\",24,IF('Page 3'!A59=\"14\",24,IF('Page 3'!A59=\"16\",24,IF('Page 3'!A59=\"18\",24,IF('Page 3'!A59=\"20\",24,IF('Page 3'!A59=\"22\",24,IF('Page 3'!A59=\"24\",20,IF('Page 3'!A59=\"26\",20,IF('Page 3'!A59=\"28\",20,IF('Page 3'!A59=\"30\",20,IF('Page 3'!A59=\"32\",20,IF('Page 3'!A59=\"34\",20,IF('Page 3'!A59=\"36\",20,IF('Page 3'!A59=\"38\",20,IF('Page 3'!A59=\"40\",20,IF('Page 3'!A59=\"42\",20,IF('Page 3'!A59=\"44\",20,IF('Page 3'!A59=\"46\",20,IF('Page 3'!A59=\"48\",20,\"\"))))))))))))))))))))))","v":""},"4\""]
[null,{"$f":"IF('Page 3'!$A$19<>\"\",\"V\",\"\")","v":""},{"$f":"IF('Page 3'!J45<>\"\",\"M\",\"\")","v":""},{"$f":"IF('Page 3'!$A$19<>\"\",\"-\",\"\")","v":""},{"$f":"IF('Page 3'!$A$19<>\"\",'Page 3'!$H$45,\"\")","v":""},{"$f":"IF('Page 3'!$J$45<>\"\",'Page 3'!K45,\"\")","v":""},{"$f":"IF('Page 3'!$D$19<>\"\",\"A\",IF('Page 3'!$D$20<>\"\",\"B\",\"\"))","v":""},{"$f":"IF('Page 3'!$F$20<>\"\",\"24\",IF('Page 3'!$F$21<>\"\",\"20\",IF('Page 3'!$D$19<>\"\",IF('Page 3'!$F$22<>\"\",$U$62,\"\"),IF('Page 3'!$D$20<>\"\",IF('Page 3'!$F$22<>\"\",$U$63,\"\"),\"\"))))","v":""},{"$f":"IF(G44<>\"\",G44,\"\")","v":""},"",{"$f":"IF('Page 3'!$M$19<>\"\",\"1\",IF('Page 3'!$M$20<>\"\",\"2\",IF('Page 3'!$M$21<>\"\",\"4\",\"\")))","v":""},null,{"$f":"IF('Page 3'!J45<>\"\",CONCATENATE(B44,C44,D44,E44,F44,G44,H44,I44,J44,K44),\"\")","v":""},{"$f":"IF('Page 3'!J45<>\"\",'Page 3'!J45,\"\")","v":""},null,{"$f":"IFERROR(VLOOKUP(LEFT(M44,20),Item_VIP!$A$2:$B$7499,1,FALSE),\"\")","v":""},null,null,"GALVALUME STD",null,null,"GAL",{"$f":"IF('Page 3'!A59=\"06\",28,IF('Page 3'!A59=\"08\",28,IF('Page 3'!A59=\"10\",24,IF('Page 3'!A59=\"12\",24,IF('Page 3'!A59=\"14\",24,IF('Page 3'!A59=\"16\",24,IF('Page 3'!A59=\"18\",24,IF('Page 3'!A59=\"20\",24,IF('Page 3'!A59=\"22\",24,IF('Page 3'!A59=\"24\",20,IF('Page 3'!A59=\"26\",24,IF('Page 3'!A59=\"28\",24,IF('Page 3'!A59=\"30\",24,IF('Page 3'!A59=\"32\",22,IF('Page 3'!A59=\"34\",22,IF('Page 3'!A59=\"36\",22,IF('Page 3'!A59=\"38\",22,IF('Page 3'!A59=\"40\",22,IF('Page 3'!A59=\"42\",22,IF('Page 3'!A59=\"44\",22,IF('Page 3'!A59=\"46\",22,IF('Page 3'!A59=\"48\",22,\"\"))))))))))))))))))))))","v":""},"1\""]
[null,{"$f":"IF('Page 3'!$A$19<>\"\",\"V\",\"\")","v":""},{"$f":"IF('Page 3'!J46<>\"\",\"M\",\"\")","v":""},{"$f":"IF('Page 3'!$A$19<>\"\",\"-\",\"\")","v":""},{"$f":"IF('Page 3'!$A$19<>\"\",'Page 3'!$H$45,\"\")","v":""},{"$f":"IF('Page 3'!$J$46<>\"\",'Page 3'!K46,\"\")","v":""},{"$f":"IF('Page 3'!$D$19<>\"\",\"A\",IF('Page 3'!$D$20<>\"\",\"B\",\"\"))","v":""},{"$f":"IF('Page 3'!$F$20<>\"\",\"24\",IF('Page 3'!$F$21<>\"\",\"20\",IF('Page 3'!$D$19<>\"\",IF('Page 3'!$F$22<>\"\",$U$62,\"\"),IF('Page 3'!$D$20<>\"\",IF('Page 3'!$F$22<>\"\",$U$63,\"\"),\"\"))))","v":""},"","",{"$f":"IF('Page 3'!$M$19<>\"\",\"1\",IF('Page 3'!$M$20<>\"\",\"2\",IF('Page 3'!$M$21<>\"\",\"4\",\"\")))","v":""},null,{"$f":"IF('Page 3'!J46<>\"\",CONCATENATE(B45,C45,D45,E45,F45,G45,H45,I45,J45,K45),\"\")","v":""},{"$f":"IF('Page 3'!J46<>\"\",'Page 3'!J46,\"\")","v":""},null,{"$f":"IFERROR(VLOOKUP(LEFT(M45,20),Item_VIP!$A$2:$B$7499,1,FALSE),\"\")","v":""},null,null,"FF",null,null,"GAL",{"$f":"IF('Page 3'!A59=\"06\",24,IF('Page 3'!A59=\"08\",24,IF('Page 3'!A59=\"10\",24,IF('Page 3'!A59=\"12\",24,IF('Page 3'!A59=\"14\",24,IF('Page 3'!A59=\"16\",24,IF('Page 3'!A59=\"18\",24,IF('Page 3'!A59=\"20\",24,IF('Page 3'!A59=\"22\",24,IF('Page 3'!A59=\"24\",24,IF('Page 3'!A59=\"26\",24,IF('Page 3'!A59=\"28\",24,IF('Page 3'!A59=\"30\",22,IF('Page 3'!A59=\"32\",22,IF('Page 3'!A59=\"34\",22,IF('Page 3'!A59=\"36\",22,IF('Page 3'!A59=\"38\",22,IF('Page 3'!A59=\"40\",22,IF('Page 3'!A59=\"42\",22,IF('Page 3'!A59=\"44\",22,IF('Page 3'!A59=\"46\",22,IF('Page 3'!A59=\"48\",22,\"\"))))))))))))))))))))))","v":""},"2\""]
[null,{"$f":"IF('Page 3'!$A$19<>\"\",\"V\",\"\")","v":""},{"$f":"IF('Page 3'!J47<>\"\",\"M\",\"\")","v":""},{"$f":"IF('Page 3'!$A$19<>\"\",\"-\",\"\")","v":""},{"$f":"IF('Page 3'!$A$19<>\"\",'Page 3'!$H$45,\"\")","v":""},{"$f":"IF('Page 3'!$J$47<>\"\",'Page 3'!K47,\"\")","v":""},{"$f":"IF('Page 3'!$D$19<>\"\",\"A\",IF('Page 3'!$D$20<>\"\",\"B\",\"\"))","v":""},{"$f":"IF('Page 3'!$F$20<>\"\",\"24\",IF('Page 3'!$F$21<>\"\",\"20\",IF('Page 3'!$D$19<>\"\",IF('Page 3'!$F$22<>\"\",$U$64,\"\"),IF('Page 3'!$D$20<>\"\",IF('Page 3'!$F$22<>\"\",$U$65,\"\"),\"\"))))","v":""},"","",{"$f":"IF('Page 3'!$M$19<>\"\",\"1\",IF('Page 3'!$M$20<>\"\",\"2\",IF('Page 3'!$M$21<>\"\",\"4\",\"\")))","v":""},null,{"$f":"IF('Page 3'!J47<>\"\",CONCATENATE(B46,C46,D46,E46,F46,G46,H46,I46,J46,K46),\"\")","v":""},{"$f":"IF('Page 3'!J47<>\"\",'Page 3'!J47,\"\")","v":""},null,{"$f":"IFERROR(VLOOKUP(LEFT(M46,20),Item_VIP!$A$2:$B$7499,1,FALSE),\"\")","v":""},null,null,null,null,null,"GAL",{"$f":"IF('Page 3'!A59=\"06\",24,IF('Page 3'!A59=\"08\",24,IF('Page 3'!A59=\"10\",24,IF('Page 3'!A59=\"12\",24,IF('Page 3'!A59=\"14\",24,IF('Page 3'!A59=\"16\",24,IF('Page 3'!A59=\"18\",24,IF('Page 3'!A59=\"20\",24,IF('Page 3'!A59=\"22\",24,IF('Page 3'!A59=\"24\",24,IF('Page 3'!A59=\"26\",22,IF('Page 3'!A59=\"28\",22,IF('Page 3'!A59=\"30\",22,IF('Page 3'!A59=\"32\",22,IF('Page 3'!A59=\"34\",22,IF('Page 3'!A59=\"36\",22,IF('Page 3'!A59=\"38\",22,IF('Page 3'!A59=\"40\",22,IF('Page 3'!A59=\"42\",22,IF('Page 3'!A59=\"44\",22,IF('Page 3'!A59=\"46\",22,IF('Page 3'!A59=\"48\",22,\"\"))))))))))))))))))))))","v":""},"4\""]
[null,{"$f":"IF('Page 3'!$A$19<>\"\",\"V\",\"\")","v":""},{"$f":"IF('Page 3'!J48<>\"\",\"S\",\"\")","v":""},{"$f":"IF('Page 3'!$A$19<>\"\",\"-\",\"\")","v":""},{"$f":"IF('Page 3'!$A$19<>\"\",'Page 3'!$H$45,\"\")","v":""},{"$f":"IF('Page 3'!$J$48<>\"\",'Page 3'!K48,\"\")","v":""},{"$f":"IF('Page 3'!$D$19<>\"\",\"A\",IF('Page 3'!$D$20<>\"\",\"B\",\"\"))","v":""},{"$f":"IF('Page 3'!$F$20<>\"\",\"24\",IF('Page 3'!$F$21<>\"\",\"20\",IF('Page 3'!$D$19<>\"\",IF('Page 3'!$F$22<>\"\",$U$64,\"\"),IF('Page 3'!$D$20<>\"\",IF('Page 3'!$F$22<>\"\",$U$65,\"\"),\"\"))))","v":""},"","",{"$f":"IF('Page 3'!$M$19<>\"\",\"1\",IF('Page 3'!$M$20<>\"\",\"2\",IF('Page 3'!$M$21<>\"\",\"4\",\"\")))","v":""},{"$f":"IF('Page 3'!J48<>\"\",\"-NC\",\"\")","v":""},{"$f":"IF('Page 3'!J48<>\"\",CONCATENATE(B47,C47,D47,E47,F47,G47,H47,I47,J47,K47,L47),\"\")","v":""},{"$f":"IF('Page 3'!J48<>\"\",'Page 3'!J48,\"\")","v":""},null,{"$f":"IFERROR(VLOOKUP(LEFT(M47,20),Item_VIP!$A$2:$B$7499,1,FALSE),\"\")","v":""},null,null,"GALVALUME STD",null,null,"GAL",{"$f":"IF('Page 3'!A59=\"06\",24,IF('Page 3'!A59=\"08\",24,IF('Page 3'!A59=\"10\",24,IF('Page 3'!A59=\"12\",24,IF('Page 3'!A59=\"14\",24,IF('Page 3'!A59=\"16\",24,IF('Page 3'!A59=\"18\",24,IF('Page 3'!A59=\"20\",24,IF('Page 3'!A59=\"22\",24,IF('Page 3'!A59=\"24\",20,IF('Page 3'!A59=\"26\",24,IF('Page 3'!A59=\"28\",24,IF('Page 3'!A59=\"30\",22,IF('Page 3'!A59=\"32\",22,IF('Page 3'!A59=\"34\",22,IF('Page 3'!A59=\"36\",22,IF('Page 3'!A59=\"38\",22,IF('Page 3'!A59=\"40\",22,IF('Page 3'!A59=\"42\",22,IF('Page 3'!A59=\"44\",22,IF('Page 3'!A59=\"46\",22,IF('Page 3'!A59=\"48\",22,\"\"))))))))))))))))))))))","v":""},"1\""]
[null,{"$f":"IF('Page 3'!$A$19<>\"\",\"V\",\"\")","v":""},{"$f":"IF('Page 3'!J49<>\"\",\"S\",\"\")","v":""},{"$f":"IF('Page 3'!$A$19<>\"\",\"-\",\"\")","v":""},{"$f":"IF('Page 3'!$A$19<>\"\",'Page 3'!$H$45,\"\")","v":""},{"$f":"IF('Page 3'!$J$49<>\"\",'Page 3'!K49,\"\")","v":""},{"$f":"IF('Page 3'!$D$19<>\"\",\"A\",IF('Page 3'!$D$20<>\"\",\"B\",\"\"))","v":""},{"$f":"IF('Page 3'!$F$20<>\"\",\"24\",IF('Page 3'!$F$21<>\"\",\"20\",IF('Page 3'!$D$19<>\"\",IF('Page 3'!$F$22<>\"\",$U$64,\"\"),IF('Page 3'!$D$20<>\"\",IF('Page 3'!$F$22<>\"\",$U$65,\"\"),\"\"))))","v":""},"","",{"$f":"IF('Page 3'!$M$19<>\"\",\"1\",IF('Page 3'!$M$20<>\"\",\"2\",IF('Page 3'!$M$21<>\"\",\"4\",\"\")))","v":""},{"$f":"IF('Page 3'!J49<>\"\",\"-F\",\"\")","v":""},{"$f":"IF('Page 3'!J49<>\"\",CONCATENATE(B48,C48,D48,E48,F48,G48,H48,I48,J48,K48,L48),\"\")","v":""},{"$f":"IF('Page 3'!J49<>\"\",'Page 3'!J49,\"\")","v":""},null,{"$f":"IFERROR(VLOOKUP(LEFT(M48,20),Item_VIP!$A$2:$B$7499,1,FALSE),\"\")","v":""},null,null,"FA &FB",null,null,"GAL",{"$f":"IF('Page 3'!A59=\"06\",24,IF('Page 3'!A59=\"08\",24,IF('Page 3'!A59=\"10\",24,IF('Page 3'!A59=\"12\",24,IF('Page 3'!A59=\"14\",24,IF('Page 3'!A59=\"16\",24,IF('Page 3'!A59=\"18\",24,IF('Page 3'!A59=\"20\",24,IF('Page 3'!A59=\"22\",24,IF('Page 3'!A59=\"24\",20,IF('Page 3'!A59=\"26\",24,IF('Page 3'!A59=\"28\",24,IF('Page 3'!A59=\"30\",22,IF('Page 3'!A59=\"32\",22,IF('Page 3'!A59=\"34\",22,IF('Page 3'!A59=\"36\",22,IF('Page 3'!A59=\"38\",22,IF('Page 3'!A59=\"40\",22,IF('Page 3'!A59=\"42\",22,IF('Page 3'!A59=\"44\",22,IF('Page 3'!A59=\"46\",22,IF('Page 3'!A59=\"48\",22,\"\"))))))))))))))))))))))","v":""},"2\""]
[null,{"$f":"IF('Page 3'!$A$19<>\"\",\"V\",\"\")","v":""},{"$f":"IF('Page 3'!$H$45<>\"\",\"M\",\"\")","v":""},{"$f":"IF('Page 3'!$A$19<>\"\",\"-\",\"\")","v":""},{"$f":"IF('Page 3'!$A$19<>\"\",'Page 3'!$H$45,\"\")","v":""},{"$f":"IF('Page 3'!J50<>\"\",'Page 3'!K50,\"\")","v":""},{"$f":"IF('Page 3'!J50<>\"\",\"0\",\"\")","v":""},{"$f":"IF('Page 3'!J50<>\"\",\"00\",\"\")","v":""},{"$f":"IF('Page 3'!$D$19<>\"\",\"A\",IF('Page 3'!$D$20<>\"\",\"B\",\"\"))","v":""},{"$f":"IF('Page 3'!$F$20<>\"\",\"24\",IF('Page 3'!$F$21<>\"\",\"20\",IF('Page 3'!$D$19<>\"\",IF('Page 3'!$F$22<>\"\",$U$64,\"\"),IF('Page 3'!$D$20<>\"\",IF('Page 3'!$F$22<>\"\",$U$65,\"\"),\"\"))))","v":""},{"$f":"IF('Page 3'!$M$19<>\"\",\"1\",IF('Page 3'!$M$20<>\"\",\"2\",IF('Page 3'!$M$21<>\"\",\"4\",\"\")))","v":""},null,{"$f":"IF('Page 3'!J50<>\"\",CONCATENATE(B49,C49,D49,E49,F49,G49,H49,I49,J49,K49),\"\")","v":""},{"$f":"IF('Page 3'!J50<>\"\",'Page 3'!J50,\"\")","v":""},null,{"$f":"IFERROR(VLOOKUP(LEFT(M49,20),Item_VIP!$A$2:$B$7499,1,FALSE),\"\")","v":""},null,null,null,null,null,"GAL",{"$f":"IF('Page 3'!A59=\"06\",24,IF('Page 3'!A59=\"08\",24,IF('Page 3'!A59=\"10\",24,IF('Page 3'!A59=\"12\",24,IF('Page 3'!A59=\"14\",24,IF('Page 3'!A59=\"16\",24,IF('Page 3'!A59=\"18\",24,IF('Page 3'!A59=\"20\",24,IF('Page 3'!A59=\"22\",24,IF('Page 3'!A59=\"24\",24,IF('Page 3'!A59=\"26\",22,IF('Page 3'!A59=\"28\",22,IF('Page 3'!A59=\"30\",22,IF('Page 3'!A59=\"32\",22,IF('Page 3'!A59=\"34\",22,IF('Page 3'!A59=\"36\",22,IF('Page 3'!A59=\"38\",22,IF('Page 3'!A59=\"40\",22,IF('Page 3'!A59=\"42\",22,IF('Page 3'!A59=\"44\",22,IF('Page 3'!A59=\"46\",22,IF('Page 3'!A59=\"48\",22,\"\"))))))))))))))))))))))","v":""},"4\""]
[null,{"$f":"IF('Page 3'!$A$19<>\"\",\"V\",\"\")","v":""},{"$f":"IF('Page 3'!$H$45<>\"\",\"M\",\"\")","v":""},{"$f":"IF('Page 3'!$A$19<>\"\",\"-\",\"\")","v":""},{"$f":"IF('Page 3'!$A$19<>\"\",'Page 3'!$H$45,\"\")","v":""},{"$f":"IF('Page 3'!J51<>\"\",'Page 3'!K51,\"\")","v":""},{"$f":"IF('Page 3'!J51<>\"\",\"0\",\"\")","v":""},{"$f":"IF('Page 3'!J51<>\"\",\"00\",\"\")","v":""},{"$f":"IF('Page 3'!$D$19<>\"\",\"A\",IF('Page 3'!$D$20<>\"\",\"B\",\"\"))","v":""},{"$f":"IF('Page 3'!$F$20<>\"\",\"24\",IF('Page 3'!$F$21<>\"\",\"20\",IF('Page 3'!$D$19<>\"\",IF('Page 3'!$F$22<>\"\",$U$64,\"\"),IF('Page 3'!$D$20<>\"\",IF('Page 3'!$F$22<>\"\",$U$65,\"\"),\"\"))))","v":""},{"$f":"IF('Page 3'!$M$19<>\"\",\"1\",IF('Page 3'!$M$20<>\"\",\"2\",IF('Page 3'!$M$21<>\"\",\"4\",\"\")))","v":""},null,{"$f":"IF('Page 3'!J51<>\"\",CONCATENATE(B50,C50,D50,E50,F50,G50,H50,I50,J50,K50),\"\")","v":""},{"$f":"IF('Page 3'!J51<>\"\",'Page 3'!J51,\"\")","v":""},null,{"$f":"IFERROR(VLOOKUP(LEFT(M50,20),Item_VIP!$A$2:$B$7499,1,FALSE),\"\")","v":""},null,"SC","SS 304",null,null,"STD",{"$f":"IF('Page 3'!A59=\"06\",24,IF('Page 3'!A59=\"08\",24,IF('Page 3'!A59=\"10\",24,IF('Page 3'!A59=\"12\",24,IF('Page 3'!A59=\"14\",24,IF('Page 3'!A59=\"16\",24,IF('Page 3'!A59=\"18\",24,IF('Page 3'!A59=\"20\",24,IF('Page 3'!A59=\"22\",24,IF('Page 3'!A59=\"24\",24,IF('Page 3'!A59=\"26\",24,IF('Page 3'!A59=\"28\",24,IF('Page 3'!A59=\"30\",24,IF('Page 3'!A59=\"32\",20,IF('Page 3'!A59=\"34\",20,IF('Page 3'!A59=\"36\",20,IF('Page 3'!A59=\"38\",20,IF('Page 3'!A59=\"40\",20,IF('Page 3'!A59=\"42\",20,IF('Page 3'!A59=\"44\",20,IF('Page 3'!A59=\"46\",20,IF('Page 3'!A59=\"48\",20,\"\"))))))))))))))))))))))","v":""},"1\""]
[null,{"$f":"IF('Page 3'!$A$19<>\"\",\"V\",\"\")","v":""},{"$f":"IF('Page 3'!$H$45<>\"\",\"M\",\"\")","v":""},{"$f":"IF('Page 3'!$A$19<>\"\",\"-\",\"\")","v":""},{"$f":"IF('Page 3'!$A$19<>\"\",'Page 3'!$H$45,\"\")","v":""},{"$f":"IF('Page 3'!J52<>\"\",'Page 3'!K52,\"\")","v":""},{"$f":"IF('Page 3'!$D$19<>\"\",\"A\",IF('Page 3'!$D$20<>\"\",\"B\",\"\"))","v":""},{"$f":"IF('Page 3'!$F$20<>\"\",\"24\",IF('Page 3'!$F$21<>\"\",\"20\",IF('Page 3'!$D$19<>\"\",IF('Page 3'!$F$22<>\"\",$U$68,\"\"),IF('Page 3'!$D$20<>\"\",IF('Page 3'!$F$22<>\"\",$U$69,\"\"),\"\"))))","v":""},{"$f":"IF('Page 3'!$D$19<>\"\",\"A\",IF('Page 3'!$D$20<>\"\",\"B\",\"\"))","v":""},{"$f":"IF(H51<>\"\",H51,\"\")","v":""},{"$f":"IF('Page 3'!$M$19<>\"\",\"1\",IF('Page 3'!$M$20<>\"\",\"2\",IF('Page 3'!$M$21<>\"\",\"4\",\"\")))","v":""},null,{"$f":"IF('Page 3'!J52<>\"\",CONCATENATE(B51,C51,D51,E51,F51,G51,H51,I51,J51,K51),\"\")","v":""},{"$f":"IF('Page 3'!J52<>\"\",'Page 3'!J52,\"\")","v":""},null,{"$f":"IFERROR(VLOOKUP(LEFT(M51,20),Item_VIP!$A$2:$B$7499,1,FALSE),\"\")","v":""},null,null,null,null,null,"STD",{"$f":"IF('Page 3'!A59=\"06\",24,IF('Page 3'!A59=\"08\",24,IF('Page 3'!A59=\"10\",24,IF('Page 3'!A59=\"12\",24,IF('Page 3'!A59=\"14\",24,IF('Page 3'!A59=\"16\",24,IF('Page 3'!A59=\"18\",24,IF('Page 3'!A59=\"20\",24,IF('Page 3'!A59=\"22\",24,IF('Page 3'!A59=\"24\",24,IF('Page 3'!A59=\"26\",24,IF('Page 3'!A59=\"28\",24,IF('Page 3'!A59=\"30\",20,IF('Page 3'!A59=\"32\",20,IF('Page 3'!A59=\"34\",20,IF('Page 3'!A59=\"36\",20,IF('Page 3'!A59=\"38\",20,IF('Page 3'!A59=\"40\",20,IF('Page 3'!A59=\"42\",20,IF('Page 3'!A59=\"44\",20,IF('Page 3'!A59=\"46\",20,IF('Page 3'!A59=\"48\",20,\"\"))))))))))))))))))))))","v":""},"2\""]
[null,{"$f":"IF('Page 3'!$A$19<>\"\",\"V\",\"\")","v":""},{"$f":"IF('Page 3'!$H$45<>\"\",\"M\",\"\")","v":""},{"$f":"IF('Page 3'!$A$19<>\"\",\"-\",\"\")","v":""},{"$f":"IF('Page 3'!$A$19<>\"\",'Page 3'!$H$45,\"\")","v":""},{"$f":"IF('Page 3'!J53<>\"\",'Page 3'!K53,\"\")","v":""},{"$f":"IF('Page 3'!J53<>\"\",\"0\",\"\")","v":""},{"$f":"IF('Page 3'!J53<>\"\",\"00\",\"\")","v":""},{"$f":"IF('Page 3'!$D$19<>\"\",\"A\",IF('Page 3'!$D$20<>\"\",\"B\",\"\"))","v":""},{"$f":"IF('Page 3'!$F$20<>\"\",\"24\",IF('Page 3'!$F$21<>\"\",\"20\",IF('Page 3'!$D$19<>\"\",IF('Page 3'!$F$22<>\"\",$W$70,\"\"),IF('Page 3'!$D$20<>\"\",IF('Page 3'!$F$22<>\"\",$W$71,\"\"),\"\"))))","v":""},{"$f":"IF('Page 3'!$M$19<>\"\",\"1\",IF('Page 3'!$M$20<>\"\",\"2\",IF('Page 3'!$M$21<>\"\",\"4\",\"\")))","v":""},null,{"$f":"IF('Page 3'!J53<>\"\",CONCATENATE(B52,C52,D52,E52,F52,G52,H52,I52,J52,K52),\"\")","v":""},{"$f":"IF('Page 3'!J53<>\"\",'Page 3'!J53,\"\")","v":""},null,{"$f":"IFERROR(VLOOKUP(LEFT(M52,20),Item_VIP!$A$2:$B$7499,1,FALSE),\"\")","v":""},null,null,null,null,null,"STD",{"$f":"IF('Page 3'!A59=\"06\",24,IF('Page 3'!A59=\"08\",24,IF('Page 3'!A59=\"10\",24,IF('Page 3'!A59=\"12\",24,IF('Page 3'!A59=\"14\",24,IF('Page 3'!A59=\"16\",24,IF('Page 3'!A59=\"18\",24,IF('Page 3'!A59=\"20\",24,IF('Page 3'!A59=\"22\",24,IF('Page 3'!A59=\"24\",24,IF('Page 3'!A59=\"26\",20,IF('Page 3'!A59=\"28\",20,IF('Page 3'!A59=\"30\",20,IF('Page 3'!A59=\"32\",20,IF('Page 3'!A59=\"34\",20,IF('Page 3'!A59=\"36\",20,IF('Page 3'!A59=\"38\",20,IF('Page 3'!A59=\"40\",20,IF('Page 3'!A59=\"42\",20,IF('Page 3'!A59=\"44\",20,IF('Page 3'!A59=\"46\",20,IF('Page 3'!A59=\"48\",20,\"\"))))))))))))))))))))))","v":""},"4\""]
[null,{"$f":"IF('Page 3'!$A$19<>\"\",\"V\",\"\")","v":""},{"$f":"IF('Page 3'!$H$45<>\"\",\"M\",\"\")","v":""},{"$f":"IF('Page 3'!$A$19<>\"\",\"-\",\"\")","v":""},{"$f":"IF('Page 3'!$A$19<>\"\",'Page 3'!$H$45,\"\")","v":""},{"$f":"IF('Page 3'!J54<>\"\",'Page 3'!K54,\"\")","v":""},{"$f":"IF('Page 3'!$D$19<>\"\",\"A\",IF('Page 3'!$D$20<>\"\",\"B\",\"\"))","v":""},{"$f":"IF('Page 3'!$F$20<>\"\",\"20\",IF('Page 3'!$F$21<>\"\",\"20\",IF('Page 3'!$D$19<>\"\",IF('Page 3'!$F$22<>\"\",$U$72,\"\"),IF('Page 3'!$D$20<>\"\",IF('Page 3'!$F$22<>\"\",$U$73,\"\"),\"\"))))","v":""},{"$f":"IF(G53<>\"\",G53,\"\")","v":""},{"$f":"IF(H53<>\"\",H53,\"\")","v":""},{"$f":"IF('Page 3'!$M$19<>\"\",\"1\",IF('Page 3'!$M$20<>\"\",\"2\",IF('Page 3'!$M$21<>\"\",\"4\",\"\")))","v":""},null,{"$f":"IF('Page 3'!J54<>\"\",CONCATENATE(B53,C53,D53,E53,F53,G53,H53,I53,J53,K53),\"\")","v":""},{"$f":"IF('Page 3'!J54<>\"\",'Page 3'!J54,\"\")","v":""},null,{"$f":"IFERROR(VLOOKUP(LEFT(M53,20),Item_VIP!$A$2:$B$7499,1,FALSE),\"\")","v":""},null,null,"GALVALUME STD",null,null,"GAL",{"$f":"IF('Page 3'!A59=\"06\",24,IF('Page 3'!A59=\"08\",24,IF('Page 3'!A59=\"10\",24,IF('Page 3'!A59=\"12\",24,IF('Page 3'!A59=\"14\",24,IF('Page 3'!A59=\"16\",24,IF('Page 3'!A59=\"18\",24,IF('Page 3'!A59=\"20\",24,IF('Page 3'!A59=\"22\",24,IF('Page 3'!A59=\"24\",24,IF('Page 3'!A59=\"26\",24,IF('Page 3'!A59=\"28\",24,IF('Page 3'!A59=\"30\",24,IF('Page 3'!A59=\"32\",22,IF('Page 3'!A59=\"34\",22,IF('Page 3'!A59=\"36\",22,IF('Page 3'!A59=\"38\",22,IF('Page 3'!A59=\"40\",22,IF('Page 3'!A59=\"42\",22,IF('Page 3'!A59=\"44\",22,IF('Page 3'!A59=\"46\",22,IF('Page 3'!A59=\"48\",22,\"\"))))))))))))))))))))))","v":""},"1\""]
[null,{"$f":"IF('Page 3'!$A$19<>\"\",\"V\",\"\")","v":""},{"$f":"IF('Page 3'!$H$36<>\"\",\"M\",\"\")","v":""},{"$f":"IF('Page 3'!$A$19<>\"\",\"-\",\"\")","v":""},{"$f":"C5","v":""},{"$f":"IF('Page 3'!J56<>\"\",'Page 3'!K56,\"\")","v":""},{"$f":"IF('Page 3'!J56<>\"\",\"0\",\"\")","v":""},{"$f":"IF('Page 3'!J56<>\"\",\"00\",\"\")","v":""},{"$f":"IF('Page 3'!N56<>\"\",\"A\",\"C\")","v":"C"},{"$f":"IF(I54=\"C\",IF('Page 3'!$M$19<>\"\",$W$77,IF('Page 3'!$M$20<>\"\",$W$78,IF('Page 3'!$M$21<>\"\",$W$79,\"\"))),IF(I54=\"A\",IF('Page 3'!$M$19<>\"\",$W$80,IF('Page 3'!$M$20<>\"\",$W$81,IF('Page 3'!$M$21<>\"\",$W$82,\"\")))))","v":""},{"$f":"IF('Page 3'!$M$19<>\"\",\"1\",IF('Page 3'!$M$20<>\"\",\"1\",IF('Page 3'!$M$21<>\"\",\"1\",\"\")))","v":""},null,{"$f":"IF('Page 3'!$J$56<>\"\",CONCATENATE(B54,C54,D54,E54,F54,G54,H54,I54,J54,K54,L54),\"\")","v":""},{"$f":"IF('Page 3'!J56<>\"\",'Page 3'!J56,\"\")","v":""},null,{"$f":"IFERROR(VLOOKUP(LEFT(M54,20),Item_VIP!$A$2:$B$7499,1,FALSE),\"\")","v":""},null,null,null,null,null,"GAL",{"$f":"IF('Page 3'!A59=\"06\",24,IF('Page 3'!A59=\"08\",24,IF('Page 3'!A59=\"10\",24,IF('Page 3'!A59=\"12\",24,IF('Page 3'!A59=\"14\",24,IF('Page 3'!A59=\"16\",24,IF('Page 3'!A59=\"18\",24,IF('Page 3'!A59=\"20\",24,IF('Page 3'!A59=\"22\",24,IF('Page 3'!A59=\"24\",24,IF('Page 3'!A59=\"26\",24,IF('Page 3'!A59=\"28\",24,IF('Page 3'!A59=\"30\",22,IF('Page 3'!A59=\"32\",22,IF('Page 3'!A59=\"34\",22,IF('Page 3'!A59=\"36\",22,IF('Page 3'!A59=\"38\",22,IF('Page 3'!A59=\"40\",22,IF('Page 3'!A59=\"42\",22,IF('Page 3'!A59=\"44\",22,IF('Page 3'!A59=\"46\",22,IF('Page 3'!A59=\"48\",22,\"\"))))))))))))))))))))))","v":""},"2\""]
[null,{"$f":"IF('Page 3'!$A$19<>\"\",\"V\",\"\")","v":""},{"$f":"IF('Page 3'!$H$36<>\"\",\"M\",\"\")","v":""},{"$f":"IF('Page 3'!$A$19<>\"\",\"-\",\"\")","v":""},{"$f":"C5","v":""},{"$f":"IF('Page 3'!J57<>\"\",'Page 3'!K57,\"\")","v":""},{"$f":"IF('Page 3'!J57<>\"\",\"0\",\"\")","v":""},{"$f":"IF('Page 3'!J57<>\"\",\"00\",\"\")","v":""},{"$f":"IF('Page 3'!N57<>\"\",\"A\",\"C\")","v":"C"},{"$f":"IF(I55=\"C\",IF('Page 3'!$M$19<>\"\",$W$83,IF('Page 3'!$M$20<>\"\",$W$84,IF('Page 3'!$M$21<>\"\",$W$85,\"\"))),IF(I55=\"A\",IF('Page 3'!$M$19<>\"\",$W$80,IF('Page 3'!$M$20<>\"\",$W$81,IF('Page 3'!$M$21<>\"\",$W$82,\"\")))))","v":""},{"$f":"IF('Page 3'!$M$19<>\"\",\"1\",IF('Page 3'!$M$20<>\"\",\"1\",IF('Page 3'!$M$21<>\"\",\"1\",\"\")))","v":""},null,{"$f":"IF('Page 3'!$J$57<>\"\",CONCATENATE(B55,C55,D55,E55,F55,G55,H55,I55,J55,K55,L55),\"\")","v":""},{"$f":"IF('Page 3'!J57<>\"\",'Page 3'!J57,\"\")","v":""},null,{"$f":"IFERROR(VLOOKUP(LEFT(M55,20),Item_VIP!$A$2:$B$7499,1,FALSE),\"\")","v":""},null,null,null,null,null,"GAL",{"$f":"IF('Page 3'!A59=\"06\",24,IF('Page 3'!A59=\"08\",24,IF('Page 3'!A59=\"10\",24,IF('Page 3'!A59=\"12\",24,IF('Page 3'!A59=\"14\",24,IF('Page 3'!A59=\"16\",24,IF('Page 3'!A59=\"18\",24,IF('Page 3'!A59=\"20\",24,IF('Page 3'!A59=\"22\",24,IF('Page 3'!A59=\"24\",24,IF('Page 3'!A59=\"26\",22,IF('Page 3'!A59=\"28\",22,IF('Page 3'!A59=\"30\",22,IF('Page 3'!A59=\"32\",22,IF('Page 3'!A59=\"34\",22,IF('Page 3'!A59=\"36\",22,IF('Page 3'!A59=\"38\",22,IF('Page 3'!A59=\"40\",22,IF('Page 3'!A59=\"42\",22,IF('Page 3'!A59=\"44\",22,IF('Page 3'!A59=\"46\",22,IF('Page 3'!A59=\"48\",22,\"\"))))))))))))))))))))))","v":""},"4\""]
[null,{"$f":"IF('Page 3'!$A$19<>\"\",\"V\",\"\")","v":""},{"$f":"IF('Page 3'!$H$56<>\"\",\"M\",\"\")","v":""},{"$f":"IF('Page 3'!$A$19<>\"\",\"-\",\"\")","v":""},{"$f":"IF('Page 3'!$A$19<>\"\",'Page 3'!$H$56,\"\")","v":""},{"$f":"IF('Page 3'!J58<>\"\",'Page 3'!K58,\"\")","v":""},{"$f":"IF('Page 3'!$D$19<>\"\",\"A\",IF('Page 3'!$D$20<>\"\",\"B\",\"\"))","v":""},{"$f":"IF('Page 3'!$F$19<>\"\",\"26\",IF('Page 3'!$F$20<>\"\",\"24\",IF('Page 3'!$F$21<>\"\",\"20\",IF('Page 3'!$D$19<>\"\",IF('Page 3'!$F$22<>\"\",$U$86,\"\"),IF('Page 3'!$D$20<>\"\",IF('Page 3'!$F$22<>\"\",$U$89,\"\"),\"\")))))","v":""},{"$f":"IF('Page 3'!$H$19<>\"\",\"A\",IF('Page 3'!$H$20<>\"\",\"B\",IF('Page 3'!$H$21<>\"\",\"C\",\"\")))","v":""},{"$f":"IF('Page 3'!$K$19<>\"\",\"26\",IF('Page 3'!$K$20<>\"\",\"24\",IF('Page 3'!$K$21<>\"\",\"20\",IF($Z$86<>\"\",$Z$86,IF($Z$89<>\"\",$Z$89,IF($Z$92<>\"\",$Z$92,\"\"))))))","v":""},{"$f":"IF('Page 3'!$M$19<>\"\",\"1\",IF('Page 3'!$M$20<>\"\",\"2\",IF('Page 3'!$M$21<>\"\",\"4\",\"\")))","v":""},{"$f":"IF('Page 3'!$I$58<>\"\",'Page 3'!$I$58,\"\")","v":""},{"$f":"IF('Page 3'!$J$58<>\"\",CONCATENATE(B56,C56,D56,E56,F56,G56,H56,I56,J56,K56,L56),\"\")","v":""},{"$f":"IF('Page 3'!J58<>\"\",'Page 3'!J58,\"\")","v":""},null,{"$f":"IFERROR(VLOOKUP(LEFT(M56,20),Item_VIP!$A$2:$B$7499,1,FALSE),\"\")","v":""},null,"SUPPORTS","SS 304",null,null,"STD",{"$f":"IF('Page 3'!H36=\"06\",20,IF('Page 3'!H36=\"08\",20,IF('Page 3'!H36=\"10\",20,IF('Page 3'!H36=\"12\",20,IF('Page 3'!H36=\"14\",20,IF('Page 3'!H36=\"16\",20,IF('Page 3'!H36=\"18\",20,IF('Page 3'!H36=\"20\",20,IF('Page 3'!H36=\"22\",20,IF('Page 3'!H36=\"24\",20,IF('Page 3'!H36=\"26\",20,IF('Page 3'!H36=\"28\",20,IF('Page 3'!H36=\"30\",20,IF('Page 3'!H36=\"32\",20,IF('Page 3'!H36=\"34\",20,IF('Page 3'!H36=\"36\",20,IF('Page 3'!H36=\"38\",20,IF('Page 3'!H36=\"40\",20,IF('Page 3'!H36=\"42\",20,IF('Page 3'!H36=\"44\",20,IF('Page 3'!H36=\"46\",20,IF('Page 3'!H36=\"48\",20,\"\"))))))))))))))))))))))","v":""},"1\""]
[null,{"$f":"IF('Page 3'!$A$19<>\"\",\"V\",\"\")","v":""},{"$f":"IF('Page 3'!$H$56<>\"\",\"M\",\"\")","v":""},{"$f":"IF('Page 3'!$A$19<>\"\",\"-\",\"\")","v":""},{"$f":"IF('Page 3'!$A$19<>\"\",'Page 3'!$H$56,\"\")","v":""},{"$f":"IF('Page 3'!J59<>\"\",'Page 3'!K59,\"\")","v":""},{"$f":"IF('Page 3'!$D$19<>\"\",\"A\",IF('Page 3'!$D$20<>\"\",\"B\",\"\"))","v":""},{"$f":"IF('Page 3'!$F$19<>\"\",\"26\",IF('Page 3'!$F$20<>\"\",\"24\",IF('Page 3'!$F$21<>\"\",\"20\",IF('Page 3'!$D$19<>\"\",IF('Page 3'!$F$22<>\"\",$U$86,\"\"),IF('Page 3'!$D$20<>\"\",IF('Page 3'!$F$22<>\"\",$U$89,\"\"),\"\")))))","v":""},{"$f":"IF('Page 3'!$H$19<>\"\",\"A\",IF('Page 3'!$H$20<>\"\",\"B\",IF('Page 3'!$H$21<>\"\",\"C\",\"\")))","v":""},{"$f":"IF('Page 3'!$K$19<>\"\",\"26\",IF('Page 3'!$K$20<>\"\",\"24\",IF('Page 3'!$K$21<>\"\",\"20\",IF($Z$86<>\"\",$Z$86,IF($Z$89<>\"\",$Z$89,IF($Z$92<>\"\",$Z$92,\"\"))))))","v":""},{"$f":"IF('Page 3'!$M$19<>\"\",\"1\",IF('Page 3'!$M$20<>\"\",\"2\",IF('Page 3'!$M$21<>\"\",\"4\",\"\")))","v":""},{"$f":"IF('Page 3'!$I$58<>\"\",'Page 3'!$I$58,\"\")","v":""},{"$f":"IF('Page 3'!$J$58<>\"\",CONCATENATE(B57,C57,D57,E57,F57,G57,H57,I57,J57,K57,L57),\"\")","v":""},{"$f":"IF('Page 3'!J59<>\"\",'Page 3'!J59,\"\")","v":""},null,null,null,null,null,null,null,"STD",{"$f":"IF('Page 3'!H36=\"06\",20,IF('Page 3'!H36=\"08\",20,IF('Page 3'!H36=\"10\",20,IF('Page 3'!H36=\"12\",20,IF('Page 3'!H36=\"14\",20,IF('Page 3'!H36=\"16\",20,IF('Page 3'!H36=\"18\",20,IF('Page 3'!H36=\"20\",20,IF('Page 3'!H36=\"22\",20,IF('Page 3'!H36=\"24\",20,IF('Page 3'!H36=\"26\",20,IF('Page 3'!H36=\"28\",20,IF('Page 3'!H36=\"30\",20,IF('Page 3'!H36=\"32\",20,IF('Page 3'!H36=\"34\",20,IF('Page 3'!H36=\"36\",20,IF('Page 3'!H36=\"38\",20,IF('Page 3'!H36=\"40\",20,IF('Page 3'!H36=\"42\",20,IF('Page 3'!H36=\"44\",20,IF('Page 3'!H36=\"46\",20,IF('Page 3'!H36=\"48\",20,\"\"))))))))))))))))))))))","v":""},"2\""]
[null,{"$f":"IF('Page 3'!$A$19<>\"\",\"V\",\"\")","v":""},{"$f":"IF('Page 3'!$H$56<>\"\",\"M\",\"\")","v":""},{"$f":"IF('Page 3'!$A$19<>\"\",\"-\",\"\")","v":""},{"$f":"IF('Page 3'!$A$19<>\"\",'Page 3'!$H$56,\"\")","v":""},{"$f":"IF('Page 3'!J60<>\"\",'Page 3'!K60,\"\")","v":""},{"$f":"IF('Page 3'!$D$19<>\"\",\"A\",IF('Page 3'!$D$20<>\"\",\"B\",\"\"))","v":""},{"$f":"IF('Page 3'!$F$20<>\"\",\"24\",IF('Page 3'!$F$21<>\"\",\"20\",IF('Page 3'!$D$19<>\"\",IF('Page 3'!$F$22<>\"\",$U$21,\"\"),IF('Page 3'!$D$20<>\"\",IF('Page 3'!$F$22<>\"\",$U$24,\"\"),\"\"))))","v":""},{"$f":"IF('Page 3'!$H$19<>\"\",\"A\",IF('Page 3'!$H$20<>\"\",\"B\",IF('Page 3'!$H$21<>\"\",\"C\",\"\")))","v":""},{"$f":"IF('Page 3'!$K$20<>\"\",\"24\",IF('Page 3'!$K$21<>\"\",\"20\",IF($Z$21<>\"\",$Z$21,IF($Z$24<>\"\",$Z$24,IF($Z$27<>\"\",$Z$27,\"\")))))","v":""},{"$f":"IF('Page 3'!$M$19<>\"\",\"1\",IF('Page 3'!$M$20<>\"\",\"2\",IF('Page 3'!$M$21<>\"\",\"4\",\"\")))","v":""},null,{"$f":"IF('Page 3'!$J$58<>\"\",CONCATENATE(B58,C58,D58,E58,F58,G58,H58,I58,J58,K58,L58),\"\")","v":""},{"$f":"IF('Page 3'!J60<>\"\",'Page 3'!J60,\"\")","v":""},null,null,null,null,null,null,null,"STD",{"$f":"IF('Page 3'!H36=\"06\",20,IF('Page 3'!H36=\"08\",20,IF('Page 3'!H36=\"10\",20,IF('Page 3'!H36=\"12\",20,IF('Page 3'!H36=\"14\",20,IF('Page 3'!H36=\"16\",20,IF('Page 3'!H36=\"18\",20,IF('Page 3'!H36=\"20\",20,IF('Page 3'!H36=\"22\",20,IF('Page 3'!H36=\"24\",20,IF('Page 3'!H36=\"26\",20,IF('Page 3'!H36=\"28\",20,IF('Page 3'!H36=\"30\",20,IF('Page 3'!H36=\"32\",20,IF('Page 3'!H36=\"34\",20,IF('Page 3'!H36=\"36\",20,IF('Page 3'!H36=\"38\",20,IF('Page 3'!H36=\"40\",20,IF('Page 3'!H36=\"42\",20,IF('Page 3'!H36=\"44\",20,IF('Page 3'!H36=\"46\",20,IF('Page 3'!H36=\"48\",20,\"\"))))))))))))))))))))))","v":""},"4\""]
[null,null,null,null,null,null,null,null,null,null,null,null,null,null,null,null,null,null,"GALVALUME STD",null,null,"GAL",{"$f":"IF('Page 3'!H36=\"06\",22,IF('Page 3'!H36=\"08\",22,IF('Page 3'!H36=\"10\",22,IF('Page 3'!H36=\"12\",22,IF('Page 3'!H36=\"14\",22,IF('Page 3'!H36=\"16\",22,IF('Page 3'!H36=\"18\",22,IF('Page 3'!H36=\"20\",22,IF('Page 3'!H36=\"22\",22,IF('Page 3'!H36=\"24\",22,IF('Page 3'!H36=\"26\",22,IF('Page 3'!H36=\"28\",22,IF('Page 3'!H36=\"30\",22,IF('Page 3'!H36=\"32\",22,IF('Page 3'!H36=\"34\",22,IF('Page 3'!H36=\"36\",22,IF('Page 3'!H36=\"38\",22,IF('Page 3'!H36=\"40\",22,IF('Page 3'!H36=\"42\",22,IF('Page 3'!H36=\"44\",22,IF('Page 3'!H36=\"46\",22,IF('Page 3'!H36=\"48\",22,\"\"))))))))))))))))))))))","v":""},"1\""]
[null,null,null,null,null,null,null,null,null,null,null,null,null,null,null,null,null,null,null,null,null,"GAL",{"$f":"IF('Page 3'!H36=\"06\",22,IF('Page 3'!H36=\"08\",22,IF('Page 3'!H36=\"10\",22,IF('Page 3'!H36=\"12\",22,IF('Page 3'!H36=\"14\",22,IF('Page 3'!H36=\"16\",22,IF('Page 3'!H36=\"18\",22,IF('Page 3'!H36=\"20\",22,IF('Page 3'!H36=\"22\",22,IF('Page 3'!H36=\"24\",22,IF('Page 3'!H36=\"26\",22,IF('Page 3'!H36=\"28\",22,IF('Page 3'!H36=\"30\",22,IF('Page 3'!H36=\"32\",22,IF('Page 3'!H36=\"34\",22,IF('Page 3'!H36=\"36\",22,IF('Page 3'!H36=\"38\",22,IF('Page 3'!H36=\"40\",22,IF('Page 3'!H36=\"42\",22,IF('Page 3'!H36=\"44\",22,IF('Page 3'!H36=\"46\",22,IF('Page 3'!H36=\"48\",22,\"\"))))))))))))))))))))))","v":""},"2\""]
[null,null,null,null,null,null,null,null,null,null,null,null,null,null,null,null,null,null,null,null,null,"GAL",{"$f":"IF('Page 3'!H36=\"06\",22,IF('Page 3'!H36=\"08\",22,IF('Page 3'!H36=\"10\",22,IF('Page 3'!H36=\"12\",22,IF('Page 3'!H36=\"14\",22,IF('Page 3'!H36=\"16\",22,IF('Page 3'!H36=\"18\",22,IF('Page 3'!H36=\"20\",22,IF('Page 3'!H36=\"22\",22,IF('Page 3'!H36=\"24\",22,IF('Page 3'!H36=\"26\",22,IF('Page 3'!H36=\"28\",22,IF('Page 3'!H36=\"30\",22,IF('Page 3'!H36=\"32\",22,IF('Page 3'!H36=\"34\",22,IF('Page 3'!H36=\"36\",22,IF('Page 3'!H36=\"38\",22,IF('Page 3'!H36=\"40\",22,IF('Page 3'!H36=\"42\",22,IF('Page 3'!H36=\"44\",22,IF('Page 3'!H36=\"46\",22,IF('Page 3'!H36=\"48\",22,\"\"))))))))))))))))))))))","v":""},"4\""]
[null,null,null,null,null,null,null,null,null,null,null,null,null,null,null,null,null,"AP","SS 304","STD",{"$f":"IF('Page 3'!H45=\"06\",24,IF('Page 3'!H45=\"08\",24,IF('Page 3'!H45=\"10\",24,IF('Page 3'!H45=\"12\",24,IF('Page 3'!H45=\"14\",24,IF('Page 3'!H45=\"16\",24,IF('Page 3'!H45=\"18\",24,IF('Page 3'!H45=\"20\",24,IF('Page 3'!H45=\"22\",20,IF('Page 3'!H45=\"24\",20,IF('Page 3'!H45=\"26\",20,IF('Page 3'!H45=\"28\",20,IF('Page 3'!H45=\"30\",20,IF('Page 3'!H45=\"32\",20,IF('Page 3'!H45=\"34\",20,IF('Page 3'!H45=\"36\",20,IF('Page 3'!H45=\"38\",20,IF('Page 3'!H45=\"40\",20,IF('Page 3'!H45=\"42\",20,IF('Page 3'!H45=\"44\",20,IF('Page 3'!H45=\"46\",20,IF('Page 3'!H45=\"48\",20,\"\"))))))))))))))))))))))","v":""}]
[null,null,null,null,null,null,null,null,null,null,null,null,null,null,null,null,null,null,"SS 316","STD",{"$f":"IF('Page 3'!H45=\"06\",24,IF('Page 3'!H45=\"08\",24,IF('Page 3'!H45=\"10\",24,IF('Page 3'!H45=\"12\",24,IF('Page 3'!H45=\"14\",24,IF('Page 3'!H45=\"16\",24,IF('Page 3'!H45=\"18\",24,IF('Page 3'!H45=\"20\",24,IF('Page 3'!H45=\"22\",20,IF('Page 3'!H45=\"20\",24,IF('Page 3'!H45=\"26\",20,IF('Page 3'!H45=\"28\",20,IF('Page 3'!H45=\"30\",20,IF('Page 3'!H45=\"32\",20,IF('Page 3'!H45=\"34\",20,IF('Page 3'!H45=\"36\",20,IF('Page 3'!H45=\"38\",20,IF('Page 3'!H45=\"40\",20,IF('Page 3'!H45=\"42\",20,IF('Page 3'!H45=\"44\",20,IF('Page 3'!H45=\"46\",20,IF('Page 3'!H45=\"48\",20,\"\"))))))))))))))))))))))","v":""}]
[null,null,null,null,null,null,null,null,null,null,null,null,null,null,null,null,null,"EX","SS 304","STD",{"$f":"IF('Page 3'!H45=\"06\",24,IF('Page 3'!H45=\"08\",24,IF('Page 3'!H45=\"10\",24,IF('Page 3'!H45=\"12\",24,IF('Page 3'!H45=\"14\",24,IF('Page 3'!H45=\"16\",24,IF('Page 3'!H45=\"18\",24,IF('Page 3'!H45=\"20\",24,IF('Page 3'!H45=\"22\",24,IF('Page 3'!H45=\"24\",24,IF('Page 3'!H45=\"26\",24,IF('Page 3'!H45=\"28\",24,IF('Page 3'!H45=\"30\",20,IF('Page 3'!H45=\"32\",20,IF('Page 3'!H45=\"34\",20,IF('Page 3'!H45=\"36\",20,IF('Page 3'!H45=\"38\",20,IF('Page 3'!H45=\"40\",20,IF('Page 3'!H45=\"42\",20,IF('Page 3'!H45=\"44\",20,IF('Page 3'!H45=\"46\",20,IF('Page 3'!H45=\"48\",20,\"\"))))))))))))))))))))))","v":""}]
[null,null,null,null,null,null,null,null,null,null,null,null,null,null,null,null,null,null,"SS 316","STD",{"$f":"IF('Page 3'!H45=\"06\",24,IF('Page 3'!H45=\"08\",24,IF('Page 3'!H45=\"10\",24,IF('Page 3'!H45=\"12\",24,IF('Page 3'!H45=\"14\",24,IF('Page 3'!H45=\"16\",24,IF('Page 3'!H45=\"18\",24,IF('Page 3'!H45=\"24\",24,IF('Page 3'!H45=\"22\",24,IF('Page 3'!H45=\"24\",24,IF('Page 3'!H45=\"26\",24,IF('Page 3'!H45=\"28\",24,IF('Page 3'!H45=\"30\",20,IF('Page 3'!H45=\"32\",20,IF('Page 3'!H45=\"34\",20,IF('Page 3'!H45=\"36\",20,IF('Page 3'!H45=\"38\",20,IF('Page 3'!H45=\"40\",20,IF('Page 3'!H45=\"42\",20,IF('Page 3'!H45=\"44\",20,IF('Page 3'!H45=\"46\",20,IF('Page 3'!H45=\"48\",20,\"\"))))))))))))))))))))))","v":""}]
[null,null,null,null,null,null,null,null,null,null,null,null,null,null,null,null,null,"RC/CB","SS 304","STD",null,"STD",{"$f":"IF('Page 3'!H45=\"06\",24,IF('Page 3'!H45=\"08\",24,IF('Page 3'!H45=\"10\",24,IF('Page 3'!H45=\"12\",24,IF('Page 3'!H45=\"14\",24,IF('Page 3'!H45=\"16\",24,IF('Page 3'!H45=\"18\",24,IF('Page 3'!H45=\"20\",24,IF('Page 3'!H45=\"22\",24,IF('Page 3'!H45=\"24\",20,IF('Page 3'!H45=\"26\",20,IF('Page 3'!H45=\"28\",20,IF('Page 3'!H45=\"30\",20,IF('Page 3'!H45=\"32\",20,IF('Page 3'!H45=\"34\",20,IF('Page 3'!H45=\"36\",20,IF('Page 3'!H45=\"38\",20,IF('Page 3'!H45=\"40\",20,IF('Page 3'!H45=\"42\",20,IF('Page 3'!H45=\"44\",20,IF('Page 3'!H45=\"46\",20,IF('Page 3'!H45=\"48\",20,\"\"))))))))))))))))))))))","v":""}]
[null,null,null,null,null,null,null,null,null,null,null,null,null,null,null,null,null,null,"SS 316","STD",null,"STD",{"$f":"IF('Page 3'!H45=\"06\",24,IF('Page 3'!H45=\"08\",24,IF('Page 3'!H45=\"10\",24,IF('Page 3'!H45=\"12\",24,IF('Page 3'!H45=\"14\",24,IF('Page 3'!H45=\"16\",24,IF('Page 3'!H45=\"18\",24,IF('Page 3'!H45=\"20\",24,IF('Page 3'!H45=\"22\",24,IF('Page 3'!H45=\"24\",20,IF('Page 3'!H45=\"26\",20,IF('Page 3'!H45=\"28\",20,IF('Page 3'!H45=\"30\",20,IF('Page 3'!H45=\"32\",20,IF('Page 3'!H45=\"34\",20,IF('Page 3'!H45=\"36\",20,IF('Page 3'!H45=\"38\",20,IF('Page 3'!H45=\"40\",20,IF('Page 3'!H45=\"42\",20,IF('Page 3'!H45=\"44\",20,IF('Page 3'!H45=\"46\",20,IF('Page 3'!H45=\"48\",20,\"\"))))))))))))))))))))))","v":""}]
[null,null,null,null,null,null,null,null,null,null,null,null,null,null,null,null,null,"EC","SS 304","STD",{"$f":"IF('Page 3'!H45=\"06\",24,IF('Page 3'!H45=\"08\",24,IF('Page 3'!H45=\"10\",24,IF('Page 3'!H45=\"12\",24,IF('Page 3'!H45=\"14\",24,IF('Page 3'!H45=\"16\",24,IF('Page 3'!H45=\"18\",24,IF('Page 3'!H45=\"20\",24,IF('Page 3'!H45=\"22\",24,IF('Page 3'!H45=\"24\",24,IF('Page 3'!H45=\"26\",24,IF('Page 3'!H45=\"28\",24,IF('Page 3'!H45=\"30\",20,IF('Page 3'!H45=\"32\",20,IF('Page 3'!H45=\"34\",20,IF('Page 3'!H45=\"36\",20,IF('Page 3'!H45=\"38\",20,IF('Page 3'!H45=\"40\",20,IF('Page 3'!H45=\"42\",20,IF('Page 3'!H45=\"44\",20,IF('Page 3'!H45=\"46\",20,IF('Page 3'!H45=\"48\",20,\"\"))))))))))))))))))))))","v":""}]
[null,null,null,null,null,null,null,null,null,null,null,null,null,null,null,null,null,null,"SS 316","STD",{"$f":"IF('Page 3'!H45=\"06\",24,IF('Page 3'!H45=\"08\",24,IF('Page 3'!H45=\"10\",24,IF('Page 3'!H45=\"12\",24,IF('Page 3'!H45=\"14\",24,IF('Page 3'!H45=\"16\",24,IF('Page 3'!H45=\"18\",24,IF('Page 3'!H45=\"20\",24,IF('Page 3'!H45=\"22\",20,IF('Page 3'!H45=\"24\",20,IF('Page 3'!H45=\"26\",20,IF('Page 3'!H45=\"28\",20,IF('Page 3'!H45=\"30\",20,IF('Page 3'!H45=\"32\",20,IF('Page 3'!H45=\"34\",20,IF('Page 3'!H45=\"36\",20,IF('Page 3'!H45=\"38\",20,IF('Page 3'!H45=\"40\",20,IF('Page 3'!H45=\"42\",20,IF('Page 3'!H45=\"44\",20,IF('Page 3'!H45=\"46\",20,IF('Page 3'!H45=\"48\",20,\"\"))))))))))))))))))))))","v":""}]
[null,null,null,null,null,null,null,null,null,null,null,null,null,null,null,null,null,"FT","SS 304","STD",null,"STD",{"$f":"IF('Page 3'!H45=\"06\",24,IF('Page 3'!H45=\"08\",24,IF('Page 3'!H45=\"10\",24,IF('Page 3'!H45=\"12\",24,IF('Page 3'!H45=\"14\",24,IF('Page 3'!H45=\"16\",24,IF('Page 3'!H45=\"18\",24,IF('Page 3'!H45=\"20\",24,IF('Page 3'!H45=\"22\",24,IF('Page 3'!H45=\"24\",20,IF('Page 3'!H45=\"26\",20,IF('Page 3'!H45=\"28\",20,IF('Page 3'!H45=\"30\",20,IF('Page 3'!H45=\"32\",20,IF('Page 3'!H45=\"34\",20,IF('Page 3'!H45=\"36\",20,IF('Page 3'!H45=\"38\",20,IF('Page 3'!H45=\"40\",20,IF('Page 3'!H45=\"42\",20,IF('Page 3'!H45=\"44\",20,IF('Page 3'!H45=\"46\",20,IF('Page 3'!H45=\"48\",20,\"\"))))))))))))))))))))))","v":""}]
[null,null,null,null,null,null,null,null,null,null,null,null,null,null,null,null,null,null,"SS 316","STD",null,"STD",{"$f":"IF('Page 3'!H45=\"06\",24,IF('Page 3'!H45=\"08\",24,IF('Page 3'!H45=\"10\",24,IF('Page 3'!H45=\"12\",24,IF('Page 3'!H45=\"14\",24,IF('Page 3'!H45=\"16\",24,IF('Page 3'!H45=\"18\",24,IF('Page 3'!H45=\"20\",24,IF('Page 3'!H45=\"22\",24,IF('Page 3'!H45=\"24\",20,IF('Page 3'!H45=\"26\",20,IF('Page 3'!H45=\"28\",20,IF('Page 3'!H45=\"30\",20,IF('Page 3'!H45=\"32\",20,IF('Page 3'!H45=\"34\",20,IF('Page 3'!H45=\"36\",20,IF('Page 3'!H45=\"38\",20,IF('Page 3'!H45=\"40\",20,IF('Page 3'!H45=\"42\",20,IF('Page 3'!H45=\"44\",20,IF('Page 3'!H45=\"46\",20,IF('Page 3'!H45=\"48\",20,\"\"))))))))))))))))))))))","v":""}]
[null,null,null,null,null,null,null,null,null,null,null,null,null,null,null,null,null,"MC","SS 304","STD",{"$f":"IF('Page 3'!H45=\"06\",20,IF('Page 3'!H45=\"08\",20,IF('Page 3'!H45=\"10\",20,IF('Page 3'!H45=\"12\",20,IF('Page 3'!H45=\"14\",20,IF('Page 3'!H45=\"16\",20,IF('Page 3'!H45=\"18\",20,IF('Page 3'!H45=\"20\",20,IF('Page 3'!H45=\"22\",20,IF('Page 3'!H45=\"24\",20,IF('Page 3'!H45=\"26\",20,IF('Page 3'!H45=\"28\",20,IF('Page 3'!H45=\"30\",20,IF('Page 3'!H45=\"32\",20,IF('Page 3'!H45=\"34\",20,IF('Page 3'!H45=\"36\",20,IF('Page 3'!H45=\"38\",20,IF('Page 3'!H45=\"40\",20,IF('Page 3'!H45=\"42\",20,IF('Page 3'!H45=\"44\",20,IF('Page 3'!H45=\"46\",20,IF('Page 3'!H45=\"48\",20,\"\"))))))))))))))))))))))","v":""}]
[null,null,null,null,null,null,null,null,null,null,null,null,null,null,null,null,null,null,"SS 316","STD",{"$f":"IF('Page 3'!H45=\"06\",20,IF('Page 3'!H45=\"08\",20,IF('Page 3'!H45=\"10\",20,IF('Page 3'!H45=\"12\",20,IF('Page 3'!H45=\"14\",20,IF('Page 3'!H45=\"16\",20,IF('Page 3'!H45=\"18\",20,IF('Page 3'!H45=\"20\",20,IF('Page 3'!H45=\"22\",20,IF('Page 3'!H45=\"20\",20,IF('Page 3'!H45=\"26\",20,IF('Page 3'!H45=\"28\",20,IF('Page 3'!H45=\"30\",20,IF('Page 3'!H45=\"32\",20,IF('Page 3'!H45=\"34\",20,IF('Page 3'!H45=\"36\",20,IF('Page 3'!H45=\"38\",20,IF('Page 3'!H45=\"40\",20,IF('Page 3'!H45=\"42\",20,IF('Page 3'!H45=\"44\",20,IF('Page 3'!H45=\"46\",20,IF('Page 3'!H45=\"48\",20,\"\"))))))))))))))))))))))","v":""}]
[null,null,null,null,null,null,null,null,null,null,null,null,null,null,null,null,null,"RS","SS 304",null,null,"STD",{"$f":"IF('Page 3'!H56=\"06\",24,IF('Page 3'!H56=\"08\",24,IF('Page 3'!H56=\"10\",24,IF('Page 3'!H56=\"12\",24,IF('Page 3'!H56=\"14\",24,IF('Page 3'!H56=\"16\",24,IF('Page 3'!H56=\"18\",24,IF('Page 3'!H56=\"20\",24,IF('Page 3'!H56=\"22\",24,IF('Page 3'!H56=\"24\",24,IF('Page 3'!H56=\"26\",24,IF('Page 3'!H56=\"28\",24,IF('Page 3'!H56=\"30\",24,IF('Page 3'!H56=\"32\",24,IF('Page 3'!H56=\"34\",24,IF('Page 3'!H56=\"36\",24,IF('Page 3'!H56=\"38\",24,IF('Page 3'!H56=\"40\",24,IF('Page 3'!H56=\"42\",24,IF('Page 3'!H56=\"44\",24,IF('Page 3'!H56=\"46\",24,IF('Page 3'!H56=\"48\",24,\"\"))))))))))))))))))))))","v":""},"1\""]
[null,null,null,null,null,null,null,null,null,null,null,null,null,null,null,null,null,null,null,null,null,"STD",{"$f":"IF('Page 3'!H56=\"06\",24,IF('Page 3'!H56=\"08\",24,IF('Page 3'!H56=\"10\",24,IF('Page 3'!H56=\"12\",24,IF('Page 3'!H56=\"14\",24,IF('Page 3'!H56=\"16\",24,IF('Page 3'!H56=\"18\",24,IF('Page 3'!H56=\"20\",24,IF('Page 3'!H56=\"22\",24,IF('Page 3'!H56=\"24\",24,IF('Page 3'!H56=\"26\",24,IF('Page 3'!H56=\"28\",24,IF('Page 3'!H56=\"30\",24,IF('Page 3'!H56=\"32\",24,IF('Page 3'!H56=\"34\",24,IF('Page 3'!H56=\"36\",24,IF('Page 3'!H56=\"38\",24,IF('Page 3'!H56=\"40\",24,IF('Page 3'!H56=\"42\",24,IF('Page 3'!H56=\"44\",24,IF('Page 3'!H56=\"46\",24,IF('Page 3'!H56=\"48\",24,\"\"))))))))))))))))))))))","v":""},"2\""]
[null,null,null,null,null,null,null,null,null,null,null,null,null,null,null,null,null,null,null,null,null,"STD",{"$f":"IF('Page 3'!H56=\"06\",24,IF('Page 3'!H56=\"08\",24,IF('Page 3'!H56=\"10\",24,IF('Page 3'!H56=\"12\",24,IF('Page 3'!H56=\"14\",24,IF('Page 3'!H56=\"16\",24,IF('Page 3'!H56=\"18\",24,IF('Page 3'!H56=\"20\",24,IF('Page 3'!H56=\"22\",24,IF('Page 3'!H56=\"24\",24,IF('Page 3'!H56=\"26\",24,IF('Page 3'!H56=\"28\",24,IF('Page 3'!H56=\"30\",24,IF('Page 3'!H56=\"32\",24,IF('Page 3'!H56=\"34\",24,IF('Page 3'!H56=\"36\",24,IF('Page 3'!H56=\"38\",24,IF('Page 3'!H56=\"40\",24,IF('Page 3'!H56=\"42\",24,IF('Page 3'!H56=\"44\",24,IF('Page 3'!H56=\"46\",24,IF('Page 3'!H56=\"48\",24,\"\"))))))))))))))))))))))","v":""},"4\""]
[null,null,null,null,null,null,null,null,null,null,null,null,null,null,null,null,null,null,"GALVALUME STD",null,null,"GAL",{"$f":"IF('Page 3'!H56=\"06\",24,IF('Page 3'!H56=\"08\",24,IF('Page 3'!H56=\"10\",24,IF('Page 3'!H56=\"12\",24,IF('Page 3'!H56=\"14\",24,IF('Page 3'!H56=\"16\",24,IF('Page 3'!H56=\"18\",24,IF('Page 3'!H56=\"20\",24,IF('Page 3'!H56=\"22\",24,IF('Page 3'!H56=\"24\",24,IF('Page 3'!H56=\"26\",24,IF('Page 3'!H56=\"28\",24,IF('Page 3'!H56=\"30\",24,IF('Page 3'!H56=\"32\",22,IF('Page 3'!H56=\"34\",22,IF('Page 3'!H56=\"36\",22,IF('Page 3'!H56=\"38\",22,IF('Page 3'!H56=\"40\",22,IF('Page 3'!H56=\"42\",22,IF('Page 3'!H56=\"44\",22,IF('Page 3'!H56=\"46\",22,IF('Page 3'!H56=\"48\",22,\"\"))))))))))))))))))))))","v":""},"1\""]
[null,null,null,null,null,null,null,null,null,null,null,null,null,null,null,null,null,null,null,null,null,"GAL",{"$f":"IF('Page 3'!H56=\"06\",24,IF('Page 3'!H56=\"08\",24,IF('Page 3'!H56=\"10\",24,IF('Page 3'!H56=\"12\",24,IF('Page 3'!H56=\"14\",24,IF('Page 3'!H56=\"16\",24,IF('Page 3'!H56=\"18\",24,IF('Page 3'!H56=\"20\",24,IF('Page 3'!H56=\"22\",24,IF('Page 3'!H56=\"24\",24,IF('Page 3'!H56=\"26\",24,IF('Page 3'!H56=\"28\",24,IF('Page 3'!H56=\"30\",22,IF('Page 3'!H56=\"32\",22,IF('Page 3'!H56=\"34\",22,IF('Page 3'!H56=\"36\",22,IF('Page 3'!H56=\"38\",22,IF('Page 3'!H56=\"40\",22,IF('Page 3'!H56=\"42\",22,IF('Page 3'!H56=\"44\",22,IF('Page 3'!H56=\"46\",22,IF('Page 3'!H56=\"48\",20,\"\"))))))))))))))))))))))","v":""},"2\""]
[null,null,null,null,null,null,null,null,null,null,null,null,null,null,null,null,null,null,null,null,null,"GAL",{"$f":"IF('Page 3'!H56=\"06\",24,IF('Page 3'!H56=\"08\",24,IF('Page 3'!H56=\"10\",24,IF('Page 3'!H56=\"12\",24,IF('Page 3'!H56=\"14\",24,IF('Page 3'!H56=\"16\",24,IF('Page 3'!H56=\"18\",24,IF('Page 3'!H56=\"20\",24,IF('Page 3'!H56=\"22\",24,IF('Page 3'!H56=\"24\",24,IF('Page 3'!H56=\"26\",22,IF('Page 3'!H56=\"28\",22,IF('Page 3'!H56=\"30\",22,IF('Page 3'!H56=\"32\",22,IF('Page 3'!H56=\"34\",22,IF('Page 3'!H56=\"36\",22,IF('Page 3'!H56=\"38\",22,IF('Page 3'!H56=\"40\",22,IF('Page 3'!H56=\"42\",22,IF('Page 3'!H56=\"44\",22,IF('Page 3'!H56=\"46\",22,IF('Page 3'!H56=\"48\",22,\"\"))))))))))))))))))))))","v":""},"4\""]
[null,null,null,null,null,null,null,null,null,null,null,null,null,null,null,null,null,"FS","SS 304",null,null,"STD",{"$f":"IF('Page 3'!H56=\"06\",24,IF('Page 3'!H56=\"08\",24,IF('Page 3'!H56=\"10\",24,IF('Page 3'!H56=\"12\",24,IF('Page 3'!H56=\"14\",24,IF('Page 3'!H56=\"16\",24,IF('Page 3'!H56=\"18\",24,IF('Page 3'!H56=\"20\",24,IF('Page 3'!H56=\"22\",24,IF('Page 3'!H56=\"24\",24,IF('Page 3'!H56=\"26\",24,IF('Page 3'!H56=\"28\",24,IF('Page 3'!H56=\"30\",24,IF('Page 3'!H56=\"32\",24,IF('Page 3'!H56=\"34\",24,IF('Page 3'!H56=\"36\",24,IF('Page 3'!H56=\"38\",24,IF('Page 3'!H56=\"40\",24,IF('Page 3'!H56=\"42\",24,IF('Page 3'!H56=\"44\",24,IF('Page 3'!H56=\"46\",24,IF('Page 3'!H56=\"48\",24,\"\"))))))))))))))))))))))","v":""},"1\""]
[null,null,null,null,null,null,null,null,null,null,null,null,null,null,null,null,null,null,null,null,null,"STD",{"$f":"IF('Page 3'!H56=\"06\",24,IF('Page 3'!H56=\"08\",24,IF('Page 3'!H56=\"10\",24,IF('Page 3'!H56=\"12\",24,IF('Page 3'!H56=\"14\",24,IF('Page 3'!H56=\"16\",24,IF('Page 3'!H56=\"18\",24,IF('Page 3'!H56=\"20\",24,IF('Page 3'!H56=\"22\",24,IF('Page 3'!H56=\"24\",24,IF('Page 3'!H56=\"26\",24,IF('Page 3'!H56=\"28\",24,IF('Page 3'!H56=\"30\",24,IF('Page 3'!H56=\"32\",24,IF('Page 3'!H56=\"34\",24,IF('Page 3'!H56=\"36\",24,IF('Page 3'!H56=\"38\",24,IF('Page 3'!H56=\"40\",24,IF('Page 3'!H56=\"42\",24,IF('Page 3'!H56=\"44\",24,IF('Page 3'!H56=\"46\",24,IF('Page 3'!H56=\"48\",24,\"\"))))))))))))))))))))))","v":""},"2\""]
[null,null,null,null,null,null,null,null,null,null,null,null,null,null,null,null,null,null,null,null,null,"STD",{"$f":"IF('Page 3'!H56=\"06\",24,IF('Page 3'!H56=\"08\",24,IF('Page 3'!H56=\"10\",24,IF('Page 3'!H56=\"12\",24,IF('Page 3'!H56=\"14\",24,IF('Page 3'!H56=\"16\",24,IF('Page 3'!H56=\"18\",24,IF('Page 3'!H56=\"20\",24,IF('Page 3'!H56=\"22\",24,IF('Page 3'!H56=\"24\",24,IF('Page 3'!H56=\"26\",24,IF('Page 3'!H56=\"28\",24,IF('Page 3'!H56=\"30\",24,IF('Page 3'!H56=\"32\",24,IF('Page 3'!H56=\"34\",24,IF('Page 3'!H56=\"36\",24,IF('Page 3'!H56=\"38\",24,IF('Page 3'!H56=\"40\",24,IF('Page 3'!H56=\"42\",24,IF('Page 3'!H56=\"44\",24,IF('Page 3'!H56=\"46\",24,IF('Page 3'!H56=\"48\",24,\"\"))))))))))))))))))))))","v":""},"4\""]
[null,null,null,null,null,null,null,null,null,null,null,null,null,null,null,null,null,null,"GALVALUME STD",null,null,"GAL",{"$f":"IF('Page 3'!H56=\"06\",24,IF('Page 3'!H56=\"08\",24,IF('Page 3'!H56=\"10\",24,IF('Page 3'!H56=\"12\",24,IF('Page 3'!H56=\"14\",24,IF('Page 3'!H56=\"16\",24,IF('Page 3'!H56=\"18\",24,IF('Page 3'!H56=\"20\",24,IF('Page 3'!H56=\"22\",24,IF('Page 3'!H56=\"24\",24,IF('Page 3'!H56=\"26\",24,IF('Page 3'!H56=\"28\",24,IF('Page 3'!H56=\"30\",24,IF('Page 3'!H56=\"32\",24,IF('Page 3'!H56=\"34\",24,IF('Page 3'!H56=\"36\",22,IF('Page 3'!H56=\"38\",22,IF('Page 3'!H56=\"40\",22,IF('Page 3'!H56=\"42\",22,IF('Page 3'!H56=\"44\",22,IF('Page 3'!H56=\"46\",22,IF('Page 3'!H56=\"48\",22,\"\"))))))))))))))))))))))","v":""},"1\""]
[null,null,null,null,null,null,null,null,null,null,null,null,null,null,null,null,null,null,null,null,null,"GAL",{"$f":"IF('Page 3'!H56=\"06\",24,IF('Page 3'!H56=\"08\",24,IF('Page 3'!H56=\"10\",24,IF('Page 3'!H56=\"12\",24,IF('Page 3'!H56=\"14\",24,IF('Page 3'!H56=\"16\",24,IF('Page 3'!H56=\"18\",24,IF('Page 3'!H56=\"20\",24,IF('Page 3'!H56=\"22\",24,IF('Page 3'!H56=\"24\",24,IF('Page 3'!H56=\"26\",24,IF('Page 3'!H56=\"28\",24,IF('Page 3'!H56=\"30\",24,IF('Page 3'!H56=\"32\",24,IF('Page 3'!H56=\"34\",22,IF('Page 3'!H56=\"36\",22,IF('Page 3'!H56=\"38\",22,IF('Page 3'!H56=\"40\",22,IF('Page 3'!H56=\"42\",22,IF('Page 3'!H56=\"44\",22,IF('Page 3'!H56=\"46\",22,IF('Page 3'!H56=\"48\",22,\"\"))))))))))))))))))))))","v":""},"2\""]
[null,null,null,null,null,null,null,null,null,null,null,null,null,null,null,null,null,null,null,null,null,"GAL",{"$f":"IF('Page 3'!H56=\"06\",24,IF('Page 3'!H56=\"08\",24,IF('Page 3'!H56=\"10\",24,IF('Page 3'!H56=\"12\",24,IF('Page 3'!H56=\"14\",24,IF('Page 3'!H56=\"16\",24,IF('Page 3'!H56=\"18\",24,IF('Page 3'!H56=\"20\",24,IF('Page 3'!H56=\"22\",24,IF('Page 3'!H56=\"24\",24,IF('Page 3'!H56=\"26\",24,IF('Page 3'!H56=\"28\",24,IF('Page 3'!H56=\"30\",22,IF('Page 3'!H56=\"32\",22,IF('Page 3'!H56=\"34\",22,IF('Page 3'!H56=\"36\",22,IF('Page 3'!H56=\"38\",22,IF('Page 3'!H56=\"40\",22,IF('Page 3'!H56=\"42\",22,IF('Page 3'!H56=\"44\",22,IF('Page 3'!H56=\"46\",22,IF('Page 3'!H56=\"48\",22,\"\"))))))))))))))))))))))","v":""},"4\""]
[null,null,null,null,null,null,null,null,null,null,null,null,null,null,null,null,null,"IT","SS 304","STD",{"$f":"IF('Page 3'!H58=\"06\",24,IF('Page 3'!H58=\"08\",24,IF('Page 3'!H58=\"10\",24,IF('Page 3'!H58=\"12\",24,IF('Page 3'!H58=\"14\",24,IF('Page 3'!H58=\"16\",24,IF('Page 3'!H58=\"18\",24,IF('Page 3'!H58=\"20\",24,IF('Page 3'!H58=\"22\",24,IF('Page 3'!H58=\"24\",24,IF('Page 3'!H58=\"26\",24,IF('Page 3'!H58=\"28\",24,IF('Page 3'!H58=\"30\",20,IF('Page 3'!H58=\"32\",20,IF('Page 3'!H58=\"34\",20,IF('Page 3'!H58=\"36\",20,IF('Page 3'!H58=\"38\",20,IF('Page 3'!H58=\"40\",20,IF('Page 3'!H58=\"42\",20,IF('Page 3'!H58=\"44\",20,IF('Page 3'!H58=\"46\",20,IF('Page 3'!H58=\"48\",20,\"\"))))))))))))))))))))))","v":""},"STD",{"$f":"IF('Page 3'!H58=\"06\",24,IF('Page 3'!H58=\"08\",24,IF('Page 3'!H58=\"10\",24,IF('Page 3'!H58=\"12\",24,IF('Page 3'!H58=\"14\",24,IF('Page 3'!H58=\"16\",24,IF('Page 3'!H58=\"18\",24,IF('Page 3'!H58=\"20\",24,IF('Page 3'!H58=\"22\",24,IF('Page 3'!H58=\"24\",24,IF('Page 3'!H58=\"26\",24,IF('Page 3'!H58=\"28\",24,IF('Page 3'!H58=\"30\",20,IF('Page 3'!H58=\"32\",20,IF('Page 3'!H58=\"34\",20,IF('Page 3'!H58=\"36\",20,IF('Page 3'!H58=\"38\",20,IF('Page 3'!H58=\"40\",20,IF('Page 3'!H58=\"42\",20,IF('Page 3'!H58=\"44\",20,IF('Page 3'!H58=\"46\",20,IF('Page 3'!H58=\"48\",20,\"\"))))))))))))))))))))))","v":""},"1\"",null,{"$f":"IF('Page 3'!$H$19<>\"\",IF('Page 3'!$M$19<>\"\",IF('Page 3'!$K$22<>\"\",$W$86,\"\"),IF('Page 3'!$H$19<>\"\",IF('Page 3'!$M$20<>\"\",IF('Page 3'!$K$22<>\"\",$W$87,\"\"),IF('Page 3'!$H$19<>\"\",IF('Page 3'!$M$21<>\"\",IF('Page 3'!$K$22<>\"\",$W$88,\"\"),\"\"))))),\"\")","v":""},"SI 1\" OU 2\" OU 4\""]
[null,null,null,null,null,null,null,null,null,null,null,null,null,null,null,null,null,null,null,null,null,"STD",{"$f":"IF('Page 3'!H58=\"06\",24,IF('Page 3'!H58=\"08\",24,IF('Page 3'!H58=\"10\",24,IF('Page 3'!H58=\"12\",24,IF('Page 3'!H58=\"14\",24,IF('Page 3'!H58=\"16\",24,IF('Page 3'!H58=\"18\",24,IF('Page 3'!H58=\"20\",24,IF('Page 3'!H58=\"22\",24,IF('Page 3'!H58=\"24\",24,IF('Page 3'!H58=\"26\",24,IF('Page 3'!H58=\"28\",24,IF('Page 3'!H58=\"30\",20,IF('Page 3'!H58=\"32\",20,IF('Page 3'!H58=\"34\",20,IF('Page 3'!H58=\"36\",20,IF('Page 3'!H58=\"38\",20,IF('Page 3'!H58=\"40\",20,IF('Page 3'!H58=\"42\",20,IF('Page 3'!H58=\"44\",20,IF('Page 3'!H58=\"46\",20,IF('Page 3'!H58=\"48\",20,\"\"))))))))))))))))))))))","v":""},"2\""]
[null,null,null,null,null,null,null,null,null,null,null,null,null,null,null,null,null,null,null,null,null,"STD",{"$f":"IF('Page 3'!H58=\"06\",24,IF('Page 3'!H58=\"08\",24,IF('Page 3'!H58=\"10\",24,IF('Page 3'!H58=\"12\",24,IF('Page 3'!H58=\"14\",24,IF('Page 3'!H58=\"16\",24,IF('Page 3'!H58=\"18\",24,IF('Page 3'!H58=\"20\",24,IF('Page 3'!H58=\"22\",24,IF('Page 3'!H58=\"24\",24,IF('Page 3'!H58=\"26\",24,IF('Page 3'!H58=\"28\",24,IF('Page 3'!H58=\"30\",20,IF('Page 3'!H58=\"32\",20,IF('Page 3'!H58=\"34\",20,IF('Page 3'!H58=\"36\",20,IF('Page 3'!H58=\"38\",20,IF('Page 3'!H58=\"40\",20,IF('Page 3'!H58=\"42\",20,IF('Page 3'!H58=\"44\",20,IF('Page 3'!H58=\"46\",20,IF('Page 3'!H58=\"48\",20,\"\"))))))))))))))))))))))","v":""},"4\""]
[null,null,null,null,null,null,null,null,null,null,null,null,null,null,null,null,null,null,"SS 316","STD",{"$f":"IF('Page 3'!H58=\"06\",24,IF('Page 3'!H58=\"08\",24,IF('Page 3'!H58=\"10\",24,IF('Page 3'!H58=\"12\",24,IF('Page 3'!H58=\"14\",24,IF('Page 3'!H58=\"16\",24,IF('Page 3'!H58=\"18\",24,IF('Page 3'!H58=\"20\",24,IF('Page 3'!H58=\"22\",24,IF('Page 3'!H58=\"24\",24,IF('Page 3'!H58=\"26\",24,IF('Page 3'!H58=\"28\",24,IF('Page 3'!H58=\"30\",20,IF('Page 3'!H58=\"32\",20,IF('Page 3'!H58=\"34\",20,IF('Page 3'!H58=\"36\",20,IF('Page 3'!H58=\"38\",20,IF('Page 3'!H58=\"40\",20,IF('Page 3'!H58=\"42\",20,IF('Page 3'!H58=\"44\",20,IF('Page 3'!H58=\"46\",20,IF('Page 3'!H58=\"48\",20,\"\"))))))))))))))))))))))","v":""},"STD",{"$f":"IF('Page 3'!H58=\"06\",24,IF('Page 3'!H58=\"08\",24,IF('Page 3'!H58=\"10\",24,IF('Page 3'!H58=\"12\",24,IF('Page 3'!H58=\"14\",24,IF('Page 3'!H58=\"16\",24,IF('Page 3'!H58=\"18\",24,IF('Page 3'!H58=\"20\",24,IF('Page 3'!H58=\"22\",24,IF('Page 3'!H58=\"24\",24,IF('Page 3'!H58=\"26\",24,IF('Page 3'!H58=\"28\",24,IF('Page 3'!H58=\"30\",20,IF('Page 3'!H58=\"32\",20,IF('Page 3'!H58=\"34\",20,IF('Page 3'!H58=\"36\",20,IF('Page 3'!H58=\"38\",20,IF('Page 3'!H58=\"40\",20,IF('Page 3'!H58=\"42\",20,IF('Page 3'!H58=\"44\",20,IF('Page 3'!H58=\"46\",20,IF('Page 3'!H58=\"48\",20,\"\"))))))))))))))))))))))","v":""},"1\"",null,{"$f":"IF('Page 3'!$H$20<>\"\",IF('Page 3'!$M$19<>\"\",IF('Page 3'!$K$22<>\"\",$W$89,\"\"),IF('Page 3'!$H$20<>\"\",IF('Page 3'!$M$20<>\"\",IF('Page 3'!$K$22<>\"\",$W$90,\"\"),IF('Page 3'!$H$20<>\"\",IF('Page 3'!$M$21<>\"\",IF('Page 3'!$K$22<>\"\",$W$91,\"\"),\"\"))))),\"\")","v":""},"SI 1\" OU 2\" OU 4\""]
[null,null,null,null,null,null,null,null,null,null,null,null,null,null,null,null,null,null,null,null,null,"STD",{"$f":"IF('Page 3'!H58=\"06\",24,IF('Page 3'!H58=\"08\",24,IF('Page 3'!H58=\"10\",24,IF('Page 3'!H58=\"12\",24,IF('Page 3'!H58=\"14\",24,IF('Page 3'!H58=\"16\",24,IF('Page 3'!H58=\"18\",24,IF('Page 3'!H58=\"20\",24,IF('Page 3'!H58=\"22\",24,IF('Page 3'!H58=\"24\",24,IF('Page 3'!H58=\"26\",24,IF('Page 3'!H58=\"28\",24,IF('Page 3'!H58=\"30\",20,IF('Page 3'!H58=\"32\",20,IF('Page 3'!H58=\"34\",20,IF('Page 3'!H58=\"36\",20,IF('Page 3'!H58=\"38\",20,IF('Page 3'!H58=\"40\",20,IF('Page 3'!H58=\"42\",20,IF('Page 3'!H58=\"44\",20,IF('Page 3'!H58=\"46\",20,IF('Page 3'!H58=\"48\",20,\"\"))))))))))))))))))))))","v":""},"2\""]
[null,null,null,null,null,null,null,null,null,null,null,null,null,null,null,null,null,null,null,null,null,"STD",{"$f":"IF('Page 3'!H58=\"06\",24,IF('Page 3'!H58=\"08\",24,IF('Page 3'!H58=\"10\",24,IF('Page 3'!H58=\"12\",24,IF('Page 3'!H58=\"14\",24,IF('Page 3'!H58=\"16\",24,IF('Page 3'!H58=\"18\",24,IF('Page 3'!H58=\"20\",24,IF('Page 3'!H58=\"22\",24,IF('Page 3'!H58=\"24\",24,IF('Page 3'!H58=\"26\",24,IF('Page 3'!H58=\"28\",24,IF('Page 3'!H58=\"30\",20,IF('Page 3'!H58=\"32\",20,IF('Page 3'!H58=\"34\",20,IF('Page 3'!H58=\"36\",20,IF('Page 3'!H58=\"38\",20,IF('Page 3'!H58=\"40\",20,IF('Page 3'!H58=\"42\",20,IF('Page 3'!H58=\"44\",20,IF('Page 3'!H58=\"46\",20,IF('Page 3'!H58=\"48\",20,\"\"))))))))))))))))))))))","v":""},"4\""]
[null,null,null,null,null,null,null,null,null,null,null,null,null,null,null,null,null,null,"GALVALUME STD",null,null,"GAL",{"$f":"IF('Page 3'!H58=\"06\",24,IF('Page 3'!H58=\"08\",24,IF('Page 3'!H58=\"10\",24,IF('Page 3'!H58=\"12\",24,IF('Page 3'!H58=\"14\",24,IF('Page 3'!H58=\"16\",24,IF('Page 3'!H58=\"18\",24,IF('Page 3'!H58=\"20\",24,IF('Page 3'!H58=\"22\",24,IF('Page 3'!H58=\"24\",24,IF('Page 3'!H58=\"26\",24,IF('Page 3'!H58=\"28\",24,IF('Page 3'!H58=\"30\",20,IF('Page 3'!H58=\"32\",20,IF('Page 3'!H58=\"34\",20,IF('Page 3'!H58=\"36\",20,IF('Page 3'!H58=\"38\",20,IF('Page 3'!H58=\"40\",20,IF('Page 3'!H58=\"42\",20,IF('Page 3'!H58=\"44\",20,IF('Page 3'!H58=\"46\",20,IF('Page 3'!H58=\"48\",20,\"\"))))))))))))))))))))))","v":""},"1\"",null,{"$f":"IF('Page 3'!$H$21<>\"\",IF('Page 3'!$M$19<>\"\",IF('Page 3'!$K$22<>\"\",$W$92,\"\"),IF('Page 3'!$H$21<>\"\",IF('Page 3'!$M$20<>\"\",IF('Page 3'!$K$22<>\"\",$W$93,\"\"),IF('Page 3'!$H$21<>\"\",IF('Page 3'!$M$21<>\"\",IF('Page 3'!$K$22<>\"\",$W$93,\"\"),\"\"))))),\"\")","v":""},"SI 1\" OU 2\" OU 4\""]
[null,null,null,null,null,null,null,null,null,null,null,null,null,null,null,null,null,null,null,null,null,"GAL",{"$f":"IF('Page 3'!H58=\"06\",24,IF('Page 3'!H58=\"08\",24,IF('Page 3'!H58=\"10\",24,IF('Page 3'!H58=\"12\",24,IF('Page 3'!H58=\"14\",24,IF('Page 3'!H58=\"16\",24,IF('Page 3'!H58=\"18\",24,IF('Page 3'!H58=\"20\",24,IF('Page 3'!H58=\"22\",24,IF('Page 3'!H58=\"24\",24,IF('Page 3'!H58=\"26\",24,IF('Page 3'!H58=\"28\",24,IF('Page 3'!H58=\"30\",20,IF('Page 3'!H58=\"32\",20,IF('Page 3'!H58=\"34\",20,IF('Page 3'!H58=\"36\",20,IF('Page 3'!H58=\"38\",20,IF('Page 3'!H58=\"40\",20,IF('Page 3'!H58=\"42\",20,IF('Page 3'!H58=\"44\",20,IF('Page 3'!H58=\"46\",20,IF('Page 3'!H58=\"48\",20,\"\"))))))))))))))))))))))","v":""},"2\""]
[null,null,null,null,null,null,null,null,null,null,null,null,null,null,null,null,null,null,null,null,null,"GAL",{"$f":"IF('Page 3'!H58=\"06\",26,IF('Page 3'!H58=\"08\",26,IF('Page 3'!H58=\"10\",26,IF('Page 3'!H58=\"12\",26,IF('Page 3'!H58=\"14\",26,IF('Page 3'!H58=\"16\",24,IF('Page 3'!H58=\"18\",24,IF('Page 3'!H58=\"20\",24,IF('Page 3'!H58=\"22\",24,IF('Page 3'!H58=\"24\",24,IF('Page 3'!H58=\"26\",24,IF('Page 3'!H58=\"28\",24,IF('Page 3'!H58=\"30\",20,IF('Page 3'!H58=\"32\",20,IF('Page 3'!H58=\"34\",20,IF('Page 3'!H58=\"36\",20,IF('Page 3'!H58=\"38\",20,IF('Page 3'!H58=\"40\",20,IF('Page 3'!H58=\"42\",20,IF('Page 3'!H58=\"44\",20,IF('Page 3'!H58=\"46\",20,IF('Page 3'!H58=\"48\",20,\"\"))))))))))))))))))))))","v":""},"4\""]

{"sheet":"Page 4","index":7,"n_rows":63,"n_cols":14,"rows_kept":63,"cut":false,"hidden":false,"merged":[[66,0,66,6],[66,7,66,8],[66,11,66,13],[67,0,67,6],[68,0,68,6],[64,0,64,6],[64,7,64,8],[64,11,64,13],[65,0,65,6],[65,7,65,8],[65,11,65,13],[62,0,62,6],[62,7,62,8],[62,11,62,13],[63,0,63,6],[63,7,63,8],[63,11,63,13],[57,0,57,5],[57,11,57,13],[58,0,61,1],[58,11,58,13],[59,7,59,8],[59,11,59,13],[60,7,60,13],[61,7,61,8],[61,11,61,13],[55,0,56,1],[55,4,55,6],[55,7,56,8],[55,11,55,12],[56,4,56,6],[56,11,56,12],[52,4,52,6],[52,11,52,13],[53,0,53,1],[53,4,53,6],[53,11,53,13],[54,4,54,6],[54,7,54,12],[49,4,49,6],[49,11,49,13],[50,0,50,6],[50,11,50,13],[51,0,51,1],[51,4,51,6],[51,11,51,13],[46,4,46,6],[46,11,46,13],[47,4,47,6],[47,11,47,13],[48,4,48,6],[48,11,48,13],[33,0,33,1],[33,4,33,6],[33,7,33,8],[33,11,33,13],[34,0,34,6],[34,7,34,12],[35,0,44,1],[35,4,35,6],[35,7,42,8],[36,4,36,6],[37,4,37,6],[38,4,38,6],[39,4,39,6],[40,4,40,6],[41,4,41,6],[42,4,42,6],[43,4,43,6],[43,7,43,13],[44,4,44,6],[44,7,53,8],[44,11,44,13],[45,0,45,6],[45,11,45,13],[46,0,49,1],[6,7,7,8],[7,0,7,1],[7,2,7,5],[8,0,8,1],[26,0,26,13],[27,0,29,0],[27,1,29,2],[27,12,29,12],[27,13,29,13],[22,0,22,13],[23,0,25,0],[23,1,25,2],[23,5,23,6],[23,12,25,12],[23,13,25,13],[17,7,17,9],[17,10,17,11],[17,12,17,13],[18,0,21,0],[18,1,21,2],[18,8,18,9],[19,8,19,9],[20,8,20,9],[21,7,21,9],[8,2,8,5],[9,0,9,1],[9,2,9,5],[12,0,15,4],[17,0,17,2],[17,3,17,4],[17,5,17,6],[0,0,4,4],[5,0,5,1],[5,2,5,5],[6,0,6,1],[6,2,6,5]]}
["VIP"]
[]
[null,null,null,null,null,null,null,"COMMERCIAL CHIMNEY"]
[null,null,null,null,null,null,null,"QUOTATION REQUEST"]
[null,null,null,null,null,null,null,{"$f":"IF('Page 1'!H5<>\"\",'Page 1'!H5,\"\")","v":"Revised: November 7, 2015"}]
["Name:",null,{"$f":"IF('Page 1'!C6<>\"\",'Page 1'!C6,\"\")","v":""}]
["Date:",null,{"$f":"IF('Page 1'!C7<>\"\",'Page 1'!C7,\"\")","v":""},null,null,null,null,"Page 4"]
["Job:",null,{"$f":"IF('Page 1'!C8<>\"\",'Page 1'!C8,\"\")","v":""}]
["ZIP Code:",null,{"$f":"IF('Page 1'!C9<>\"\",'Page 1'!C9,\"\")","v":""},null,null,null,"(ZIP FOR FREIGHT QUOTE)",null,null,null,null,"Phone: ","(450) 565-6336"]
["Page:",null,null,null,null,null,null,null,null,null,null,"FAX: ","(450) 565-6519"]
[null,null,null,null,null,"email:","industrial@icc-rsf.com"]
[]
["When using Excel: Type an \"X\" in the approprIate shaded cell.",null,null,null,null,null,"SS 304 / SS 304 STD",null,null,null,null,"SS 316 / SS 316 STD"]
[null,null,null,null,null,null,"SS 304 / SS 304",null,null,null,null,"SS 316 / SS 316"]
[null,null,null,null,null,null,"SS 304 / GAL. STD",null,null,null,null,"SS 316 / SS 304 STD"]
[null,null,null,null,null,null,"SS 304 / GAL.",null,null,null,null,"SS 316 / SS 304"]
[]
["MODEL",null,null,"INTERIOR",null,"GAUGE",null,"EXTERIOR",null,null,"GAUGE",null,"INSULATION"]
[{"$f":"IF(F13<>\"\",\"X\",IF(F14<>\"\",\"X\",IF(F15<>\"\",\"X\",IF(F16<>\"\",\"X\",IF(K13<>\"\",\"X\",IF(K14<>\"\",\"X\",IF(K15<>\"\",\"X\",IF(K16<>\"\",\"X\",\"\"))))))))","v":""},"VIP",null,{"$f":"IF(F13<>\"\",\"X\",IF(F14<>\"\",\"X\",IF(F15<>\"\",\"X\",IF(F16<>\"\",\"X\",\"\"))))","v":""},"A = SS 304",null,"26 = 0.018\"",{"$f":"IF(F13<>\"\",\"X\",IF(F14<>\"\",\"X\",IF(K15<>\"\",\"X\",IF(K16<>\"\",\"X\",\"\"))))","v":""},"A = SS 304",null,null,"26 = 0.018\"",null,"1\" "]
[null,null,null,{"$f":"IF(K13<>\"\",\"X\",IF(K14<>\"\",\"X\",IF(K15<>\"\",\"X\",IF(K16<>\"\",\"X\",\"\"))))","v":""},"B= SS 316",null,"24= 0.025\"",{"$f":"IF(K13<>\"\",\"X\",IF(K14<>\"\",\"X\",\"\"))","v":""},"B= SS 316",null,null,"24= 0.025\"",null,"2\""]
[null,null,null,null,null,null,"20= 0.035\"",{"$f":"IF(F15<>\"\",\"X\",IF(F16<>\"\",\"X\",\"\"))","v":""},{"$f":"IF(D20=\"\",\"C= GALVALUME\",\"\")","v":"C= GALVALUME"},null,null,"20= 0.035\"",null,"4\""]
[null,null,null,null,null,{"$f":"IF(F13<>\"\",\"X\",IF(F15<>\"\",\"X\",IF(K13<>\"\",\"X\",IF(K15<>\"\",\"X\",\"\"))))","v":""},"Standard",null,null,null,{"$f":"IF(F13<>\"\",\"X\",IF(F15<>\"\",\"X\",IF(K13<>\"\",\"X\",IF(K15<>\"\",\"X\",\"\"))))","v":""},"Standard"]
[]
[null,"IS",null,null,"A = SS 304","Standard",null,null,"A = SS 304",null,"Standard",null,null,"1\" "]
[]
[null,null,null,null,null,null,null,null,"C= GALVALUME",null,"Standard"]
[]
[null,"LINER",null,null,"A = SS 304",null,"20= 0.035\""]
[null,null,null,null,"B = SS 316",null,"Standard"]
[]
[]
["When using Excel: Type interior diameter (INT. Ø) and quantities in the approprIate shaded cells."]
[]
["INT. Ø",null,"QTY","CODE","DESCRIPTION",null,null,"INT. Ø",null,"QTY","CODE","DESCRIPTION"]
["CHIMNEY LENGTH",null,null,null,null,null,null,"SUPPORT",null,null,null,null,null,"SS 304"]
[null,null,null,{"$f":"IF(A36=\"\",\"L4\",IF(A36=\"38\",\"\",IF(A36=\"40\",\"\",IF(A36=\"42\",\"\",IF(A36=\"44\",\"\",IF(A36=\"46\",\"\",IF(A36=\"48\",\"\",\"L4\")))))))","v":"L4"},"48\" Length",null,null,{"$f":"IF(A36<>0,A36,\"\")","v":""},null,null,"BS","Base Support"]
[null,null,null,"L2","24\" Length",null,null,null,null,null,"SR","Roof Support"]
[null,null,null,"A2","Adjust. Length 2' (VIP & IS ONLY)",null,null,null,null,null,"GB","Guy Band"]
[null,null,null,"L1","12\" Length",null,null,null,null,null,"RB","Roof Brace"]
[null,null,null,"L1","12\" Length - WITH SAMPLING PORT",null,null,null,null,null,"WS","Wall Support"]
[null,null,null,"A1","Adjustable Length 1'",null,null,null,null,null,"WB","Wall Band"]
[null,null,null,"L6","6\" Length",null,null,null,null,null,"HB","Horizontal Band"]
[null,null,null,"D1","12\" Drain Length",null,null,null,null,null,"OS","Offset Support"]
[null,null,null,"D2","24\" Drain Length",null,null,"RAIN CAP and ADAPTORS"]
[null,null,null,"DB","Length Drain Base",null,null,{"$f":"IF(A36<>0,A36,\"\")","v":""},null,null,"AP","Male Anchor Plate (std: round)"]
["ELBOW",null,null,null,null,null,null,null,null,null,"AF","Female Anchor Plate (std: square)"]
[{"$f":"IF(A36<>0,A36,\"\")","v":""},null,null,{"$f":"IF(A47=\"\",\"E4\",IF(A47=\"24\",\"\",IF(A47=\"26\",\"\",IF(A47=\"28\",\"\",IF(A47=\"30\",\"\",IF(A47=\"32\",\"\",IF(A47=\"34\",\"\",IF(A47=\"36\",\"\",IF(A47=\"38\",\"\",IF(A47=\"40\",\"\",IF(A47=\"42\",\"\",IF(A47=\"44\",\"\",IF(A47=\"46\",\"\",IF(A47=\"48\",\"\",\"E4\"))))))))))))))","v":"E4"},"Elbow 45°",null,null,null,null,null,"EX","Flue Extention  - CRIMP"]
[null,null,null,"E3","Elbow 30°",null,null,null,null,null,"EX","Flue Extention  - NO CRIMP"]
[null,null,null,"E2","Elbow 22.5°",null,null,null,null,null,"EX","Flue Extention  - FEMALE (NC)"]
[null,null,null,"E1","Elbow 15°",null,null,null,null,null,"RC","Rain Cap"]
["TEE",null,null,null,null,null,null,null,null,null,"CB","Rain Cap Base"]
[{"$f":"IF(A36<>0,A36,\"\")","v":""},null,null,"TR","Tee 90° (Regular)",null,null,null,null,null,"EC","Exit Cone"]
[{"$f":"IF(A36<>0,A36,\"\")","v":""},null,null,"TR","Tee 90° (Manifold)",null,null,null,null,null,"FT","Flip Top & Adapter"]
[{"$f":"IF(A36<>0,A36,\"\")","v":""},null,null,"TY","Tee 45° (Regular)",null,null,null,null,null,"MC","Miter Cut Length"]
[{"$f":"IF(A36<>0,A36,\"\")","v":""},null,null,"TY","Tee 45° (Manifold)",null,null,"MISCELLANEOUS",null,null,null,null,null,"SS 304"]
[{"$f":"IF(A36<>0,A36,\"\")","v":""},null,null,"TC","Tee Cap",null,null,{"$f":"IF(A36<>0,A36,\"\")","v":""},null,null,"RS","Radiation Shield"]
[null,null,null,"TD","Tee Cap, Drain",null,null,null,null,null,"FS","Firestop"]
["FLASHING",null,null,null,null,null,"SS 304",{"$f":"IF(A36<>0,A36,\"\")","v":""},null,null,"IT","Taper Increaser"]
[{"$f":"IF(A36<>0,A36,\"\")","v":""},null,null,"FF","Flat flashing",null,null,{"$f":"IF(A36<>0,A36,\"\")","v":""},null,null,"SI","Step Increaser"]
[null,null,null,"FA","Flashing 1/12-7/12",null,null,{"$f":"IF(A36<>0,A36,\"\")","v":""},null,null,"RV","Presurre Releif Valve"]
[null,null,null,"FB","Flashing 8/12-12/12",null,null,"Special Request"]
[null,null,null,"SC","Storm Collar"]
["Special Request"]

{"sheet":"LOP4","index":8,"n_rows":94,"n_cols":27,"rows_kept":94,"cut":false,"hidden":true,"merged":[[85,17,93,17],[91,18,91,20],[73,17,78,17],[76,18,76,20],[77,18,78,20],[79,17,84,17],[82,18,82,20],[83,18,84,20],[71,17,72,17],[49,17,54,17],[52,18,52,20],[53,18,54,20],[55,17,60,17],[58,18,58,20],[59,18,60,20],[61,17,62,17],[63,17,64,17],[65,17,66,17],[67,17,68,17],[69,17,70,17],[29,17,37,17],[35,18,35,20],[38,17,39,17],[40,17,48,17],[43,18,43,20],[44,18,45,20],[46,18,46,20],[47,18,48,20],[2,17,10,17],[8,18,8,20],[11,17,19,17],[17,18,17,20],[20,17,28,17],[26,18,26,20]]}
[]
[null,null,null,null,null,null,null,null,null,null,null,null,null,null,null,null,null,null,null,null,"Int. STD",null,"Ext. STD"]
[null,null,{"$f":"IF('Page 4'!$M$19<>\"\",'Page 4'!$A$59,IF('Page 4'!$M$20<>\"\",'Page 4'!$A$59+2,IF('Page 4'!$M$21<>\"\",'Page 4'!$A$59+6,\"\")))","v":""},null,null,null,null,null,null,null,null,null,null,null,null,null,null,"LENGTH","SS 304","STD",{"$f":"IF('Page 4'!A36=\"06\",26,IF('Page 4'!A36=\"08\",26,IF('Page 4'!A36=\"10\",26,IF('Page 4'!A36=\"12\",26,IF('Page 4'!A36=\"14\",26,IF('Page 4'!A36=\"16\",26,IF('Page 4'!A36=\"18\",24,IF('Page 4'!A36=\"20\",24,IF('Page 4'!A36=\"22\",24,IF('Page 4'!A36=\"24\",24,IF('Page 4'!A36=\"26\",24,IF('Page 4'!A36=\"28\",24,IF('Page 4'!A36=\"30\",20,IF('Page 4'!A36=\"32\",20,IF('Page 4'!A36=\"34\",20,IF('Page 4'!A36=\"36\",20,IF('Page 4'!A36=\"38\",20,IF('Page 4'!A36=\"40\",20,IF('Page 4'!A36=\"42\",20,IF('Page 4'!A36=\"44\",20,IF('Page 4'!A36=\"46\",20,IF('Page 4'!A36=\"48\",20,\"\"))))))))))))))))))))))","v":""},"STD",{"$f":"IF('Page 4'!A36=\"06\",26,IF('Page 4'!A36=\"08\",26,IF('Page 4'!A36=\"10\",26,IF('Page 4'!A36=\"12\",26,IF('Page 4'!A36=\"14\",26,IF('Page 4'!A36=\"16\",24,IF('Page 4'!A36=\"18\",24,IF('Page 4'!A36=\"20\",24,IF('Page 4'!A36=\"22\",24,IF('Page 4'!A36=\"24\",24,IF('Page 4'!A36=\"26\",24,IF('Page 4'!A36=\"28\",24,IF('Page 4'!A36=\"30\",20,IF('Page 4'!A36=\"32\",20,IF('Page 4'!A36=\"34\",20,IF('Page 4'!A36=\"36\",20,IF('Page 4'!A36=\"38\",20,IF('Page 4'!A36=\"40\",20,IF('Page 4'!A36=\"42\",20,IF('Page 4'!A36=\"44\",20,IF('Page 4'!A36=\"46\",20,IF('Page 4'!A36=\"48\",20,\"\"))))))))))))))))))))))","v":""},"1\"",null,{"$f":"IF('Page 4'!$H$19<>\"\",IF('Page 4'!$M$19<>\"\",IF('Page 4'!$K$22<>\"\",$W$3,\"\"),IF('Page 4'!$H$19<>\"\",IF('Page 4'!$M$20<>\"\",IF('Page 4'!$K$22<>\"\",$W$4,\"\"),IF('Page 4'!$H$19<>\"\",IF('Page 4'!$M$21<>\"\",IF('Page 4'!$K$22<>\"\",$W$5,\"\"),\"\"))))),\"\")","v":""},"SI 1\" OU 2\" OU 4\""]
[null,null,{"$f":"IF('Page 4'!$M$20<>\"\",'Page 4'!$A$59+2,)","v":0},null,null,null,null,null,null,null,null,null,null,null,null,null,null,null,null,null,null,"STD",{"$f":"IF('Page 4'!A36=\"06\",26,IF('Page 4'!A36=\"08\",26,IF('Page 4'!A36=\"10\",26,IF('Page 4'!A36=\"12\",26,IF('Page 4'!A36=\"14\",24,IF('Page 4'!A36=\"16\",24,IF('Page 4'!A36=\"18\",24,IF('Page 4'!A36=\"20\",24,IF('Page 4'!A36=\"22\",24,IF('Page 4'!A36=\"24\",24,IF('Page 4'!A36=\"26\",24,IF('Page 4'!A36=\"28\",20,IF('Page 4'!A36=\"30\",20,IF('Page 4'!A36=\"32\",20,IF('Page 4'!A36=\"34\",20,IF('Page 4'!A36=\"36\",20,IF('Page 4'!A36=\"38\",20,IF('Page 4'!A36=\"40\",20,IF('Page 4'!A36=\"42\",20,IF('Page 4'!A36=\"44\",20,IF('Page 4'!A36=\"46\",20,IF('Page 4'!A36=\"48\",20,\"\"))))))))))))))))))))))","v":""},"2\""]
[null,null,{"$f":"IF(C4=8,\"08\",C3)","v":""},null,null,null,null,null,null,null,null,null,null,null,null,null,null,null,null,null,null,"STD",{"$f":"IF('Page 4'!A36=\"06\",26,IF('Page 4'!A36=\"08\",24,IF('Page 4'!A36=\"10\",24,IF('Page 4'!A36=\"12\",24,IF('Page 4'!A36=\"14\",24,IF('Page 4'!A36=\"16\",24,IF('Page 4'!A36=\"18\",24,IF('Page 4'!A36=\"20\",24,IF('Page 4'!A36=\"22\",20,IF('Page 4'!A36=\"24\",20,IF('Page 4'!A36=\"26\",20,IF('Page 4'!A36=\"28\",20,IF('Page 4'!A36=\"30\",20,IF('Page 4'!A36=\"32\",20,IF('Page 4'!A36=\"34\",20,IF('Page 4'!A36=\"36\",20,IF('Page 4'!A36=\"38\",20,IF('Page 4'!A36=\"40\",20,IF('Page 4'!A36=\"42\",20,IF('Page 4'!A36=\"44\",20,IF('Page 4'!A36=\"46\",20,IF('Page 4'!A36=\"48\",20,\"\"))))))))))))))))))))))","v":""},"4\""]
[null,null,null,null,null,null,null,null,null,null,null,null,null,null,null,null,null,null,"SS 316","STD",{"$f":"IF('Page 4'!A36=\"06\",24,IF('Page 4'!A36=\"08\",24,IF('Page 4'!A36=\"10\",24,IF('Page 4'!A36=\"12\",24,IF('Page 4'!A36=\"14\",24,IF('Page 4'!A36=\"16\",24,IF('Page 4'!A36=\"18\",24,IF('Page 4'!A36=\"20\",24,IF('Page 4'!A36=\"22\",24,IF('Page 4'!A36=\"24\",24,IF('Page 4'!A36=\"26\",24,IF('Page 4'!A36=\"28\",24,IF('Page 4'!A36=\"30\",20,IF('Page 4'!A36=\"32\",20,IF('Page 4'!A36=\"34\",20,IF('Page 4'!A36=\"36\",20,IF('Page 4'!A36=\"38\",20,IF('Page 4'!A36=\"40\",20,IF('Page 4'!A36=\"42\",20,IF('Page 4'!A36=\"44\",20,IF('Page 4'!A36=\"46\",20,IF('Page 4'!A36=\"48\",20,\"\"))))))))))))))))))))))","v":""},"STD",{"$f":"IF('Page 4'!A36=\"06\",24,IF('Page 4'!A36=\"08\",24,IF('Page 4'!A36=\"10\",24,IF('Page 4'!A36=\"12\",24,IF('Page 4'!A36=\"14\",24,IF('Page 4'!A36=\"16\",24,IF('Page 4'!A36=\"18\",24,IF('Page 4'!A36=\"20\",24,IF('Page 4'!A36=\"22\",24,IF('Page 4'!A36=\"24\",24,IF('Page 4'!A36=\"26\",24,IF('Page 4'!A36=\"28\",24,IF('Page 4'!A36=\"30\",20,IF('Page 4'!A36=\"32\",20,IF('Page 4'!A36=\"34\",20,IF('Page 4'!A36=\"36\",20,IF('Page 4'!A36=\"38\",20,IF('Page 4'!A36=\"40\",20,IF('Page 4'!A36=\"42\",20,IF('Page 4'!A36=\"44\",20,IF('Page 4'!A36=\"46\",20,IF('Page 4'!A36=\"48\",20,\"\"))))))))))))))))))))))","v":""},"1\"",null,{"$f":"IF('Page 4'!$H$20<>\"\",IF('Page 4'!$M$19<>\"\",IF('Page 4'!$K$22<>\"\",$W$6,\"\"),IF('Page 4'!$H$20<>\"\",IF('Page 4'!$M$20<>\"\",IF('Page 4'!$K$22<>\"\",$W$7,\"\"),IF('Page 4'!$H$20<>\"\",IF('Page 4'!$M$21<>\"\",IF('Page 4'!$K$22<>\"\",$W$8,\"\"),\"\"))))),\"\")","v":""},"SI 1\" OU 2\" OU 4\""]
[null,null,null,null,null,null,null,null,null,null,null,null,null,null,null,null,null,null,null,null,null,"STD",{"$f":"IF('Page 4'!A36=\"06\",24,IF('Page 4'!A36=\"08\",24,IF('Page 4'!A36=\"10\",24,IF('Page 4'!A36=\"12\",24,IF('Page 4'!A36=\"14\",24,IF('Page 4'!A36=\"16\",24,IF('Page 4'!A36=\"18\",24,IF('Page 4'!A36=\"20\",24,IF('Page 4'!A36=\"22\",24,IF('Page 4'!A36=\"24\",24,IF('Page 4'!A36=\"26\",24,IF('Page 4'!A36=\"28\",20,IF('Page 4'!A36=\"30\",20,IF('Page 4'!A36=\"32\",20,IF('Page 4'!A36=\"34\",20,IF('Page 4'!A36=\"36\",20,IF('Page 4'!A36=\"38\",20,IF('Page 4'!A36=\"40\",20,IF('Page 4'!A36=\"42\",20,IF('Page 4'!A36=\"44\",20,IF('Page 4'!A36=\"46\",20,IF('Page 4'!A36=\"48\",20,\"\"))))))))))))))))))))))","v":""},"2\""]
[null,null,null,null,null,null,null,null,null,null,null,null,null,null,null,null,null,null,null,null,null,"STD",{"$f":"IF('Page 4'!A36=\"06\",24,IF('Page 4'!A36=\"08\",24,IF('Page 4'!A36=\"10\",24,IF('Page 4'!A36=\"12\",24,IF('Page 4'!A36=\"14\",24,IF('Page 4'!A36=\"16\",24,IF('Page 4'!A36=\"18\",24,IF('Page 4'!A36=\"20\",24,IF('Page 4'!A36=\"22\",20,IF('Page 4'!A36=\"24\",20,IF('Page 4'!A36=\"26\",20,IF('Page 4'!A36=\"28\",20,IF('Page 4'!A36=\"30\",20,IF('Page 4'!A36=\"32\",20,IF('Page 4'!A36=\"34\",20,IF('Page 4'!A36=\"36\",20,IF('Page 4'!A36=\"38\",20,IF('Page 4'!A36=\"40\",20,IF('Page 4'!A36=\"42\",20,IF('Page 4'!A36=\"44\",20,IF('Page 4'!A36=\"46\",20,IF('Page 4'!A36=\"48\",20,\"\"))))))))))))))))))))))","v":""},"4\""]
[null,null,null,null,null,null,null,null,null,null,null,null,null,null,null,null,null,null,"GALVALUME STD",null,null,"GAL",{"$f":"IF('Page 4'!A36=\"06\",24,IF('Page 4'!A36=\"08\",24,IF('Page 4'!A36=\"10\",24,IF('Page 4'!A36=\"12\",24,IF('Page 4'!A36=\"14\",24,IF('Page 4'!A36=\"16\",24,IF('Page 4'!A36=\"18\",24,IF('Page 4'!A36=\"20\",24,IF('Page 4'!A36=\"22\",24,IF('Page 4'!A36=\"24\",24,IF('Page 4'!A36=\"26\",24,IF('Page 4'!A36=\"28\",24,IF('Page 4'!A36=\"30\",22,IF('Page 4'!A36=\"32\",22,IF('Page 4'!A36=\"34\",22,IF('Page 4'!A36=\"36\",22,IF('Page 4'!A36=\"38\",22,IF('Page 4'!A36=\"40\",22,IF('Page 4'!A36=\"42\",22,IF('Page 4'!A36=\"44\",22,IF('Page 4'!A36=\"46\",22,IF('Page 4'!A36=\"48\",22,\"\"))))))))))))))))))))))","v":""},"1\"",null,{"$f":"IF('Page 4'!$H$21<>\"\",IF('Page 4'!$M$19<>\"\",IF('Page 4'!$K$22<>\"\",$W$9,\"\"),IF('Page 4'!$H$21<>\"\",IF('Page 4'!$M$20<>\"\",IF('Page 4'!$K$22<>\"\",$W$10,\"\"),IF('Page 4'!$H$21<>\"\",IF('Page 4'!$M$21<>\"\",IF('Page 4'!$K$22<>\"\",$W$11,\"\"),\"\"))))),\"\")","v":""},"SI 1\" OU 2\" OU 4\""]
[null,null,null,null,null,null,null,null,null,null,null,null,null,null,null,null,null,null,null,null,null,"GAL",{"$f":"IF('Page 4'!A36=\"06\",24,IF('Page 4'!A36=\"08\",24,IF('Page 4'!A36=\"10\",24,IF('Page 4'!A36=\"12\",24,IF('Page 4'!A36=\"14\",24,IF('Page 4'!A36=\"16\",24,IF('Page 4'!A36=\"18\",24,IF('Page 4'!A36=\"20\",24,IF('Page 4'!A36=\"22\",24,IF('Page 4'!A36=\"24\",24,IF('Page 4'!A36=\"26\",24,IF('Page 4'!A36=\"28\",22,IF('Page 4'!A36=\"30\",22,IF('Page 4'!A36=\"32\",22,IF('Page 4'!A36=\"34\",22,IF('Page 4'!A36=\"36\",22,IF('Page 4'!A36=\"38\",22,IF('Page 4'!A36=\"40\",22,IF('Page 4'!A36=\"42\",22,IF('Page 4'!A36=\"44\",22,IF('Page 4'!A36=\"46\",22,IF('Page 4'!A36=\"48\",22,\"\"))))))))))))))))))))))","v":""},"2\""]
[null,null,null,null,null,null,null,null,null,null,null,null,"SyteLine","QTY",null,"VALIDATION",null,null,null,null,null,"GAL",{"$f":"IF('Page 4'!A36=\"06\",24,IF('Page 4'!A36=\"08\",24,IF('Page 4'!A36=\"10\",24,IF('Page 4'!A36=\"12\",24,IF('Page 4'!A36=\"14\",24,IF('Page 4'!A36=\"16\",24,IF('Page 4'!A36=\"18\",24,IF('Page 4'!A36=\"20\",24,IF('Page 4'!A36=\"22\",22,IF('Page 4'!A36=\"24\",22,IF('Page 4'!A36=\"26\",22,IF('Page 4'!A36=\"28\",22,IF('Page 4'!A36=\"30\",22,IF('Page 4'!A36=\"32\",22,IF('Page 4'!A36=\"34\",22,IF('Page 4'!A36=\"36\",22,IF('Page 4'!A36=\"38\",22,IF('Page 4'!A36=\"40\",22,IF('Page 4'!A36=\"42\",22,IF('Page 4'!A36=\"44\",22,IF('Page 4'!A36=\"46\",22,IF('Page 4'!A36=\"48\",22,\"\"))))))))))))))))))))))","v":""},"4\""]
[null,{"$f":"IF('Page 4'!$A$19<>\"\",\"V\",\"\")","v":""},{"$f":"IF('Page 4'!$A$36<>\"\",\"C\",\"\")","v":""},{"$f":"IF('Page 4'!$A$19<>\"\",\"-\",\"\")","v":""},{"$f":"IF('Page 4'!$A$19<>\"\",'Page 4'!$A$36,\"\")","v":""},{"$f":"IF('Page 4'!C36<>\"\",'Page 4'!D36,\"\")","v":""},{"$f":"IF('Page 4'!$D$19<>\"\",\"A\",IF('Page 4'!$D$20<>\"\",\"B\",\"\"))","v":""},{"$f":"IF('Page 4'!$F$19<>\"\",\"26\",IF('Page 4'!$F$20<>\"\",\"24\",IF('Page 4'!$F$21<>\"\",\"20\",IF('Page 4'!$D$19<>\"\",IF('Page 4'!$F$22<>\"\",$U$3,\"\"),IF('Page 4'!$D$20<>\"\",IF('Page 4'!$F$22<>\"\",$U$6,\"\"),\"\")))))","v":""},{"$f":"IF('Page 4'!$H$19<>\"\",\"A\",IF('Page 4'!$H$20<>\"\",\"B\",IF('Page 4'!$H$21<>\"\",\"C\",\"\")))","v":""},{"$f":"IF('Page 4'!$K$19<>\"\",\"26\",IF('Page 4'!$K$20<>\"\",\"24\",IF('Page 4'!$K$21<>\"\",\"20\",IF($Z$3<>\"\",$Z$3,IF($Z$6<>\"\",$Z$6,IF($Z$9<>\"\",$Z$9,\"\"))))))","v":""},{"$f":"IF('Page 4'!$M$19<>\"\",\"1\",IF('Page 4'!$M$20<>\"\",\"2\",IF('Page 4'!$M$21<>\"\",\"4\",\"\")))","v":""},null,{"$f":"IF('Page 4'!C36<>\"\",IF('Page 4'!D36<>\"\",CONCATENATE(B12,C12,D12,E12,F12,G12,H12,I12,J12,K12),\"\"),\"\")","v":""},{"$f":"IF('Page 4'!C36<>\"\",'Page 4'!C36,\"\")","v":""},null,{"$f":"IFERROR(VLOOKUP(LEFT(M12,20),Item_VIP!$A$2:$B$7499,1,FALSE),\"\")","v":""},null,"LENGTH D1, D2 & DB","SS 304","STD",{"$f":"IF('Page 4'!A36=\"06\",20,IF('Page 4'!A36=\"08\",20,IF('Page 4'!A36=\"10\",20,IF('Page 4'!A36=\"12\",20,IF('Page 4'!A36=\"14\",20,IF('Page 4'!A36=\"16\",20,IF('Page 4'!A36=\"18\",20,IF('Page 4'!A36=\"20\",20,IF('Page 4'!A36=\"22\",20,IF('Page 4'!A36=\"24\",20,IF('Page 4'!A36=\"26\",20,IF('Page 4'!A36=\"28\",20,IF('Page 4'!A36=\"30\",20,IF('Page 4'!A36=\"32\",20,IF('Page 4'!A36=\"34\",20,IF('Page 4'!A36=\"36\",20,IF('Page 4'!A36=\"38\",20,IF('Page 4'!A36=\"40\",20,IF('Page 4'!A36=\"42\",20,IF('Page 4'!A36=\"44\",20,IF('Page 4'!A36=\"46\",20,IF('Page 4'!A36=\"48\",20,\"\"))))))))))))))))))))))","v":""},"STD",{"$f":"IF('Page 4'!A36=\"06\",26,IF('Page 4'!A36=\"08\",26,IF('Page 4'!A36=\"10\",26,IF('Page 4'!A36=\"12\",26,IF('Page 4'!A36=\"14\",26,IF('Page 4'!A36=\"16\",24,IF('Page 4'!A36=\"18\",24,IF('Page 4'!A36=\"20\",24,IF('Page 4'!A36=\"22\",24,IF('Page 4'!A36=\"24\",24,IF('Page 4'!A36=\"26\",24,IF('Page 4'!A36=\"28\",24,IF('Page 4'!A36=\"30\",20,IF('Page 4'!A36=\"32\",20,IF('Page 4'!A36=\"34\",20,IF('Page 4'!A36=\"36\",20,IF('Page 4'!A36=\"38\",20,IF('Page 4'!A36=\"40\",20,IF('Page 4'!A36=\"42\",20,IF('Page 4'!A36=\"44\",20,IF('Page 4'!A36=\"46\",20,IF('Page 4'!A36=\"48\",20,\"\"))))))))))))))))))))))","v":""},"1\"",null,{"$f":"IF('Page 4'!$H$19<>\"\",IF('Page 4'!$M$19<>\"\",IF('Page 4'!$K$22<>\"\",$W$12,\"\"),IF('Page 4'!$H$19<>\"\",IF('Page 4'!$M$20<>\"\",IF('Page 4'!$K$22<>\"\",$W$13,\"\"),IF('Page 4'!$H$19<>\"\",IF('Page 4'!$M$21<>\"\",IF('Page 4'!$K$22<>\"\",$W$14,\"\"),\"\"))))),\"\")","v":""},"SI 1\" OU 2\" OU 4\""]
[null,{"$f":"IF('Page 4'!$A$19<>\"\",\"V\",\"\")","v":""},{"$f":"IF('Page 4'!$A$36<>\"\",\"C\",\"\")","v":""},{"$f":"IF('Page 4'!$A$19<>\"\",\"-\",\"\")","v":""},{"$f":"IF('Page 4'!$A$19<>\"\",'Page 4'!$A$36,\"\")","v":""},{"$f":"IF('Page 4'!C37<>\"\",'Page 4'!D37,\"\")","v":""},{"$f":"IF('Page 4'!$D$19<>\"\",\"A\",IF('Page 4'!$D$20<>\"\",\"B\",\"\"))","v":""},{"$f":"IF('Page 4'!$F$19<>\"\",\"26\",IF('Page 4'!$F$20<>\"\",\"24\",IF('Page 4'!$F$21<>\"\",\"20\",IF('Page 4'!$D$19<>\"\",IF('Page 4'!$F$22<>\"\",$U$3,\"\"),IF('Page 4'!$D$20<>\"\",IF('Page 4'!$F$22<>\"\",$U$6,\"\"),\"\")))))","v":""},{"$f":"IF('Page 4'!$H$19<>\"\",\"A\",IF('Page 4'!$H$20<>\"\",\"B\",IF('Page 4'!$H$21<>\"\",\"C\",\"\")))","v":""},{"$f":"IF('Page 4'!$K$19<>\"\",\"26\",IF('Page 4'!$K$20<>\"\",\"24\",IF('Page 4'!$K$21<>\"\",\"20\",IF($Z$3<>\"\",$Z$3,IF($Z$6<>\"\",$Z$6,IF($Z$9<>\"\",$Z$9,\"\"))))))","v":""},{"$f":"IF('Page 4'!$M$19<>\"\",\"1\",IF('Page 4'!$M$20<>\"\",\"2\",IF('Page 4'!$M$21<>\"\",\"4\",\"\")))","v":""},null,{"$f":"IF('Page 4'!C37<>\"\",IF('Page 4'!D37<>\"\",CONCATENATE(B13,C13,D13,E13,F13,G13,H13,I13,J13,K13),\"\"),\"\")","v":""},{"$f":"IF('Page 4'!C37<>\"\",'Page 4'!C37,\"\")","v":""},null,{"$f":"IFERROR(VLOOKUP(LEFT(M13,20),Item_VIP!$A$2:$B$7499,1,FALSE),\"\")","v":""},null,null,null,null,null,"STD",{"$f":"IF('Page 4'!A36=\"06\",26,IF('Page 4'!A36=\"08\",26,IF('Page 4'!A36=\"10\",26,IF('Page 4'!A36=\"12\",26,IF('Page 4'!A36=\"14\",24,IF('Page 4'!A36=\"16\",24,IF('Page 4'!A36=\"18\",24,IF('Page 4'!A36=\"20\",24,IF('Page 4'!A36=\"22\",24,IF('Page 4'!A36=\"24\",24,IF('Page 4'!A36=\"26\",24,IF('Page 4'!A36=\"28\",20,IF('Page 4'!A36=\"30\",20,IF('Page 4'!A36=\"32\",20,IF('Page 4'!A36=\"34\",20,IF('Page 4'!A36=\"36\",20,IF('Page 4'!A36=\"38\",20,IF('Page 4'!A36=\"40\",20,IF('Page 4'!A36=\"42\",20,IF('Page 4'!A36=\"44\",20,IF('Page 4'!A36=\"46\",20,IF('Page 4'!A36=\"48\",20,\"\"))))))))))))))))))))))","v":""},"2\""]
[null,{"$f":"IF('Page 4'!$A$19<>\"\",\"V\",\"\")","v":""},{"$f":"IF('Page 4'!$A$36<>\"\",\"C\",\"\")","v":""},{"$f":"IF('Page 4'!$A$19<>\"\",\"-\",\"\")","v":""},{"$f":"IF('Page 4'!$A$19<>\"\",'Page 4'!$A$36,\"\")","v":""},{"$f":"IF('Page 4'!C38<>\"\",'Page 4'!D38,\"\")","v":""},{"$f":"IF('Page 4'!$D$19<>\"\",\"A\",IF('Page 4'!$D$20<>\"\",\"B\",\"\"))","v":""},{"$f":"IF('Page 4'!$F$19<>\"\",\"26\",IF('Page 4'!$F$20<>\"\",\"24\",IF('Page 4'!$F$21<>\"\",\"20\",IF('Page 4'!$D$19<>\"\",IF('Page 4'!$F$22<>\"\",$U$3,\"\"),IF('Page 4'!$D$20<>\"\",IF('Page 4'!$F$22<>\"\",$U$6,\"\"),\"\")))))","v":""},{"$f":"IF('Page 4'!$H$19<>\"\",\"A\",IF('Page 4'!$H$20<>\"\",\"B\",IF('Page 4'!$H$21<>\"\",\"C\",\"\")))","v":""},{"$f":"IF('Page 4'!$K$19<>\"\",\"26\",IF('Page 4'!$K$20<>\"\",\"24\",IF('Page 4'!$K$21<>\"\",\"20\",IF($Z$3<>\"\",$Z$3,IF($Z$6<>\"\",$Z$6,IF($Z$9<>\"\",$Z$9,\"\"))))))","v":""},{"$f":"IF('Page 4'!$M$19<>\"\",\"1\",IF('Page 4'!$M$20<>\"\",\"2\",IF('Page 4'!$M$21<>\"\",\"4\",\"\")))","v":""},null,{"$f":"IF('Page 4'!C38<>\"\",IF('Page 4'!D38<>\"\",CONCATENATE(B14,C14,D14,E14,F14,G14,H14,I14,J14,K14),\"\"),\"\")","v":""},{"$f":"IF('Page 4'!C38<>\"\",'Page 4'!C38,\"\")","v":""},null,{"$f":"IFERROR(VLOOKUP(LEFT(M14,20),Item_VIP!$A$2:$B$7499,1,FALSE),\"\")","v":""},null,null,null,null,null,"STD",{"$f":"IF('Page 4'!A36=\"06\",26,IF('Page 4'!A36=\"08\",26,IF('Page 4'!A36=\"10\",24,IF('Page 4'!A36=\"12\",24,IF('Page 4'!A36=\"14\",24,IF('Page 4'!A36=\"16\",24,IF('Page 4'!A36=\"18\",24,IF('Page 4'!A36=\"20\",24,IF('Page 4'!A36=\"22\",20,IF('Page 4'!A36=\"24\",20,IF('Page 4'!A36=\"26\",20,IF('Page 4'!A36=\"28\",20,IF('Page 4'!A36=\"30\",20,IF('Page 4'!A36=\"32\",20,IF('Page 4'!A36=\"34\",20,IF('Page 4'!A36=\"36\",20,IF('Page 4'!A36=\"38\",20,IF('Page 4'!A36=\"40\",20,IF('Page 4'!A36=\"42\",20,IF('Page 4'!A36=\"44\",20,IF('Page 4'!A36=\"46\",20,IF('Page 4'!A36=\"48\",20,\"\"))))))))))))))))))))))","v":""},"4\""]
[null,{"$f":"IF('Page 4'!$A$19<>\"\",\"V\",\"\")","v":""},{"$f":"IF('Page 4'!$A$36<>\"\",\"C\",\"\")","v":""},{"$f":"IF('Page 4'!$A$19<>\"\",\"-\",\"\")","v":""},{"$f":"IF('Page 4'!$A$19<>\"\",'Page 4'!$A$36,\"\")","v":""},{"$f":"IF('Page 4'!C39<>\"\",'Page 4'!D39,\"\")","v":""},{"$f":"IF('Page 4'!$D$19<>\"\",\"A\",IF('Page 4'!$D$20<>\"\",\"B\",\"\"))","v":""},{"$f":"IF('Page 4'!$F$19<>\"\",\"26\",IF('Page 4'!$F$20<>\"\",\"24\",IF('Page 4'!$F$21<>\"\",\"20\",IF('Page 4'!$D$19<>\"\",IF('Page 4'!$F$22<>\"\",$U$3,\"\"),IF('Page 4'!$D$20<>\"\",IF('Page 4'!$F$22<>\"\",$U$6,\"\"),\"\")))))","v":""},{"$f":"IF('Page 4'!$H$19<>\"\",\"A\",IF('Page 4'!$H$20<>\"\",\"B\",IF('Page 4'!$H$21<>\"\",\"C\",\"\")))","v":""},{"$f":"IF('Page 4'!$K$19<>\"\",\"26\",IF('Page 4'!$K$20<>\"\",\"24\",IF('Page 4'!$K$21<>\"\",\"20\",IF($Z$3<>\"\",$Z$3,IF($Z$6<>\"\",$Z$6,IF($Z$9<>\"\",$Z$9,\"\"))))))","v":""},{"$f":"IF('Page 4'!$M$19<>\"\",\"1\",IF('Page 4'!$M$20<>\"\",\"2\",IF('Page 4'!$M$21<>\"\",\"4\",\"\")))","v":""},null,{"$f":"IF('Page 4'!C39<>\"\",IF('Page 4'!D39<>\"\",CONCATENATE(B15,C15,D15,E15,F15,G15,H15,I15,J15,K15),\"\"),\"\")","v":""},{"$f":"IF('Page 4'!C39<>\"\",'Page 4'!C39,\"\")","v":""},null,{"$f":"IFERROR(VLOOKUP(LEFT(M15,20),Item_VIP!$A$2:$B$7499,1,FALSE),\"\")","v":""},null,null,"SS 316","STD",{"$f":"IF('Page 4'!A36=\"06\",20,IF('Page 4'!A36=\"08\",20,IF('Page 4'!A36=\"10\",20,IF('Page 4'!A36=\"12\",20,IF('Page 4'!A36=\"14\",20,IF('Page 4'!A36=\"16\",20,IF('Page 4'!A36=\"18\",20,IF('Page 4'!A36=\"20\",20,IF('Page 4'!A36=\"22\",20,IF('Page 4'!A36=\"24\",24,IF('Page 4'!A36=\"26\",20,IF('Page 4'!A36=\"28\",20,IF('Page 4'!A36=\"30\",20,IF('Page 4'!A36=\"32\",20,IF('Page 4'!A36=\"34\",20,IF('Page 4'!A36=\"36\",20,IF('Page 4'!A36=\"38\",20,IF('Page 4'!A36=\"40\",20,IF('Page 4'!A36=\"42\",20,IF('Page 4'!A36=\"44\",20,IF('Page 4'!A36=\"46\",20,IF('Page 4'!A36=\"48\",20,\"\"))))))))))))))))))))))","v":""},"STD",{"$f":"IF('Page 4'!A36=\"06\",24,IF('Page 4'!A36=\"08\",24,IF('Page 4'!A36=\"10\",24,IF('Page 4'!A36=\"12\",24,IF('Page 4'!A36=\"14\",24,IF('Page 4'!A36=\"16\",24,IF('Page 4'!A36=\"18\",24,IF('Page 4'!A36=\"20\",24,IF('Page 4'!A36=\"22\",24,IF('Page 4'!A36=\"24\",24,IF('Page 4'!A36=\"26\",24,IF('Page 4'!A36=\"28\",24,IF('Page 4'!A36=\"30\",20,IF('Page 4'!A36=\"32\",20,IF('Page 4'!A36=\"34\",20,IF('Page 4'!A36=\"36\",20,IF('Page 4'!A36=\"38\",20,IF('Page 4'!A36=\"40\",20,IF('Page 4'!A36=\"42\",20,IF('Page 4'!A36=\"44\",20,IF('Page 4'!A36=\"46\",20,IF('Page 4'!A36=\"48\",20,\"\"))))))))))))))))))))))","v":""},"1\"",null,{"$f":"IF('Page 4'!$H$20<>\"\",IF('Page 4'!$M$19<>\"\",IF('Page 4'!$K$22<>\"\",$W$15,\"\"),IF('Page 4'!$H$20<>\"\",IF('Page 4'!$M$20<>\"\",IF('Page 4'!$K$22<>\"\",$W$16,\"\"),IF('Page 4'!$H$20<>\"\",IF('Page 4'!$M$21<>\"\",IF('Page 4'!$K$22<>\"\",$W$17,\"\"),\"\"))))),\"\")","v":""},"SI 1\" OU 2\" OU 4\""]
[null,{"$f":"IF('Page 4'!$A$19<>\"\",\"V\",\"\")","v":""},"S",{"$f":"IF('Page 4'!$A$19<>\"\",\"-\",\"\")","v":""},{"$f":"IF('Page 4'!$A$19<>\"\",'Page 4'!$A$36,\"\")","v":""},{"$f":"IF('Page 4'!C40<>\"\",'Page 4'!D40,\"\")","v":""},{"$f":"IF('Page 4'!$D$19<>\"\",\"A\",IF('Page 4'!$D$20<>\"\",\"B\",\"\"))","v":""},20,{"$f":"IF('Page 4'!$H$19<>\"\",\"A\",IF('Page 4'!$H$20<>\"\",\"B\",IF('Page 4'!$H$21<>\"\",\"C\",\"\")))","v":""},{"$f":"IF('Page 4'!$K$20<>\"\",\"24\",IF('Page 4'!$K$21<>\"\",\"20\",IF($Z$21<>\"\",$Z$21,IF($Z$24<>\"\",$Z$24,IF($Z$27<>\"\",$Z$27,\"\")))))","v":""},{"$f":"IF('Page 4'!$M$19<>\"\",\"1\",IF('Page 4'!$M$20<>\"\",\"2\",IF('Page 4'!$M$21<>\"\",\"4\",\"\")))","v":""},"-SP",{"$f":"IF('Page 4'!C40<>\"\",IF('Page 4'!D40<>\"\",CONCATENATE(B16,C16,D16,E16,F16,G16,H16,I16,J16,K16,L16),\"\"),\"\")","v":""},{"$f":"IF('Page 4'!C40<>\"\",'Page 4'!C40,\"\")","v":""},null,{"$f":"IFERROR(VLOOKUP(LEFT(M16,20),Item_VIP!$A$2:$B$7499,1,FALSE),\"\")","v":""},null,null,null,null,null,"STD",{"$f":"IF('Page 4'!A36=\"06\",24,IF('Page 4'!A36=\"08\",24,IF('Page 4'!A36=\"10\",24,IF('Page 4'!A36=\"12\",24,IF('Page 4'!A36=\"14\",24,IF('Page 4'!A36=\"16\",24,IF('Page 4'!A36=\"18\",24,IF('Page 4'!A36=\"20\",24,IF('Page 4'!A36=\"22\",24,IF('Page 4'!A36=\"24\",24,IF('Page 4'!A36=\"26\",24,IF('Page 4'!A36=\"28\",20,IF('Page 4'!A36=\"30\",20,IF('Page 4'!A36=\"32\",20,IF('Page 4'!A36=\"34\",20,IF('Page 4'!A36=\"36\",20,IF('Page 4'!A36=\"38\",20,IF('Page 4'!A36=\"40\",20,IF('Page 4'!A36=\"42\",20,IF('Page 4'!A36=\"44\",20,IF('Page 4'!A36=\"46\",20,IF('Page 4'!A36=\"48\",20,\"\"))))))))))))))))))))))","v":""},"2\""]
[null,{"$f":"IF('Page 4'!$A$19<>\"\",\"V\",\"\")","v":""},{"$f":"IF('Page 4'!$A$36<>\"\",\"C\",\"\")","v":""},{"$f":"IF('Page 4'!$A$19<>\"\",\"-\",\"\")","v":""},{"$f":"IF('Page 4'!$A$19<>\"\",'Page 4'!$A$36,\"\")","v":""},{"$f":"IF('Page 4'!C41<>\"\",'Page 4'!D41,\"\")","v":""},{"$f":"IF('Page 4'!$D$19<>\"\",\"A\",IF('Page 4'!$D$20<>\"\",\"B\",\"\"))","v":""},{"$f":"IF('Page 4'!$F$19<>\"\",\"26\",IF('Page 4'!$F$20<>\"\",\"24\",IF('Page 4'!$F$21<>\"\",\"20\",IF('Page 4'!$D$19<>\"\",IF('Page 4'!$F$22<>\"\",$U$3,\"\"),IF('Page 4'!$D$20<>\"\",IF('Page 4'!$F$22<>\"\",$U$6,\"\"),\"\")))))","v":""},{"$f":"IF('Page 4'!$H$19<>\"\",\"A\",IF('Page 4'!$H$20<>\"\",\"B\",IF('Page 4'!$H$21<>\"\",\"C\",\"\")))","v":""},{"$f":"IF('Page 4'!$K$19<>\"\",\"26\",IF('Page 4'!$K$20<>\"\",\"24\",IF('Page 4'!$K$21<>\"\",\"20\",IF($Z$3<>\"\",$Z$3,IF($Z$6<>\"\",$Z$6,IF($Z$9<>\"\",$Z$9,\"\"))))))","v":""},{"$f":"IF('Page 4'!$M$19<>\"\",\"1\",IF('Page 4'!$M$20<>\"\",\"2\",IF('Page 4'!$M$21<>\"\",\"4\",\"\")))","v":""},null,{"$f":"IF('Page 4'!C41<>\"\",IF('Page 4'!D41<>\"\",CONCATENATE(B17,C17,D17,E17,F17,G17,H17,I17,J17,K17),\"\"),\"\")","v":""},{"$f":"IF('Page 4'!C41<>\"\",'Page 4'!C41,\"\")","v":""},null,{"$f":"IFERROR(VLOOKUP(LEFT(M17,20),Item_VIP!$A$2:$B$7499,1,FALSE),\"\")","v":""},null,null,null,null,null,"STD",{"$f":"IF('Page 4'!A36=\"06\",24,IF('Page 4'!A36=\"08\",24,IF('Page 4'!A36=\"10\",24,IF('Page 4'!A36=\"12\",24,IF('Page 4'!A36=\"14\",24,IF('Page 4'!A36=\"16\",24,IF('Page 4'!A36=\"18\",24,IF('Page 4'!A36=\"20\",24,IF('Page 4'!A36=\"22\",20,IF('Page 4'!A36=\"24\",20,IF('Page 4'!A36=\"26\",20,IF('Page 4'!A36=\"28\",20,IF('Page 4'!A36=\"30\",20,IF('Page 4'!A36=\"32\",20,IF('Page 4'!A36=\"34\",20,IF('Page 4'!A36=\"36\",20,IF('Page 4'!A36=\"38\",20,IF('Page 4'!A36=\"40\",20,IF('Page 4'!A36=\"42\",20,IF('Page 4'!A36=\"44\",20,IF('Page 4'!A36=\"46\",20,IF('Page 4'!A36=\"48\",20,\"\"))))))))))))))))))))))","v":""},"4\""]
[null,{"$f":"IF('Page 4'!$A$19<>\"\",\"V\",\"\")","v":""},{"$f":"IF('Page 4'!$A$36<>\"\",\"C\",\"\")","v":""},{"$f":"IF('Page 4'!$A$19<>\"\",\"-\",\"\")","v":""},{"$f":"IF('Page 4'!$A$19<>\"\",'Page 4'!$A$36,\"\")","v":""},{"$f":"IF('Page 4'!C42<>\"\",'Page 4'!D42,\"\")","v":""},{"$f":"IF('Page 4'!$D$19<>\"\",\"A\",IF('Page 4'!$D$20<>\"\",\"B\",\"\"))","v":""},{"$f":"IF('Page 4'!$F$19<>\"\",\"26\",IF('Page 4'!$F$20<>\"\",\"24\",IF('Page 4'!$F$21<>\"\",\"20\",IF('Page 4'!$D$19<>\"\",IF('Page 4'!$F$22<>\"\",$U$3,\"\"),IF('Page 4'!$D$20<>\"\",IF('Page 4'!$F$22<>\"\",$U$6,\"\"),\"\")))))","v":""},{"$f":"IF('Page 4'!$H$19<>\"\",\"A\",IF('Page 4'!$H$20<>\"\",\"B\",IF('Page 4'!$H$21<>\"\",\"C\",\"\")))","v":""},{"$f":"IF('Page 4'!$K$19<>\"\",\"26\",IF('Page 4'!$K$20<>\"\",\"24\",IF('Page 4'!$K$21<>\"\",\"20\",IF($Z$3<>\"\",$Z$3,IF($Z$6<>\"\",$Z$6,IF($Z$9<>\"\",$Z$9,\"\"))))))","v":""},{"$f":"IF('Page 4'!$M$19<>\"\",\"1\",IF('Page 4'!$M$20<>\"\",\"2\",IF('Page 4'!$M$21<>\"\",\"4\",\"\")))","v":""},null,{"$f":"IF('Page 4'!C42<>\"\",IF('Page 4'!D42<>\"\",CONCATENATE(B18,C18,D18,E18,F18,G18,H18,I18,J18,K18),\"\"),\"\")","v":""},{"$f":"IF('Page 4'!C42<>\"\",'Page 4'!C42,\"\")","v":""},null,{"$f":"IFERROR(VLOOKUP(LEFT(M18,20),Item_VIP!$A$2:$B$7499,1,FALSE),\"\")","v":""},null,null,"GALVALUME STD",null,null,"GAL",{"$f":"IF('Page 4'!A36=\"06\",24,IF('Page 4'!A36=\"08\",24,IF('Page 4'!A36=\"10\",24,IF('Page 4'!A36=\"12\",24,IF('Page 4'!A36=\"14\",24,IF('Page 4'!A36=\"16\",24,IF('Page 4'!A36=\"18\",24,IF('Page 4'!A36=\"20\",24,IF('Page 4'!A36=\"22\",24,IF('Page 4'!A36=\"24\",24,IF('Page 4'!A36=\"26\",24,IF('Page 4'!A36=\"28\",24,IF('Page 4'!A36=\"30\",22,IF('Page 4'!A36=\"32\",22,IF('Page 4'!A36=\"34\",22,IF('Page 4'!A36=\"36\",22,IF('Page 4'!A36=\"38\",22,IF('Page 4'!A36=\"40\",22,IF('Page 4'!A36=\"42\",22,IF('Page 4'!A36=\"44\",22,IF('Page 4'!A36=\"46\",22,IF('Page 4'!A36=\"48\",22,\"\"))))))))))))))))))))))","v":""},"1\"",null,{"$f":"IF('Page 4'!$H$21<>\"\",IF('Page 4'!$M$19<>\"\",IF('Page 4'!$K$22<>\"\",$W$18,\"\"),IF('Page 4'!$H$21<>\"\",IF('Page 4'!$M$20<>\"\",IF('Page 4'!$K$22<>\"\",$W$19,\"\"),IF('Page 4'!$H$21<>\"\",IF('Page 4'!$M$21<>\"\",IF('Page 4'!$K$22<>\"\",$W$20,\"\"),\"\"))))),\"\")","v":""},"SI 1\" OU 2\" OU 4\""]
[null,{"$f":"IF('Page 4'!$A$19<>\"\",\"V\",\"\")","v":""},{"$f":"IF('Page 4'!$A$36<>\"\",\"C\",\"\")","v":""},{"$f":"IF('Page 4'!$A$19<>\"\",\"-\",\"\")","v":""},{"$f":"IF('Page 4'!$A$19<>\"\",'Page 4'!$A$36,\"\")","v":""},{"$f":"IF('Page 4'!C43<>\"\",'Page 4'!D43,\"\")","v":""},{"$f":"IF('Page 4'!$D$19<>\"\",\"A\",IF('Page 4'!$D$20<>\"\",\"B\",\"\"))","v":""},{"$f":"IF('Page 4'!$F$21<>\"\",\"20\",IF('Page 4'!$D$19<>\"\",IF('Page 4'!$F$22<>\"\",$U$12,\"\"),IF('Page 4'!$D$20<>\"\",IF('Page 4'!$F$22<>\"\",$U$15,\"\"),\"\")))","v":""},{"$f":"IF('Page 4'!$H$19<>\"\",\"A\",IF('Page 4'!$H$20<>\"\",\"B\",IF('Page 4'!$H$21<>\"\",\"C\",\"\")))","v":""},{"$f":"IF('Page 4'!$K$19<>\"\",\"26\",IF('Page 4'!$K$20<>\"\",\"24\",IF('Page 4'!$K$21<>\"\",\"20\",IF($Z$12<>\"\",$Z$12,IF($Z$15<>\"\",$Z$15,IF($Z$18<>\"\",$Z$18,\"\"))))))","v":""},{"$f":"IF('Page 4'!$M$19<>\"\",\"1\",IF('Page 4'!$M$20<>\"\",\"2\",IF('Page 4'!$M$21<>\"\",\"4\",\"\")))","v":""},null,{"$f":"IF('Page 4'!C43<>\"\",IF('Page 4'!D43<>\"\",CONCATENATE(B19,C19,D19,E19,F19,G19,H19,I19,J19,K19),\"\"),\"\")","v":""},{"$f":"IF('Page 4'!C43<>\"\",'Page 4'!C43,\"\")","v":""},null,{"$f":"IFERROR(VLOOKUP(LEFT(M19,20),Item_VIP!$A$2:$B$7499,1,FALSE),\"\")","v":""},null,null,null,null,null,"GAL",{"$f":"IF('Page 4'!A36=\"06\",24,IF('Page 4'!A36=\"08\",24,IF('Page 4'!A36=\"10\",24,IF('Page 4'!A36=\"12\",24,IF('Page 4'!A36=\"14\",24,IF('Page 4'!A36=\"16\",24,IF('Page 4'!A36=\"18\",24,IF('Page 4'!A36=\"20\",24,IF('Page 4'!A36=\"22\",24,IF('Page 4'!A36=\"24\",24,IF('Page 4'!A36=\"26\",24,IF('Page 4'!A36=\"28\",22,IF('Page 4'!A36=\"30\",22,IF('Page 4'!A36=\"32\",22,IF('Page 4'!A36=\"34\",22,IF('Page 4'!A36=\"36\",22,IF('Page 4'!A36=\"38\",22,IF('Page 4'!A36=\"40\",22,IF('Page 4'!A36=\"42\",22,IF('Page 4'!A36=\"44\",22,IF('Page 4'!A36=\"46\",22,IF('Page 4'!A36=\"48\",22,\"\"))))))))))))))))))))))","v":""},"2\""]
[null,{"$f":"IF('Page 4'!$A$19<>\"\",\"V\",\"\")","v":""},{"$f":"IF('Page 4'!$A$36<>\"\",\"C\",\"\")","v":""},{"$f":"IF('Page 4'!$A$19<>\"\",\"-\",\"\")","v":""},{"$f":"IF('Page 4'!$A$19<>\"\",'Page 4'!$A$36,\"\")","v":""},{"$f":"IF('Page 4'!C44<>\"\",'Page 4'!D44,\"\")","v":""},{"$f":"IF('Page 4'!$D$19<>\"\",\"A\",IF('Page 4'!$D$20<>\"\",\"B\",\"\"))","v":""},{"$f":"IF('Page 4'!$F$21<>\"\",\"20\",IF('Page 4'!$D$19<>\"\",IF('Page 4'!$F$22<>\"\",$U$12,\"\"),IF('Page 4'!$D$20<>\"\",IF('Page 4'!$F$22<>\"\",$U$15,\"\"),\"\")))","v":""},{"$f":"IF('Page 4'!$H$19<>\"\",\"A\",IF('Page 4'!$H$20<>\"\",\"B\",IF('Page 4'!$H$21<>\"\",\"C\",\"\")))","v":""},{"$f":"IF('Page 4'!$K$19<>\"\",\"26\",IF('Page 4'!$K$20<>\"\",\"24\",IF('Page 4'!$K$21<>\"\",\"20\",IF($Z$12<>\"\",$Z$12,IF($Z$15<>\"\",$Z$15,IF($Z$18<>\"\",$Z$18,\"\"))))))","v":""},{"$f":"IF('Page 4'!$M$19<>\"\",\"1\",IF('Page 4'!$M$20<>\"\",\"2\",IF('Page 4'!$M$21<>\"\",\"4\",\"\")))","v":""},null,{"$f":"IF('Page 4'!C44<>\"\",IF('Page 4'!D44<>\"\",CONCATENATE(B20,C20,D20,E20,F20,G20,H20,I20,J20,K20),\"\"),\"\")","v":""},{"$f":"IF('Page 4'!C44<>\"\",'Page 4'!C44,\"\")","v":""},null,{"$f":"IFERROR(VLOOKUP(LEFT(M20,20),Item_VIP!$A$2:$B$7499,1,FALSE),\"\")","v":""},null,null,null,null,null,"GAL",{"$f":"IF('Page 4'!A36=\"06\",24,IF('Page 4'!A36=\"08\",24,IF('Page 4'!A36=\"10\",24,IF('Page 4'!A36=\"12\",24,IF('Page 4'!A36=\"14\",24,IF('Page 4'!A36=\"16\",24,IF('Page 4'!A36=\"18\",24,IF('Page 4'!A36=\"20\",24,IF('Page 4'!A36=\"22\",22,IF('Page 4'!A36=\"24\",22,IF('Page 4'!A36=\"26\",22,IF('Page 4'!A36=\"28\",22,IF('Page 4'!A36=\"30\",22,IF('Page 4'!A36=\"32\",22,IF('Page 4'!A36=\"34\",22,IF('Page 4'!A36=\"36\",22,IF('Page 4'!A36=\"38\",22,IF('Page 4'!A36=\"40\",22,IF('Page 4'!A36=\"42\",22,IF('Page 4'!A36=\"44\",22,IF('Page 4'!A36=\"46\",22,IF('Page 4'!A36=\"48\",22,\"\"))))))))))))))))))))))","v":""},"4\""]
[null,{"$f":"IF('Page 4'!$A$19<>\"\",\"V\",\"\")","v":""},{"$f":"IF('Page 4'!$A$36<>\"\",\"C\",\"\")","v":""},{"$f":"IF('Page 4'!$A$19<>\"\",\"-\",\"\")","v":""},{"$f":"IF('Page 4'!$A$19<>\"\",'Page 4'!$A$36,\"\")","v":""},{"$f":"IF('Page 4'!C45<>\"\",'Page 4'!D45,\"\")","v":""},{"$f":"IF('Page 4'!$D$19<>\"\",\"A\",IF('Page 4'!$D$20<>\"\",\"B\",\"\"))","v":""},{"$f":"IF('Page 4'!$F$21<>\"\",\"20\",IF('Page 4'!$D$19<>\"\",IF('Page 4'!$F$22<>\"\",$U$12,\"\"),IF('Page 4'!$D$20<>\"\",IF('Page 4'!$F$22<>\"\",$U$15,\"\"),\"\")))","v":""},{"$f":"IF('Page 4'!$H$19<>\"\",\"A\",IF('Page 4'!$H$20<>\"\",\"B\",IF('Page 4'!$H$21<>\"\",\"C\",\"\")))","v":""},{"$f":"IF('Page 4'!$K$19<>\"\",\"26\",IF('Page 4'!$K$20<>\"\",\"24\",IF('Page 4'!$K$21<>\"\",\"20\",IF($Z$12<>\"\",$Z$12,IF($Z$15<>\"\",$Z$15,IF($Z$18<>\"\",$Z$18,\"\"))))))","v":""},{"$f":"IF('Page 4'!$M$19<>\"\",\"1\",IF('Page 4'!$M$20<>\"\",\"2\",IF('Page 4'!$M$21<>\"\",\"4\",\"\")))","v":""},null,{"$f":"IF('Page 4'!C45<>\"\",IF('Page 4'!D45<>\"\",CONCATENATE(B21,C21,D21,E21,F21,G21,H21,I21,J21,K21),\"\"),\"\")","v":""},{"$f":"IF('Page 4'!C45<>\"\",'Page 4'!C45,\"\")","v":""},null,{"$f":"IFERROR(VLOOKUP(LEFT(M21,20),Item_VIP!$A$2:$B$7499,1,FALSE),\"\")","v":""},null,"ELBOW","SS 304","STD",{"$f":"IF('Page 4'!A47=\"06\",24,IF('Page 4'!A47=\"08\",24,IF('Page 4'!A47=\"10\",24,IF('Page 4'!A47=\"12\",24,IF('Page 4'!A47=\"14\",24,IF('Page 4'!A47=\"16\",24,IF('Page 4'!A47=\"18\",24,IF('Page 4'!A47=\"20\",24,IF('Page 4'!A47=\"22\",24,IF('Page 4'!A47=\"24\",24,IF('Page 4'!A47=\"26\",24,IF('Page 4'!A47=\"28\",24,IF('Page 4'!A47=\"30\",20,IF('Page 4'!A47=\"32\",20,IF('Page 4'!A47=\"34\",20,IF('Page 4'!A47=\"36\",20,IF('Page 4'!A47=\"38\",20,IF('Page 4'!A47=\"40\",20,IF('Page 4'!A47=\"42\",20,IF('Page 4'!A47=\"44\",20,IF('Page 4'!A47=\"46\",20,IF('Page 4'!A47=\"48\",20,\"\"))))))))))))))))))))))","v":""},"STD",{"$f":"IF('Page 4'!A47=\"06\",24,IF('Page 4'!A47=\"08\",24,IF('Page 4'!A47=\"10\",24,IF('Page 4'!A47=\"12\",24,IF('Page 4'!A47=\"14\",24,IF('Page 4'!A47=\"16\",24,IF('Page 4'!A47=\"18\",24,IF('Page 4'!A47=\"20\",24,IF('Page 4'!A47=\"22\",24,IF('Page 4'!A47=\"24\",24,IF('Page 4'!A47=\"26\",24,IF('Page 4'!A47=\"28\",24,IF('Page 4'!A47=\"30\",20,IF('Page 4'!A47=\"32\",20,IF('Page 4'!A47=\"34\",20,IF('Page 4'!A47=\"36\",20,IF('Page 4'!A47=\"38\",20,IF('Page 4'!A47=\"40\",20,IF('Page 4'!A47=\"42\",20,IF('Page 4'!A47=\"44\",20,IF('Page 4'!A47=\"46\",20,IF('Page 4'!A47=\"48\",20,\"\"))))))))))))))))))))))","v":""},"1\"",null,{"$f":"IF('Page 4'!$H$19<>\"\",IF('Page 4'!$M$19<>\"\",IF('Page 4'!$K$22<>\"\",$W$21,\"\"),IF('Page 4'!$H$19<>\"\",IF('Page 4'!$M$20<>\"\",IF('Page 4'!$K$22<>\"\",$W$22,\"\"),IF('Page 4'!$H$19<>\"\",IF('Page 4'!$M$21<>\"\",IF('Page 4'!$K$22<>\"\",$W$23,\"\"),\"\"))))),\"\")","v":""},"SI 1\" OU 2\" OU 4\""]
[null,{"$f":"IF('Page 4'!$A$19<>\"\",\"V\",\"\")","v":""},{"$f":"IF('Page 4'!$A$47<>\"\",\"E\",\"\")","v":""},{"$f":"IF('Page 4'!$A$19<>\"\",\"-\",\"\")","v":""},{"$f":"IF('Page 4'!$A$19<>\"\",'Page 4'!$A$47,\"\")","v":""},{"$f":"IF('Page 4'!$C$47<>\"\",'Page 4'!D47,\"\")","v":""},{"$f":"IF('Page 4'!$D$19<>\"\",\"A\",IF('Page 4'!$D$20<>\"\",\"B\",\"\"))","v":""},{"$f":"IF('Page 4'!$F$20<>\"\",\"24\",IF('Page 4'!$F$21<>\"\",\"20\",IF('Page 4'!$D$19<>\"\",IF('Page 4'!$F$22<>\"\",$U$21,\"\"),IF('Page 4'!$D$20<>\"\",IF('Page 4'!$F$22<>\"\",$U$24,\"\"),\"\"))))","v":""},{"$f":"IF('Page 4'!$H$19<>\"\",\"A\",IF('Page 4'!$H$20<>\"\",\"B\",IF('Page 4'!$H$21<>\"\",\"C\",\"\")))","v":""},{"$f":"IF('Page 4'!$K$20<>\"\",\"24\",IF('Page 4'!$K$21<>\"\",\"20\",IF($Z$21<>\"\",$Z$21,IF($Z$24<>\"\",$Z$24,IF($Z$27<>\"\",$Z$27,\"\")))))","v":""},{"$f":"IF('Page 4'!$M$19<>\"\",\"1\",IF('Page 4'!$M$20<>\"\",\"2\",IF('Page 4'!$M$21<>\"\",\"4\",\"\")))","v":""},null,{"$f":"IF('Page 4'!$C$47<>\"\",IF('Page 4'!$D$47<>\"\",CONCATENATE(B22,C22,D22,E22,F22,G22,H22,I22,J22,K22),\"\"),\"\")","v":""},{"$f":"IF('Page 4'!C47<>\"\",'Page 4'!C47,\"\")","v":""},null,{"$f":"IFERROR(VLOOKUP(LEFT(M22,20),Item_VIP!$A$2:$B$7499,1,FALSE),\"\")","v":""},null,null,null,null,null,"STD",{"$f":"IF('Page 4'!A47=\"06\",24,IF('Page 4'!A47=\"08\",24,IF('Page 4'!A47=\"10\",24,IF('Page 4'!A47=\"12\",24,IF('Page 4'!A47=\"14\",24,IF('Page 4'!A47=\"16\",24,IF('Page 4'!A47=\"18\",24,IF('Page 4'!A47=\"20\",24,IF('Page 4'!A47=\"22\",24,IF('Page 4'!A47=\"24\",24,IF('Page 4'!A47=\"26\",24,IF('Page 4'!A47=\"28\",20,IF('Page 4'!A47=\"30\",20,IF('Page 4'!A47=\"32\",20,IF('Page 4'!A47=\"34\",20,IF('Page 4'!A47=\"36\",20,IF('Page 4'!A47=\"38\",20,IF('Page 4'!A47=\"40\",20,IF('Page 4'!A47=\"42\",20,IF('Page 4'!A47=\"44\",20,IF('Page 4'!A47=\"46\",20,IF('Page 4'!A47=\"48\",20,\"\"))))))))))))))))))))))","v":""},"2\""]
[null,{"$f":"IF('Page 4'!$A$19<>\"\",\"V\",\"\")","v":""},{"$f":"IF('Page 4'!$A$47<>\"\",\"E\",\"\")","v":""},{"$f":"IF('Page 4'!$A$19<>\"\",\"-\",\"\")","v":""},{"$f":"IF('Page 4'!$A$19<>\"\",'Page 4'!$A$47,\"\")","v":""},{"$f":"IF('Page 4'!$C$48<>\"\",'Page 4'!D48,\"\")","v":""},{"$f":"IF('Page 4'!$D$19<>\"\",\"A\",IF('Page 4'!$D$20<>\"\",\"B\",\"\"))","v":""},{"$f":"IF('Page 4'!$F$20<>\"\",\"24\",IF('Page 4'!$F$21<>\"\",\"20\",IF('Page 4'!$D$19<>\"\",IF('Page 4'!$F$22<>\"\",$U$21,\"\"),IF('Page 4'!$D$20<>\"\",IF('Page 4'!$F$22<>\"\",$U$24,\"\"),\"\"))))","v":""},{"$f":"IF('Page 4'!$H$19<>\"\",\"A\",IF('Page 4'!$H$20<>\"\",\"B\",IF('Page 4'!$H$21<>\"\",\"C\",\"\")))","v":""},{"$f":"IF('Page 4'!$K$20<>\"\",\"24\",IF('Page 4'!$K$21<>\"\",\"20\",IF($Z$21<>\"\",$Z$21,IF($Z$24<>\"\",$Z$24,IF($Z$27<>\"\",$Z$27,\"\")))))","v":""},{"$f":"IF('Page 4'!$M$19<>\"\",\"1\",IF('Page 4'!$M$20<>\"\",\"2\",IF('Page 4'!$M$21<>\"\",\"4\",\"\")))","v":""},null,{"$f":"IF('Page 4'!$C$48<>\"\",CONCATENATE(B23,C23,D23,E23,F23,G23,H23,I23,J23,K23),\"\")","v":""},{"$f":"IF('Page 4'!C48<>\"\",'Page 4'!C48,\"\")","v":""},null,{"$f":"IFERROR(VLOOKUP(LEFT(M23,20),Item_VIP!$A$2:$B$7499,1,FALSE),\"\")","v":""},null,null,null,null,null,"STD",{"$f":"IF('Page 4'!A47=\"06\",26,IF('Page 4'!A47=\"08\",26,IF('Page 4'!A47=\"10\",24,IF('Page 4'!A47=\"12\",24,IF('Page 4'!A47=\"14\",24,IF('Page 4'!A47=\"16\",24,IF('Page 4'!A47=\"18\",24,IF('Page 4'!A47=\"20\",24,IF('Page 4'!A47=\"22\",20,IF('Page 4'!A47=\"24\",20,IF('Page 4'!A47=\"26\",20,IF('Page 4'!A47=\"28\",20,IF('Page 4'!A47=\"30\",20,IF('Page 4'!A47=\"32\",20,IF('Page 4'!A47=\"34\",20,IF('Page 4'!A47=\"36\",20,IF('Page 4'!A47=\"38\",20,IF('Page 4'!A47=\"40\",20,IF('Page 4'!A47=\"42\",20,IF('Page 4'!A47=\"44\",20,IF('Page 4'!A47=\"46\",20,IF('Page 4'!A47=\"48\",20,\"\"))))))))))))))))))))))","v":""},"4\""]
[null,{"$f":"IF('Page 4'!$A$19<>\"\",\"V\",\"\")","v":""},{"$f":"IF('Page 4'!$A$47<>\"\",\"E\",\"\")","v":""},{"$f":"IF('Page 4'!$A$19<>\"\",\"-\",\"\")","v":""},{"$f":"IF('Page 4'!$A$19<>\"\",'Page 4'!$A$47,\"\")","v":""},{"$f":"IF('Page 4'!$C$49<>\"\",'Page 4'!D49,\"\")","v":""},{"$f":"IF('Page 4'!$D$19<>\"\",\"A\",IF('Page 4'!$D$20<>\"\",\"B\",\"\"))","v":""},{"$f":"IF('Page 4'!$F$20<>\"\",\"24\",IF('Page 4'!$F$21<>\"\",\"20\",IF('Page 4'!$D$19<>\"\",IF('Page 4'!$F$22<>\"\",$U$21,\"\"),IF('Page 4'!$D$20<>\"\",IF('Page 4'!$F$22<>\"\",$U$24,\"\"),\"\"))))","v":""},{"$f":"IF('Page 4'!$H$19<>\"\",\"A\",IF('Page 4'!$H$20<>\"\",\"B\",IF('Page 4'!$H$21<>\"\",\"C\",\"\")))","v":""},{"$f":"IF('Page 4'!$K$20<>\"\",\"24\",IF('Page 4'!$K$21<>\"\",\"20\",IF($Z$21<>\"\",$Z$21,IF($Z$24<>\"\",$Z$24,IF($Z$27<>\"\",$Z$27,\"\")))))","v":""},{"$f":"IF('Page 4'!$M$19<>\"\",\"1\",IF('Page 4'!$M$20<>\"\",\"2\",IF('Page 4'!$M$21<>\"\",\"4\",\"\")))","v":""},null,{"$f":"IF('Page 4'!$C$49<>\"\",CONCATENATE(B24,C24,D24,E24,F24,G24,H24,I24,J24,K24),\"\")","v":""},{"$f":"IF('Page 4'!C49<>\"\",'Page 4'!C49,\"\")","v":""},null,{"$f":"IFERROR(VLOOKUP(LEFT(M24,20),Item_VIP!$A$2:$B$7499,1,FALSE),\"\")","v":""},null,null,"SS 316","STD",{"$f":"IF('Page 4'!A47=\"06\",24,IF('Page 4'!A47=\"08\",24,IF('Page 4'!A47=\"10\",24,IF('Page 4'!A47=\"12\",24,IF('Page 4'!A47=\"14\",24,IF('Page 4'!A47=\"16\",24,IF('Page 4'!A47=\"18\",24,IF('Page 4'!A47=\"20\",24,IF('Page 4'!A47=\"22\",24,IF('Page 4'!A47=\"24\",24,IF('Page 4'!A47=\"26\",24,IF('Page 4'!A47=\"28\",24,IF('Page 4'!A47=\"30\",20,IF('Page 4'!A47=\"32\",20,IF('Page 4'!A47=\"34\",20,IF('Page 4'!A47=\"36\",20,IF('Page 4'!A47=\"38\",20,IF('Page 4'!A47=\"40\",20,IF('Page 4'!A47=\"42\",20,IF('Page 4'!A47=\"44\",20,IF('Page 4'!A47=\"46\",20,IF('Page 4'!A47=\"48\",20,\"\"))))))))))))))))))))))","v":""},"STD",{"$f":"IF('Page 4'!A47=\"06\",24,IF('Page 4'!A47=\"08\",24,IF('Page 4'!A47=\"10\",24,IF('Page 4'!A47=\"12\",24,IF('Page 4'!A47=\"14\",24,IF('Page 4'!A47=\"16\",24,IF('Page 4'!A47=\"18\",24,IF('Page 4'!A47=\"24\",24,IF('Page 4'!A47=\"22\",24,IF('Page 4'!A47=\"24\",24,IF('Page 4'!A47=\"26\",24,IF('Page 4'!A47=\"28\",24,IF('Page 4'!A47=\"30\",20,IF('Page 4'!A47=\"32\",20,IF('Page 4'!A47=\"34\",20,IF('Page 4'!A47=\"36\",20,IF('Page 4'!A47=\"38\",20,IF('Page 4'!A47=\"40\",20,IF('Page 4'!A47=\"42\",20,IF('Page 4'!A47=\"44\",20,IF('Page 4'!A47=\"46\",20,IF('Page 4'!A47=\"48\",20,\"\"))))))))))))))))))))))","v":""},"1\"",null,{"$f":"IF('Page 4'!$H$20<>\"\",IF('Page 4'!$M$19<>\"\",IF('Page 4'!$K$22<>\"\",$W$24,\"\"),IF('Page 4'!$H$20<>\"\",IF('Page 4'!$M$20<>\"\",IF('Page 4'!$K$22<>\"\",$W$25,\"\"),IF('Page 4'!$H$20<>\"\",IF('Page 4'!$M$21<>\"\",IF('Page 4'!$K$22<>\"\",$W$26,\"\"),\"\"))))),\"\")","v":""},"SI 1\" OU 2\" OU 4\""]
[null,{"$f":"IF('Page 4'!$A$19<>\"\",\"V\",\"\")","v":""},{"$f":"IF('Page 4'!$A$47<>\"\",\"E\",\"\")","v":""},{"$f":"IF('Page 4'!$A$19<>\"\",\"-\",\"\")","v":""},{"$f":"IF('Page 4'!$A$19<>\"\",'Page 4'!$A$47,\"\")","v":""},{"$f":"IF('Page 4'!$C$50<>\"\",'Page 4'!D50,\"\")","v":""},{"$f":"IF('Page 4'!$D$19<>\"\",\"A\",IF('Page 4'!$D$20<>\"\",\"B\",\"\"))","v":""},{"$f":"IF('Page 4'!$F$20<>\"\",\"24\",IF('Page 4'!$F$21<>\"\",\"20\",IF('Page 4'!$D$19<>\"\",IF('Page 4'!$F$22<>\"\",$U$21,\"\"),IF('Page 4'!$D$20<>\"\",IF('Page 4'!$F$22<>\"\",$U$24,\"\"),\"\"))))","v":""},{"$f":"IF('Page 4'!$H$19<>\"\",\"A\",IF('Page 4'!$H$20<>\"\",\"B\",IF('Page 4'!$H$21<>\"\",\"C\",\"\")))","v":""},{"$f":"IF('Page 4'!$K$20<>\"\",\"24\",IF('Page 4'!$K$21<>\"\",\"20\",IF($Z$21<>\"\",$Z$21,IF($Z$24<>\"\",$Z$24,IF($Z$27<>\"\",$Z$27,\"\")))))","v":""},{"$f":"IF('Page 4'!$M$19<>\"\",\"1\",IF('Page 4'!$M$20<>\"\",\"2\",IF('Page 4'!$M$21<>\"\",\"4\",\"\")))","v":""},null,{"$f":"IF('Page 4'!$C$50<>\"\",CONCATENATE(B25,C25,D25,E25,F25,G25,H25,I25,J25,K25),\"\")","v":""},{"$f":"IF('Page 4'!C50<>\"\",'Page 4'!C50,\"\")","v":""},null,{"$f":"IFERROR(VLOOKUP(LEFT(M25,20),Item_VIP!$A$2:$B$7499,1,FALSE),\"\")","v":""},null,null,null,null,null,"STD",{"$f":"IF('Page 4'!A47=\"06\",24,IF('Page 4'!A47=\"08\",24,IF('Page 4'!A47=\"10\",24,IF('Page 4'!A47=\"12\",24,IF('Page 4'!A47=\"14\",24,IF('Page 4'!A47=\"16\",24,IF('Page 4'!A47=\"18\",24,IF('Page 4'!A47=\"20\",24,IF('Page 4'!A47=\"22\",24,IF('Page 4'!A47=\"24\",24,IF('Page 4'!A47=\"26\",24,IF('Page 4'!A47=\"28\",20,IF('Page 4'!A47=\"30\",20,IF('Page 4'!A47=\"32\",20,IF('Page 4'!A47=\"34\",20,IF('Page 4'!A47=\"36\",20,IF('Page 4'!A47=\"38\",20,IF('Page 4'!A47=\"40\",20,IF('Page 4'!A47=\"42\",20,IF('Page 4'!A47=\"44\",20,IF('Page 4'!A47=\"46\",20,IF('Page 4'!A47=\"48\",20,\"\"))))))))))))))))))))))","v":""},"2\""]
[null,{"$f":"IF('Page 4'!$A$19<>\"\",\"V\",\"\")","v":""},{"$f":"IF('Page 4'!$A$52<>\"\",\"E\",\"\")","v":""},{"$f":"IF('Page 4'!$A$19<>\"\",\"-\",\"\")","v":""},{"$f":"IF('Page 4'!$A$19<>\"\",'Page 4'!$A$52,\"\")","v":""},{"$f":"IF('Page 4'!$C$52<>\"\",'Page 4'!D52,\"\")","v":""},{"$f":"IF('Page 4'!$D$19<>\"\",\"A\",IF('Page 4'!$D$20<>\"\",\"B\",\"\"))","v":""},{"$f":"IF('Page 4'!$F$21<>\"\",\"20\",IF('Page 4'!$D$19<>\"\",IF('Page 4'!$F$22<>\"\",$U$30,\"\"),IF('Page 4'!$D$20<>\"\",IF('Page 4'!$F$22<>\"\",$U$33,\"\"),\"\")))","v":""},{"$f":"IF('Page 4'!$H$19<>\"\",\"A\",IF('Page 4'!$H$20<>\"\",\"B\",IF('Page 4'!$H$21<>\"\",\"C\",\"\")))","v":""},{"$f":"IF('Page 4'!$K$20<>\"\",\"24\",IF('Page 4'!$K$21<>\"\",\"20\",IF($Z$30<>\"\",$Z$30,IF($Z$33<>\"\",$Z$33,IF($Z$36<>\"\",$Z$36,\"\")))))","v":""},{"$f":"IF('Page 4'!$M$19<>\"\",\"1\",IF('Page 4'!$M$20<>\"\",\"2\",IF('Page 4'!$M$21<>\"\",\"4\",\"\")))","v":""},null,{"$f":"IF('Page 4'!$C$52<>\"\",CONCATENATE(B26,C26,D26,E26,F26,G26,H26,I26,J26,K26),\"\")","v":""},{"$f":"IF('Page 4'!C52<>\"\",'Page 4'!C52,\"\")","v":""},null,{"$f":"IFERROR(VLOOKUP(LEFT(M26,20),Item_VIP!$A$2:$B$7499,1,FALSE),\"\")","v":""},null,null,null,null,null,"STD",{"$f":"IF('Page 4'!A47=\"06\",26,IF('Page 4'!A47=\"08\",26,IF('Page 4'!A47=\"10\",24,IF('Page 4'!A47=\"12\",24,IF('Page 4'!A47=\"14\",24,IF('Page 4'!A47=\"16\",24,IF('Page 4'!A47=\"18\",24,IF('Page 4'!A47=\"20\",24,IF('Page 4'!A47=\"22\",20,IF('Page 4'!A47=\"24\",20,IF('Page 4'!A47=\"26\",20,IF('Page 4'!A47=\"28\",20,IF('Page 4'!A47=\"30\",20,IF('Page 4'!A47=\"32\",20,IF('Page 4'!A47=\"34\",20,IF('Page 4'!A47=\"36\",20,IF('Page 4'!A47=\"38\",20,IF('Page 4'!A47=\"40\",20,IF('Page 4'!A47=\"42\",20,IF('Page 4'!A47=\"44\",20,IF('Page 4'!A47=\"46\",20,IF('Page 4'!A47=\"48\",20,\"\"))))))))))))))))))))))","v":""},"4\""]
[null,{"$f":"IF('Page 4'!$A$19<>\"\",\"V\",\"\")","v":""},{"$f":"IF('Page 4'!$A$52<>\"\",\"E\",\"\")","v":""},{"$f":"IF('Page 4'!$A$19<>\"\",\"-\",\"\")","v":""},{"$f":"IF('Page 4'!$A$19<>\"\",'Page 4'!$A$53,\"\")","v":""},{"$f":"IF('Page 4'!$C$53<>\"\",'Page 4'!D53,\"\")","v":""},{"$f":"IF('Page 4'!$D$19<>\"\",\"A\",IF('Page 4'!$D$20<>\"\",\"B\",\"\"))","v":""},{"$f":"IF('Page 4'!$F$21<>\"\",\"20\",IF('Page 4'!$D$19<>\"\",IF('Page 4'!$F$22<>\"\",$U$30,\"\"),IF('Page 4'!$D$20<>\"\",IF('Page 4'!$F$22<>\"\",$U$33,\"\"),\"\")))","v":""},{"$f":"IF('Page 4'!$H$19<>\"\",\"A\",IF('Page 4'!$H$20<>\"\",\"B\",IF('Page 4'!$H$21<>\"\",\"C\",\"\")))","v":""},{"$f":"IF('Page 4'!$K$20<>\"\",\"24\",IF('Page 4'!$K$21<>\"\",\"20\",IF($Z$30<>\"\",$Z$30,IF($Z$33<>\"\",$Z$33,IF($Z$36<>\"\",$Z$36,\"\")))))","v":""},{"$f":"IF('Page 4'!$M$19<>\"\",\"1\",IF('Page 4'!$M$20<>\"\",\"2\",IF('Page 4'!$M$21<>\"\",\"4\",\"\")))","v":""},{"$f":"IF('Page 4'!$B$53<>\"\",'Page 4'!$B$53,\"\")","v":""},{"$f":"IF('Page 4'!$C$53<>\"\",CONCATENATE(B27,C27,D27,E27,F27,G27,H27,I27,J27,K27,L27),\"\")","v":""},{"$f":"IF('Page 4'!C53<>\"\",'Page 4'!C53,\"\")","v":""},null,{"$f":"IFERROR(VLOOKUP(LEFT(M27,20),Item_VIP!$A$2:$B$7499,1,FALSE),\"\")","v":""},null,null,"GALVALUME STD",null,null,"GAL",{"$f":"IF('Page 4'!A47=\"06\",24,IF('Page 4'!A47=\"08\",24,IF('Page 4'!A47=\"10\",24,IF('Page 4'!A47=\"12\",24,IF('Page 4'!A47=\"14\",24,IF('Page 4'!A47=\"16\",24,IF('Page 4'!A47=\"18\",24,IF('Page 4'!A47=\"24\",24,IF('Page 4'!A47=\"22\",24,IF('Page 4'!A47=\"24\",24,IF('Page 4'!A47=\"26\",24,IF('Page 4'!A47=\"28\",24,IF('Page 4'!A47=\"30\",22,IF('Page 4'!A47=\"32\",22,IF('Page 4'!A47=\"34\",22,IF('Page 4'!A47=\"36\",22,IF('Page 4'!A47=\"38\",22,IF('Page 4'!A47=\"40\",22,IF('Page 4'!A47=\"42\",22,IF('Page 4'!A47=\"44\",22,IF('Page 4'!A47=\"46\",22,IF('Page 4'!A47=\"48\",22,\"\"))))))))))))))))))))))","v":""},"1\"",null,{"$f":"IF('Page 4'!$H$21<>\"\",IF('Page 4'!$M$19<>\"\",IF('Page 4'!$K$22<>\"\",$W$27,\"\"),IF('Page 4'!$H$21<>\"\",IF('Page 4'!$M$20<>\"\",IF('Page 4'!$K$22<>\"\",$W$28,\"\"),IF('Page 4'!$H$21<>\"\",IF('Page 4'!$M$21<>\"\",IF('Page 4'!$K$22<>\"\",$W$29,\"\"),\"\"))))),\"\")","v":""},"SI 1\" OU 2\" OU 4\""]
[null,{"$f":"IF('Page 4'!$A$19<>\"\",\"V\",\"\")","v":""},{"$f":"IF('Page 4'!$A$52<>\"\",\"E\",\"\")","v":""},{"$f":"IF('Page 4'!$A$19<>\"\",\"-\",\"\")","v":""},{"$f":"IF('Page 4'!$A$19<>\"\",'Page 4'!$A$52,\"\")","v":""},{"$f":"IF('Page 4'!$C$54<>\"\",'Page 4'!D54,\"\")","v":""},{"$f":"IF('Page 4'!$D$19<>\"\",\"A\",IF('Page 4'!$D$20<>\"\",\"B\",\"\"))","v":""},{"$f":"IF('Page 4'!$F$21<>\"\",\"20\",IF('Page 4'!$D$19<>\"\",IF('Page 4'!$F$22<>\"\",$U$30,\"\"),IF('Page 4'!$D$20<>\"\",IF('Page 4'!$F$22<>\"\",$U$33,\"\"),\"\")))","v":""},{"$f":"IF('Page 4'!$H$19<>\"\",\"A\",IF('Page 4'!$H$20<>\"\",\"B\",IF('Page 4'!$H$21<>\"\",\"C\",\"\")))","v":""},{"$f":"IF('Page 4'!$K$20<>\"\",\"24\",IF('Page 4'!$K$21<>\"\",\"20\",IF($Z$30<>\"\",$Z$30,IF($Z$33<>\"\",$Z$33,IF($Z$36<>\"\",$Z$36,\"\")))))","v":""},{"$f":"IF('Page 4'!$M$19<>\"\",\"1\",IF('Page 4'!$M$20<>\"\",\"2\",IF('Page 4'!$M$21<>\"\",\"4\",\"\")))","v":""},null,{"$f":"IF('Page 4'!$C$54<>\"\",CONCATENATE(B28,C28,D28,E28,F28,G28,H28,I28,J28,K28),\"\")","v":""},{"$f":"IF('Page 4'!C54<>\"\",'Page 4'!C54,\"\")","v":""},null,{"$f":"IFERROR(VLOOKUP(LEFT(M28,20),Item_VIP!$A$2:$B$7499,1,FALSE),\"\")","v":""},null,null,null,null,null,"GAL",{"$f":"IF('Page 4'!A47=\"06\",24,IF('Page 4'!A47=\"08\",24,IF('Page 4'!A47=\"10\",24,IF('Page 4'!A47=\"12\",24,IF('Page 4'!A47=\"14\",24,IF('Page 4'!A47=\"16\",24,IF('Page 4'!A47=\"18\",24,IF('Page 4'!A47=\"24\",24,IF('Page 4'!A47=\"22\",24,IF('Page 4'!A47=\"24\",24,IF('Page 4'!A47=\"26\",24,IF('Page 4'!A47=\"28\",22,IF('Page 4'!A47=\"30\",22,IF('Page 4'!A47=\"32\",22,IF('Page 4'!A47=\"34\",22,IF('Page 4'!A47=\"36\",22,IF('Page 4'!A47=\"38\",22,IF('Page 4'!A47=\"40\",22,IF('Page 4'!A47=\"42\",22,IF('Page 4'!A47=\"44\",22,IF('Page 4'!A47=\"46\",22,IF('Page 4'!A47=\"48\",22,\"\"))))))))))))))))))))))","v":""},"2\""]
[null,{"$f":"IF('Page 4'!$A$19<>\"\",\"V\",\"\")","v":""},{"$f":"IF('Page 4'!$A$52<>\"\",\"E\",\"\")","v":""},{"$f":"IF('Page 4'!$A$19<>\"\",\"-\",\"\")","v":""},{"$f":"IF('Page 4'!$A$19<>\"\",'Page 4'!$A$55,\"\")","v":""},{"$f":"IF('Page 4'!$C$55<>\"\",'Page 4'!D55,\"\")","v":""},{"$f":"IF('Page 4'!$D$19<>\"\",\"A\",IF('Page 4'!$D$20<>\"\",\"B\",\"\"))","v":""},{"$f":"IF('Page 4'!$F$21<>\"\",\"20\",IF('Page 4'!$D$19<>\"\",IF('Page 4'!$F$22<>\"\",$U$30,\"\"),IF('Page 4'!$D$20<>\"\",IF('Page 4'!$F$22<>\"\",$U$33,\"\"),\"\")))","v":""},{"$f":"IF('Page 4'!$H$19<>\"\",\"A\",IF('Page 4'!$H$20<>\"\",\"B\",IF('Page 4'!$H$21<>\"\",\"C\",\"\")))","v":""},{"$f":"IF('Page 4'!$K$20<>\"\",\"24\",IF('Page 4'!$K$21<>\"\",\"20\",IF($Z$30<>\"\",$Z$30,IF($Z$33<>\"\",$Z$33,IF($Z$36<>\"\",$Z$36,\"\")))))","v":""},{"$f":"IF('Page 4'!$M$19<>\"\",\"1\",IF('Page 4'!$M$20<>\"\",\"2\",IF('Page 4'!$M$21<>\"\",\"4\",\"\")))","v":""},{"$f":"IF('Page 4'!$B$55<>\"\",'Page 4'!$B$55,\"\")","v":""},{"$f":"IF('Page 4'!$C$55<>\"\",CONCATENATE(B29,C29,D29,E29,F29,G29,H29,I29,J29,K29,L29),\"\")","v":""},{"$f":"IF('Page 4'!C55<>\"\",'Page 4'!C55,\"\")","v":""},null,{"$f":"IFERROR(VLOOKUP(LEFT(M29,20),Item_VIP!$A$2:$B$7499,1,FALSE),\"\")","v":""},null,null,null,null,null,"GAL",{"$f":"IF('Page 4'!A47=\"06\",24,IF('Page 4'!A47=\"08\",24,IF('Page 4'!A47=\"10\",24,IF('Page 4'!A47=\"12\",24,IF('Page 4'!A47=\"14\",24,IF('Page 4'!A47=\"16\",24,IF('Page 4'!A47=\"18\",22,IF('Page 4'!A47=\"24\",22,IF('Page 4'!A47=\"22\",22,IF('Page 4'!A47=\"24\",22,IF('Page 4'!A47=\"26\",22,IF('Page 4'!A47=\"28\",22,IF('Page 4'!A47=\"30\",22,IF('Page 4'!A47=\"32\",22,IF('Page 4'!A47=\"34\",22,IF('Page 4'!A47=\"36\",22,IF('Page 4'!A47=\"38\",22,IF('Page 4'!A47=\"40\",22,IF('Page 4'!A47=\"42\",22,IF('Page 4'!A47=\"44\",22,IF('Page 4'!A47=\"46\",22,IF('Page 4'!A47=\"48\",22,\"\"))))))))))))))))))))))","v":""},"4\""]
[null,{"$f":"IF('Page 4'!$A$19<>\"\",\"V\",\"\")","v":""},{"$f":"IF('Page 4'!$A$52<>\"\",\"E\",\"\")","v":""},{"$f":"IF('Page 4'!$A$19<>\"\",\"-\",\"\")","v":""},{"$f":"IF('Page 4'!$A$19<>\"\",'Page 4'!$A$52,\"\")","v":""},{"$f":"IF('Page 4'!$C$56<>\"\",'Page 4'!D56,\"\")","v":""},{"$f":"IF('Page 4'!$D$19<>\"\",\"A\",IF('Page 4'!$D$20<>\"\",\"B\",\"\"))","v":""},{"$f":"IF('Page 4'!$F$20<>\"\",\"20\",IF('Page 4'!$F$21<>\"\",\"20\",IF('Page 4'!$D$19<>\"\",IF('Page 4'!$F$22<>\"\",$U$39,\"\"),IF('Page 4'!$D$20<>\"\",IF('Page 4'!$F$22<>\"\",$U$40,\"\"),\"\"))))","v":""},{"$f":"IF(G30<>\"\",G30,\"\")","v":""},{"$f":"IF(H30<>\"\",H30,\"\")","v":""},{"$f":"IF('Page 4'!$M$19<>\"\",\"1\",IF('Page 4'!$M$20<>\"\",\"2\",IF('Page 4'!$M$21<>\"\",\"4\",\"\")))","v":""},null,{"$f":"IF('Page 4'!$C$56<>\"\",CONCATENATE(B30,C30,D30,E30,F30,G30,H30,I30,J30,K30),\"\")","v":""},{"$f":"IF('Page 4'!C56<>\"\",'Page 4'!C56,\"\")","v":""},null,{"$f":"IFERROR(VLOOKUP(LEFT(M30,20),Item_VIP!$A$2:$B$7499,1,FALSE),\"\")","v":""},null,"TEE","SS 304","STD",{"$f":"IF('Page 4'!A52=\"06\",20,IF('Page 4'!A52=\"08\",20,IF('Page 4'!A52=\"10\",20,IF('Page 4'!A52=\"12\",20,IF('Page 4'!A52=\"14\",20,IF('Page 4'!A52=\"16\",20,IF('Page 4'!A52=\"18\",20,IF('Page 4'!A52=\"20\",20,IF('Page 4'!A52=\"22\",20,IF('Page 4'!A52=\"24\",20,IF('Page 4'!A52=\"26\",20,IF('Page 4'!A52=\"28\",20,IF('Page 4'!A52=\"30\",20,IF('Page 4'!A52=\"32\",20,IF('Page 4'!A52=\"34\",20,IF('Page 4'!A52=\"36\",20,IF('Page 4'!A52=\"38\",20,IF('Page 4'!A52=\"40\",20,IF('Page 4'!A52=\"42\",20,IF('Page 4'!A52=\"44\",20,IF('Page 4'!A52=\"46\",20,IF('Page 4'!A52=\"48\",20,\"\"))))))))))))))))))))))","v":""},"STD",{"$f":"IF('Page 4'!A52=\"06\",24,IF('Page 4'!A52=\"08\",24,IF('Page 4'!A52=\"10\",24,IF('Page 4'!A52=\"12\",24,IF('Page 4'!A52=\"14\",24,IF('Page 4'!A52=\"16\",24,IF('Page 4'!A52=\"18\",24,IF('Page 4'!A52=\"20\",24,IF('Page 4'!A52=\"22\",24,IF('Page 4'!A52=\"24\",20,IF('Page 4'!A52=\"26\",20,IF('Page 4'!A52=\"28\",20,IF('Page 4'!A52=\"30\",20,IF('Page 4'!A52=\"32\",20,IF('Page 4'!A52=\"34\",20,IF('Page 4'!A52=\"36\",20,IF('Page 4'!A52=\"38\",20,IF('Page 4'!A52=\"40\",20,IF('Page 4'!A52=\"42\",20,IF('Page 4'!A52=\"44\",20,IF('Page 4'!A52=\"46\",20,IF('Page 4'!A52=\"48\",20,\"\"))))))))))))))))))))))","v":""},"1\"",null,{"$f":"IF('Page 4'!$H$19<>\"\",IF('Page 4'!$M$19<>\"\",IF('Page 4'!$K$22<>\"\",$W$30,\"\"),IF('Page 4'!$H$19<>\"\",IF('Page 4'!$M$20<>\"\",IF('Page 4'!$K$22<>\"\",$W$31,\"\"),IF('Page 4'!$H$19<>\"\",IF('Page 4'!$M$21<>\"\",IF('Page 4'!$K$22<>\"\",$W$32,\"\"),\"\"))))),\"\")","v":""},"SI 1\" OU 2\" OU 4\""]
[null,{"$f":"IF('Page 4'!$A$19<>\"\",\"V\",\"\")","v":""},{"$f":"IF('Page 4'!$A$52<>\"\",\"E\",\"\")","v":""},{"$f":"IF('Page 4'!$A$19<>\"\",\"-\",\"\")","v":""},{"$f":"IF('Page 4'!$A$19<>\"\",'Page 4'!$A$52,\"\")","v":""},{"$f":"IF('Page 4'!$C$57<>\"\",'Page 4'!D57,\"\")","v":""},{"$f":"IF('Page 4'!$D$19<>\"\",\"A\",IF('Page 4'!$D$20<>\"\",\"B\",\"\"))","v":""},{"$f":"IF('Page 4'!$F$20<>\"\",\"20\",IF('Page 4'!$F$21<>\"\",\"20\",IF('Page 4'!$D$19<>\"\",IF('Page 4'!$F$22<>\"\",$U$39,\"\"),IF('Page 4'!$D$20<>\"\",IF('Page 4'!$F$22<>\"\",$U$40,\"\"),\"\"))))","v":""},{"$f":"IF(G31<>\"\",G31,\"\")","v":""},{"$f":"IF(H31<>\"\",H31,\"\")","v":""},{"$f":"IF('Page 4'!$M$19<>\"\",\"1\",IF('Page 4'!$M$20<>\"\",\"2\",IF('Page 4'!$M$21<>\"\",\"4\",\"\")))","v":""},null,{"$f":"IF('Page 4'!$C$57<>\"\",CONCATENATE(B31,C31,D31,E31,F31,G31,H31,I31,J31,K31),\"\")","v":""},{"$f":"IF('Page 4'!C57<>\"\",'Page 4'!C57,\"\")","v":""},null,{"$f":"IFERROR(VLOOKUP(LEFT(M31,20),Item_VIP!$A$2:$B$7499,1,FALSE),\"\")","v":""},null,null,null,null,null,"STD",{"$f":"IF('Page 4'!A52=\"06\",24,IF('Page 4'!A52=\"08\",24,IF('Page 4'!A52=\"10\",24,IF('Page 4'!A52=\"12\",24,IF('Page 4'!A52=\"14\",24,IF('Page 4'!A52=\"16\",24,IF('Page 4'!A52=\"18\",24,IF('Page 4'!A52=\"20\",24,IF('Page 4'!A52=\"22\",24,IF('Page 4'!A52=\"24\",24,IF('Page 4'!A52=\"26\",20,IF('Page 4'!A52=\"28\",20,IF('Page 4'!A52=\"30\",20,IF('Page 4'!A52=\"32\",20,IF('Page 4'!A52=\"34\",20,IF('Page 4'!A52=\"36\",20,IF('Page 4'!A52=\"38\",20,IF('Page 4'!A52=\"40\",20,IF('Page 4'!A52=\"42\",20,IF('Page 4'!A52=\"44\",20,IF('Page 4'!A52=\"46\",20,IF('Page 4'!A52=\"48\",20,\"\"))))))))))))))))))))))","v":""},"2\""]
[null,{"$f":"IF('Page 4'!$A$19<>\"\",\"V\",\"\")","v":""},{"$f":"IF('Page 4'!$A$59<>\"\",\"F\",\"\")","v":""},{"$f":"IF('Page 4'!$A$19<>\"\",\"-\",\"\")","v":""},{"$f":"$C$5","v":""},{"$f":"IF('Page 4'!$C$59<>\"\",'Page 4'!D59,\"\")","v":""},{"$f":"IF('Page 4'!C59<>\"\",\"0\",\"\")","v":""},{"$f":"IF('Page 4'!C59<>\"\",\"00\",\"\")","v":""},{"$f":"IF('Page 4'!G59<>\"\",\"A\",\"C\")","v":"C"},{"$f":"IF(I32=\"C\",IF('Page 4'!$M$19<>\"\",$W$44,IF('Page 4'!$M$20<>\"\",$W$45,IF('Page 4'!$M$21<>\"\",$W$46,\"\"))),IF(I32=\"A\",IF('Page 4'!$M$19<>\"\",$W$41,IF('Page 4'!$M$20<>\"\",$W$42,IF('Page 4'!$M$21<>\"\",$W$43,\"\")))))","v":""},{"$f":"IF('Page 4'!$M$19<>\"\",\"1\",IF('Page 4'!$M$20<>\"\",\"1\",IF('Page 4'!$M$21<>\"\",\"1\",\"\")))","v":""},null,{"$f":"IF('Page 4'!$C$59<>\"\",CONCATENATE(B32,C32,D32,E32,F32,G32,H32,I32,J32,K32),\"\")","v":""},{"$f":"IF('Page 4'!C59<>\"\",'Page 4'!C59,\"\")","v":""},null,{"$f":"IFERROR(VLOOKUP(LEFT(M32,20),Item_VIP!$A$2:$B$7499,1,FALSE),\"\")","v":""},null,null,null,null,null,"STD",{"$f":"IF('Page 4'!A52=\"06\",26,IF('Page 4'!A52=\"08\",26,IF('Page 4'!A52=\"10\",24,IF('Page 4'!A52=\"12\",24,IF('Page 4'!A52=\"14\",24,IF('Page 4'!A52=\"16\",20,IF('Page 4'!A52=\"18\",20,IF('Page 4'!A52=\"20\",20,IF('Page 4'!A52=\"22\",20,IF('Page 4'!A52=\"24\",20,IF('Page 4'!A52=\"26\",20,IF('Page 4'!A52=\"28\",20,IF('Page 4'!A52=\"30\",20,IF('Page 4'!A52=\"32\",20,IF('Page 4'!A52=\"34\",20,IF('Page 4'!A52=\"36\",20,IF('Page 4'!A52=\"38\",20,IF('Page 4'!A52=\"40\",20,IF('Page 4'!A52=\"42\",20,IF('Page 4'!A52=\"44\",20,IF('Page 4'!A52=\"46\",20,IF('Page 4'!A52=\"48\",20,\"\"))))))))))))))))))))))","v":""},"4\""]
[null,{"$f":"IF('Page 4'!$A$19<>\"\",\"V\",\"\")","v":""},{"$f":"IF('Page 4'!$A$59<>\"\",\"F\",\"\")","v":""},{"$f":"IF('Page 4'!$A$19<>\"\",\"-\",\"\")","v":""},"",{"$f":"IF('Page 4'!$C$60<>\"\",'Page 4'!D60,\"\")","v":""},{"$f":"IF('Page 4'!C60<>\"\",\"0\",\"\")","v":""},{"$f":"IF('Page 4'!C60<>\"\",\"00\",\"\")","v":""},{"$f":"IF('Page 4'!G60<>\"\",\"A\",\"C\")","v":"C"},{"$f":"IF(I33=\"C\",IF('Page 4'!$M$19<>\"\",$W$47,IF('Page 4'!$M$20<>\"\",$W$48,IF('Page 4'!$M$21<>\"\",$W$49,\"\"))),IF(I33=\"A\",IF('Page 4'!$M$19<>\"\",$W$41,IF('Page 4'!$M$20<>\"\",$W$42,IF('Page 4'!$M$21<>\"\",$W$43,\"\")))))","v":""},{"$f":"IF('Page 4'!$M$19<>\"\",\"1\",IF('Page 4'!$M$20<>\"\",\"1\",IF('Page 4'!$M$21<>\"\",\"1\",\"\")))","v":""},null,{"$f":"IF('Page 4'!$C$60<>\"\",CONCATENATE(B33,C33,D33,E33,F33,G33,H33,I33,J33,K33,L33),\"\")","v":""},{"$f":"IF('Page 4'!C60<>\"\",'Page 4'!C60,\"\")","v":""},null,{"$f":"IFERROR(VLOOKUP(LEFT(M33,20),Item_VIP!$A$2:$B$7499,1,FALSE),\"\")","v":""},null,null,"SS 316","STD",{"$f":"IF('Page 4'!A52=\"06\",20,IF('Page 4'!A52=\"08\",20,IF('Page 4'!A52=\"10\",20,IF('Page 4'!A52=\"12\",20,IF('Page 4'!A52=\"14\",20,IF('Page 4'!A52=\"16\",20,IF('Page 4'!A52=\"18\",20,IF('Page 4'!A52=\"20\",20,IF('Page 4'!A52=\"22\",20,IF('Page 4'!A52=\"24\",20,IF('Page 4'!A52=\"26\",20,IF('Page 4'!A52=\"28\",20,IF('Page 4'!A52=\"30\",20,IF('Page 4'!A52=\"32\",20,IF('Page 4'!A52=\"34\",20,IF('Page 4'!A52=\"36\",20,IF('Page 4'!A52=\"38\",20,IF('Page 4'!A52=\"40\",20,IF('Page 4'!A52=\"42\",20,IF('Page 4'!A52=\"44\",20,IF('Page 4'!A52=\"46\",20,IF('Page 4'!A52=\"48\",20,\"\"))))))))))))))))))))))","v":""},"STD",{"$f":"IF('Page 4'!A52=\"06\",24,IF('Page 4'!A52=\"08\",24,IF('Page 4'!A52=\"10\",24,IF('Page 4'!A52=\"12\",24,IF('Page 4'!A52=\"14\",24,IF('Page 4'!A52=\"16\",24,IF('Page 4'!A52=\"18\",24,IF('Page 4'!A52=\"20\",24,IF('Page 4'!A52=\"22\",24,IF('Page 4'!A52=\"24\",20,IF('Page 4'!A52=\"26\",20,IF('Page 4'!A52=\"28\",20,IF('Page 4'!A52=\"30\",20,IF('Page 4'!A52=\"32\",20,IF('Page 4'!A52=\"34\",20,IF('Page 4'!A52=\"36\",20,IF('Page 4'!A52=\"38\",20,IF('Page 4'!A52=\"40\",20,IF('Page 4'!A52=\"42\",20,IF('Page 4'!A52=\"44\",20,IF('Page 4'!A52=\"46\",20,IF('Page 4'!A52=\"48\",20,\"\"))))))))))))))))))))))","v":""},"1\"",null,{"$f":"IF('Page 4'!$H$20<>\"\",IF('Page 4'!$M$19<>\"\",IF('Page 4'!$K$22<>\"\",$W$33,\"\"),IF('Page 4'!$H$20<>\"\",IF('Page 4'!$M$20<>\"\",IF('Page 4'!$K$22<>\"\",$W$34,\"\"),IF('Page 4'!$H$20<>\"\",IF('Page 4'!$M$21<>\"\",IF('Page 4'!$K$22<>\"\",$W$35,\"\"),\"\"))))),\"\")","v":""},"SI 1\" OU 2\" OU 4\""]
[null,{"$f":"IF('Page 4'!$A$19<>\"\",\"V\",\"\")","v":""},{"$f":"IF('Page 4'!$A$59<>\"\",\"F\",\"\")","v":""},{"$f":"IF('Page 4'!$A$19<>\"\",\"-\",\"\")","v":""},"",{"$f":"IF('Page 4'!$C$61<>\"\",'Page 4'!D61,\"\")","v":""},{"$f":"IF('Page 4'!C61<>\"\",\"0\",\"\")","v":""},{"$f":"IF('Page 4'!C61<>\"\",\"00\",\"\")","v":""},{"$f":"IF('Page 4'!G61<>\"\",\"A\",\"C\")","v":"C"},{"$f":"IF(I34=\"C\",IF('Page 4'!$M$19<>\"\",$W$47,IF('Page 4'!$M$20<>\"\",$W$48,IF('Page 4'!$M$21<>\"\",$W$49,\"\"))),IF(I34=\"A\",IF('Page 4'!$M$19<>\"\",$W$41,IF('Page 4'!$M$20<>\"\",$W$42,IF('Page 4'!$M$21<>\"\",$W$43,\"\")))))","v":""},{"$f":"IF('Page 4'!$M$19<>\"\",\"1\",IF('Page 4'!$M$20<>\"\",\"1\",IF('Page 4'!$M$21<>\"\",\"1\",\"\")))","v":""},null,{"$f":"IF('Page 4'!$C$61<>\"\",CONCATENATE(B34,C34,D34,E34,F34,G34,H34,I34,J34,K34),\"\")","v":""},{"$f":"IF('Page 4'!C61<>\"\",'Page 4'!C61,\"\")","v":""},null,{"$f":"IFERROR(VLOOKUP(LEFT(M34,20),Item_VIP!$A$2:$B$7499,1,FALSE),\"\")","v":""},null,null,null,null,null,"STD",{"$f":"IF('Page 4'!A52=\"06\",24,IF('Page 4'!A52=\"08\",24,IF('Page 4'!A52=\"10\",24,IF('Page 4'!A52=\"12\",24,IF('Page 4'!A52=\"14\",24,IF('Page 4'!A52=\"16\",24,IF('Page 4'!A52=\"18\",24,IF('Page 4'!A52=\"20\",24,IF('Page 4'!A52=\"22\",24,IF('Page 4'!A52=\"24\",24,IF('Page 4'!A52=\"26\",20,IF('Page 4'!A52=\"28\",20,IF('Page 4'!A52=\"30\",20,IF('Page 4'!A52=\"32\",20,IF('Page 4'!A52=\"34\",20,IF('Page 4'!A52=\"36\",20,IF('Page 4'!A52=\"38\",20,IF('Page 4'!A52=\"40\",20,IF('Page 4'!A52=\"42\",20,IF('Page 4'!A52=\"44\",20,IF('Page 4'!A52=\"46\",20,IF('Page 4'!A52=\"48\",20,\"\"))))))))))))))))))))))","v":""},"2\""]
[null,{"$f":"IF('Page 4'!$A$19<>\"\",\"V\",\"\")","v":""},{"$f":"IF('Page 4'!$A$59<>\"\",\"M\",\"\")","v":""},{"$f":"IF('Page 4'!$A$19<>\"\",\"-\",\"\")","v":""},"",{"$f":"IF('Page 4'!$C$62<>\"\",'Page 4'!D62,\"\")","v":""},{"$f":"IF('Page 4'!C62<>\"\",\"0\",\"\")","v":""},{"$f":"IF('Page 4'!C62<>\"\",\"00\",\"\")","v":""},{"$f":"IF('Page 4'!G62<>\"\",\"A\",\"C\")","v":"C"},{"$f":"IF(I35=\"C\",IF('Page 4'!$M$19<>\"\",$W$53,IF('Page 4'!$M$20<>\"\",$W$54,IF('Page 4'!$M$21<>\"\",$W$55,\"\"))),IF(I35=\"A\",IF('Page 4'!$M$19<>\"\",$W$50,IF('Page 4'!$M$20<>\"\",$W$51,IF('Page 4'!$M$21<>\"\",$W$52,\"\")))))","v":""},{"$f":"IF('Page 4'!$M$19<>\"\",\"1\",IF('Page 4'!$M$20<>\"\",\"1\",IF('Page 4'!$M$21<>\"\",\"1\",\"\")))","v":""},null,{"$f":"IF('Page 4'!$C$62<>\"\",CONCATENATE(B35,C35,D35,E35,F35,G35,H35,I35,J35,K35,L35),\"\")","v":""},{"$f":"IF('Page 4'!C62<>\"\",'Page 4'!C62,\"\")","v":""},null,{"$f":"IFERROR(VLOOKUP(LEFT(M35,20),Item_VIP!$A$2:$B$7499,1,FALSE),\"\")","v":""},null,null,null,null,null,"STD",{"$f":"IF('Page 4'!A52=\"06\",26,IF('Page 4'!A52=\"08\",26,IF('Page 4'!A52=\"10\",24,IF('Page 4'!A52=\"12\",24,IF('Page 4'!A52=\"14\",24,IF('Page 4'!A52=\"16\",24,IF('Page 4'!A52=\"18\",24,IF('Page 4'!A52=\"20\",24,IF('Page 4'!A52=\"22\",20,IF('Page 4'!A52=\"24\",20,IF('Page 4'!A52=\"26\",20,IF('Page 4'!A52=\"28\",20,IF('Page 4'!A52=\"30\",20,IF('Page 4'!A52=\"32\",20,IF('Page 4'!A52=\"34\",20,IF('Page 4'!A52=\"36\",20,IF('Page 4'!A52=\"38\",20,IF('Page 4'!A52=\"40\",20,IF('Page 4'!A52=\"42\",20,IF('Page 4'!A52=\"44\",20,IF('Page 4'!A52=\"46\",20,IF('Page 4'!A52=\"48\",20,\"\"))))))))))))))))))))))","v":""},"4\""]
[null,{"$f":"IF('Page 4'!$A$19<>\"\",\"V\",\"\")","v":""},{"$f":"IF('Page 4'!$H$36<>\"\",\"M\",\"\")","v":""},{"$f":"IF('Page 4'!$A$19<>\"\",\"-\",\"\")","v":""},"",{"$f":"IF('Page 4'!J36<>\"\",'Page 4'!K36,\"\")","v":""},{"$f":"IF('Page 4'!J36<>\"\",\"0\",\"\")","v":""},{"$f":"IF('Page 4'!J36<>\"\",\"00\",\"\")","v":""},{"$f":"IF('Page 4'!N36<>\"\",\"A\",\"C\")","v":"C"},{"$f":"IF(I36=\"C\",IF('Page 4'!$M$19<>\"\",$W$59,IF('Page 4'!$M$20<>\"\",$W$60,IF('Page 4'!$M$21<>\"\",$W$61,\"\"))),IF(I36=\"A\",IF('Page 4'!$M$19<>\"\",$W$56,IF('Page 4'!$M$20<>\"\",$W$57,IF('Page 4'!$M$21<>\"\",$W$58,\"\")))))","v":""},{"$f":"IF('Page 4'!$M$19<>\"\",\"1\",IF('Page 4'!$M$20<>\"\",\"1\",IF('Page 4'!$M$21<>\"\",\"1\",\"\")))","v":""},null,{"$f":"IF('Page 4'!$J$36<>\"\",CONCATENATE(B36,C36,D36,E36,F36,G36,H36,I36,J36,K36,L36),\"\")","v":""},{"$f":"IF('Page 4'!J36<>\"\",'Page 4'!J36,\"\")","v":""},null,{"$f":"IFERROR(VLOOKUP(LEFT(M36,20),Item_VIP!$A$2:$B$7499,1,FALSE),\"\")","v":""},null,null,"GALVALUME STD",null,null,"GAL",{"$f":"IF('Page 4'!A52=\"06\",24,IF('Page 4'!A52=\"08\",24,IF('Page 4'!A52=\"10\",24,IF('Page 4'!A52=\"12\",24,IF('Page 4'!A52=\"14\",24,IF('Page 4'!A52=\"16\",24,IF('Page 4'!A52=\"18\",24,IF('Page 4'!A52=\"20\",24,IF('Page 4'!A52=\"22\",24,IF('Page 4'!A52=\"24\",22,IF('Page 4'!A52=\"26\",22,IF('Page 4'!A52=\"28\",22,IF('Page 4'!A52=\"30\",22,IF('Page 4'!A52=\"32\",22,IF('Page 4'!A52=\"34\",22,IF('Page 4'!A52=\"36\",22,IF('Page 4'!A52=\"38\",22,IF('Page 4'!A52=\"40\",22,IF('Page 4'!A52=\"42\",22,IF('Page 4'!A52=\"44\",22,IF('Page 4'!A52=\"46\",22,IF('Page 4'!A52=\"48\",20,\"\"))))))))))))))))))))))","v":""},"1\"",null,{"$f":"IF('Page 4'!$H$21<>\"\",IF('Page 4'!$M$19<>\"\",IF('Page 4'!$K$22<>\"\",$W$36,\"\"),IF('Page 4'!$H$21<>\"\",IF('Page 4'!$M$20<>\"\",IF('Page 4'!$K$22<>\"\",$W$37,\"\"),IF('Page 4'!$H$21<>\"\",IF('Page 4'!$M$21<>\"\",IF('Page 4'!$K$22<>\"\",$W$38,\"\"),\"\"))))),\"\")","v":""},"SI 1\" OU 2\" OU 4\""]
[null,{"$f":"IF('Page 4'!$A$19<>\"\",\"V\",\"\")","v":""},{"$f":"IF('Page 4'!$H$36<>\"\",\"M\",\"\")","v":""},{"$f":"IF('Page 4'!$A$19<>\"\",\"-\",\"\")","v":""},"",{"$f":"IF('Page 4'!J37<>\"\",'Page 4'!K37,\"\")","v":""},{"$f":"IF('Page 4'!J37<>\"\",\"0\",\"\")","v":""},{"$f":"IF('Page 4'!J37<>\"\",\"00\",\"\")","v":""},{"$f":"IF('Page 4'!N37<>\"\",\"A\",\"C\")","v":"C"},{"$f":"IF(I37=\"C\",IF('Page 4'!$M$19<>\"\",$W$59,IF('Page 4'!$M$20<>\"\",$W$60,IF('Page 4'!$M$21<>\"\",$W$61,\"\"))),IF(I37=\"A\",IF('Page 4'!$M$19<>\"\",$W$56,IF('Page 4'!$M$20<>\"\",$W$57,IF('Page 4'!$M$21<>\"\",$W$58,\"\")))))","v":""},{"$f":"IF('Page 4'!$M$19<>\"\",\"1\",IF('Page 4'!$M$20<>\"\",\"1\",IF('Page 4'!$M$21<>\"\",\"1\",\"\")))","v":""},null,{"$f":"IF('Page 4'!$J$37<>\"\",CONCATENATE(B37,C37,D37,E37,F37,G37,H37,I37,J37,K37,L37),\"\")","v":""},{"$f":"IF('Page 4'!J37<>\"\",'Page 4'!J37,\"\")","v":""},null,{"$f":"IFERROR(VLOOKUP(LEFT(M37,20),Item_VIP!$A$2:$B$7499,1,FALSE),\"\")","v":""},null,null,null,null,null,"GAL",{"$f":"IF('Page 4'!A52=\"06\",24,IF('Page 4'!A52=\"08\",24,IF('Page 4'!A52=\"10\",24,IF('Page 4'!A52=\"12\",24,IF('Page 4'!A52=\"14\",24,IF('Page 4'!A52=\"16\",24,IF('Page 4'!A52=\"18\",24,IF('Page 4'!A52=\"20\",24,IF('Page 4'!A52=\"22\",24,IF('Page 4'!A52=\"24\",24,IF('Page 4'!A52=\"26\",22,IF('Page 4'!A52=\"28\",22,IF('Page 4'!A52=\"30\",22,IF('Page 4'!A52=\"32\",22,IF('Page 4'!A52=\"34\",22,IF('Page 4'!A52=\"36\",22,IF('Page 4'!A52=\"38\",22,IF('Page 4'!A52=\"40\",22,IF('Page 4'!A52=\"42\",22,IF('Page 4'!A52=\"44\",22,IF('Page 4'!A52=\"46\",22,IF('Page 4'!A52=\"48\",22,\"\"))))))))))))))))))))))","v":""},"2\""]
[null,{"$f":"IF('Page 4'!$A$19<>\"\",\"V\",\"\")","v":""},{"$f":"IF('Page 4'!$H$36<>\"\",\"M\",\"\")","v":""},{"$f":"IF('Page 4'!$A$19<>\"\",\"-\",\"\")","v":""},"",{"$f":"IF('Page 4'!J38<>\"\",'Page 4'!K38,\"\")","v":""},{"$f":"IF('Page 4'!J38<>\"\",\"0\",\"\")","v":""},{"$f":"IF('Page 4'!J38<>\"\",\"00\",\"\")","v":""},{"$f":"IF('Page 4'!N38<>\"\",\"A\",\"C\")","v":"C"},{"$f":"IF(I38=\"C\",IF('Page 4'!$M$19<>\"\",$W$59,IF('Page 4'!$M$20<>\"\",$W$60,IF('Page 4'!$M$21<>\"\",$W$61,\"\"))),IF(I38=\"A\",IF('Page 4'!$M$19<>\"\",$W$56,IF('Page 4'!$M$20<>\"\",$W$57,IF('Page 4'!$M$21<>\"\",$W$58,\"\")))))","v":""},{"$f":"IF('Page 4'!$M$19<>\"\",\"1\",IF('Page 4'!$M$20<>\"\",\"1\",IF('Page 4'!$M$21<>\"\",\"1\",\"\")))","v":""},null,{"$f":"IF('Page 4'!$J$38<>\"\",CONCATENATE(B38,C38,D38,E38,F38,G38,H38,I38,J38,K38,L38),\"\")","v":""},{"$f":"IF('Page 4'!J38<>\"\",'Page 4'!J38,\"\")","v":""},null,{"$f":"IFERROR(VLOOKUP(LEFT(M38,20),Item_VIP!$A$2:$B$7499,1,FALSE),\"\")","v":""},null,null,null,null,null,"GAL",{"$f":"IF('Page 4'!A52=\"06\",26,IF('Page 4'!A52=\"08\",26,IF('Page 4'!A52=\"10\",24,IF('Page 4'!A52=\"12\",24,IF('Page 4'!A52=\"14\",24,IF('Page 4'!A52=\"16\",22,IF('Page 4'!A52=\"18\",22,IF('Page 4'!A52=\"20\",22,IF('Page 4'!A52=\"22\",22,IF('Page 4'!A52=\"24\",22,IF('Page 4'!A52=\"26\",22,IF('Page 4'!A52=\"28\",22,IF('Page 4'!A52=\"30\",22,IF('Page 4'!A52=\"32\",22,IF('Page 4'!A52=\"34\",22,IF('Page 4'!A52=\"36\",22,IF('Page 4'!A52=\"38\",22,IF('Page 4'!A52=\"40\",22,IF('Page 4'!A52=\"42\",22,IF('Page 4'!A52=\"44\",22,IF('Page 4'!A52=\"46\",20,IF('Page 4'!A52=\"48\",22,\"\"))))))))))))))))))))))","v":""},"4\""]
[null,{"$f":"IF('Page 4'!$A$19<>\"\",\"V\",\"\")","v":""},{"$f":"IF('Page 4'!$H$36<>\"\",\"M\",\"\")","v":""},{"$f":"IF('Page 4'!$A$19<>\"\",\"-\",\"\")","v":""},"",{"$f":"IF('Page 4'!J39<>\"\",'Page 4'!K39,\"\")","v":""},{"$f":"IF('Page 4'!J39<>\"\",\"0\",\"\")","v":""},{"$f":"IF('Page 4'!J39<>\"\",\"00\",\"\")","v":""},{"$f":"IF('Page 4'!N39<>\"\",\"A\",\"C\")","v":"C"},{"$f":"IF(I39=\"C\",IF('Page 4'!$M$19<>\"\",$W$59,IF('Page 4'!$M$20<>\"\",$W$60,IF('Page 4'!$M$21<>\"\",$W$61,\"\"))),IF(I39=\"A\",IF('Page 4'!$M$19<>\"\",$W$56,IF('Page 4'!$M$20<>\"\",$W$57,IF('Page 4'!$M$21<>\"\",$W$58,\"\")))))","v":""},{"$f":"IF('Page 4'!$M$19<>\"\",\"1\",IF('Page 4'!$M$20<>\"\",\"1\",IF('Page 4'!$M$21<>\"\",\"1\",\"\")))","v":""},null,{"$f":"IF('Page 4'!$J$39<>\"\",CONCATENATE(B39,C39,D39,E39,F39,G39,H39,I39,J39,K39,L39),\"\")","v":""},{"$f":"IF('Page 4'!J39<>\"\",'Page 4'!J39,\"\")","v":""},null,{"$f":"IFERROR(VLOOKUP(LEFT(M39,20),Item_VIP!$A$2:$B$7499,1,FALSE),\"\")","v":""},null,"TEE","SS 304","STD",{"$f":"IF('Page 4'!A56=\"06\",24,IF('Page 4'!A56=\"08\",24,IF('Page 4'!A56=\"10\",24,IF('Page 4'!A56=\"12\",24,IF('Page 4'!A56=\"14\",24,IF('Page 4'!A56=\"16\",24,IF('Page 4'!A56=\"18\",24,IF('Page 4'!A56=\"20\",24,IF('Page 4'!A56=\"22\",24,IF('Page 4'!A56=\"24\",24,IF('Page 4'!A56=\"26\",24,IF('Page 4'!A56=\"28\",24,IF('Page 4'!A56=\"30\",20,IF('Page 4'!A56=\"32\",20,IF('Page 4'!A56=\"34\",20,IF('Page 4'!A56=\"36\",20,IF('Page 4'!A56=\"38\",20,IF('Page 4'!A56=\"40\",20,IF('Page 4'!A56=\"42\",20,IF('Page 4'!A56=\"44\",20,IF('Page 4'!A56=\"46\",20,IF('Page 4'!A56=\"48\",20,\"\"))))))))))))))))))))))","v":""}]
[null,{"$f":"IF('Page 4'!$A$19<>\"\",\"V\",\"\")","v":""},{"$f":"IF('Page 4'!$H$36<>\"\",\"M\",\"\")","v":""},{"$f":"IF('Page 4'!$A$19<>\"\",\"-\",\"\")","v":""},"",{"$f":"IF('Page 4'!J40<>\"\",'Page 4'!K40,\"\")","v":""},{"$f":"IF('Page 4'!J40<>\"\",\"0\",\"\")","v":""},{"$f":"IF('Page 4'!J40<>\"\",\"00\",\"\")","v":""},{"$f":"IF('Page 4'!N40<>\"\",\"A\",\"C\")","v":"C"},{"$f":"IF(I40=\"C\",IF('Page 4'!$M$19<>\"\",$W$59,IF('Page 4'!$M$20<>\"\",$W$60,IF('Page 4'!$M$21<>\"\",$W$61,\"\"))),IF(I40=\"A\",IF('Page 4'!$M$19<>\"\",$W$56,IF('Page 4'!$M$20<>\"\",$W$57,IF('Page 4'!$M$21<>\"\",$W$58,\"\")))))","v":""},{"$f":"IF('Page 4'!$M$19<>\"\",\"1\",IF('Page 4'!$M$20<>\"\",\"1\",IF('Page 4'!$M$21<>\"\",\"1\",\"\")))","v":""},null,{"$f":"IF('Page 4'!$J$40<>\"\",CONCATENATE(B40,C40,D40,E40,F40,G40,H40,I40,J40,K40,L40),\"\")","v":""},{"$f":"IF('Page 4'!J40<>\"\",'Page 4'!J40,\"\")","v":""},null,{"$f":"IFERROR(VLOOKUP(LEFT(M40,20),Item_VIP!$A$2:$B$7499,1,FALSE),\"\")","v":""},null,null,"SS 316","STD",{"$f":"IF('Page 4'!A56=\"06\",24,IF('Page 4'!A56=\"08\",24,IF('Page 4'!A56=\"10\",24,IF('Page 4'!A56=\"12\",24,IF('Page 4'!A56=\"14\",24,IF('Page 4'!A56=\"16\",24,IF('Page 4'!A56=\"18\",24,IF('Page 4'!A56=\"20\",24,IF('Page 4'!A56=\"22\",24,IF('Page 4'!A56=\"24\",24,IF('Page 4'!A56=\"26\",24,IF('Page 4'!A56=\"28\",24,IF('Page 4'!A56=\"30\",20,IF('Page 4'!A56=\"32\",20,IF('Page 4'!A56=\"34\",20,IF('Page 4'!A56=\"36\",20,IF('Page 4'!A56=\"38\",20,IF('Page 4'!A56=\"40\",20,IF('Page 4'!A56=\"42\",20,IF('Page 4'!A56=\"44\",20,IF('Page 4'!A56=\"46\",20,IF('Page 4'!A56=\"48\",20,\"\"))))))))))))))))))))))","v":""}]
[null,{"$f":"IF('Page 4'!$A$19<>\"\",\"V\",\"\")","v":""},{"$f":"IF('Page 4'!$H$36<>\"\",\"M\",\"\")","v":""},{"$f":"IF('Page 4'!$A$19<>\"\",\"-\",\"\")","v":""},"",{"$f":"IF('Page 4'!J41<>\"\",'Page 4'!K41,\"\")","v":""},{"$f":"IF('Page 4'!J41<>\"\",\"0\",\"\")","v":""},{"$f":"IF('Page 4'!J41<>\"\",\"00\",\"\")","v":""},{"$f":"IF('Page 4'!N41<>\"\",\"A\",\"C\")","v":"C"},{"$f":"IF(I41=\"C\",IF('Page 4'!$M$19<>\"\",$W$59,IF('Page 4'!$M$20<>\"\",$W$60,IF('Page 4'!$M$21<>\"\",$W$61,\"\"))),IF(I41=\"A\",IF('Page 4'!$M$19<>\"\",$W$56,IF('Page 4'!$M$20<>\"\",$W$57,IF('Page 4'!$M$21<>\"\",$W$58,\"\")))))","v":""},{"$f":"IF('Page 4'!$M$19<>\"\",\"1\",IF('Page 4'!$M$20<>\"\",\"1\",IF('Page 4'!$M$21<>\"\",\"1\",\"\")))","v":""},null,{"$f":"IF('Page 4'!$J$41<>\"\",CONCATENATE(B41,C41,D41,E41,F41,G41,H41,I41,J41,K41,L41),\"\")","v":""},{"$f":"IF('Page 4'!J41<>\"\",'Page 4'!J41,\"\")","v":""},null,{"$f":"IFERROR(VLOOKUP(LEFT(M41,20),Item_VIP!$A$2:$B$7499,1,FALSE),\"\")","v":""},null,"FLASHING","SS 304",null,null,"STD",{"$f":"IF('Page 4'!A59=\"06\",24,IF('Page 4'!A59=\"08\",24,IF('Page 4'!A59=\"10\",24,IF('Page 4'!A59=\"12\",24,IF('Page 4'!A59=\"14\",24,IF('Page 4'!A59=\"16\",24,IF('Page 4'!A59=\"18\",24,IF('Page 4'!A59=\"20\",24,IF('Page 4'!A59=\"22\",24,IF('Page 4'!A59=\"24\",20,IF('Page 4'!A59=\"26\",24,IF('Page 4'!A59=\"28\",24,IF('Page 4'!A59=\"30\",20,IF('Page 4'!A59=\"32\",20,IF('Page 4'!A59=\"34\",20,IF('Page 4'!A59=\"36\",20,IF('Page 4'!A59=\"38\",20,IF('Page 4'!A59=\"40\",20,IF('Page 4'!A59=\"42\",20,IF('Page 4'!A59=\"44\",20,IF('Page 4'!A59=\"46\",20,IF('Page 4'!A59=\"48\",20,\"\"))))))))))))))))))))))","v":""},"1\""]
[null,{"$f":"IF('Page 4'!$A$19<>\"\",\"V\",\"\")","v":""},{"$f":"IF('Page 4'!$H$36<>\"\",\"M\",\"\")","v":""},{"$f":"IF('Page 4'!$A$19<>\"\",\"-\",\"\")","v":""},"",{"$f":"IF('Page 4'!J42<>\"\",'Page 4'!K42,\"\")","v":""},{"$f":"IF('Page 4'!J42<>\"\",\"0\",\"\")","v":""},{"$f":"IF('Page 4'!J42<>\"\",\"00\",\"\")","v":""},{"$f":"IF('Page 4'!N42<>\"\",\"A\",\"C\")","v":"C"},{"$f":"IF(F42<>\"\",11,\"\")","v":""},{"$f":"IF('Page 4'!$M$19<>\"\",\"1\",IF('Page 4'!$M$20<>\"\",\"1\",IF('Page 4'!$M$21<>\"\",\"1\",\"\")))","v":""},null,{"$f":"IF('Page 4'!$J$42<>\"\",CONCATENATE(B42,C42,D42,E42,F42,G42,H42,I42,J42,K42,L42),\"\")","v":""},{"$f":"IF('Page 4'!J42<>\"\",'Page 4'!J42,\"\")","v":""},null,{"$f":"IFERROR(VLOOKUP(LEFT(M42,20),Item_VIP!$A$2:$B$7499,1,FALSE),\"\")","v":""},null,null,null,null,null,"STD",{"$f":"IF('Page 4'!A59=\"06\",24,IF('Page 4'!A59=\"08\",24,IF('Page 4'!A59=\"10\",24,IF('Page 4'!A59=\"12\",24,IF('Page 4'!A59=\"14\",24,IF('Page 4'!A59=\"16\",24,IF('Page 4'!A59=\"18\",24,IF('Page 4'!A59=\"20\",24,IF('Page 4'!A59=\"22\",24,IF('Page 4'!A59=\"24\",24,IF('Page 4'!A59=\"26\",24,IF('Page 4'!A59=\"28\",20,IF('Page 4'!A59=\"30\",20,IF('Page 4'!A59=\"32\",20,IF('Page 4'!A59=\"34\",20,IF('Page 4'!A59=\"36\",20,IF('Page 4'!A59=\"38\",20,IF('Page 4'!A59=\"40\",20,IF('Page 4'!A59=\"42\",20,IF('Page 4'!A59=\"44\",20,IF('Page 4'!A59=\"46\",20,IF('Page 4'!A59=\"48\",20,\"\"))))))))))))))))))))))","v":""},"2\""]
[null,{"$f":"IF('Page 4'!$A$19<>\"\",\"V\",\"\")","v":""},{"$f":"IF('Page 4'!$H$36<>\"\",\"M\",\"\")","v":""},{"$f":"IF('Page 4'!$A$19<>\"\",\"-\",\"\")","v":""},"",{"$f":"IF('Page 4'!J43<>\"\",'Page 4'!K43,\"\")","v":""},{"$f":"IF('Page 4'!J43<>\"\",\"0\",\"\")","v":""},{"$f":"IF('Page 4'!J43<>\"\",\"00\",\"\")","v":""},{"$f":"IF('Page 4'!N43<>\"\",\"A\",\"C\")","v":"C"},{"$f":"IF(I43=\"C\",IF('Page 4'!$M$19<>\"\",$W$59,IF('Page 4'!$M$20<>\"\",$W$60,IF('Page 4'!$M$21<>\"\",$W$61,\"\"))),IF(I43=\"A\",IF('Page 4'!$M$19<>\"\",$W$56,IF('Page 4'!$M$20<>\"\",$W$57,IF('Page 4'!$M$21<>\"\",$W$58,\"\")))))","v":""},{"$f":"IF('Page 4'!$M$19<>\"\",\"1\",IF('Page 4'!$M$20<>\"\",\"1\",IF('Page 4'!$M$21<>\"\",\"1\",\"\")))","v":""},null,{"$f":"IF('Page 4'!$J$43<>\"\",CONCATENATE(B43,C43,D43,E43,F43,G43,H43,I43,J43,K43,L43),\"\")","v":""},{"$f":"IF('Page 4'!J43<>\"\",'Page 4'!J43,\"\")","v":""},null,{"$f":"IFERROR(VLOOKUP(LEFT(M43,20),Item_VIP!$A$2:$B$7499,1,FALSE),\"\")","v":""},null,null,null,null,null,"STD",{"$f":"IF('Page 4'!A59=\"06\",24,IF('Page 4'!A59=\"08\",24,IF('Page 4'!A59=\"10\",24,IF('Page 4'!A59=\"12\",24,IF('Page 4'!A59=\"14\",24,IF('Page 4'!A59=\"16\",24,IF('Page 4'!A59=\"18\",24,IF('Page 4'!A59=\"20\",24,IF('Page 4'!A59=\"22\",24,IF('Page 4'!A59=\"24\",20,IF('Page 4'!A59=\"26\",20,IF('Page 4'!A59=\"28\",20,IF('Page 4'!A59=\"30\",20,IF('Page 4'!A59=\"32\",20,IF('Page 4'!A59=\"34\",20,IF('Page 4'!A59=\"36\",20,IF('Page 4'!A59=\"38\",20,IF('Page 4'!A59=\"40\",20,IF('Page 4'!A59=\"42\",20,IF('Page 4'!A59=\"44\",20,IF('Page 4'!A59=\"46\",20,IF('Page 4'!A59=\"48\",20,\"\"))))))))))))))))))))))","v":""},"4\""]
[null,{"$f":"IF('Page 4'!$A$19<>\"\",\"V\",\"\")","v":""},{"$f":"IF('Page 4'!J45<>\"\",\"M\",\"\")","v":""},{"$f":"IF('Page 4'!$A$19<>\"\",\"-\",\"\")","v":""},{"$f":"IF('Page 4'!$A$19<>\"\",'Page 4'!$H$45,\"\")","v":""},{"$f":"IF('Page 4'!$J$45<>\"\",'Page 4'!K45,\"\")","v":""},{"$f":"IF('Page 4'!$D$19<>\"\",\"A\",IF('Page 4'!$D$20<>\"\",\"B\",\"\"))","v":""},{"$f":"IF('Page 4'!$F$20<>\"\",\"24\",IF('Page 4'!$F$21<>\"\",\"20\",IF('Page 4'!$D$19<>\"\",IF('Page 4'!$F$22<>\"\",$U$62,\"\"),IF('Page 4'!$D$20<>\"\",IF('Page 4'!$F$22<>\"\",$U$63,\"\"),\"\"))))","v":""},{"$f":"IF(G44<>\"\",G44,\"\")","v":""},"",{"$f":"IF('Page 4'!$M$19<>\"\",\"1\",IF('Page 4'!$M$20<>\"\",\"2\",IF('Page 4'!$M$21<>\"\",\"4\",\"\")))","v":""},null,{"$f":"IF('Page 4'!J45<>\"\",CONCATENATE(B44,C44,D44,E44,F44,G44,H44,I44,J44,K44),\"\")","v":""},{"$f":"IF('Page 4'!J45<>\"\",'Page 4'!J45,\"\")","v":""},null,{"$f":"IFERROR(VLOOKUP(LEFT(M44,20),Item_VIP!$A$2:$B$7499,1,FALSE),\"\")","v":""},null,null,"GALVALUME STD",null,null,"GAL",{"$f":"IF('Page 4'!A59=\"06\",28,IF('Page 4'!A59=\"08\",28,IF('Page 4'!A59=\"10\",24,IF('Page 4'!A59=\"12\",24,IF('Page 4'!A59=\"14\",24,IF('Page 4'!A59=\"16\",24,IF('Page 4'!A59=\"18\",24,IF('Page 4'!A59=\"20\",24,IF('Page 4'!A59=\"22\",24,IF('Page 4'!A59=\"24\",20,IF('Page 4'!A59=\"26\",24,IF('Page 4'!A59=\"28\",24,IF('Page 4'!A59=\"30\",24,IF('Page 4'!A59=\"32\",22,IF('Page 4'!A59=\"34\",22,IF('Page 4'!A59=\"36\",22,IF('Page 4'!A59=\"38\",22,IF('Page 4'!A59=\"40\",22,IF('Page 4'!A59=\"42\",22,IF('Page 4'!A59=\"44\",22,IF('Page 4'!A59=\"46\",22,IF('Page 4'!A59=\"48\",22,\"\"))))))))))))))))))))))","v":""},"1\""]
[null,{"$f":"IF('Page 4'!$A$19<>\"\",\"V\",\"\")","v":""},{"$f":"IF('Page 4'!J46<>\"\",\"M\",\"\")","v":""},{"$f":"IF('Page 4'!$A$19<>\"\",\"-\",\"\")","v":""},{"$f":"IF('Page 4'!$A$19<>\"\",'Page 4'!$H$45,\"\")","v":""},{"$f":"IF('Page 4'!$J$46<>\"\",'Page 4'!K46,\"\")","v":""},{"$f":"IF('Page 4'!$D$19<>\"\",\"A\",IF('Page 4'!$D$20<>\"\",\"B\",\"\"))","v":""},{"$f":"IF('Page 4'!$F$20<>\"\",\"24\",IF('Page 4'!$F$21<>\"\",\"20\",IF('Page 4'!$D$19<>\"\",IF('Page 4'!$F$22<>\"\",$U$62,\"\"),IF('Page 4'!$D$20<>\"\",IF('Page 4'!$F$22<>\"\",$U$63,\"\"),\"\"))))","v":""},"","",{"$f":"IF('Page 4'!$M$19<>\"\",\"1\",IF('Page 4'!$M$20<>\"\",\"2\",IF('Page 4'!$M$21<>\"\",\"4\",\"\")))","v":""},null,{"$f":"IF('Page 4'!J46<>\"\",CONCATENATE(B45,C45,D45,E45,F45,G45,H45,I45,J45,K45),\"\")","v":""},{"$f":"IF('Page 4'!J46<>\"\",'Page 4'!J46,\"\")","v":""},null,{"$f":"IFERROR(VLOOKUP(LEFT(M45,20),Item_VIP!$A$2:$B$7499,1,FALSE),\"\")","v":""},null,null,"FF",null,null,"GAL",{"$f":"IF('Page 4'!A59=\"06\",24,IF('Page 4'!A59=\"08\",24,IF('Page 4'!A59=\"10\",24,IF('Page 4'!A59=\"12\",24,IF('Page 4'!A59=\"14\",24,IF('Page 4'!A59=\"16\",24,IF('Page 4'!A59=\"18\",24,IF('Page 4'!A59=\"20\",24,IF('Page 4'!A59=\"22\",24,IF('Page 4'!A59=\"24\",24,IF('Page 4'!A59=\"26\",24,IF('Page 4'!A59=\"28\",24,IF('Page 4'!A59=\"30\",22,IF('Page 4'!A59=\"32\",22,IF('Page 4'!A59=\"34\",22,IF('Page 4'!A59=\"36\",22,IF('Page 4'!A59=\"38\",22,IF('Page 4'!A59=\"40\",22,IF('Page 4'!A59=\"42\",22,IF('Page 4'!A59=\"44\",22,IF('Page 4'!A59=\"46\",22,IF('Page 4'!A59=\"48\",22,\"\"))))))))))))))))))))))","v":""},"2\""]
[null,{"$f":"IF('Page 4'!$A$19<>\"\",\"V\",\"\")","v":""},{"$f":"IF('Page 4'!J47<>\"\",\"M\",\"\")","v":""},{"$f":"IF('Page 4'!$A$19<>\"\",\"-\",\"\")","v":""},{"$f":"IF('Page 4'!$A$19<>\"\",'Page 4'!$H$45,\"\")","v":""},{"$f":"IF('Page 4'!$J$47<>\"\",'Page 4'!K47,\"\")","v":""},{"$f":"IF('Page 4'!$D$19<>\"\",\"A\",IF('Page 4'!$D$20<>\"\",\"B\",\"\"))","v":""},{"$f":"IF('Page 4'!$F$20<>\"\",\"24\",IF('Page 4'!$F$21<>\"\",\"20\",IF('Page 4'!$D$19<>\"\",IF('Page 4'!$F$22<>\"\",$U$64,\"\"),IF('Page 4'!$D$20<>\"\",IF('Page 4'!$F$22<>\"\",$U$65,\"\"),\"\"))))","v":""},"","",{"$f":"IF('Page 4'!$M$19<>\"\",\"1\",IF('Page 4'!$M$20<>\"\",\"2\",IF('Page 4'!$M$21<>\"\",\"4\",\"\")))","v":""},null,{"$f":"IF('Page 4'!J47<>\"\",CONCATENATE(B46,C46,D46,E46,F46,G46,H46,I46,J46,K46),\"\")","v":""},{"$f":"IF('Page 4'!J47<>\"\",'Page 4'!J47,\"\")","v":""},null,{"$f":"IFERROR(VLOOKUP(LEFT(M46,20),Item_VIP!$A$2:$B$7499,1,FALSE),\"\")","v":""},null,null,null,null,null,"GAL",{"$f":"IF('Page 4'!A59=\"06\",24,IF('Page 4'!A59=\"08\",24,IF('Page 4'!A59=\"10\",24,IF('Page 4'!A59=\"12\",24,IF('Page 4'!A59=\"14\",24,IF('Page 4'!A59=\"16\",24,IF('Page 4'!A59=\"18\",24,IF('Page 4'!A59=\"20\",24,IF('Page 4'!A59=\"22\",24,IF('Page 4'!A59=\"24\",24,IF('Page 4'!A59=\"26\",22,IF('Page 4'!A59=\"28\",22,IF('Page 4'!A59=\"30\",22,IF('Page 4'!A59=\"32\",22,IF('Page 4'!A59=\"34\",22,IF('Page 4'!A59=\"36\",22,IF('Page 4'!A59=\"38\",22,IF('Page 4'!A59=\"40\",22,IF('Page 4'!A59=\"42\",22,IF('Page 4'!A59=\"44\",22,IF('Page 4'!A59=\"46\",22,IF('Page 4'!A59=\"48\",22,\"\"))))))))))))))))))))))","v":""},"4\""]
[null,{"$f":"IF('Page 4'!$A$19<>\"\",\"V\",\"\")","v":""},{"$f":"IF('Page 4'!J48<>\"\",\"S\",\"\")","v":""},{"$f":"IF('Page 4'!$A$19<>\"\",\"-\",\"\")","v":""},{"$f":"IF('Page 4'!$A$19<>\"\",'Page 4'!$H$45,\"\")","v":""},{"$f":"IF('Page 4'!$J$48<>\"\",'Page 4'!K48,\"\")","v":""},{"$f":"IF('Page 4'!$D$19<>\"\",\"A\",IF('Page 4'!$D$20<>\"\",\"B\",\"\"))","v":""},{"$f":"IF('Page 4'!$F$20<>\"\",\"24\",IF('Page 4'!$F$21<>\"\",\"20\",IF('Page 4'!$D$19<>\"\",IF('Page 4'!$F$22<>\"\",$U$64,\"\"),IF('Page 4'!$D$20<>\"\",IF('Page 4'!$F$22<>\"\",$U$65,\"\"),\"\"))))","v":""},"","",{"$f":"IF('Page 4'!$M$19<>\"\",\"1\",IF('Page 4'!$M$20<>\"\",\"2\",IF('Page 4'!$M$21<>\"\",\"4\",\"\")))","v":""},{"$f":"IF('Page 4'!J48<>\"\",\"-NC\",\"\")","v":""},{"$f":"IF('Page 4'!J48<>\"\",CONCATENATE(B47,C47,D47,E47,F47,G47,H47,I47,J47,K47,L47),\"\")","v":""},{"$f":"IF('Page 4'!J48<>\"\",'Page 4'!J48,\"\")","v":""},null,{"$f":"IFERROR(VLOOKUP(LEFT(M47,20),Item_VIP!$A$2:$B$7499,1,FALSE),\"\")","v":""},null,null,"GALVALUME STD",null,null,"GAL",{"$f":"IF('Page 4'!A59=\"06\",24,IF('Page 4'!A59=\"08\",24,IF('Page 4'!A59=\"10\",24,IF('Page 4'!A59=\"12\",24,IF('Page 4'!A59=\"14\",24,IF('Page 4'!A59=\"16\",24,IF('Page 4'!A59=\"18\",24,IF('Page 4'!A59=\"20\",24,IF('Page 4'!A59=\"22\",24,IF('Page 4'!A59=\"24\",20,IF('Page 4'!A59=\"26\",24,IF('Page 4'!A59=\"28\",24,IF('Page 4'!A59=\"30\",22,IF('Page 4'!A59=\"32\",22,IF('Page 4'!A59=\"34\",22,IF('Page 4'!A59=\"36\",22,IF('Page 4'!A59=\"38\",22,IF('Page 4'!A59=\"40\",22,IF('Page 4'!A59=\"42\",22,IF('Page 4'!A59=\"44\",22,IF('Page 4'!A59=\"46\",22,IF('Page 4'!A59=\"48\",22,\"\"))))))))))))))))))))))","v":""},"1\""]
[null,{"$f":"IF('Page 4'!$A$19<>\"\",\"V\",\"\")","v":""},{"$f":"IF('Page 4'!J49<>\"\",\"S\",\"\")","v":""},{"$f":"IF('Page 4'!$A$19<>\"\",\"-\",\"\")","v":""},{"$f":"IF('Page 4'!$A$19<>\"\",'Page 4'!$H$45,\"\")","v":""},{"$f":"IF('Page 4'!$J$49<>\"\",'Page 4'!K49,\"\")","v":""},{"$f":"IF('Page 4'!$D$19<>\"\",\"A\",IF('Page 4'!$D$20<>\"\",\"B\",\"\"))","v":""},{"$f":"IF('Page 4'!$F$20<>\"\",\"24\",IF('Page 4'!$F$21<>\"\",\"20\",IF('Page 4'!$D$19<>\"\",IF('Page 4'!$F$22<>\"\",$U$64,\"\"),IF('Page 4'!$D$20<>\"\",IF('Page 4'!$F$22<>\"\",$U$65,\"\"),\"\"))))","v":""},"","",{"$f":"IF('Page 4'!$M$19<>\"\",\"1\",IF('Page 4'!$M$20<>\"\",\"2\",IF('Page 4'!$M$21<>\"\",\"4\",\"\")))","v":""},{"$f":"IF('Page 4'!J49<>\"\",\"-F\",\"\")","v":""},{"$f":"IF('Page 4'!J49<>\"\",CONCATENATE(B48,C48,D48,E48,F48,G48,H48,I48,J48,K48,L48),\"\")","v":""},{"$f":"IF('Page 4'!J49<>\"\",'Page 4'!J49,\"\")","v":""},null,{"$f":"IFERROR(VLOOKUP(LEFT(M48,20),Item_VIP!$A$2:$B$7499,1,FALSE),\"\")","v":""},null,null,"FA &FB",null,null,"GAL",{"$f":"IF('Page 4'!A59=\"06\",24,IF('Page 4'!A59=\"08\",24,IF('Page 4'!A59=\"10\",24,IF('Page 4'!A59=\"12\",24,IF('Page 4'!A59=\"14\",24,IF('Page 4'!A59=\"16\",24,IF('Page 4'!A59=\"18\",24,IF('Page 4'!A59=\"20\",24,IF('Page 4'!A59=\"22\",24,IF('Page 4'!A59=\"24\",20,IF('Page 4'!A59=\"26\",24,IF('Page 4'!A59=\"28\",24,IF('Page 4'!A59=\"30\",22,IF('Page 4'!A59=\"32\",22,IF('Page 4'!A59=\"34\",22,IF('Page 4'!A59=\"36\",22,IF('Page 4'!A59=\"38\",22,IF('Page 4'!A59=\"40\",22,IF('Page 4'!A59=\"42\",22,IF('Page 4'!A59=\"44\",22,IF('Page 4'!A59=\"46\",22,IF('Page 4'!A59=\"48\",22,\"\"))))))))))))))))))))))","v":""},"2\""]
[null,{"$f":"IF('Page 4'!$A$19<>\"\",\"V\",\"\")","v":""},{"$f":"IF('Page 4'!$H$45<>\"\",\"M\",\"\")","v":""},{"$f":"IF('Page 4'!$A$19<>\"\",\"-\",\"\")","v":""},{"$f":"IF('Page 4'!$A$19<>\"\",'Page 4'!$H$45,\"\")","v":""},{"$f":"IF('Page 4'!J50<>\"\",'Page 4'!K50,\"\")","v":""},{"$f":"IF('Page 4'!J50<>\"\",\"0\",\"\")","v":""},{"$f":"IF('Page 4'!J50<>\"\",\"00\",\"\")","v":""},{"$f":"IF('Page 4'!$D$19<>\"\",\"A\",IF('Page 4'!$D$20<>\"\",\"B\",\"\"))","v":""},{"$f":"IF('Page 4'!$F$20<>\"\",\"24\",IF('Page 4'!$F$21<>\"\",\"20\",IF('Page 4'!$D$19<>\"\",IF('Page 4'!$F$22<>\"\",$U$64,\"\"),IF('Page 4'!$D$20<>\"\",IF('Page 4'!$F$22<>\"\",$U$65,\"\"),\"\"))))","v":""},{"$f":"IF('Page 4'!$M$19<>\"\",\"1\",IF('Page 4'!$M$20<>\"\",\"2\",IF('Page 4'!$M$21<>\"\",\"4\",\"\")))","v":""},null,{"$f":"IF('Page 4'!J50<>\"\",CONCATENATE(B49,C49,D49,E49,F49,G49,H49,I49,J49,K49),\"\")","v":""},{"$f":"IF('Page 4'!J50<>\"\",'Page 4'!J50,\"\")","v":""},null,{"$f":"IFERROR(VLOOKUP(LEFT(M49,20),Item_VIP!$A$2:$B$7499,1,FALSE),\"\")","v":""},null,null,null,null,null,"GAL",{"$f":"IF('Page 4'!A59=\"06\",24,IF('Page 4'!A59=\"08\",24,IF('Page 4'!A59=\"10\",24,IF('Page 4'!A59=\"12\",24,IF('Page 4'!A59=\"14\",24,IF('Page 4'!A59=\"16\",24,IF('Page 4'!A59=\"18\",24,IF('Page 4'!A59=\"20\",24,IF('Page 4'!A59=\"22\",24,IF('Page 4'!A59=\"24\",24,IF('Page 4'!A59=\"26\",22,IF('Page 4'!A59=\"28\",22,IF('Page 4'!A59=\"30\",22,IF('Page 4'!A59=\"32\",22,IF('Page 4'!A59=\"34\",22,IF('Page 4'!A59=\"36\",22,IF('Page 4'!A59=\"38\",22,IF('Page 4'!A59=\"40\",22,IF('Page 4'!A59=\"42\",22,IF('Page 4'!A59=\"44\",22,IF('Page 4'!A59=\"46\",22,IF('Page 4'!A59=\"48\",22,\"\"))))))))))))))))))))))","v":""},"4\""]
[null,{"$f":"IF('Page 4'!$A$19<>\"\",\"V\",\"\")","v":""},{"$f":"IF('Page 4'!$H$45<>\"\",\"M\",\"\")","v":""},{"$f":"IF('Page 4'!$A$19<>\"\",\"-\",\"\")","v":""},{"$f":"IF('Page 4'!$A$19<>\"\",'Page 4'!$H$45,\"\")","v":""},{"$f":"IF('Page 4'!J51<>\"\",'Page 4'!K51,\"\")","v":""},{"$f":"IF('Page 4'!J51<>\"\",\"0\",\"\")","v":""},{"$f":"IF('Page 4'!J51<>\"\",\"00\",\"\")","v":""},{"$f":"IF('Page 4'!$D$19<>\"\",\"A\",IF('Page 4'!$D$20<>\"\",\"B\",\"\"))","v":""},{"$f":"IF('Page 4'!$F$20<>\"\",\"24\",IF('Page 4'!$F$21<>\"\",\"20\",IF('Page 4'!$D$19<>\"\",IF('Page 4'!$F$22<>\"\",$U$64,\"\"),IF('Page 4'!$D$20<>\"\",IF('Page 4'!$F$22<>\"\",$U$65,\"\"),\"\"))))","v":""},{"$f":"IF('Page 4'!$M$19<>\"\",\"1\",IF('Page 4'!$M$20<>\"\",\"2\",IF('Page 4'!$M$21<>\"\",\"4\",\"\")))","v":""},null,{"$f":"IF('Page 4'!J51<>\"\",CONCATENATE(B50,C50,D50,E50,F50,G50,H50,I50,J50,K50),\"\")","v":""},{"$f":"IF('Page 4'!J51<>\"\",'Page 4'!J51,\"\")","v":""},null,{"$f":"IFERROR(VLOOKUP(LEFT(M50,20),Item_VIP!$A$2:$B$7499,1,FALSE),\"\")","v":""},null,"SC","SS 304",null,null,"STD",{"$f":"IF('Page 4'!A59=\"06\",24,IF('Page 4'!A59=\"08\",24,IF('Page 4'!A59=\"10\",24,IF('Page 4'!A59=\"12\",24,IF('Page 4'!A59=\"14\",24,IF('Page 4'!A59=\"16\",24,IF('Page 4'!A59=\"18\",24,IF('Page 4'!A59=\"20\",24,IF('Page 4'!A59=\"22\",24,IF('Page 4'!A59=\"24\",24,IF('Page 4'!A59=\"26\",24,IF('Page 4'!A59=\"28\",24,IF('Page 4'!A59=\"30\",24,IF('Page 4'!A59=\"32\",20,IF('Page 4'!A59=\"34\",20,IF('Page 4'!A59=\"36\",20,IF('Page 4'!A59=\"38\",20,IF('Page 4'!A59=\"40\",20,IF('Page 4'!A59=\"42\",20,IF('Page 4'!A59=\"44\",20,IF('Page 4'!A59=\"46\",20,IF('Page 4'!A59=\"48\",20,\"\"))))))))))))))))))))))","v":""},"1\""]
[null,{"$f":"IF('Page 4'!$A$19<>\"\",\"V\",\"\")","v":""},{"$f":"IF('Page 4'!$H$45<>\"\",\"M\",\"\")","v":""},{"$f":"IF('Page 4'!$A$19<>\"\",\"-\",\"\")","v":""},{"$f":"IF('Page 4'!$A$19<>\"\",'Page 4'!$H$45,\"\")","v":""},{"$f":"IF('Page 4'!J52<>\"\",'Page 4'!K52,\"\")","v":""},{"$f":"IF('Page 4'!$D$19<>\"\",\"A\",IF('Page 4'!$D$20<>\"\",\"B\",\"\"))","v":""},{"$f":"IF('Page 4'!$F$20<>\"\",\"24\",IF('Page 4'!$F$21<>\"\",\"20\",IF('Page 4'!$D$19<>\"\",IF('Page 4'!$F$22<>\"\",$U$68,\"\"),IF('Page 4'!$D$20<>\"\",IF('Page 4'!$F$22<>\"\",$U$69,\"\"),\"\"))))","v":""},{"$f":"IF('Page 4'!$D$19<>\"\",\"A\",IF('Page 4'!$D$20<>\"\",\"B\",\"\"))","v":""},{"$f":"IF(H51<>\"\",H51,\"\")","v":""},{"$f":"IF('Page 4'!$M$19<>\"\",\"1\",IF('Page 4'!$M$20<>\"\",\"2\",IF('Page 4'!$M$21<>\"\",\"4\",\"\")))","v":""},null,{"$f":"IF('Page 4'!J52<>\"\",CONCATENATE(B51,C51,D51,E51,F51,G51,H51,I51,J51,K51),\"\")","v":""},{"$f":"IF('Page 4'!J52<>\"\",'Page 4'!J52,\"\")","v":""},null,{"$f":"IFERROR(VLOOKUP(LEFT(M51,20),Item_VIP!$A$2:$B$7499,1,FALSE),\"\")","v":""},null,null,null,null,null,"STD",{"$f":"IF('Page 4'!A59=\"06\",24,IF('Page 4'!A59=\"08\",24,IF('Page 4'!A59=\"10\",24,IF('Page 4'!A59=\"12\",24,IF('Page 4'!A59=\"14\",24,IF('Page 4'!A59=\"16\",24,IF('Page 4'!A59=\"18\",24,IF('Page 4'!A59=\"20\",24,IF('Page 4'!A59=\"22\",24,IF('Page 4'!A59=\"24\",24,IF('Page 4'!A59=\"26\",24,IF('Page 4'!A59=\"28\",24,IF('Page 4'!A59=\"30\",20,IF('Page 4'!A59=\"32\",20,IF('Page 4'!A59=\"34\",20,IF('Page 4'!A59=\"36\",20,IF('Page 4'!A59=\"38\",20,IF('Page 4'!A59=\"40\",20,IF('Page 4'!A59=\"42\",20,IF('Page 4'!A59=\"44\",20,IF('Page 4'!A59=\"46\",20,IF('Page 4'!A59=\"48\",20,\"\"))))))))))))))))))))))","v":""},"2\""]
[null,{"$f":"IF('Page 4'!$A$19<>\"\",\"V\",\"\")","v":""},{"$f":"IF('Page 4'!$H$45<>\"\",\"M\",\"\")","v":""},{"$f":"IF('Page 4'!$A$19<>\"\",\"-\",\"\")","v":""},{"$f":"IF('Page 4'!$A$19<>\"\",'Page 4'!$H$45,\"\")","v":""},{"$f":"IF('Page 4'!J53<>\"\",'Page 4'!K53,\"\")","v":""},{"$f":"IF('Page 4'!J53<>\"\",\"0\",\"\")","v":""},{"$f":"IF('Page 4'!J53<>\"\",\"00\",\"\")","v":""},{"$f":"IF('Page 4'!$D$19<>\"\",\"A\",IF('Page 4'!$D$20<>\"\",\"B\",\"\"))","v":""},{"$f":"IF('Page 4'!$F$20<>\"\",\"24\",IF('Page 4'!$F$21<>\"\",\"20\",IF('Page 4'!$D$19<>\"\",IF('Page 4'!$F$22<>\"\",$W$70,\"\"),IF('Page 4'!$D$20<>\"\",IF('Page 4'!$F$22<>\"\",$W$71,\"\"),\"\"))))","v":""},{"$f":"IF('Page 4'!$M$19<>\"\",\"1\",IF('Page 4'!$M$20<>\"\",\"2\",IF('Page 4'!$M$21<>\"\",\"4\",\"\")))","v":""},null,{"$f":"IF('Page 4'!J53<>\"\",CONCATENATE(B52,C52,D52,E52,F52,G52,H52,I52,J52,K52),\"\")","v":""},{"$f":"IF('Page 4'!J53<>\"\",'Page 4'!J53,\"\")","v":""},null,{"$f":"IFERROR(VLOOKUP(LEFT(M52,20),Item_VIP!$A$2:$B$7499,1,FALSE),\"\")","v":""},null,null,null,null,null,"STD",{"$f":"IF('Page 4'!A59=\"06\",24,IF('Page 4'!A59=\"08\",24,IF('Page 4'!A59=\"10\",24,IF('Page 4'!A59=\"12\",24,IF('Page 4'!A59=\"14\",24,IF('Page 4'!A59=\"16\",24,IF('Page 4'!A59=\"18\",24,IF('Page 4'!A59=\"20\",24,IF('Page 4'!A59=\"22\",24,IF('Page 4'!A59=\"24\",24,IF('Page 4'!A59=\"26\",20,IF('Page 4'!A59=\"28\",20,IF('Page 4'!A59=\"30\",20,IF('Page 4'!A59=\"32\",20,IF('Page 4'!A59=\"34\",20,IF('Page 4'!A59=\"36\",20,IF('Page 4'!A59=\"38\",20,IF('Page 4'!A59=\"40\",20,IF('Page 4'!A59=\"42\",20,IF('Page 4'!A59=\"44\",20,IF('Page 4'!A59=\"46\",20,IF('Page 4'!A59=\"48\",20,\"\"))))))))))))))))))))))","v":""},"4\""]
[null,{"$f":"IF('Page 4'!$A$19<>\"\",\"V\",\"\")","v":""},{"$f":"IF('Page 4'!$H$45<>\"\",\"M\",\"\")","v":""},{"$f":"IF('Page 4'!$A$19<>\"\",\"-\",\"\")","v":""},{"$f":"IF('Page 4'!$A$19<>\"\",'Page 4'!$H$45,\"\")","v":""},{"$f":"IF('Page 4'!J54<>\"\",'Page 4'!K54,\"\")","v":""},{"$f":"IF('Page 4'!$D$19<>\"\",\"A\",IF('Page 4'!$D$20<>\"\",\"B\",\"\"))","v":""},{"$f":"IF('Page 4'!$F$20<>\"\",\"20\",IF('Page 4'!$F$21<>\"\",\"20\",IF('Page 4'!$D$19<>\"\",IF('Page 4'!$F$22<>\"\",$U$72,\"\"),IF('Page 4'!$D$20<>\"\",IF('Page 4'!$F$22<>\"\",$U$73,\"\"),\"\"))))","v":""},{"$f":"IF(G53<>\"\",G53,\"\")","v":""},{"$f":"IF(H53<>\"\",H53,\"\")","v":""},{"$f":"IF('Page 4'!$M$19<>\"\",\"1\",IF('Page 4'!$M$20<>\"\",\"2\",IF('Page 4'!$M$21<>\"\",\"4\",\"\")))","v":""},null,{"$f":"IF('Page 4'!J54<>\"\",CONCATENATE(B53,C53,D53,E53,F53,G53,H53,I53,J53,K53),\"\")","v":""},{"$f":"IF('Page 4'!J54<>\"\",'Page 4'!J54,\"\")","v":""},null,{"$f":"IFERROR(VLOOKUP(LEFT(M53,20),Item_VIP!$A$2:$B$7499,1,FALSE),\"\")","v":""},null,null,"GALVALUME STD",null,null,"GAL",{"$f":"IF('Page 4'!A59=\"06\",24,IF('Page 4'!A59=\"08\",24,IF('Page 4'!A59=\"10\",24,IF('Page 4'!A59=\"12\",24,IF('Page 4'!A59=\"14\",24,IF('Page 4'!A59=\"16\",24,IF('Page 4'!A59=\"18\",24,IF('Page 4'!A59=\"20\",24,IF('Page 4'!A59=\"22\",24,IF('Page 4'!A59=\"24\",24,IF('Page 4'!A59=\"26\",24,IF('Page 4'!A59=\"28\",24,IF('Page 4'!A59=\"30\",24,IF('Page 4'!A59=\"32\",22,IF('Page 4'!A59=\"34\",22,IF('Page 4'!A59=\"36\",22,IF('Page 4'!A59=\"38\",22,IF('Page 4'!A59=\"40\",22,IF('Page 4'!A59=\"42\",22,IF('Page 4'!A59=\"44\",22,IF('Page 4'!A59=\"46\",22,IF('Page 4'!A59=\"48\",22,\"\"))))))))))))))))))))))","v":""},"1\""]
[null,{"$f":"IF('Page 4'!$A$19<>\"\",\"V\",\"\")","v":""},{"$f":"IF('Page 4'!$H$36<>\"\",\"M\",\"\")","v":""},{"$f":"IF('Page 4'!$A$19<>\"\",\"-\",\"\")","v":""},{"$f":"C5","v":""},{"$f":"IF('Page 4'!J56<>\"\",'Page 4'!K56,\"\")","v":""},{"$f":"IF('Page 4'!J56<>\"\",\"0\",\"\")","v":""},{"$f":"IF('Page 4'!J56<>\"\",\"00\",\"\")","v":""},{"$f":"IF('Page 4'!N56<>\"\",\"A\",\"C\")","v":"C"},{"$f":"IF(I54=\"C\",IF('Page 4'!$M$19<>\"\",$W$77,IF('Page 4'!$M$20<>\"\",$W$78,IF('Page 4'!$M$21<>\"\",$W$79,\"\"))),IF(I54=\"A\",IF('Page 4'!$M$19<>\"\",$W$80,IF('Page 4'!$M$20<>\"\",$W$81,IF('Page 4'!$M$21<>\"\",$W$82,\"\")))))","v":""},{"$f":"IF('Page 4'!$M$19<>\"\",\"1\",IF('Page 4'!$M$20<>\"\",\"1\",IF('Page 4'!$M$21<>\"\",\"1\",\"\")))","v":""},null,{"$f":"IF('Page 4'!$J$56<>\"\",CONCATENATE(B54,C54,D54,E54,F54,G54,H54,I54,J54,K54,L54),\"\")","v":""},{"$f":"IF('Page 4'!J56<>\"\",'Page 4'!J56,\"\")","v":""},null,{"$f":"IFERROR(VLOOKUP(LEFT(M54,20),Item_VIP!$A$2:$B$7499,1,FALSE),\"\")","v":""},null,null,null,null,null,"GAL",{"$f":"IF('Page 4'!A59=\"06\",24,IF('Page 4'!A59=\"08\",24,IF('Page 4'!A59=\"10\",24,IF('Page 4'!A59=\"12\",24,IF('Page 4'!A59=\"14\",24,IF('Page 4'!A59=\"16\",24,IF('Page 4'!A59=\"18\",24,IF('Page 4'!A59=\"20\",24,IF('Page 4'!A59=\"22\",24,IF('Page 4'!A59=\"24\",24,IF('Page 4'!A59=\"26\",24,IF('Page 4'!A59=\"28\",24,IF('Page 4'!A59=\"30\",22,IF('Page 4'!A59=\"32\",22,IF('Page 4'!A59=\"34\",22,IF('Page 4'!A59=\"36\",22,IF('Page 4'!A59=\"38\",22,IF('Page 4'!A59=\"40\",22,IF('Page 4'!A59=\"42\",22,IF('Page 4'!A59=\"44\",22,IF('Page 4'!A59=\"46\",22,IF('Page 4'!A59=\"48\",22,\"\"))))))))))))))))))))))","v":""},"2\""]
[null,{"$f":"IF('Page 4'!$A$19<>\"\",\"V\",\"\")","v":""},{"$f":"IF('Page 4'!$H$36<>\"\",\"M\",\"\")","v":""},{"$f":"IF('Page 4'!$A$19<>\"\",\"-\",\"\")","v":""},{"$f":"C5","v":""},{"$f":"IF('Page 4'!J57<>\"\",'Page 4'!K57,\"\")","v":""},{"$f":"IF('Page 4'!J57<>\"\",\"0\",\"\")","v":""},{"$f":"IF('Page 4'!J57<>\"\",\"00\",\"\")","v":""},{"$f":"IF('Page 4'!N57<>\"\",\"A\",\"C\")","v":"C"},{"$f":"IF(I55=\"C\",IF('Page 4'!$M$19<>\"\",$W$83,IF('Page 4'!$M$20<>\"\",$W$84,IF('Page 4'!$M$21<>\"\",$W$85,\"\"))),IF(I55=\"A\",IF('Page 4'!$M$19<>\"\",$W$80,IF('Page 4'!$M$20<>\"\",$W$81,IF('Page 4'!$M$21<>\"\",$W$82,\"\")))))","v":""},{"$f":"IF('Page 4'!$M$19<>\"\",\"1\",IF('Page 4'!$M$20<>\"\",\"1\",IF('Page 4'!$M$21<>\"\",\"1\",\"\")))","v":""},null,{"$f":"IF('Page 4'!$J$57<>\"\",CONCATENATE(B55,C55,D55,E55,F55,G55,H55,I55,J55,K55,L55),\"\")","v":""},{"$f":"IF('Page 4'!J57<>\"\",'Page 4'!J57,\"\")","v":""},null,{"$f":"IFERROR(VLOOKUP(LEFT(M55,20),Item_VIP!$A$2:$B$7499,1,FALSE),\"\")","v":""},null,null,null,null,null,"GAL",{"$f":"IF('Page 4'!A59=\"06\",24,IF('Page 4'!A59=\"08\",24,IF('Page 4'!A59=\"10\",24,IF('Page 4'!A59=\"12\",24,IF('Page 4'!A59=\"14\",24,IF('Page 4'!A59=\"16\",24,IF('Page 4'!A59=\"18\",24,IF('Page 4'!A59=\"20\",24,IF('Page 4'!A59=\"22\",24,IF('Page 4'!A59=\"24\",24,IF('Page 4'!A59=\"26\",22,IF('Page 4'!A59=\"28\",22,IF('Page 4'!A59=\"30\",22,IF('Page 4'!A59=\"32\",22,IF('Page 4'!A59=\"34\",22,IF('Page 4'!A59=\"36\",22,IF('Page 4'!A59=\"38\",22,IF('Page 4'!A59=\"40\",22,IF('Page 4'!A59=\"42\",22,IF('Page 4'!A59=\"44\",22,IF('Page 4'!A59=\"46\",22,IF('Page 4'!A59=\"48\",22,\"\"))))))))))))))))))))))","v":""},"4\""]
[null,{"$f":"IF('Page 4'!$A$19<>\"\",\"V\",\"\")","v":""},{"$f":"IF('Page 4'!$H$56<>\"\",\"M\",\"\")","v":""},{"$f":"IF('Page 4'!$A$19<>\"\",\"-\",\"\")","v":""},{"$f":"IF('Page 4'!$A$19<>\"\",'Page 4'!$H$56,\"\")","v":""},{"$f":"IF('Page 4'!J58<>\"\",'Page 4'!K58,\"\")","v":""},{"$f":"IF('Page 4'!$D$19<>\"\",\"A\",IF('Page 4'!$D$20<>\"\",\"B\",\"\"))","v":""},{"$f":"IF('Page 4'!$F$19<>\"\",\"26\",IF('Page 4'!$F$20<>\"\",\"24\",IF('Page 4'!$F$21<>\"\",\"20\",IF('Page 4'!$D$19<>\"\",IF('Page 4'!$F$22<>\"\",$U$86,\"\"),IF('Page 4'!$D$20<>\"\",IF('Page 4'!$F$22<>\"\",$U$89,\"\"),\"\")))))","v":""},{"$f":"IF('Page 4'!$H$19<>\"\",\"A\",IF('Page 4'!$H$20<>\"\",\"B\",IF('Page 4'!$H$21<>\"\",\"C\",\"\")))","v":""},{"$f":"IF('Page 4'!$K$19<>\"\",\"26\",IF('Page 4'!$K$20<>\"\",\"24\",IF('Page 4'!$K$21<>\"\",\"20\",IF($Z$86<>\"\",$Z$86,IF($Z$89<>\"\",$Z$89,IF($Z$92<>\"\",$Z$92,\"\"))))))","v":""},{"$f":"IF('Page 4'!$M$19<>\"\",\"1\",IF('Page 4'!$M$20<>\"\",\"2\",IF('Page 4'!$M$21<>\"\",\"4\",\"\")))","v":""},{"$f":"IF('Page 4'!$I$58<>\"\",'Page 4'!$I$58,\"\")","v":""},{"$f":"IF('Page 4'!$J$58<>\"\",CONCATENATE(B56,C56,D56,E56,F56,G56,H56,I56,J56,K56,L56),\"\")","v":""},{"$f":"IF('Page 4'!J58<>\"\",'Page 4'!J58,\"\")","v":""},null,{"$f":"IFERROR(VLOOKUP(LEFT(M56,20),Item_VIP!$A$2:$B$7499,1,FALSE),\"\")","v":""},null,"SUPPORTS","SS 304",null,null,"STD",{"$f":"IF('Page 4'!H36=\"06\",20,IF('Page 4'!H36=\"08\",20,IF('Page 4'!H36=\"10\",20,IF('Page 4'!H36=\"12\",20,IF('Page 4'!H36=\"14\",20,IF('Page 4'!H36=\"16\",20,IF('Page 4'!H36=\"18\",20,IF('Page 4'!H36=\"20\",20,IF('Page 4'!H36=\"22\",20,IF('Page 4'!H36=\"24\",20,IF('Page 4'!H36=\"26\",20,IF('Page 4'!H36=\"28\",20,IF('Page 4'!H36=\"30\",20,IF('Page 4'!H36=\"32\",20,IF('Page 4'!H36=\"34\",20,IF('Page 4'!H36=\"36\",20,IF('Page 4'!H36=\"38\",20,IF('Page 4'!H36=\"40\",20,IF('Page 4'!H36=\"42\",20,IF('Page 4'!H36=\"44\",20,IF('Page 4'!H36=\"46\",20,IF('Page 4'!H36=\"48\",20,\"\"))))))))))))))))))))))","v":""},"1\""]
[null,{"$f":"IF('Page 4'!$A$19<>\"\",\"V\",\"\")","v":""},{"$f":"IF('Page 4'!$H$56<>\"\",\"M\",\"\")","v":""},{"$f":"IF('Page 4'!$A$19<>\"\",\"-\",\"\")","v":""},{"$f":"IF('Page 4'!$A$19<>\"\",'Page 4'!$H$56,\"\")","v":""},{"$f":"IF('Page 4'!J59<>\"\",'Page 4'!K59,\"\")","v":""},{"$f":"IF('Page 4'!$D$19<>\"\",\"A\",IF('Page 4'!$D$20<>\"\",\"B\",\"\"))","v":""},{"$f":"IF('Page 4'!$F$19<>\"\",\"26\",IF('Page 4'!$F$20<>\"\",\"24\",IF('Page 4'!$F$21<>\"\",\"20\",IF('Page 4'!$D$19<>\"\",IF('Page 4'!$F$22<>\"\",$U$86,\"\"),IF('Page 4'!$D$20<>\"\",IF('Page 4'!$F$22<>\"\",$U$89,\"\"),\"\")))))","v":""},{"$f":"IF('Page 4'!$H$19<>\"\",\"A\",IF('Page 4'!$H$20<>\"\",\"B\",IF('Page 4'!$H$21<>\"\",\"C\",\"\")))","v":""},{"$f":"IF('Page 4'!$K$19<>\"\",\"26\",IF('Page 4'!$K$20<>\"\",\"24\",IF('Page 4'!$K$21<>\"\",\"20\",IF($Z$86<>\"\",$Z$86,IF($Z$89<>\"\",$Z$89,IF($Z$92<>\"\",$Z$92,\"\"))))))","v":""},{"$f":"IF('Page 4'!$M$19<>\"\",\"1\",IF('Page 4'!$M$20<>\"\",\"2\",IF('Page 4'!$M$21<>\"\",\"4\",\"\")))","v":""},{"$f":"IF('Page 4'!$I$58<>\"\",'Page 4'!$I$58,\"\")","v":""},{"$f":"IF('Page 4'!$J$58<>\"\",CONCATENATE(B57,C57,D57,E57,F57,G57,H57,I57,J57,K57,L57),\"\")","v":""},{"$f":"IF('Page 4'!J59<>\"\",'Page 4'!J59,\"\")","v":""},null,null,null,null,null,null,null,"STD",{"$f":"IF('Page 4'!H36=\"06\",20,IF('Page 4'!H36=\"08\",20,IF('Page 4'!H36=\"10\",20,IF('Page 4'!H36=\"12\",20,IF('Page 4'!H36=\"14\",20,IF('Page 4'!H36=\"16\",20,IF('Page 4'!H36=\"18\",20,IF('Page 4'!H36=\"20\",20,IF('Page 4'!H36=\"22\",20,IF('Page 4'!H36=\"24\",20,IF('Page 4'!H36=\"26\",20,IF('Page 4'!H36=\"28\",20,IF('Page 4'!H36=\"30\",20,IF('Page 4'!H36=\"32\",20,IF('Page 4'!H36=\"34\",20,IF('Page 4'!H36=\"36\",20,IF('Page 4'!H36=\"38\",20,IF('Page 4'!H36=\"40\",20,IF('Page 4'!H36=\"42\",20,IF('Page 4'!H36=\"44\",20,IF('Page 4'!H36=\"46\",20,IF('Page 4'!H36=\"48\",20,\"\"))))))))))))))))))))))","v":""},"2\""]
[null,{"$f":"IF('Page 4'!$A$19<>\"\",\"V\",\"\")","v":""},{"$f":"IF('Page 4'!$H$56<>\"\",\"M\",\"\")","v":""},{"$f":"IF('Page 4'!$A$19<>\"\",\"-\",\"\")","v":""},{"$f":"IF('Page 4'!$A$19<>\"\",'Page 4'!$H$56,\"\")","v":""},{"$f":"IF('Page 4'!J60<>\"\",'Page 4'!K60,\"\")","v":""},{"$f":"IF('Page 4'!$D$19<>\"\",\"A\",IF('Page 4'!$D$20<>\"\",\"B\",\"\"))","v":""},{"$f":"IF('Page 4'!$F$20<>\"\",\"24\",IF('Page 4'!$F$21<>\"\",\"20\",IF('Page 4'!$D$19<>\"\",IF('Page 4'!$F$22<>\"\",$U$21,\"\"),IF('Page 4'!$D$20<>\"\",IF('Page 4'!$F$22<>\"\",$U$24,\"\"),\"\"))))","v":""},{"$f":"IF('Page 4'!$H$19<>\"\",\"A\",IF('Page 4'!$H$20<>\"\",\"B\",IF('Page 4'!$H$21<>\"\",\"C\",\"\")))","v":""},{"$f":"IF('Page 4'!$K$20<>\"\",\"24\",IF('Page 4'!$K$21<>\"\",\"20\",IF($Z$21<>\"\",$Z$21,IF($Z$24<>\"\",$Z$24,IF($Z$27<>\"\",$Z$27,\"\")))))","v":""},{"$f":"IF('Page 4'!$M$19<>\"\",\"1\",IF('Page 4'!$M$20<>\"\",\"2\",IF('Page 4'!$M$21<>\"\",\"4\",\"\")))","v":""},null,{"$f":"IF('Page 4'!$J$58<>\"\",CONCATENATE(B58,C58,D58,E58,F58,G58,H58,I58,J58,K58,L58),\"\")","v":""},{"$f":"IF('Page 4'!J60<>\"\",'Page 4'!J60,\"\")","v":""},null,null,null,null,null,null,null,"STD",{"$f":"IF('Page 4'!H36=\"06\",20,IF('Page 4'!H36=\"08\",20,IF('Page 4'!H36=\"10\",20,IF('Page 4'!H36=\"12\",20,IF('Page 4'!H36=\"14\",20,IF('Page 4'!H36=\"16\",20,IF('Page 4'!H36=\"18\",20,IF('Page 4'!H36=\"20\",20,IF('Page 4'!H36=\"22\",20,IF('Page 4'!H36=\"24\",20,IF('Page 4'!H36=\"26\",20,IF('Page 4'!H36=\"28\",20,IF('Page 4'!H36=\"30\",20,IF('Page 4'!H36=\"32\",20,IF('Page 4'!H36=\"34\",20,IF('Page 4'!H36=\"36\",20,IF('Page 4'!H36=\"38\",20,IF('Page 4'!H36=\"40\",20,IF('Page 4'!H36=\"42\",20,IF('Page 4'!H36=\"44\",20,IF('Page 4'!H36=\"46\",20,IF('Page 4'!H36=\"48\",20,\"\"))))))))))))))))))))))","v":""},"4\""]
[null,null,null,null,null,null,null,null,null,null,null,null,null,null,null,null,null,null,"GALVALUME STD",null,null,"GAL",{"$f":"IF('Page 4'!H36=\"06\",22,IF('Page 4'!H36=\"08\",22,IF('Page 4'!H36=\"10\",22,IF('Page 4'!H36=\"12\",22,IF('Page 4'!H36=\"14\",22,IF('Page 4'!H36=\"16\",22,IF('Page 4'!H36=\"18\",22,IF('Page 4'!H36=\"20\",22,IF('Page 4'!H36=\"22\",22,IF('Page 4'!H36=\"24\",22,IF('Page 4'!H36=\"26\",22,IF('Page 4'!H36=\"28\",22,IF('Page 4'!H36=\"30\",22,IF('Page 4'!H36=\"32\",22,IF('Page 4'!H36=\"34\",22,IF('Page 4'!H36=\"36\",22,IF('Page 4'!H36=\"38\",22,IF('Page 4'!H36=\"40\",22,IF('Page 4'!H36=\"42\",22,IF('Page 4'!H36=\"44\",22,IF('Page 4'!H36=\"46\",22,IF('Page 4'!H36=\"48\",22,\"\"))))))))))))))))))))))","v":""},"1\""]
[null,null,null,null,null,null,null,null,null,null,null,null,null,null,null,null,null,null,null,null,null,"GAL",{"$f":"IF('Page 4'!H36=\"06\",22,IF('Page 4'!H36=\"08\",22,IF('Page 4'!H36=\"10\",22,IF('Page 4'!H36=\"12\",22,IF('Page 4'!H36=\"14\",22,IF('Page 4'!H36=\"16\",22,IF('Page 4'!H36=\"18\",22,IF('Page 4'!H36=\"20\",22,IF('Page 4'!H36=\"22\",22,IF('Page 4'!H36=\"24\",22,IF('Page 4'!H36=\"26\",22,IF('Page 4'!H36=\"28\",22,IF('Page 4'!H36=\"30\",22,IF('Page 4'!H36=\"32\",22,IF('Page 4'!H36=\"34\",22,IF('Page 4'!H36=\"36\",22,IF('Page 4'!H36=\"38\",22,IF('Page 4'!H36=\"40\",22,IF('Page 4'!H36=\"42\",22,IF('Page 4'!H36=\"44\",22,IF('Page 4'!H36=\"46\",22,IF('Page 4'!H36=\"48\",22,\"\"))))))))))))))))))))))","v":""},"2\""]
[null,null,null,null,null,null,null,null,null,null,null,null,null,null,null,null,null,null,null,null,null,"GAL",{"$f":"IF('Page 4'!H36=\"06\",22,IF('Page 4'!H36=\"08\",22,IF('Page 4'!H36=\"10\",22,IF('Page 4'!H36=\"12\",22,IF('Page 4'!H36=\"14\",22,IF('Page 4'!H36=\"16\",22,IF('Page 4'!H36=\"18\",22,IF('Page 4'!H36=\"20\",22,IF('Page 4'!H36=\"22\",22,IF('Page 4'!H36=\"24\",22,IF('Page 4'!H36=\"26\",22,IF('Page 4'!H36=\"28\",22,IF('Page 4'!H36=\"30\",22,IF('Page 4'!H36=\"32\",22,IF('Page 4'!H36=\"34\",22,IF('Page 4'!H36=\"36\",22,IF('Page 4'!H36=\"38\",22,IF('Page 4'!H36=\"40\",22,IF('Page 4'!H36=\"42\",22,IF('Page 4'!H36=\"44\",22,IF('Page 4'!H36=\"46\",22,IF('Page 4'!H36=\"48\",22,\"\"))))))))))))))))))))))","v":""},"4\""]
[null,null,null,null,null,null,null,null,null,null,null,null,null,null,null,null,null,"AP","SS 304","STD",{"$f":"IF('Page 4'!H45=\"06\",24,IF('Page 4'!H45=\"08\",24,IF('Page 4'!H45=\"10\",24,IF('Page 4'!H45=\"12\",24,IF('Page 4'!H45=\"14\",24,IF('Page 4'!H45=\"16\",24,IF('Page 4'!H45=\"18\",24,IF('Page 4'!H45=\"20\",24,IF('Page 4'!H45=\"22\",20,IF('Page 4'!H45=\"24\",20,IF('Page 4'!H45=\"26\",20,IF('Page 4'!H45=\"28\",20,IF('Page 4'!H45=\"30\",20,IF('Page 4'!H45=\"32\",20,IF('Page 4'!H45=\"34\",20,IF('Page 4'!H45=\"36\",20,IF('Page 4'!H45=\"38\",20,IF('Page 4'!H45=\"40\",20,IF('Page 4'!H45=\"42\",20,IF('Page 4'!H45=\"44\",20,IF('Page 4'!H45=\"46\",20,IF('Page 4'!H45=\"48\",20,\"\"))))))))))))))))))))))","v":""}]
[null,null,null,null,null,null,null,null,null,null,null,null,null,null,null,null,null,null,"SS 316","STD",{"$f":"IF('Page 4'!H45=\"06\",24,IF('Page 4'!H45=\"08\",24,IF('Page 4'!H45=\"10\",24,IF('Page 4'!H45=\"12\",24,IF('Page 4'!H45=\"14\",24,IF('Page 4'!H45=\"16\",24,IF('Page 4'!H45=\"18\",24,IF('Page 4'!H45=\"20\",24,IF('Page 4'!H45=\"22\",20,IF('Page 4'!H45=\"20\",24,IF('Page 4'!H45=\"26\",20,IF('Page 4'!H45=\"28\",20,IF('Page 4'!H45=\"30\",20,IF('Page 4'!H45=\"32\",20,IF('Page 4'!H45=\"34\",20,IF('Page 4'!H45=\"36\",20,IF('Page 4'!H45=\"38\",20,IF('Page 4'!H45=\"40\",20,IF('Page 4'!H45=\"42\",20,IF('Page 4'!H45=\"44\",20,IF('Page 4'!H45=\"46\",20,IF('Page 4'!H45=\"48\",20,\"\"))))))))))))))))))))))","v":""}]
[null,null,null,null,null,null,null,null,null,null,null,null,null,null,null,null,null,"EX","SS 304","STD",{"$f":"IF('Page 4'!H45=\"06\",24,IF('Page 4'!H45=\"08\",24,IF('Page 4'!H45=\"10\",24,IF('Page 4'!H45=\"12\",24,IF('Page 4'!H45=\"14\",24,IF('Page 4'!H45=\"16\",24,IF('Page 4'!H45=\"18\",24,IF('Page 4'!H45=\"20\",24,IF('Page 4'!H45=\"22\",24,IF('Page 4'!H45=\"24\",24,IF('Page 4'!H45=\"26\",24,IF('Page 4'!H45=\"28\",24,IF('Page 4'!H45=\"30\",20,IF('Page 4'!H45=\"32\",20,IF('Page 4'!H45=\"34\",20,IF('Page 4'!H45=\"36\",20,IF('Page 4'!H45=\"38\",20,IF('Page 4'!H45=\"40\",20,IF('Page 4'!H45=\"42\",20,IF('Page 4'!H45=\"44\",20,IF('Page 4'!H45=\"46\",20,IF('Page 4'!H45=\"48\",20,\"\"))))))))))))))))))))))","v":""}]
[null,null,null,null,null,null,null,null,null,null,null,null,null,null,null,null,null,null,"SS 316","STD",{"$f":"IF('Page 4'!H45=\"06\",24,IF('Page 4'!H45=\"08\",24,IF('Page 4'!H45=\"10\",24,IF('Page 4'!H45=\"12\",24,IF('Page 4'!H45=\"14\",24,IF('Page 4'!H45=\"16\",24,IF('Page 4'!H45=\"18\",24,IF('Page 4'!H45=\"24\",24,IF('Page 4'!H45=\"22\",24,IF('Page 4'!H45=\"24\",24,IF('Page 4'!H45=\"26\",24,IF('Page 4'!H45=\"28\",24,IF('Page 4'!H45=\"30\",20,IF('Page 4'!H45=\"32\",20,IF('Page 4'!H45=\"34\",20,IF('Page 4'!H45=\"36\",20,IF('Page 4'!H45=\"38\",20,IF('Page 4'!H45=\"40\",20,IF('Page 4'!H45=\"42\",20,IF('Page 4'!H45=\"44\",20,IF('Page 4'!H45=\"46\",20,IF('Page 4'!H45=\"48\",20,\"\"))))))))))))))))))))))","v":""}]
[null,null,null,null,null,null,null,null,null,null,null,null,null,null,null,null,null,"RC/CB","SS 304","STD",null,"STD",{"$f":"IF('Page 4'!H45=\"06\",24,IF('Page 4'!H45=\"08\",24,IF('Page 4'!H45=\"10\",24,IF('Page 4'!H45=\"12\",24,IF('Page 4'!H45=\"14\",24,IF('Page 4'!H45=\"16\",24,IF('Page 4'!H45=\"18\",24,IF('Page 4'!H45=\"20\",24,IF('Page 4'!H45=\"22\",24,IF('Page 4'!H45=\"24\",20,IF('Page 4'!H45=\"26\",20,IF('Page 4'!H45=\"28\",20,IF('Page 4'!H45=\"30\",20,IF('Page 4'!H45=\"32\",20,IF('Page 4'!H45=\"34\",20,IF('Page 4'!H45=\"36\",20,IF('Page 4'!H45=\"38\",20,IF('Page 4'!H45=\"40\",20,IF('Page 4'!H45=\"42\",20,IF('Page 4'!H45=\"44\",20,IF('Page 4'!H45=\"46\",20,IF('Page 4'!H45=\"48\",20,\"\"))))))))))))))))))))))","v":""}]
[null,null,null,null,null,null,null,null,null,null,null,null,null,null,null,null,null,null,"SS 316","STD",null,"STD",{"$f":"IF('Page 4'!H45=\"06\",24,IF('Page 4'!H45=\"08\",24,IF('Page 4'!H45=\"10\",24,IF('Page 4'!H45=\"12\",24,IF('Page 4'!H45=\"14\",24,IF('Page 4'!H45=\"16\",24,IF('Page 4'!H45=\"18\",24,IF('Page 4'!H45=\"20\",24,IF('Page 4'!H45=\"22\",24,IF('Page 4'!H45=\"24\",20,IF('Page 4'!H45=\"26\",20,IF('Page 4'!H45=\"28\",20,IF('Page 4'!H45=\"30\",20,IF('Page 4'!H45=\"32\",20,IF('Page 4'!H45=\"34\",20,IF('Page 4'!H45=\"36\",20,IF('Page 4'!H45=\"38\",20,IF('Page 4'!H45=\"40\",20,IF('Page 4'!H45=\"42\",20,IF('Page 4'!H45=\"44\",20,IF('Page 4'!H45=\"46\",20,IF('Page 4'!H45=\"48\",20,\"\"))))))))))))))))))))))","v":""}]
[null,null,null,null,null,null,null,null,null,null,null,null,null,null,null,null,null,"EC","SS 304","STD",{"$f":"IF('Page 4'!H45=\"06\",24,IF('Page 4'!H45=\"08\",24,IF('Page 4'!H45=\"10\",24,IF('Page 4'!H45=\"12\",24,IF('Page 4'!H45=\"14\",24,IF('Page 4'!H45=\"16\",24,IF('Page 4'!H45=\"18\",24,IF('Page 4'!H45=\"20\",24,IF('Page 4'!H45=\"22\",24,IF('Page 4'!H45=\"24\",24,IF('Page 4'!H45=\"26\",24,IF('Page 4'!H45=\"28\",24,IF('Page 4'!H45=\"30\",20,IF('Page 4'!H45=\"32\",20,IF('Page 4'!H45=\"34\",20,IF('Page 4'!H45=\"36\",20,IF('Page 4'!H45=\"38\",20,IF('Page 4'!H45=\"40\",20,IF('Page 4'!H45=\"42\",20,IF('Page 4'!H45=\"44\",20,IF('Page 4'!H45=\"46\",20,IF('Page 4'!H45=\"48\",20,\"\"))))))))))))))))))))))","v":""}]
[null,null,null,null,null,null,null,null,null,null,null,null,null,null,null,null,null,null,"SS 316","STD",{"$f":"IF('Page 4'!H45=\"06\",24,IF('Page 4'!H45=\"08\",24,IF('Page 4'!H45=\"10\",24,IF('Page 4'!H45=\"12\",24,IF('Page 4'!H45=\"14\",24,IF('Page 4'!H45=\"16\",24,IF('Page 4'!H45=\"18\",24,IF('Page 4'!H45=\"20\",24,IF('Page 4'!H45=\"22\",20,IF('Page 4'!H45=\"24\",20,IF('Page 4'!H45=\"26\",20,IF('Page 4'!H45=\"28\",20,IF('Page 4'!H45=\"30\",20,IF('Page 4'!H45=\"32\",20,IF('Page 4'!H45=\"34\",20,IF('Page 4'!H45=\"36\",20,IF('Page 4'!H45=\"38\",20,IF('Page 4'!H45=\"40\",20,IF('Page 4'!H45=\"42\",20,IF('Page 4'!H45=\"44\",20,IF('Page 4'!H45=\"46\",20,IF('Page 4'!H45=\"48\",20,\"\"))))))))))))))))))))))","v":""}]
[null,null,null,null,null,null,null,null,null,null,null,null,null,null,null,null,null,"FT","SS 304","STD",null,"STD",{"$f":"IF('Page 4'!H45=\"06\",24,IF('Page 4'!H45=\"08\",24,IF('Page 4'!H45=\"10\",24,IF('Page 4'!H45=\"12\",24,IF('Page 4'!H45=\"14\",24,IF('Page 4'!H45=\"16\",24,IF('Page 4'!H45=\"18\",24,IF('Page 4'!H45=\"20\",24,IF('Page 4'!H45=\"22\",24,IF('Page 4'!H45=\"24\",20,IF('Page 4'!H45=\"26\",20,IF('Page 4'!H45=\"28\",20,IF('Page 4'!H45=\"30\",20,IF('Page 4'!H45=\"32\",20,IF('Page 4'!H45=\"34\",20,IF('Page 4'!H45=\"36\",20,IF('Page 4'!H45=\"38\",20,IF('Page 4'!H45=\"40\",20,IF('Page 4'!H45=\"42\",20,IF('Page 4'!H45=\"44\",20,IF('Page 4'!H45=\"46\",20,IF('Page 4'!H45=\"48\",20,\"\"))))))))))))))))))))))","v":""}]
[null,null,null,null,null,null,null,null,null,null,null,null,null,null,null,null,null,null,"SS 316","STD",null,"STD",{"$f":"IF('Page 4'!H45=\"06\",24,IF('Page 4'!H45=\"08\",24,IF('Page 4'!H45=\"10\",24,IF('Page 4'!H45=\"12\",24,IF('Page 4'!H45=\"14\",24,IF('Page 4'!H45=\"16\",24,IF('Page 4'!H45=\"18\",24,IF('Page 4'!H45=\"20\",24,IF('Page 4'!H45=\"22\",24,IF('Page 4'!H45=\"24\",20,IF('Page 4'!H45=\"26\",20,IF('Page 4'!H45=\"28\",20,IF('Page 4'!H45=\"30\",20,IF('Page 4'!H45=\"32\",20,IF('Page 4'!H45=\"34\",20,IF('Page 4'!H45=\"36\",20,IF('Page 4'!H45=\"38\",20,IF('Page 4'!H45=\"40\",20,IF('Page 4'!H45=\"42\",20,IF('Page 4'!H45=\"44\",20,IF('Page 4'!H45=\"46\",20,IF('Page 4'!H45=\"48\",20,\"\"))))))))))))))))))))))","v":""}]
[null,null,null,null,null,null,null,null,null,null,null,null,null,null,null,null,null,"MC","SS 304","STD",{"$f":"IF('Page 4'!H45=\"06\",20,IF('Page 4'!H45=\"08\",20,IF('Page 4'!H45=\"10\",20,IF('Page 4'!H45=\"12\",20,IF('Page 4'!H45=\"14\",20,IF('Page 4'!H45=\"16\",20,IF('Page 4'!H45=\"18\",20,IF('Page 4'!H45=\"20\",20,IF('Page 4'!H45=\"22\",20,IF('Page 4'!H45=\"24\",20,IF('Page 4'!H45=\"26\",20,IF('Page 4'!H45=\"28\",20,IF('Page 4'!H45=\"30\",20,IF('Page 4'!H45=\"32\",20,IF('Page 4'!H45=\"34\",20,IF('Page 4'!H45=\"36\",20,IF('Page 4'!H45=\"38\",20,IF('Page 4'!H45=\"40\",20,IF('Page 4'!H45=\"42\",20,IF('Page 4'!H45=\"44\",20,IF('Page 4'!H45=\"46\",20,IF('Page 4'!H45=\"48\",20,\"\"))))))))))))))))))))))","v":""}]
[null,null,null,null,null,null,null,null,null,null,null,null,null,null,null,null,null,null,"SS 316","STD",{"$f":"IF('Page 4'!H45=\"06\",20,IF('Page 4'!H45=\"08\",20,IF('Page 4'!H45=\"10\",20,IF('Page 4'!H45=\"12\",20,IF('Page 4'!H45=\"14\",20,IF('Page 4'!H45=\"16\",20,IF('Page 4'!H45=\"18\",20,IF('Page 4'!H45=\"20\",20,IF('Page 4'!H45=\"22\",20,IF('Page 4'!H45=\"20\",20,IF('Page 4'!H45=\"26\",20,IF('Page 4'!H45=\"28\",20,IF('Page 4'!H45=\"30\",20,IF('Page 4'!H45=\"32\",20,IF('Page 4'!H45=\"34\",20,IF('Page 4'!H45=\"36\",20,IF('Page 4'!H45=\"38\",20,IF('Page 4'!H45=\"40\",20,IF('Page 4'!H45=\"42\",20,IF('Page 4'!H45=\"44\",20,IF('Page 4'!H45=\"46\",20,IF('Page 4'!H45=\"48\",20,\"\"))))))))))))))))))))))","v":""}]
[null,null,null,null,null,null,null,null,null,null,null,null,null,null,null,null,null,"RS","SS 304",null,null,"STD",{"$f":"IF('Page 4'!H56=\"06\",24,IF('Page 4'!H56=\"08\",24,IF('Page 4'!H56=\"10\",24,IF('Page 4'!H56=\"12\",24,IF('Page 4'!H56=\"14\",24,IF('Page 4'!H56=\"16\",24,IF('Page 4'!H56=\"18\",24,IF('Page 4'!H56=\"20\",24,IF('Page 4'!H56=\"22\",24,IF('Page 4'!H56=\"24\",24,IF('Page 4'!H56=\"26\",24,IF('Page 4'!H56=\"28\",24,IF('Page 4'!H56=\"30\",24,IF('Page 4'!H56=\"32\",24,IF('Page 4'!H56=\"34\",24,IF('Page 4'!H56=\"36\",24,IF('Page 4'!H56=\"38\",24,IF('Page 4'!H56=\"40\",24,IF('Page 4'!H56=\"42\",24,IF('Page 4'!H56=\"44\",24,IF('Page 4'!H56=\"46\",24,IF('Page 4'!H56=\"48\",24,\"\"))))))))))))))))))))))","v":""},"1\""]
[null,null,null,null,null,null,null,null,null,null,null,null,null,null,null,null,null,null,null,null,null,"STD",{"$f":"IF('Page 4'!H56=\"06\",24,IF('Page 4'!H56=\"08\",24,IF('Page 4'!H56=\"10\",24,IF('Page 4'!H56=\"12\",24,IF('Page 4'!H56=\"14\",24,IF('Page 4'!H56=\"16\",24,IF('Page 4'!H56=\"18\",24,IF('Page 4'!H56=\"20\",24,IF('Page 4'!H56=\"22\",24,IF('Page 4'!H56=\"24\",24,IF('Page 4'!H56=\"26\",24,IF('Page 4'!H56=\"28\",24,IF('Page 4'!H56=\"30\",24,IF('Page 4'!H56=\"32\",24,IF('Page 4'!H56=\"34\",24,IF('Page 4'!H56=\"36\",24,IF('Page 4'!H56=\"38\",24,IF('Page 4'!H56=\"40\",24,IF('Page 4'!H56=\"42\",24,IF('Page 4'!H56=\"44\",24,IF('Page 4'!H56=\"46\",24,IF('Page 4'!H56=\"48\",24,\"\"))))))))))))))))))))))","v":""},"2\""]
[null,null,null,null,null,null,null,null,null,null,null,null,null,null,null,null,null,null,null,null,null,"STD",{"$f":"IF('Page 4'!H56=\"06\",24,IF('Page 4'!H56=\"08\",24,IF('Page 4'!H56=\"10\",24,IF('Page 4'!H56=\"12\",24,IF('Page 4'!H56=\"14\",24,IF('Page 4'!H56=\"16\",24,IF('Page 4'!H56=\"18\",24,IF('Page 4'!H56=\"20\",24,IF('Page 4'!H56=\"22\",24,IF('Page 4'!H56=\"24\",24,IF('Page 4'!H56=\"26\",24,IF('Page 4'!H56=\"28\",24,IF('Page 4'!H56=\"30\",24,IF('Page 4'!H56=\"32\",24,IF('Page 4'!H56=\"34\",24,IF('Page 4'!H56=\"36\",24,IF('Page 4'!H56=\"38\",24,IF('Page 4'!H56=\"40\",24,IF('Page 4'!H56=\"42\",24,IF('Page 4'!H56=\"44\",24,IF('Page 4'!H56=\"46\",24,IF('Page 4'!H56=\"48\",24,\"\"))))))))))))))))))))))","v":""},"4\""]
[null,null,null,null,null,null,null,null,null,null,null,null,null,null,null,null,null,null,"GALVALUME STD",null,null,"GAL",{"$f":"IF('Page 4'!H56=\"06\",24,IF('Page 4'!H56=\"08\",24,IF('Page 4'!H56=\"10\",24,IF('Page 4'!H56=\"12\",24,IF('Page 4'!H56=\"14\",24,IF('Page 4'!H56=\"16\",24,IF('Page 4'!H56=\"18\",24,IF('Page 4'!H56=\"20\",24,IF('Page 4'!H56=\"22\",24,IF('Page 4'!H56=\"24\",24,IF('Page 4'!H56=\"26\",24,IF('Page 4'!H56=\"28\",24,IF('Page 4'!H56=\"30\",24,IF('Page 4'!H56=\"32\",22,IF('Page 4'!H56=\"34\",22,IF('Page 4'!H56=\"36\",22,IF('Page 4'!H56=\"38\",22,IF('Page 4'!H56=\"40\",22,IF('Page 4'!H56=\"42\",22,IF('Page 4'!H56=\"44\",22,IF('Page 4'!H56=\"46\",22,IF('Page 4'!H56=\"48\",22,\"\"))))))))))))))))))))))","v":""},"1\""]
[null,null,null,null,null,null,null,null,null,null,null,null,null,null,null,null,null,null,null,null,null,"GAL",{"$f":"IF('Page 4'!H56=\"06\",24,IF('Page 4'!H56=\"08\",24,IF('Page 4'!H56=\"10\",24,IF('Page 4'!H56=\"12\",24,IF('Page 4'!H56=\"14\",24,IF('Page 4'!H56=\"16\",24,IF('Page 4'!H56=\"18\",24,IF('Page 4'!H56=\"20\",24,IF('Page 4'!H56=\"22\",24,IF('Page 4'!H56=\"24\",24,IF('Page 4'!H56=\"26\",24,IF('Page 4'!H56=\"28\",24,IF('Page 4'!H56=\"30\",22,IF('Page 4'!H56=\"32\",22,IF('Page 4'!H56=\"34\",22,IF('Page 4'!H56=\"36\",22,IF('Page 4'!H56=\"38\",22,IF('Page 4'!H56=\"40\",22,IF('Page 4'!H56=\"42\",22,IF('Page 4'!H56=\"44\",22,IF('Page 4'!H56=\"46\",22,IF('Page 4'!H56=\"48\",20,\"\"))))))))))))))))))))))","v":""},"2\""]
[null,null,null,null,null,null,null,null,null,null,null,null,null,null,null,null,null,null,null,null,null,"GAL",{"$f":"IF('Page 4'!H56=\"06\",24,IF('Page 4'!H56=\"08\",24,IF('Page 4'!H56=\"10\",24,IF('Page 4'!H56=\"12\",24,IF('Page 4'!H56=\"14\",24,IF('Page 4'!H56=\"16\",24,IF('Page 4'!H56=\"18\",24,IF('Page 4'!H56=\"20\",24,IF('Page 4'!H56=\"22\",24,IF('Page 4'!H56=\"24\",24,IF('Page 4'!H56=\"26\",22,IF('Page 4'!H56=\"28\",22,IF('Page 4'!H56=\"30\",22,IF('Page 4'!H56=\"32\",22,IF('Page 4'!H56=\"34\",22,IF('Page 4'!H56=\"36\",22,IF('Page 4'!H56=\"38\",22,IF('Page 4'!H56=\"40\",22,IF('Page 4'!H56=\"42\",22,IF('Page 4'!H56=\"44\",22,IF('Page 4'!H56=\"46\",22,IF('Page 4'!H56=\"48\",22,\"\"))))))))))))))))))))))","v":""},"4\""]
[null,null,null,null,null,null,null,null,null,null,null,null,null,null,null,null,null,"FS","SS 304",null,null,"STD",{"$f":"IF('Page 4'!H56=\"06\",24,IF('Page 4'!H56=\"08\",24,IF('Page 4'!H56=\"10\",24,IF('Page 4'!H56=\"12\",24,IF('Page 4'!H56=\"14\",24,IF('Page 4'!H56=\"16\",24,IF('Page 4'!H56=\"18\",24,IF('Page 4'!H56=\"20\",24,IF('Page 4'!H56=\"22\",24,IF('Page 4'!H56=\"24\",24,IF('Page 4'!H56=\"26\",24,IF('Page 4'!H56=\"28\",24,IF('Page 4'!H56=\"30\",24,IF('Page 4'!H56=\"32\",24,IF('Page 4'!H56=\"34\",24,IF('Page 4'!H56=\"36\",24,IF('Page 4'!H56=\"38\",24,IF('Page 4'!H56=\"40\",24,IF('Page 4'!H56=\"42\",24,IF('Page 4'!H56=\"44\",24,IF('Page 4'!H56=\"46\",24,IF('Page 4'!H56=\"48\",24,\"\"))))))))))))))))))))))","v":""},"1\""]
[null,null,null,null,null,null,null,null,null,null,null,null,null,null,null,null,null,null,null,null,null,"STD",{"$f":"IF('Page 4'!H56=\"06\",24,IF('Page 4'!H56=\"08\",24,IF('Page 4'!H56=\"10\",24,IF('Page 4'!H56=\"12\",24,IF('Page 4'!H56=\"14\",24,IF('Page 4'!H56=\"16\",24,IF('Page 4'!H56=\"18\",24,IF('Page 4'!H56=\"20\",24,IF('Page 4'!H56=\"22\",24,IF('Page 4'!H56=\"24\",24,IF('Page 4'!H56=\"26\",24,IF('Page 4'!H56=\"28\",24,IF('Page 4'!H56=\"30\",24,IF('Page 4'!H56=\"32\",24,IF('Page 4'!H56=\"34\",24,IF('Page 4'!H56=\"36\",24,IF('Page 4'!H56=\"38\",24,IF('Page 4'!H56=\"40\",24,IF('Page 4'!H56=\"42\",24,IF('Page 4'!H56=\"44\",24,IF('Page 4'!H56=\"46\",24,IF('Page 4'!H56=\"48\",24,\"\"))))))))))))))))))))))","v":""},"2\""]
[null,null,null,null,null,null,null,null,null,null,null,null,null,null,null,null,null,null,null,null,null,"STD",{"$f":"IF('Page 4'!H56=\"06\",24,IF('Page 4'!H56=\"08\",24,IF('Page 4'!H56=\"10\",24,IF('Page 4'!H56=\"12\",24,IF('Page 4'!H56=\"14\",24,IF('Page 4'!H56=\"16\",24,IF('Page 4'!H56=\"18\",24,IF('Page 4'!H56=\"20\",24,IF('Page 4'!H56=\"22\",24,IF('Page 4'!H56=\"24\",24,IF('Page 4'!H56=\"26\",24,IF('Page 4'!H56=\"28\",24,IF('Page 4'!H56=\"30\",24,IF('Page 4'!H56=\"32\",24,IF('Page 4'!H56=\"34\",24,IF('Page 4'!H56=\"36\",24,IF('Page 4'!H56=\"38\",24,IF('Page 4'!H56=\"40\",24,IF('Page 4'!H56=\"42\",24,IF('Page 4'!H56=\"44\",24,IF('Page 4'!H56=\"46\",24,IF('Page 4'!H56=\"48\",24,\"\"))))))))))))))))))))))","v":""},"4\""]
[null,null,null,null,null,null,null,null,null,null,null,null,null,null,null,null,null,null,"GALVALUME STD",null,null,"GAL",{"$f":"IF('Page 4'!H56=\"06\",24,IF('Page 4'!H56=\"08\",24,IF('Page 4'!H56=\"10\",24,IF('Page 4'!H56=\"12\",24,IF('Page 4'!H56=\"14\",24,IF('Page 4'!H56=\"16\",24,IF('Page 4'!H56=\"18\",24,IF('Page 4'!H56=\"20\",24,IF('Page 4'!H56=\"22\",24,IF('Page 4'!H56=\"24\",24,IF('Page 4'!H56=\"26\",24,IF('Page 4'!H56=\"28\",24,IF('Page 4'!H56=\"30\",24,IF('Page 4'!H56=\"32\",24,IF('Page 4'!H56=\"34\",24,IF('Page 4'!H56=\"36\",22,IF('Page 4'!H56=\"38\",22,IF('Page 4'!H56=\"40\",22,IF('Page 4'!H56=\"42\",22,IF('Page 4'!H56=\"44\",22,IF('Page 4'!H56=\"46\",22,IF('Page 4'!H56=\"48\",22,\"\"))))))))))))))))))))))","v":""},"1\""]
[null,null,null,null,null,null,null,null,null,null,null,null,null,null,null,null,null,null,null,null,null,"GAL",{"$f":"IF('Page 4'!H56=\"06\",24,IF('Page 4'!H56=\"08\",24,IF('Page 4'!H56=\"10\",24,IF('Page 4'!H56=\"12\",24,IF('Page 4'!H56=\"14\",24,IF('Page 4'!H56=\"16\",24,IF('Page 4'!H56=\"18\",24,IF('Page 4'!H56=\"20\",24,IF('Page 4'!H56=\"22\",24,IF('Page 4'!H56=\"24\",24,IF('Page 4'!H56=\"26\",24,IF('Page 4'!H56=\"28\",24,IF('Page 4'!H56=\"30\",24,IF('Page 4'!H56=\"32\",24,IF('Page 4'!H56=\"34\",22,IF('Page 4'!H56=\"36\",22,IF('Page 4'!H56=\"38\",22,IF('Page 4'!H56=\"40\",22,IF('Page 4'!H56=\"42\",22,IF('Page 4'!H56=\"44\",22,IF('Page 4'!H56=\"46\",22,IF('Page 4'!H56=\"48\",22,\"\"))))))))))))))))))))))","v":""},"2\""]
[null,null,null,null,null,null,null,null,null,null,null,null,null,null,null,null,null,null,null,null,null,"GAL",{"$f":"IF('Page 4'!H56=\"06\",24,IF('Page 4'!H56=\"08\",24,IF('Page 4'!H56=\"10\",24,IF('Page 4'!H56=\"12\",24,IF('Page 4'!H56=\"14\",24,IF('Page 4'!H56=\"16\",24,IF('Page 4'!H56=\"18\",24,IF('Page 4'!H56=\"20\",24,IF('Page 4'!H56=\"22\",24,IF('Page 4'!H56=\"24\",24,IF('Page 4'!H56=\"26\",24,IF('Page 4'!H56=\"28\",24,IF('Page 4'!H56=\"30\",22,IF('Page 4'!H56=\"32\",22,IF('Page 4'!H56=\"34\",22,IF('Page 4'!H56=\"36\",22,IF('Page 4'!H56=\"38\",22,IF('Page 4'!H56=\"40\",22,IF('Page 4'!H56=\"42\",22,IF('Page 4'!H56=\"44\",22,IF('Page 4'!H56=\"46\",22,IF('Page 4'!H56=\"48\",22,\"\"))))))))))))))))))))))","v":""},"4\""]
[null,null,null,null,null,null,null,null,null,null,null,null,null,null,null,null,null,"IT","SS 304","STD",{"$f":"IF('Page 4'!H58=\"06\",24,IF('Page 4'!H58=\"08\",24,IF('Page 4'!H58=\"10\",24,IF('Page 4'!H58=\"12\",24,IF('Page 4'!H58=\"14\",24,IF('Page 4'!H58=\"16\",24,IF('Page 4'!H58=\"18\",24,IF('Page 4'!H58=\"20\",24,IF('Page 4'!H58=\"22\",24,IF('Page 4'!H58=\"24\",24,IF('Page 4'!H58=\"26\",24,IF('Page 4'!H58=\"28\",24,IF('Page 4'!H58=\"30\",20,IF('Page 4'!H58=\"32\",20,IF('Page 4'!H58=\"34\",20,IF('Page 4'!H58=\"36\",20,IF('Page 4'!H58=\"38\",20,IF('Page 4'!H58=\"40\",20,IF('Page 4'!H58=\"42\",20,IF('Page 4'!H58=\"44\",20,IF('Page 4'!H58=\"46\",20,IF('Page 4'!H58=\"48\",20,\"\"))))))))))))))))))))))","v":""},"STD",{"$f":"IF('Page 4'!H58=\"06\",24,IF('Page 4'!H58=\"08\",24,IF('Page 4'!H58=\"10\",24,IF('Page 4'!H58=\"12\",24,IF('Page 4'!H58=\"14\",24,IF('Page 4'!H58=\"16\",24,IF('Page 4'!H58=\"18\",24,IF('Page 4'!H58=\"20\",24,IF('Page 4'!H58=\"22\",24,IF('Page 4'!H58=\"24\",24,IF('Page 4'!H58=\"26\",24,IF('Page 4'!H58=\"28\",24,IF('Page 4'!H58=\"30\",20,IF('Page 4'!H58=\"32\",20,IF('Page 4'!H58=\"34\",20,IF('Page 4'!H58=\"36\",20,IF('Page 4'!H58=\"38\",20,IF('Page 4'!H58=\"40\",20,IF('Page 4'!H58=\"42\",20,IF('Page 4'!H58=\"44\",20,IF('Page 4'!H58=\"46\",20,IF('Page 4'!H58=\"48\",20,\"\"))))))))))))))))))))))","v":""},"1\"",null,{"$f":"IF('Page 4'!$H$19<>\"\",IF('Page 4'!$M$19<>\"\",IF('Page 4'!$K$22<>\"\",$W$86,\"\"),IF('Page 4'!$H$19<>\"\",IF('Page 4'!$M$20<>\"\",IF('Page 4'!$K$22<>\"\",$W$87,\"\"),IF('Page 4'!$H$19<>\"\",IF('Page 4'!$M$21<>\"\",IF('Page 4'!$K$22<>\"\",$W$88,\"\"),\"\"))))),\"\")","v":""},"SI 1\" OU 2\" OU 4\""]
[null,null,null,null,null,null,null,null,null,null,null,null,null,null,null,null,null,null,null,null,null,"STD",{"$f":"IF('Page 4'!H58=\"06\",24,IF('Page 4'!H58=\"08\",24,IF('Page 4'!H58=\"10\",24,IF('Page 4'!H58=\"12\",24,IF('Page 4'!H58=\"14\",24,IF('Page 4'!H58=\"16\",24,IF('Page 4'!H58=\"18\",24,IF('Page 4'!H58=\"20\",24,IF('Page 4'!H58=\"22\",24,IF('Page 4'!H58=\"24\",24,IF('Page 4'!H58=\"26\",24,IF('Page 4'!H58=\"28\",24,IF('Page 4'!H58=\"30\",20,IF('Page 4'!H58=\"32\",20,IF('Page 4'!H58=\"34\",20,IF('Page 4'!H58=\"36\",20,IF('Page 4'!H58=\"38\",20,IF('Page 4'!H58=\"40\",20,IF('Page 4'!H58=\"42\",20,IF('Page 4'!H58=\"44\",20,IF('Page 4'!H58=\"46\",20,IF('Page 4'!H58=\"48\",20,\"\"))))))))))))))))))))))","v":""},"2\""]
[null,null,null,null,null,null,null,null,null,null,null,null,null,null,null,null,null,null,null,null,null,"STD",{"$f":"IF('Page 4'!H58=\"06\",24,IF('Page 4'!H58=\"08\",24,IF('Page 4'!H58=\"10\",24,IF('Page 4'!H58=\"12\",24,IF('Page 4'!H58=\"14\",24,IF('Page 4'!H58=\"16\",24,IF('Page 4'!H58=\"18\",24,IF('Page 4'!H58=\"20\",24,IF('Page 4'!H58=\"22\",24,IF('Page 4'!H58=\"24\",24,IF('Page 4'!H58=\"26\",24,IF('Page 4'!H58=\"28\",24,IF('Page 4'!H58=\"30\",20,IF('Page 4'!H58=\"32\",20,IF('Page 4'!H58=\"34\",20,IF('Page 4'!H58=\"36\",20,IF('Page 4'!H58=\"38\",20,IF('Page 4'!H58=\"40\",20,IF('Page 4'!H58=\"42\",20,IF('Page 4'!H58=\"44\",20,IF('Page 4'!H58=\"46\",20,IF('Page 4'!H58=\"48\",20,\"\"))))))))))))))))))))))","v":""},"4\""]
[null,null,null,null,null,null,null,null,null,null,null,null,null,null,null,null,null,null,"SS 316","STD",{"$f":"IF('Page 4'!H58=\"06\",24,IF('Page 4'!H58=\"08\",24,IF('Page 4'!H58=\"10\",24,IF('Page 4'!H58=\"12\",24,IF('Page 4'!H58=\"14\",24,IF('Page 4'!H58=\"16\",24,IF('Page 4'!H58=\"18\",24,IF('Page 4'!H58=\"20\",24,IF('Page 4'!H58=\"22\",24,IF('Page 4'!H58=\"24\",24,IF('Page 4'!H58=\"26\",24,IF('Page 4'!H58=\"28\",24,IF('Page 4'!H58=\"30\",20,IF('Page 4'!H58=\"32\",20,IF('Page 4'!H58=\"34\",20,IF('Page 4'!H58=\"36\",20,IF('Page 4'!H58=\"38\",20,IF('Page 4'!H58=\"40\",20,IF('Page 4'!H58=\"42\",20,IF('Page 4'!H58=\"44\",20,IF('Page 4'!H58=\"46\",20,IF('Page 4'!H58=\"48\",20,\"\"))))))))))))))))))))))","v":""},"STD",{"$f":"IF('Page 4'!H58=\"06\",24,IF('Page 4'!H58=\"08\",24,IF('Page 4'!H58=\"10\",24,IF('Page 4'!H58=\"12\",24,IF('Page 4'!H58=\"14\",24,IF('Page 4'!H58=\"16\",24,IF('Page 4'!H58=\"18\",24,IF('Page 4'!H58=\"20\",24,IF('Page 4'!H58=\"22\",24,IF('Page 4'!H58=\"24\",24,IF('Page 4'!H58=\"26\",24,IF('Page 4'!H58=\"28\",24,IF('Page 4'!H58=\"30\",20,IF('Page 4'!H58=\"32\",20,IF('Page 4'!H58=\"34\",20,IF('Page 4'!H58=\"36\",20,IF('Page 4'!H58=\"38\",20,IF('Page 4'!H58=\"40\",20,IF('Page 4'!H58=\"42\",20,IF('Page 4'!H58=\"44\",20,IF('Page 4'!H58=\"46\",20,IF('Page 4'!H58=\"48\",20,\"\"))))))))))))))))))))))","v":""},"1\"",null,{"$f":"IF('Page 4'!$H$20<>\"\",IF('Page 4'!$M$19<>\"\",IF('Page 4'!$K$22<>\"\",$W$89,\"\"),IF('Page 4'!$H$20<>\"\",IF('Page 4'!$M$20<>\"\",IF('Page 4'!$K$22<>\"\",$W$90,\"\"),IF('Page 4'!$H$20<>\"\",IF('Page 4'!$M$21<>\"\",IF('Page 4'!$K$22<>\"\",$W$91,\"\"),\"\"))))),\"\")","v":""},"SI 1\" OU 2\" OU 4\""]
[null,null,null,null,null,null,null,null,null,null,null,null,null,null,null,null,null,null,null,null,null,"STD",{"$f":"IF('Page 4'!H58=\"06\",24,IF('Page 4'!H58=\"08\",24,IF('Page 4'!H58=\"10\",24,IF('Page 4'!H58=\"12\",24,IF('Page 4'!H58=\"14\",24,IF('Page 4'!H58=\"16\",24,IF('Page 4'!H58=\"18\",24,IF('Page 4'!H58=\"20\",24,IF('Page 4'!H58=\"22\",24,IF('Page 4'!H58=\"24\",24,IF('Page 4'!H58=\"26\",24,IF('Page 4'!H58=\"28\",24,IF('Page 4'!H58=\"30\",20,IF('Page 4'!H58=\"32\",20,IF('Page 4'!H58=\"34\",20,IF('Page 4'!H58=\"36\",20,IF('Page 4'!H58=\"38\",20,IF('Page 4'!H58=\"40\",20,IF('Page 4'!H58=\"42\",20,IF('Page 4'!H58=\"44\",20,IF('Page 4'!H58=\"46\",20,IF('Page 4'!H58=\"48\",20,\"\"))))))))))))))))))))))","v":""},"2\""]
[null,null,null,null,null,null,null,null,null,null,null,null,null,null,null,null,null,null,null,null,null,"STD",{"$f":"IF('Page 4'!H58=\"06\",24,IF('Page 4'!H58=\"08\",24,IF('Page 4'!H58=\"10\",24,IF('Page 4'!H58=\"12\",24,IF('Page 4'!H58=\"14\",24,IF('Page 4'!H58=\"16\",24,IF('Page 4'!H58=\"18\",24,IF('Page 4'!H58=\"20\",24,IF('Page 4'!H58=\"22\",24,IF('Page 4'!H58=\"24\",24,IF('Page 4'!H58=\"26\",24,IF('Page 4'!H58=\"28\",24,IF('Page 4'!H58=\"30\",20,IF('Page 4'!H58=\"32\",20,IF('Page 4'!H58=\"34\",20,IF('Page 4'!H58=\"36\",20,IF('Page 4'!H58=\"38\",20,IF('Page 4'!H58=\"40\",20,IF('Page 4'!H58=\"42\",20,IF('Page 4'!H58=\"44\",20,IF('Page 4'!H58=\"46\",20,IF('Page 4'!H58=\"48\",20,\"\"))))))))))))))))))))))","v":""},"4\""]
[null,null,null,null,null,null,null,null,null,null,null,null,null,null,null,null,null,null,"GALVALUME STD",null,null,"GAL",{"$f":"IF('Page 4'!H58=\"06\",24,IF('Page 4'!H58=\"08\",24,IF('Page 4'!H58=\"10\",24,IF('Page 4'!H58=\"12\",24,IF('Page 4'!H58=\"14\",24,IF('Page 4'!H58=\"16\",24,IF('Page 4'!H58=\"18\",24,IF('Page 4'!H58=\"20\",24,IF('Page 4'!H58=\"22\",24,IF('Page 4'!H58=\"24\",24,IF('Page 4'!H58=\"26\",24,IF('Page 4'!H58=\"28\",24,IF('Page 4'!H58=\"30\",20,IF('Page 4'!H58=\"32\",20,IF('Page 4'!H58=\"34\",20,IF('Page 4'!H58=\"36\",20,IF('Page 4'!H58=\"38\",20,IF('Page 4'!H58=\"40\",20,IF('Page 4'!H58=\"42\",20,IF('Page 4'!H58=\"44\",20,IF('Page 4'!H58=\"46\",20,IF('Page 4'!H58=\"48\",20,\"\"))))))))))))))))))))))","v":""},"1\"",null,{"$f":"IF('Page 4'!$H$21<>\"\",IF('Page 4'!$M$19<>\"\",IF('Page 4'!$K$22<>\"\",$W$92,\"\"),IF('Page 4'!$H$21<>\"\",IF('Page 4'!$M$20<>\"\",IF('Page 4'!$K$22<>\"\",$W$93,\"\"),IF('Page 4'!$H$21<>\"\",IF('Page 4'!$M$21<>\"\",IF('Page 4'!$K$22<>\"\",$W$93,\"\"),\"\"))))),\"\")","v":""},"SI 1\" OU 2\" OU 4\""]
[null,null,null,null,null,null,null,null,null,null,null,null,null,null,null,null,null,null,null,null,null,"GAL",{"$f":"IF('Page 4'!H58=\"06\",24,IF('Page 4'!H58=\"08\",24,IF('Page 4'!H58=\"10\",24,IF('Page 4'!H58=\"12\",24,IF('Page 4'!H58=\"14\",24,IF('Page 4'!H58=\"16\",24,IF('Page 4'!H58=\"18\",24,IF('Page 4'!H58=\"20\",24,IF('Page 4'!H58=\"22\",24,IF('Page 4'!H58=\"24\",24,IF('Page 4'!H58=\"26\",24,IF('Page 4'!H58=\"28\",24,IF('Page 4'!H58=\"30\",20,IF('Page 4'!H58=\"32\",20,IF('Page 4'!H58=\"34\",20,IF('Page 4'!H58=\"36\",20,IF('Page 4'!H58=\"38\",20,IF('Page 4'!H58=\"40\",20,IF('Page 4'!H58=\"42\",20,IF('Page 4'!H58=\"44\",20,IF('Page 4'!H58=\"46\",20,IF('Page 4'!H58=\"48\",20,\"\"))))))))))))))))))))))","v":""},"2\""]
[null,null,null,null,null,null,null,null,null,null,null,null,null,null,null,null,null,null,null,null,null,"GAL",{"$f":"IF('Page 4'!H58=\"06\",26,IF('Page 4'!H58=\"08\",26,IF('Page 4'!H58=\"10\",26,IF('Page 4'!H58=\"12\",26,IF('Page 4'!H58=\"14\",26,IF('Page 4'!H58=\"16\",24,IF('Page 4'!H58=\"18\",24,IF('Page 4'!H58=\"20\",24,IF('Page 4'!H58=\"22\",24,IF('Page 4'!H58=\"24\",24,IF('Page 4'!H58=\"26\",24,IF('Page 4'!H58=\"28\",24,IF('Page 4'!H58=\"30\",20,IF('Page 4'!H58=\"32\",20,IF('Page 4'!H58=\"34\",20,IF('Page 4'!H58=\"36\",20,IF('Page 4'!H58=\"38\",20,IF('Page 4'!H58=\"40\",20,IF('Page 4'!H58=\"42\",20,IF('Page 4'!H58=\"44\",20,IF('Page 4'!H58=\"46\",20,IF('Page 4'!H58=\"48\",20,\"\"))))))))))))))))))))))","v":""},"4\""]

{"sheet":"Page 5","index":9,"n_rows":63,"n_cols":14,"rows_kept":63,"cut":false,"hidden":false,"merged":[[66,0,66,6],[66,7,66,8],[66,11,66,13],[67,0,67,6],[68,0,68,6],[64,0,64,6],[64,7,64,8],[64,11,64,13],[65,0,65,6],[65,7,65,8],[65,11,65,13],[62,0,62,6],[62,7,62,8],[62,11,62,13],[63,0,63,6],[63,7,63,8],[63,11,63,13],[57,0,57,5],[57,11,57,13],[58,0,61,1],[58,11,58,13],[59,7,59,8],[59,11,59,13],[60,7,60,13],[61,7,61,8],[61,11,61,13],[55,0,56,1],[55,4,55,6],[55,7,56,8],[55,11,55,12],[56,4,56,6],[56,11,56,12],[52,4,52,6],[52,11,52,13],[53,0,53,1],[53,4,53,6],[53,11,53,13],[54,4,54,6],[54,7,54,12],[49,4,49,6],[49,11,49,13],[50,0,50,6],[50,11,50,13],[51,0,51,1],[51,4,51,6],[51,11,51,13],[46,4,46,6],[46,11,46,13],[47,4,47,6],[47,11,47,13],[48,4,48,6],[48,11,48,13],[33,0,33,1],[33,4,33,6],[33,7,33,8],[33,11,33,13],[34,0,34,6],[34,7,34,12],[35,0,44,1],[35,4,35,6],[35,7,42,8],[36,4,36,6],[37,4,37,6],[38,4,38,6],[39,4,39,6],[40,4,40,6],[41,4,41,6],[42,4,42,6],[43,4,43,6],[43,7,43,13],[44,4,44,6],[44,7,53,8],[44,11,44,13],[45,0,45,6],[45,11,45,13],[46,0,49,1],[6,7,7,8],[7,0,7,1],[7,2,7,5],[8,0,8,1],[26,0,26,13],[27,0,29,0],[27,1,29,2],[27,12,29,12],[27,13,29,13],[22,0,22,13],[23,0,25,0],[23,1,25,2],[23,5,23,6],[23,12,25,12],[23,13,25,13],[17,7,17,9],[17,10,17,11],[17,12,17,13],[18,0,21,0],[18,1,21,2],[18,8,18,9],[19,8,19,9],[20,8,20,9],[21,7,21,9],[8,2,8,5],[9,0,9,1],[9,2,9,5],[12,0,15,4],[17,0,17,2],[17,3,17,4],[17,5,17,6],[0,0,4,4],[5,0,5,1],[5,2,5,5],[6,0,6,1],[6,2,6,5]]}
["VIP"]
[]
[null,null,null,null,null,null,null,"COMMERCIAL CHIMNEY"]
[null,null,null,null,null,null,null,"QUOTATION REQUEST"]
[null,null,null,null,null,null,null,{"$f":"IF('Page 1'!H5<>\"\",'Page 1'!H5,\"\")","v":"Revised: November 7, 2015"}]
["Name:",null,{"$f":"IF('Page 1'!C6<>\"\",'Page 1'!C6,\"\")","v":""}]
["Date:",null,{"$f":"IF('Page 1'!C7<>\"\",'Page 1'!C7,\"\")","v":""},null,null,null,null,"Page 5"]
["Job:",null,{"$f":"IF('Page 1'!C8<>\"\",'Page 1'!C8,\"\")","v":""}]
["ZIP Code:",null,{"$f":"IF('Page 1'!C9<>\"\",'Page 1'!C9,\"\")","v":""},null,null,null,"(ZIP FOR FREIGHT QUOTE)",null,null,null,null,"Phone: ","(450) 565-6336"]
["Page:",null,null,null,null,null,null,null,null,null,null,"FAX: ","(450) 565-6519"]
[null,null,null,null,null,"email:","industrial@icc-rsf.com"]
[]
["When using Excel: Type an \"X\" in the approprIate shaded cell.",null,null,null,null,null,"SS 304 / SS 304 STD",null,null,null,null,"SS 316 / SS 316 STD"]
[null,null,null,null,null,null,"SS 304 / SS 304",null,null,null,null,"SS 316 / SS 316"]
[null,null,null,null,null,null,"SS 304 / GAL. STD",null,null,null,null,"SS 316 / SS 304 STD"]
[null,null,null,null,null,null,"SS 304 / GAL.",null,null,null,null,"SS 316 / SS 304"]
[]
["MODEL",null,null,"INTERIOR",null,"GAUGE",null,"EXTERIOR",null,null,"GAUGE",null,"INSULATION"]
[{"$f":"IF(F13<>\"\",\"X\",IF(F14<>\"\",\"X\",IF(F15<>\"\",\"X\",IF(F16<>\"\",\"X\",IF(K13<>\"\",\"X\",IF(K14<>\"\",\"X\",IF(K15<>\"\",\"X\",IF(K16<>\"\",\"X\",\"\"))))))))","v":""},"VIP",null,{"$f":"IF(F13<>\"\",\"X\",IF(F14<>\"\",\"X\",IF(F15<>\"\",\"X\",IF(F16<>\"\",\"X\",\"\"))))","v":""},"A = SS 304",null,"26 = 0.018\"",{"$f":"IF(F13<>\"\",\"X\",IF(F14<>\"\",\"X\",IF(K15<>\"\",\"X\",IF(K16<>\"\",\"X\",\"\"))))","v":""},"A = SS 304",null,null,"26 = 0.018\"",null,"1\" "]
[null,null,null,{"$f":"IF(K13<>\"\",\"X\",IF(K14<>\"\",\"X\",IF(K15<>\"\",\"X\",IF(K16<>\"\",\"X\",\"\"))))","v":""},"B= SS 316",null,"24= 0.025\"",{"$f":"IF(K13<>\"\",\"X\",IF(K14<>\"\",\"X\",\"\"))","v":""},"B= SS 316",null,null,"24= 0.025\"",null,"2\""]
[null,null,null,null,null,null,"20= 0.035\"",{"$f":"IF(F15<>\"\",\"X\",IF(F16<>\"\",\"X\",\"\"))","v":""},{"$f":"IF(D20=\"\",\"C= GALVALUME\",\"\")","v":"C= GALVALUME"},null,null,"20= 0.035\"",null,"4\""]
[null,null,null,null,null,{"$f":"IF(F13<>\"\",\"X\",IF(F15<>\"\",\"X\",IF(K13<>\"\",\"X\",IF(K15<>\"\",\"X\",\"\"))))","v":""},"Standard",null,null,null,{"$f":"IF(F13<>\"\",\"X\",IF(F15<>\"\",\"X\",IF(K13<>\"\",\"X\",IF(K15<>\"\",\"X\",\"\"))))","v":""},"Standard"]
[]
[null,"IS",null,null,"A = SS 304","Standard",null,null,"A = SS 304",null,"Standard",null,null,"1\" "]
[]
[null,null,null,null,null,null,null,null,"C= GALVALUME",null,"Standard"]
[]
[null,"LINER",null,null,"A = SS 304",null,"20= 0.035\""]
[null,null,null,null,"B = SS 316",null,"Standard"]
[]
[]
["When using Excel: Type interior diameter (INT. Ø) and quantities in the approprIate shaded cells."]
[]
["INT. Ø",null,"QTY","CODE","DESCRIPTION",null,null,"INT. Ø",null,"QTY","CODE","DESCRIPTION"]
["CHIMNEY LENGTH",null,null,null,null,null,null,"SUPPORT",null,null,null,null,null,"SS 304"]
[null,null,null,{"$f":"IF(A36=\"\",\"L4\",IF(A36=\"38\",\"\",IF(A36=\"40\",\"\",IF(A36=\"42\",\"\",IF(A36=\"44\",\"\",IF(A36=\"46\",\"\",IF(A36=\"48\",\"\",\"L4\")))))))","v":"L4"},"48\" Length",null,null,{"$f":"IF(A36<>0,A36,\"\")","v":""},null,null,"BS","Base Support"]
[null,null,null,"L2","24\" Length",null,null,null,null,null,"SR","Roof Support"]
[null,null,null,"A2","Adjust. Length 2' (VIP & IS ONLY)",null,null,null,null,null,"GB","Guy Band"]
[null,null,null,"L1","12\" Length",null,null,null,null,null,"RB","Roof Brace"]
[null,null,null,"L1","12\" Length - WITH SAMPLING PORT",null,null,null,null,null,"WS","Wall Support"]
[null,null,null,"A1","Adjustable Length 1'",null,null,null,null,null,"WB","Wall Band"]
[null,null,null,"L6","6\" Length",null,null,null,null,null,"HB","Horizontal Band"]
[null,null,null,"D1","12\" Drain Length",null,null,null,null,null,"OS","Offset Support"]
[null,null,null,"D2","24\" Drain Length",null,null,"RAIN CAP and ADAPTORS"]
[null,null,null,"DB","Length Drain Base",null,null,{"$f":"IF(A36<>0,A36,\"\")","v":""},null,null,"AP","Male Anchor Plate (std: round)"]
["ELBOW",null,null,null,null,null,null,null,null,null,"AF","Female Anchor Plate (std: square)"]
[{"$f":"IF(A36<>0,A36,\"\")","v":""},null,null,{"$f":"IF(A47=\"\",\"E4\",IF(A47=\"24\",\"\",IF(A47=\"26\",\"\",IF(A47=\"28\",\"\",IF(A47=\"30\",\"\",IF(A47=\"32\",\"\",IF(A47=\"34\",\"\",IF(A47=\"36\",\"\",IF(A47=\"38\",\"\",IF(A47=\"40\",\"\",IF(A47=\"42\",\"\",IF(A47=\"44\",\"\",IF(A47=\"46\",\"\",IF(A47=\"48\",\"\",\"E4\"))))))))))))))","v":"E4"},"Elbow 45°",null,null,null,null,null,"EX","Flue Extention  - CRIMP"]
[null,null,null,"E3","Elbow 30°",null,null,null,null,null,"EX","Flue Extention  - NO CRIMP"]
[null,null,null,"E2","Elbow 22.5°",null,null,null,null,null,"EX","Flue Extention  - FEMALE (NC)"]
[null,null,null,"E1","Elbow 15°",null,null,null,null,null,"RC","Rain Cap"]
["TEE",null,null,null,null,null,null,null,null,null,"CB","Rain Cap Base"]
[{"$f":"IF(A36<>0,A36,\"\")","v":""},null,null,"TR","Tee 90° (Regular)",null,null,null,null,null,"EC","Exit Cone"]
[{"$f":"IF(A36<>0,A36,\"\")","v":""},null,null,"TR","Tee 90° (Manifold)",null,null,null,null,null,"FT","Flip Top & Adapter"]
[{"$f":"IF(A36<>0,A36,\"\")","v":""},null,null,"TY","Tee 45° (Regular)",null,null,null,null,null,"MC","Miter Cut Length"]
[{"$f":"IF(A36<>0,A36,\"\")","v":""},null,null,"TY","Tee 45° (Manifold)",null,null,"MISCELLANEOUS",null,null,null,null,null,"SS 304"]
[{"$f":"IF(A36<>0,A36,\"\")","v":""},null,null,"TC","Tee Cap",null,null,{"$f":"IF(A36<>0,A36,\"\")","v":""},null,null,"RS","Radiation Shield"]
[null,null,null,"TD","Tee Cap, Drain",null,null,null,null,null,"FS","Firestop"]
["FLASHING",null,null,null,null,null,"SS 304",{"$f":"IF(A36<>0,A36,\"\")","v":""},null,null,"IT","Taper Increaser"]
[{"$f":"IF(A36<>0,A36,\"\")","v":""},null,null,"FF","Flat flashing",null,null,{"$f":"IF(A36<>0,A36,\"\")","v":""},null,null,"SI","Step Increaser"]
[null,null,null,"FA","Flashing 1/12-7/12",null,null,{"$f":"IF(A36<>0,A36,\"\")","v":""},null,null,"RV","Presurre Releif Valve"]
[null,null,null,"FB","Flashing 8/12-12/12",null,null,"Special Request"]
[null,null,null,"SC","Storm Collar"]
["Special Request"]

{"sheet":"LOP5","index":10,"n_rows":94,"n_cols":27,"rows_kept":94,"cut":false,"hidden":true,"merged":[[85,17,93,17],[91,18,91,20],[73,17,78,17],[76,18,76,20],[77,18,78,20],[79,17,84,17],[82,18,82,20],[83,18,84,20],[71,17,72,17],[49,17,54,17],[52,18,52,20],[53,18,54,20],[55,17,60,17],[58,18,58,20],[59,18,60,20],[61,17,62,17],[63,17,64,17],[65,17,66,17],[67,17,68,17],[69,17,70,17],[29,17,37,17],[35,18,35,20],[38,17,39,17],[40,17,48,17],[43,18,43,20],[44,18,45,20],[46,18,46,20],[47,18,48,20],[2,17,10,17],[8,18,8,20],[11,17,19,17],[17,18,17,20],[20,17,28,17],[26,18,26,20]]}
[]
[null,null,null,null,null,null,null,null,null,null,null,null,null,null,null,null,null,null,null,null,"Int. STD",null,"Ext. STD"]
[null,null,{"$f":"IF('Page 5'!$M$19<>\"\",'Page 5'!$A$59,IF('Page 5'!$M$20<>\"\",'Page 5'!$A$59+2,IF('Page 5'!$M$21<>\"\",'Page 5'!$A$59+6,\"\")))","v":""},null,null,null,null,null,null,null,null,null,null,null,null,null,null,"LENGTH","SS 304","STD",{"$f":"IF('Page 5'!A36=\"06\",26,IF('Page 5'!A36=\"08\",26,IF('Page 5'!A36=\"10\",26,IF('Page 5'!A36=\"12\",26,IF('Page 5'!A36=\"14\",26,IF('Page 5'!A36=\"16\",26,IF('Page 5'!A36=\"18\",24,IF('Page 5'!A36=\"20\",24,IF('Page 5'!A36=\"22\",24,IF('Page 5'!A36=\"24\",24,IF('Page 5'!A36=\"26\",24,IF('Page 5'!A36=\"28\",24,IF('Page 5'!A36=\"30\",20,IF('Page 5'!A36=\"32\",20,IF('Page 5'!A36=\"34\",20,IF('Page 5'!A36=\"36\",20,IF('Page 5'!A36=\"38\",20,IF('Page 5'!A36=\"40\",20,IF('Page 5'!A36=\"42\",20,IF('Page 5'!A36=\"44\",20,IF('Page 5'!A36=\"46\",20,IF('Page 5'!A36=\"48\",20,\"\"))))))))))))))))))))))","v":""},"STD",{"$f":"IF('Page 5'!A36=\"06\",26,IF('Page 5'!A36=\"08\",26,IF('Page 5'!A36=\"10\",26,IF('Page 5'!A36=\"12\",26,IF('Page 5'!A36=\"14\",26,IF('Page 5'!A36=\"16\",24,IF('Page 5'!A36=\"18\",24,IF('Page 5'!A36=\"20\",24,IF('Page 5'!A36=\"22\",24,IF('Page 5'!A36=\"24\",24,IF('Page 5'!A36=\"26\",24,IF('Page 5'!A36=\"28\",24,IF('Page 5'!A36=\"30\",20,IF('Page 5'!A36=\"32\",20,IF('Page 5'!A36=\"34\",20,IF('Page 5'!A36=\"36\",20,IF('Page 5'!A36=\"38\",20,IF('Page 5'!A36=\"40\",20,IF('Page 5'!A36=\"42\",20,IF('Page 5'!A36=\"44\",20,IF('Page 5'!A36=\"46\",20,IF('Page 5'!A36=\"48\",20,\"\"))))))))))))))))))))))","v":""},"1\"",null,{"$f":"IF('Page 5'!$H$19<>\"\",IF('Page 5'!$M$19<>\"\",IF('Page 5'!$K$22<>\"\",$W$3,\"\"),IF('Page 5'!$H$19<>\"\",IF('Page 5'!$M$20<>\"\",IF('Page 5'!$K$22<>\"\",$W$4,\"\"),IF('Page 5'!$H$19<>\"\",IF('Page 5'!$M$21<>\"\",IF('Page 5'!$K$22<>\"\",$W$5,\"\"),\"\"))))),\"\")","v":""},"SI 1\" OU 2\" OU 4\""]
[null,null,{"$f":"IF('Page 5'!$M$20<>\"\",'Page 5'!$A$59+2,)","v":0},null,null,null,null,null,null,null,null,null,null,null,null,null,null,null,null,null,null,"STD",{"$f":"IF('Page 5'!A36=\"06\",26,IF('Page 5'!A36=\"08\",26,IF('Page 5'!A36=\"10\",26,IF('Page 5'!A36=\"12\",26,IF('Page 5'!A36=\"14\",24,IF('Page 5'!A36=\"16\",24,IF('Page 5'!A36=\"18\",24,IF('Page 5'!A36=\"20\",24,IF('Page 5'!A36=\"22\",24,IF('Page 5'!A36=\"24\",24,IF('Page 5'!A36=\"26\",24,IF('Page 5'!A36=\"28\",20,IF('Page 5'!A36=\"30\",20,IF('Page 5'!A36=\"32\",20,IF('Page 5'!A36=\"34\",20,IF('Page 5'!A36=\"36\",20,IF('Page 5'!A36=\"38\",20,IF('Page 5'!A36=\"40\",20,IF('Page 5'!A36=\"42\",20,IF('Page 5'!A36=\"44\",20,IF('Page 5'!A36=\"46\",20,IF('Page 5'!A36=\"48\",20,\"\"))))))))))))))))))))))","v":""},"2\""]
[null,null,{"$f":"IF(C4=8,\"08\",C3)","v":""},null,null,null,null,null,null,null,null,null,null,null,null,null,null,null,null,null,null,"STD",{"$f":"IF('Page 5'!A36=\"06\",26,IF('Page 5'!A36=\"08\",24,IF('Page 5'!A36=\"10\",24,IF('Page 5'!A36=\"12\",24,IF('Page 5'!A36=\"14\",24,IF('Page 5'!A36=\"16\",24,IF('Page 5'!A36=\"18\",24,IF('Page 5'!A36=\"20\",24,IF('Page 5'!A36=\"22\",20,IF('Page 5'!A36=\"24\",20,IF('Page 5'!A36=\"26\",20,IF('Page 5'!A36=\"28\",20,IF('Page 5'!A36=\"30\",20,IF('Page 5'!A36=\"32\",20,IF('Page 5'!A36=\"34\",20,IF('Page 5'!A36=\"36\",20,IF('Page 5'!A36=\"38\",20,IF('Page 5'!A36=\"40\",20,IF('Page 5'!A36=\"42\",20,IF('Page 5'!A36=\"44\",20,IF('Page 5'!A36=\"46\",20,IF('Page 5'!A36=\"48\",20,\"\"))))))))))))))))))))))","v":""},"4\""]
[null,null,null,null,null,null,null,null,null,null,null,null,null,null,null,null,null,null,"SS 316","STD",{"$f":"IF('Page 5'!A36=\"06\",24,IF('Page 5'!A36=\"08\",24,IF('Page 5'!A36=\"10\",24,IF('Page 5'!A36=\"12\",24,IF('Page 5'!A36=\"14\",24,IF('Page 5'!A36=\"16\",24,IF('Page 5'!A36=\"18\",24,IF('Page 5'!A36=\"20\",24,IF('Page 5'!A36=\"22\",24,IF('Page 5'!A36=\"24\",24,IF('Page 5'!A36=\"26\",24,IF('Page 5'!A36=\"28\",24,IF('Page 5'!A36=\"30\",20,IF('Page 5'!A36=\"32\",20,IF('Page 5'!A36=\"34\",20,IF('Page 5'!A36=\"36\",20,IF('Page 5'!A36=\"38\",20,IF('Page 5'!A36=\"40\",20,IF('Page 5'!A36=\"42\",20,IF('Page 5'!A36=\"44\",20,IF('Page 5'!A36=\"46\",20,IF('Page 5'!A36=\"48\",20,\"\"))))))))))))))))))))))","v":""},"STD",{"$f":"IF('Page 5'!A36=\"06\",24,IF('Page 5'!A36=\"08\",24,IF('Page 5'!A36=\"10\",24,IF('Page 5'!A36=\"12\",24,IF('Page 5'!A36=\"14\",24,IF('Page 5'!A36=\"16\",24,IF('Page 5'!A36=\"18\",24,IF('Page 5'!A36=\"20\",24,IF('Page 5'!A36=\"22\",24,IF('Page 5'!A36=\"24\",24,IF('Page 5'!A36=\"26\",24,IF('Page 5'!A36=\"28\",24,IF('Page 5'!A36=\"30\",20,IF('Page 5'!A36=\"32\",20,IF('Page 5'!A36=\"34\",20,IF('Page 5'!A36=\"36\",20,IF('Page 5'!A36=\"38\",20,IF('Page 5'!A36=\"40\",20,IF('Page 5'!A36=\"42\",20,IF('Page 5'!A36=\"44\",20,IF('Page 5'!A36=\"46\",20,IF('Page 5'!A36=\"48\",20,\"\"))))))))))))))))))))))","v":""},"1\"",null,{"$f":"IF('Page 5'!$H$20<>\"\",IF('Page 5'!$M$19<>\"\",IF('Page 5'!$K$22<>\"\",$W$6,\"\"),IF('Page 5'!$H$20<>\"\",IF('Page 5'!$M$20<>\"\",IF('Page 5'!$K$22<>\"\",$W$7,\"\"),IF('Page 5'!$H$20<>\"\",IF('Page 5'!$M$21<>\"\",IF('Page 5'!$K$22<>\"\",$W$8,\"\"),\"\"))))),\"\")","v":""},"SI 1\" OU 2\" OU 4\""]
[null,null,null,null,null,null,null,null,null,null,null,null,null,null,null,null,null,null,null,null,null,"STD",{"$f":"IF('Page 5'!A36=\"06\",24,IF('Page 5'!A36=\"08\",24,IF('Page 5'!A36=\"10\",24,IF('Page 5'!A36=\"12\",24,IF('Page 5'!A36=\"14\",24,IF('Page 5'!A36=\"16\",24,IF('Page 5'!A36=\"18\",24,IF('Page 5'!A36=\"20\",24,IF('Page 5'!A36=\"22\",24,IF('Page 5'!A36=\"24\",24,IF('Page 5'!A36=\"26\",24,IF('Page 5'!A36=\"28\",20,IF('Page 5'!A36=\"30\",20,IF('Page 5'!A36=\"32\",20,IF('Page 5'!A36=\"34\",20,IF('Page 5'!A36=\"36\",20,IF('Page 5'!A36=\"38\",20,IF('Page 5'!A36=\"40\",20,IF('Page 5'!A36=\"42\",20,IF('Page 5'!A36=\"44\",20,IF('Page 5'!A36=\"46\",20,IF('Page 5'!A36=\"48\",20,\"\"))))))))))))))))))))))","v":""},"2\""]
[null,null,null,null,null,null,null,null,null,null,null,null,null,null,null,null,null,null,null,null,null,"STD",{"$f":"IF('Page 5'!A36=\"06\",24,IF('Page 5'!A36=\"08\",24,IF('Page 5'!A36=\"10\",24,IF('Page 5'!A36=\"12\",24,IF('Page 5'!A36=\"14\",24,IF('Page 5'!A36=\"16\",24,IF('Page 5'!A36=\"18\",24,IF('Page 5'!A36=\"20\",24,IF('Page 5'!A36=\"22\",20,IF('Page 5'!A36=\"24\",20,IF('Page 5'!A36=\"26\",20,IF('Page 5'!A36=\"28\",20,IF('Page 5'!A36=\"30\",20,IF('Page 5'!A36=\"32\",20,IF('Page 5'!A36=\"34\",20,IF('Page 5'!A36=\"36\",20,IF('Page 5'!A36=\"38\",20,IF('Page 5'!A36=\"40\",20,IF('Page 5'!A36=\"42\",20,IF('Page 5'!A36=\"44\",20,IF('Page 5'!A36=\"46\",20,IF('Page 5'!A36=\"48\",20,\"\"))))))))))))))))))))))","v":""},"4\""]
[null,null,null,null,null,null,null,null,null,null,null,null,null,null,null,null,null,null,"GALVALUME STD",null,null,"GAL",{"$f":"IF('Page 5'!A36=\"06\",24,IF('Page 5'!A36=\"08\",24,IF('Page 5'!A36=\"10\",24,IF('Page 5'!A36=\"12\",24,IF('Page 5'!A36=\"14\",24,IF('Page 5'!A36=\"16\",24,IF('Page 5'!A36=\"18\",24,IF('Page 5'!A36=\"20\",24,IF('Page 5'!A36=\"22\",24,IF('Page 5'!A36=\"24\",24,IF('Page 5'!A36=\"26\",24,IF('Page 5'!A36=\"28\",24,IF('Page 5'!A36=\"30\",22,IF('Page 5'!A36=\"32\",22,IF('Page 5'!A36=\"34\",22,IF('Page 5'!A36=\"36\",22,IF('Page 5'!A36=\"38\",22,IF('Page 5'!A36=\"40\",22,IF('Page 5'!A36=\"42\",22,IF('Page 5'!A36=\"44\",22,IF('Page 5'!A36=\"46\",22,IF('Page 5'!A36=\"48\",22,\"\"))))))))))))))))))))))","v":""},"1\"",null,{"$f":"IF('Page 5'!$H$21<>\"\",IF('Page 5'!$M$19<>\"\",IF('Page 5'!$K$22<>\"\",$W$9,\"\"),IF('Page 5'!$H$21<>\"\",IF('Page 5'!$M$20<>\"\",IF('Page 5'!$K$22<>\"\",$W$10,\"\"),IF('Page 5'!$H$21<>\"\",IF('Page 5'!$M$21<>\"\",IF('Page 5'!$K$22<>\"\",$W$11,\"\"),\"\"))))),\"\")","v":""},"SI 1\" OU 2\" OU 4\""]
[null,null,null,null,null,null,null,null,null,null,null,null,null,null,null,null,null,null,null,null,null,"GAL",{"$f":"IF('Page 5'!A36=\"06\",24,IF('Page 5'!A36=\"08\",24,IF('Page 5'!A36=\"10\",24,IF('Page 5'!A36=\"12\",24,IF('Page 5'!A36=\"14\",24,IF('Page 5'!A36=\"16\",24,IF('Page 5'!A36=\"18\",24,IF('Page 5'!A36=\"20\",24,IF('Page 5'!A36=\"22\",24,IF('Page 5'!A36=\"24\",24,IF('Page 5'!A36=\"26\",24,IF('Page 5'!A36=\"28\",22,IF('Page 5'!A36=\"30\",22,IF('Page 5'!A36=\"32\",22,IF('Page 5'!A36=\"34\",22,IF('Page 5'!A36=\"36\",22,IF('Page 5'!A36=\"38\",22,IF('Page 5'!A36=\"40\",22,IF('Page 5'!A36=\"42\",22,IF('Page 5'!A36=\"44\",22,IF('Page 5'!A36=\"46\",22,IF('Page 5'!A36=\"48\",22,\"\"))))))))))))))))))))))","v":""},"2\""]
[null,null,null,null,null,null,null,null,null,null,null,null,"SyteLine","QTY",null,"VALIDATION",null,null,null,null,null,"GAL",{"$f":"IF('Page 5'!A36=\"06\",24,IF('Page 5'!A36=\"08\",24,IF('Page 5'!A36=\"10\",24,IF('Page 5'!A36=\"12\",24,IF('Page 5'!A36=\"14\",24,IF('Page 5'!A36=\"16\",24,IF('Page 5'!A36=\"18\",24,IF('Page 5'!A36=\"20\",24,IF('Page 5'!A36=\"22\",22,IF('Page 5'!A36=\"24\",22,IF('Page 5'!A36=\"26\",22,IF('Page 5'!A36=\"28\",22,IF('Page 5'!A36=\"30\",22,IF('Page 5'!A36=\"32\",22,IF('Page 5'!A36=\"34\",22,IF('Page 5'!A36=\"36\",22,IF('Page 5'!A36=\"38\",22,IF('Page 5'!A36=\"40\",22,IF('Page 5'!A36=\"42\",22,IF('Page 5'!A36=\"44\",22,IF('Page 5'!A36=\"46\",22,IF('Page 5'!A36=\"48\",22,\"\"))))))))))))))))))))))","v":""},"4\""]
[null,{"$f":"IF('Page 5'!$A$19<>\"\",\"V\",\"\")","v":""},{"$f":"IF('Page 5'!$A$36<>\"\",\"C\",\"\")","v":""},{"$f":"IF('Page 5'!$A$19<>\"\",\"-\",\"\")","v":""},{"$f":"IF('Page 5'!$A$19<>\"\",'Page 5'!$A$36,\"\")","v":""},{"$f":"IF('Page 5'!C36<>\"\",'Page 5'!D36,\"\")","v":""},{"$f":"IF('Page 5'!$D$19<>\"\",\"A\",IF('Page 5'!$D$20<>\"\",\"B\",\"\"))","v":""},{"$f":"IF('Page 5'!$F$19<>\"\",\"26\",IF('Page 5'!$F$20<>\"\",\"24\",IF('Page 5'!$F$21<>\"\",\"20\",IF('Page 5'!$D$19<>\"\",IF('Page 5'!$F$22<>\"\",$U$3,\"\"),IF('Page 5'!$D$20<>\"\",IF('Page 5'!$F$22<>\"\",$U$6,\"\"),\"\")))))","v":""},{"$f":"IF('Page 5'!$H$19<>\"\",\"A\",IF('Page 5'!$H$20<>\"\",\"B\",IF('Page 5'!$H$21<>\"\",\"C\",\"\")))","v":""},{"$f":"IF('Page 5'!$K$19<>\"\",\"26\",IF('Page 5'!$K$20<>\"\",\"24\",IF('Page 5'!$K$21<>\"\",\"20\",IF($Z$3<>\"\",$Z$3,IF($Z$6<>\"\",$Z$6,IF($Z$9<>\"\",$Z$9,\"\"))))))","v":""},{"$f":"IF('Page 5'!$M$19<>\"\",\"1\",IF('Page 5'!$M$20<>\"\",\"2\",IF('Page 5'!$M$21<>\"\",\"4\",\"\")))","v":""},null,{"$f":"IF('Page 5'!C36<>\"\",IF('Page 5'!D36<>\"\",CONCATENATE(B12,C12,D12,E12,F12,G12,H12,I12,J12,K12),\"\"),\"\")","v":""},{"$f":"IF('Page 5'!C36<>\"\",'Page 5'!C36,\"\")","v":""},null,{"$f":"IFERROR(VLOOKUP(LEFT(M12,20),Item_VIP!$A$2:$B$7499,1,FALSE),\"\")","v":""},null,"LENGTH D1, D2 & DB","SS 304","STD",{"$f":"IF('Page 5'!A36=\"06\",20,IF('Page 5'!A36=\"08\",20,IF('Page 5'!A36=\"10\",20,IF('Page 5'!A36=\"12\",20,IF('Page 5'!A36=\"14\",20,IF('Page 5'!A36=\"16\",20,IF('Page 5'!A36=\"18\",20,IF('Page 5'!A36=\"20\",20,IF('Page 5'!A36=\"22\",20,IF('Page 5'!A36=\"24\",20,IF('Page 5'!A36=\"26\",20,IF('Page 5'!A36=\"28\",20,IF('Page 5'!A36=\"30\",20,IF('Page 5'!A36=\"32\",20,IF('Page 5'!A36=\"34\",20,IF('Page 5'!A36=\"36\",20,IF('Page 5'!A36=\"38\",20,IF('Page 5'!A36=\"40\",20,IF('Page 5'!A36=\"42\",20,IF('Page 5'!A36=\"44\",20,IF('Page 5'!A36=\"46\",20,IF('Page 5'!A36=\"48\",20,\"\"))))))))))))))))))))))","v":""},"STD",{"$f":"IF('Page 5'!A36=\"06\",26,IF('Page 5'!A36=\"08\",26,IF('Page 5'!A36=\"10\",26,IF('Page 5'!A36=\"12\",26,IF('Page 5'!A36=\"14\",26,IF('Page 5'!A36=\"16\",24,IF('Page 5'!A36=\"18\",24,IF('Page 5'!A36=\"20\",24,IF('Page 5'!A36=\"22\",24,IF('Page 5'!A36=\"24\",24,IF('Page 5'!A36=\"26\",24,IF('Page 5'!A36=\"28\",24,IF('Page 5'!A36=\"30\",20,IF('Page 5'!A36=\"32\",20,IF('Page 5'!A36=\"34\",20,IF('Page 5'!A36=\"36\",20,IF('Page 5'!A36=\"38\",20,IF('Page 5'!A36=\"40\",20,IF('Page 5'!A36=\"42\",20,IF('Page 5'!A36=\"44\",20,IF('Page 5'!A36=\"46\",20,IF('Page 5'!A36=\"48\",20,\"\"))))))))))))))))))))))","v":""},"1\"",null,{"$f":"IF('Page 5'!$H$19<>\"\",IF('Page 5'!$M$19<>\"\",IF('Page 5'!$K$22<>\"\",$W$12,\"\"),IF('Page 5'!$H$19<>\"\",IF('Page 5'!$M$20<>\"\",IF('Page 5'!$K$22<>\"\",$W$13,\"\"),IF('Page 5'!$H$19<>\"\",IF('Page 5'!$M$21<>\"\",IF('Page 5'!$K$22<>\"\",$W$14,\"\"),\"\"))))),\"\")","v":""},"SI 1\" OU 2\" OU 4\""]
[null,{"$f":"IF('Page 5'!$A$19<>\"\",\"V\",\"\")","v":""},{"$f":"IF('Page 5'!$A$36<>\"\",\"C\",\"\")","v":""},{"$f":"IF('Page 5'!$A$19<>\"\",\"-\",\"\")","v":""},{"$f":"IF('Page 5'!$A$19<>\"\",'Page 5'!$A$36,\"\")","v":""},{"$f":"IF('Page 5'!C37<>\"\",'Page 5'!D37,\"\")","v":""},{"$f":"IF('Page 5'!$D$19<>\"\",\"A\",IF('Page 5'!$D$20<>\"\",\"B\",\"\"))","v":""},{"$f":"IF('Page 5'!$F$19<>\"\",\"26\",IF('Page 5'!$F$20<>\"\",\"24\",IF('Page 5'!$F$21<>\"\",\"20\",IF('Page 5'!$D$19<>\"\",IF('Page 5'!$F$22<>\"\",$U$3,\"\"),IF('Page 5'!$D$20<>\"\",IF('Page 5'!$F$22<>\"\",$U$6,\"\"),\"\")))))","v":""},{"$f":"IF('Page 5'!$H$19<>\"\",\"A\",IF('Page 5'!$H$20<>\"\",\"B\",IF('Page 5'!$H$21<>\"\",\"C\",\"\")))","v":""},{"$f":"IF('Page 5'!$K$19<>\"\",\"26\",IF('Page 5'!$K$20<>\"\",\"24\",IF('Page 5'!$K$21<>\"\",\"20\",IF($Z$3<>\"\",$Z$3,IF($Z$6<>\"\",$Z$6,IF($Z$9<>\"\",$Z$9,\"\"))))))","v":""},{"$f":"IF('Page 5'!$M$19<>\"\",\"1\",IF('Page 5'!$M$20<>\"\",\"2\",IF('Page 5'!$M$21<>\"\",\"4\",\"\")))","v":""},null,{"$f":"IF('Page 5'!C37<>\"\",IF('Page 5'!D37<>\"\",CONCATENATE(B13,C13,D13,E13,F13,G13,H13,I13,J13,K13),\"\"),\"\")","v":""},{"$f":"IF('Page 5'!C37<>\"\",'Page 5'!C37,\"\")","v":""},null,{"$f":"IFERROR(VLOOKUP(LEFT(M13,20),Item_VIP!$A$2:$B$7499,1,FALSE),\"\")","v":""},null,null,null,null,null,"STD",{"$f":"IF('Page 5'!A36=\"06\",26,IF('Page 5'!A36=\"08\",26,IF('Page 5'!A36=\"10\",26,IF('Page 5'!A36=\"12\",26,IF('Page 5'!A36=\"14\",24,IF('Page 5'!A36=\"16\",24,IF('Page 5'!A36=\"18\",24,IF('Page 5'!A36=\"20\",24,IF('Page 5'!A36=\"22\",24,IF('Page 5'!A36=\"24\",24,IF('Page 5'!A36=\"26\",24,IF('Page 5'!A36=\"28\",20,IF('Page 5'!A36=\"30\",20,IF('Page 5'!A36=\"32\",20,IF('Page 5'!A36=\"34\",20,IF('Page 5'!A36=\"36\",20,IF('Page 5'!A36=\"38\",20,IF('Page 5'!A36=\"40\",20,IF('Page 5'!A36=\"42\",20,IF('Page 5'!A36=\"44\",20,IF('Page 5'!A36=\"46\",20,IF('Page 5'!A36=\"48\",20,\"\"))))))))))))))))))))))","v":""},"2\""]
[null,{"$f":"IF('Page 5'!$A$19<>\"\",\"V\",\"\")","v":""},{"$f":"IF('Page 5'!$A$36<>\"\",\"C\",\"\")","v":""},{"$f":"IF('Page 5'!$A$19<>\"\",\"-\",\"\")","v":""},{"$f":"IF('Page 5'!$A$19<>\"\",'Page 5'!$A$36,\"\")","v":""},{"$f":"IF('Page 5'!C38<>\"\",'Page 5'!D38,\"\")","v":""},{"$f":"IF('Page 5'!$D$19<>\"\",\"A\",IF('Page 5'!$D$20<>\"\",\"B\",\"\"))","v":""},{"$f":"IF('Page 5'!$F$19<>\"\",\"26\",IF('Page 5'!$F$20<>\"\",\"24\",IF('Page 5'!$F$21<>\"\",\"20\",IF('Page 5'!$D$19<>\"\",IF('Page 5'!$F$22<>\"\",$U$3,\"\"),IF('Page 5'!$D$20<>\"\",IF('Page 5'!$F$22<>\"\",$U$6,\"\"),\"\")))))","v":""},{"$f":"IF('Page 5'!$H$19<>\"\",\"A\",IF('Page 5'!$H$20<>\"\",\"B\",IF('Page 5'!$H$21<>\"\",\"C\",\"\")))","v":""},{"$f":"IF('Page 5'!$K$19<>\"\",\"26\",IF('Page 5'!$K$20<>\"\",\"24\",IF('Page 5'!$K$21<>\"\",\"20\",IF($Z$3<>\"\",$Z$3,IF($Z$6<>\"\",$Z$6,IF($Z$9<>\"\",$Z$9,\"\"))))))","v":""},{"$f":"IF('Page 5'!$M$19<>\"\",\"1\",IF('Page 5'!$M$20<>\"\",\"2\",IF('Page 5'!$M$21<>\"\",\"4\",\"\")))","v":""},null,{"$f":"IF('Page 5'!C38<>\"\",IF('Page 5'!D38<>\"\",CONCATENATE(B14,C14,D14,E14,F14,G14,H14,I14,J14,K14),\"\"),\"\")","v":""},{"$f":"IF('Page 5'!C38<>\"\",'Page 5'!C38,\"\")","v":""},null,{"$f":"IFERROR(VLOOKUP(LEFT(M14,20),Item_VIP!$A$2:$B$7499,1,FALSE),\"\")","v":""},null,null,null,null,null,"STD",{"$f":"IF('Page 5'!A36=\"06\",26,IF('Page 5'!A36=\"08\",26,IF('Page 5'!A36=\"10\",24,IF('Page 5'!A36=\"12\",24,IF('Page 5'!A36=\"14\",24,IF('Page 5'!A36=\"16\",24,IF('Page 5'!A36=\"18\",24,IF('Page 5'!A36=\"20\",24,IF('Page 5'!A36=\"22\",20,IF('Page 5'!A36=\"24\",20,IF('Page 5'!A36=\"26\",20,IF('Page 5'!A36=\"28\",20,IF('Page 5'!A36=\"30\",20,IF('Page 5'!A36=\"32\",20,IF('Page 5'!A36=\"34\",20,IF('Page 5'!A36=\"36\",20,IF('Page 5'!A36=\"38\",20,IF('Page 5'!A36=\"40\",20,IF('Page 5'!A36=\"42\",20,IF('Page 5'!A36=\"44\",20,IF('Page 5'!A36=\"46\",20,IF('Page 5'!A36=\"48\",20,\"\"))))))))))))))))))))))","v":""},"4\""]
[null,{"$f":"IF('Page 5'!$A$19<>\"\",\"V\",\"\")","v":""},{"$f":"IF('Page 5'!$A$36<>\"\",\"C\",\"\")","v":""},{"$f":"IF('Page 5'!$A$19<>\"\",\"-\",\"\")","v":""},{"$f":"IF('Page 5'!$A$19<>\"\",'Page 5'!$A$36,\"\")","v":""},{"$f":"IF('Page 5'!C39<>\"\",'Page 5'!D39,\"\")","v":""},{"$f":"IF('Page 5'!$D$19<>\"\",\"A\",IF('Page 5'!$D$20<>\"\",\"B\",\"\"))","v":""},{"$f":"IF('Page 5'!$F$19<>\"\",\"26\",IF('Page 5'!$F$20<>\"\",\"24\",IF('Page 5'!$F$21<>\"\",\"20\",IF('Page 5'!$D$19<>\"\",IF('Page 5'!$F$22<>\"\",$U$3,\"\"),IF('Page 5'!$D$20<>\"\",IF('Page 5'!$F$22<>\"\",$U$6,\"\"),\"\")))))","v":""},{"$f":"IF('Page 5'!$H$19<>\"\",\"A\",IF('Page 5'!$H$20<>\"\",\"B\",IF('Page 5'!$H$21<>\"\",\"C\",\"\")))","v":""},{"$f":"IF('Page 5'!$K$19<>\"\",\"26\",IF('Page 5'!$K$20<>\"\",\"24\",IF('Page 5'!$K$21<>\"\",\"20\",IF($Z$3<>\"\",$Z$3,IF($Z$6<>\"\",$Z$6,IF($Z$9<>\"\",$Z$9,\"\"))))))","v":""},{"$f":"IF('Page 5'!$M$19<>\"\",\"1\",IF('Page 5'!$M$20<>\"\",\"2\",IF('Page 5'!$M$21<>\"\",\"4\",\"\")))","v":""},null,{"$f":"IF('Page 5'!C39<>\"\",IF('Page 5'!D39<>\"\",CONCATENATE(B15,C15,D15,E15,F15,G15,H15,I15,J15,K15),\"\"),\"\")","v":""},{"$f":"IF('Page 5'!C39<>\"\",'Page 5'!C39,\"\")","v":""},null,{"$f":"IFERROR(VLOOKUP(LEFT(M15,20),Item_VIP!$A$2:$B$7499,1,FALSE),\"\")","v":""},null,null,"SS 316","STD",{"$f":"IF('Page 5'!A36=\"06\",20,IF('Page 5'!A36=\"08\",20,IF('Page 5'!A36=\"10\",20,IF('Page 5'!A36=\"12\",20,IF('Page 5'!A36=\"14\",20,IF('Page 5'!A36=\"16\",20,IF('Page 5'!A36=\"18\",20,IF('Page 5'!A36=\"20\",20,IF('Page 5'!A36=\"22\",20,IF('Page 5'!A36=\"24\",24,IF('Page 5'!A36=\"26\",20,IF('Page 5'!A36=\"28\",20,IF('Page 5'!A36=\"30\",20,IF('Page 5'!A36=\"32\",20,IF('Page 5'!A36=\"34\",20,IF('Page 5'!A36=\"36\",20,IF('Page 5'!A36=\"38\",20,IF('Page 5'!A36=\"40\",20,IF('Page 5'!A36=\"42\",20,IF('Page 5'!A36=\"44\",20,IF('Page 5'!A36=\"46\",20,IF('Page 5'!A36=\"48\",20,\"\"))))))))))))))))))))))","v":""},"STD",{"$f":"IF('Page 5'!A36=\"06\",24,IF('Page 5'!A36=\"08\",24,IF('Page 5'!A36=\"10\",24,IF('Page 5'!A36=\"12\",24,IF('Page 5'!A36=\"14\",24,IF('Page 5'!A36=\"16\",24,IF('Page 5'!A36=\"18\",24,IF('Page 5'!A36=\"20\",24,IF('Page 5'!A36=\"22\",24,IF('Page 5'!A36=\"24\",24,IF('Page 5'!A36=\"26\",24,IF('Page 5'!A36=\"28\",24,IF('Page 5'!A36=\"30\",20,IF('Page 5'!A36=\"32\",20,IF('Page 5'!A36=\"34\",20,IF('Page 5'!A36=\"36\",20,IF('Page 5'!A36=\"38\",20,IF('Page 5'!A36=\"40\",20,IF('Page 5'!A36=\"42\",20,IF('Page 5'!A36=\"44\",20,IF('Page 5'!A36=\"46\",20,IF('Page 5'!A36=\"48\",20,\"\"))))))))))))))))))))))","v":""},"1\"",null,{"$f":"IF('Page 5'!$H$20<>\"\",IF('Page 5'!$M$19<>\"\",IF('Page 5'!$K$22<>\"\",$W$15,\"\"),IF('Page 5'!$H$20<>\"\",IF('Page 5'!$M$20<>\"\",IF('Page 5'!$K$22<>\"\",$W$16,\"\"),IF('Page 5'!$H$20<>\"\",IF('Page 5'!$M$21<>\"\",IF('Page 5'!$K$22<>\"\",$W$17,\"\"),\"\"))))),\"\")","v":""},"SI 1\" OU 2\" OU 4\""]
[null,{"$f":"IF('Page 5'!$A$19<>\"\",\"V\",\"\")","v":""},"S",{"$f":"IF('Page 5'!$A$19<>\"\",\"-\",\"\")","v":""},{"$f":"IF('Page 5'!$A$19<>\"\",'Page 5'!$A$36,\"\")","v":""},{"$f":"IF('Page 5'!C40<>\"\",'Page 5'!D40,\"\")","v":""},{"$f":"IF('Page 5'!$D$19<>\"\",\"A\",IF('Page 5'!$D$20<>\"\",\"B\",\"\"))","v":""},20,{"$f":"IF('Page 5'!$H$19<>\"\",\"A\",IF('Page 5'!$H$20<>\"\",\"B\",IF('Page 5'!$H$21<>\"\",\"C\",\"\")))","v":""},{"$f":"IF('Page 5'!$K$20<>\"\",\"24\",IF('Page 5'!$K$21<>\"\",\"20\",IF($Z$21<>\"\",$Z$21,IF($Z$24<>\"\",$Z$24,IF($Z$27<>\"\",$Z$27,\"\")))))","v":""},{"$f":"IF('Page 5'!$M$19<>\"\",\"1\",IF('Page 5'!$M$20<>\"\",\"2\",IF('Page 5'!$M$21<>\"\",\"4\",\"\")))","v":""},"-SP",{"$f":"IF('Page 5'!C40<>\"\",IF('Page 5'!D40<>\"\",CONCATENATE(B16,C16,D16,E16,F16,G16,H16,I16,J16,K16,L16),\"\"),\"\")","v":""},{"$f":"IF('Page 5'!C40<>\"\",'Page 5'!C40,\"\")","v":""},null,{"$f":"IFERROR(VLOOKUP(LEFT(M16,20),Item_VIP!$A$2:$B$7499,1,FALSE),\"\")","v":""},null,null,null,null,null,"STD",{"$f":"IF('Page 5'!A36=\"06\",24,IF('Page 5'!A36=\"08\",24,IF('Page 5'!A36=\"10\",24,IF('Page 5'!A36=\"12\",24,IF('Page 5'!A36=\"14\",24,IF('Page 5'!A36=\"16\",24,IF('Page 5'!A36=\"18\",24,IF('Page 5'!A36=\"20\",24,IF('Page 5'!A36=\"22\",24,IF('Page 5'!A36=\"24\",24,IF('Page 5'!A36=\"26\",24,IF('Page 5'!A36=\"28\",20,IF('Page 5'!A36=\"30\",20,IF('Page 5'!A36=\"32\",20,IF('Page 5'!A36=\"34\",20,IF('Page 5'!A36=\"36\",20,IF('Page 5'!A36=\"38\",20,IF('Page 5'!A36=\"40\",20,IF('Page 5'!A36=\"42\",20,IF('Page 5'!A36=\"44\",20,IF('Page 5'!A36=\"46\",20,IF('Page 5'!A36=\"48\",20,\"\"))))))))))))))))))))))","v":""},"2\""]
[null,{"$f":"IF('Page 5'!$A$19<>\"\",\"V\",\"\")","v":""},{"$f":"IF('Page 5'!$A$36<>\"\",\"C\",\"\")","v":""},{"$f":"IF('Page 5'!$A$19<>\"\",\"-\",\"\")","v":""},{"$f":"IF('Page 5'!$A$19<>\"\",'Page 5'!$A$36,\"\")","v":""},{"$f":"IF('Page 5'!C41<>\"\",'Page 5'!D41,\"\")","v":""},{"$f":"IF('Page 5'!$D$19<>\"\",\"A\",IF('Page 5'!$D$20<>\"\",\"B\",\"\"))","v":""},{"$f":"IF('Page 5'!$F$19<>\"\",\"26\",IF('Page 5'!$F$20<>\"\",\"24\",IF('Page 5'!$F$21<>\"\",\"20\",IF('Page 5'!$D$19<>\"\",IF('Page 5'!$F$22<>\"\",$U$3,\"\"),IF('Page 5'!$D$20<>\"\",IF('Page 5'!$F$22<>\"\",$U$6,\"\"),\"\")))))","v":""},{"$f":"IF('Page 5'!$H$19<>\"\",\"A\",IF('Page 5'!$H$20<>\"\",\"B\",IF('Page 5'!$H$21<>\"\",\"C\",\"\")))","v":""},{"$f":"IF('Page 5'!$K$19<>\"\",\"26\",IF('Page 5'!$K$20<>\"\",\"24\",IF('Page 5'!$K$21<>\"\",\"20\",IF($Z$3<>\"\",$Z$3,IF($Z$6<>\"\",$Z$6,IF($Z$9<>\"\",$Z$9,\"\"))))))","v":""},{"$f":"IF('Page 5'!$M$19<>\"\",\"1\",IF('Page 5'!$M$20<>\"\",\"2\",IF('Page 5'!$M$21<>\"\",\"4\",\"\")))","v":""},null,{"$f":"IF('Page 5'!C41<>\"\",IF('Page 5'!D41<>\"\",CONCATENATE(B17,C17,D17,E17,F17,G17,H17,I17,J17,K17),\"\"),\"\")","v":""},{"$f":"IF('Page 5'!C41<>\"\",'Page 5'!C41,\"\")","v":""},null,{"$f":"IFERROR(VLOOKUP(LEFT(M17,20),Item_VIP!$A$2:$B$7499,1,FALSE),\"\")","v":""},null,null,null,null,null,"STD",{"$f":"IF('Page 5'!A36=\"06\",24,IF('Page 5'!A36=\"08\",24,IF('Page 5'!A36=\"10\",24,IF('Page 5'!A36=\"12\",24,IF('Page 5'!A36=\"14\",24,IF('Page 5'!A36=\"16\",24,IF('Page 5'!A36=\"18\",24,IF('Page 5'!A36=\"20\",24,IF('Page 5'!A36=\"22\",20,IF('Page 5'!A36=\"24\",20,IF('Page 5'!A36=\"26\",20,IF('Page 5'!A36=\"28\",20,IF('Page 5'!A36=\"30\",20,IF('Page 5'!A36=\"32\",20,IF('Page 5'!A36=\"34\",20,IF('Page 5'!A36=\"36\",20,IF('Page 5'!A36=\"38\",20,IF('Page 5'!A36=\"40\",20,IF('Page 5'!A36=\"42\",20,IF('Page 5'!A36=\"44\",20,IF('Page 5'!A36=\"46\",20,IF('Page 5'!A36=\"48\",20,\"\"))))))))))))))))))))))","v":""},"4\""]
[null,{"$f":"IF('Page 5'!$A$19<>\"\",\"V\",\"\")","v":""},{"$f":"IF('Page 5'!$A$36<>\"\",\"C\",\"\")","v":""},{"$f":"IF('Page 5'!$A$19<>\"\",\"-\",\"\")","v":""},{"$f":"IF('Page 5'!$A$19<>\"\",'Page 5'!$A$36,\"\")","v":""},{"$f":"IF('Page 5'!C42<>\"\",'Page 5'!D42,\"\")","v":""},{"$f":"IF('Page 5'!$D$19<>\"\",\"A\",IF('Page 5'!$D$20<>\"\",\"B\",\"\"))","v":""},{"$f":"IF('Page 5'!$F$19<>\"\",\"26\",IF('Page 5'!$F$20<>\"\",\"24\",IF('Page 5'!$F$21<>\"\",\"20\",IF('Page 5'!$D$19<>\"\",IF('Page 5'!$F$22<>\"\",$U$3,\"\"),IF('Page 5'!$D$20<>\"\",IF('Page 5'!$F$22<>\"\",$U$6,\"\"),\"\")))))","v":""},{"$f":"IF('Page 5'!$H$19<>\"\",\"A\",IF('Page 5'!$H$20<>\"\",\"B\",IF('Page 5'!$H$21<>\"\",\"C\",\"\")))","v":""},{"$f":"IF('Page 5'!$K$19<>\"\",\"26\",IF('Page 5'!$K$20<>\"\",\"24\",IF('Page 5'!$K$21<>\"\",\"20\",IF($Z$3<>\"\",$Z$3,IF($Z$6<>\"\",$Z$6,IF($Z$9<>\"\",$Z$9,\"\"))))))","v":""},{"$f":"IF('Page 5'!$M$19<>\"\",\"1\",IF('Page 5'!$M$20<>\"\",\"2\",IF('Page 5'!$M$21<>\"\",\"4\",\"\")))","v":""},null,{"$f":"IF('Page 5'!C42<>\"\",IF('Page 5'!D42<>\"\",CONCATENATE(B18,C18,D18,E18,F18,G18,H18,I18,J18,K18),\"\"),\"\")","v":""},{"$f":"IF('Page 5'!C42<>\"\",'Page 5'!C42,\"\")","v":""},null,{"$f":"IFERROR(VLOOKUP(LEFT(M18,20),Item_VIP!$A$2:$B$7499,1,FALSE),\"\")","v":""},null,null,"GALVALUME STD",null,null,"GAL",{"$f":"IF('Page 5'!A36=\"06\",24,IF('Page 5'!A36=\"08\",24,IF('Page 5'!A36=\"10\",24,IF('Page 5'!A36=\"12\",24,IF('Page 5'!A36=\"14\",24,IF('Page 5'!A36=\"16\",24,IF('Page 5'!A36=\"18\",24,IF('Page 5'!A36=\"20\",24,IF('Page 5'!A36=\"22\",24,IF('Page 5'!A36=\"24\",24,IF('Page 5'!A36=\"26\",24,IF('Page 5'!A36=\"28\",24,IF('Page 5'!A36=\"30\",22,IF('Page 5'!A36=\"32\",22,IF('Page 5'!A36=\"34\",22,IF('Page 5'!A36=\"36\",22,IF('Page 5'!A36=\"38\",22,IF('Page 5'!A36=\"40\",22,IF('Page 5'!A36=\"42\",22,IF('Page 5'!A36=\"44\",22,IF('Page 5'!A36=\"46\",22,IF('Page 5'!A36=\"48\",22,\"\"))))))))))))))))))))))","v":""},"1\"",null,{"$f":"IF('Page 5'!$H$21<>\"\",IF('Page 5'!$M$19<>\"\",IF('Page 5'!$K$22<>\"\",$W$18,\"\"),IF('Page 5'!$H$21<>\"\",IF('Page 5'!$M$20<>\"\",IF('Page 5'!$K$22<>\"\",$W$19,\"\"),IF('Page 5'!$H$21<>\"\",IF('Page 5'!$M$21<>\"\",IF('Page 5'!$K$22<>\"\",$W$20,\"\"),\"\"))))),\"\")","v":""},"SI 1\" OU 2\" OU 4\""]
[null,{"$f":"IF('Page 5'!$A$19<>\"\",\"V\",\"\")","v":""},{"$f":"IF('Page 5'!$A$36<>\"\",\"C\",\"\")","v":""},{"$f":"IF('Page 5'!$A$19<>\"\",\"-\",\"\")","v":""},{"$f":"IF('Page 5'!$A$19<>\"\",'Page 5'!$A$36,\"\")","v":""},{"$f":"IF('Page 5'!C43<>\"\",'Page 5'!D43,\"\")","v":""},{"$f":"IF('Page 5'!$D$19<>\"\",\"A\",IF('Page 5'!$D$20<>\"\",\"B\",\"\"))","v":""},{"$f":"IF('Page 5'!$F$21<>\"\",\"20\",IF('Page 5'!$D$19<>\"\",IF('Page 5'!$F$22<>\"\",$U$12,\"\"),IF('Page 5'!$D$20<>\"\",IF('Page 5'!$F$22<>\"\",$U$15,\"\"),\"\")))","v":""},{"$f":"IF('Page 5'!$H$19<>\"\",\"A\",IF('Page 5'!$H$20<>\"\",\"B\",IF('Page 5'!$H$21<>\"\",\"C\",\"\")))","v":""},{"$f":"IF('Page 5'!$K$19<>\"\",\"26\",IF('Page 5'!$K$20<>\"\",\"24\",IF('Page 5'!$K$21<>\"\",\"20\",IF($Z$12<>\"\",$Z$12,IF($Z$15<>\"\",$Z$15,IF($Z$18<>\"\",$Z$18,\"\"))))))","v":""},{"$f":"IF('Page 5'!$M$19<>\"\",\"1\",IF('Page 5'!$M$20<>\"\",\"2\",IF('Page 5'!$M$21<>\"\",\"4\",\"\")))","v":""},null,{"$f":"IF('Page 5'!C43<>\"\",IF('Page 5'!D43<>\"\",CONCATENATE(B19,C19,D19,E19,F19,G19,H19,I19,J19,K19),\"\"),\"\")","v":""},{"$f":"IF('Page 5'!C43<>\"\",'Page 5'!C43,\"\")","v":""},null,{"$f":"IFERROR(VLOOKUP(LEFT(M19,20),Item_VIP!$A$2:$B$7499,1,FALSE),\"\")","v":""},null,null,null,null,null,"GAL",{"$f":"IF('Page 5'!A36=\"06\",24,IF('Page 5'!A36=\"08\",24,IF('Page 5'!A36=\"10\",24,IF('Page 5'!A36=\"12\",24,IF('Page 5'!A36=\"14\",24,IF('Page 5'!A36=\"16\",24,IF('Page 5'!A36=\"18\",24,IF('Page 5'!A36=\"20\",24,IF('Page 5'!A36=\"22\",24,IF('Page 5'!A36=\"24\",24,IF('Page 5'!A36=\"26\",24,IF('Page 5'!A36=\"28\",22,IF('Page 5'!A36=\"30\",22,IF('Page 5'!A36=\"32\",22,IF('Page 5'!A36=\"34\",22,IF('Page 5'!A36=\"36\",22,IF('Page 5'!A36=\"38\",22,IF('Page 5'!A36=\"40\",22,IF('Page 5'!A36=\"42\",22,IF('Page 5'!A36=\"44\",22,IF('Page 5'!A36=\"46\",22,IF('Page 5'!A36=\"48\",22,\"\"))))))))))))))))))))))","v":""},"2\""]
[null,{"$f":"IF('Page 5'!$A$19<>\"\",\"V\",\"\")","v":""},{"$f":"IF('Page 5'!$A$36<>\"\",\"C\",\"\")","v":""},{"$f":"IF('Page 5'!$A$19<>\"\",\"-\",\"\")","v":""},{"$f":"IF('Page 5'!$A$19<>\"\",'Page 5'!$A$36,\"\")","v":""},{"$f":"IF('Page 5'!C44<>\"\",'Page 5'!D44,\"\")","v":""},{"$f":"IF('Page 5'!$D$19<>\"\",\"A\",IF('Page 5'!$D$20<>\"\",\"B\",\"\"))","v":""},{"$f":"IF('Page 5'!$F$21<>\"\",\"20\",IF('Page 5'!$D$19<>\"\",IF('Page 5'!$F$22<>\"\",$U$12,\"\"),IF('Page 5'!$D$20<>\"\",IF('Page 5'!$F$22<>\"\",$U$15,\"\"),\"\")))","v":""},{"$f":"IF('Page 5'!$H$19<>\"\",\"A\",IF('Page 5'!$H$20<>\"\",\"B\",IF('Page 5'!$H$21<>\"\",\"C\",\"\")))","v":""},{"$f":"IF('Page 5'!$K$19<>\"\",\"26\",IF('Page 5'!$K$20<>\"\",\"24\",IF('Page 5'!$K$21<>\"\",\"20\",IF($Z$12<>\"\",$Z$12,IF($Z$15<>\"\",$Z$15,IF($Z$18<>\"\",$Z$18,\"\"))))))","v":""},{"$f":"IF('Page 5'!$M$19<>\"\",\"1\",IF('Page 5'!$M$20<>\"\",\"2\",IF('Page 5'!$M$21<>\"\",\"4\",\"\")))","v":""},null,{"$f":"IF('Page 5'!C44<>\"\",IF('Page 5'!D44<>\"\",CONCATENATE(B20,C20,D20,E20,F20,G20,H20,I20,J20,K20),\"\"),\"\")","v":""},{"$f":"IF('Page 5'!C44<>\"\",'Page 5'!C44,\"\")","v":""},null,{"$f":"IFERROR(VLOOKUP(LEFT(M20,20),Item_VIP!$A$2:$B$7499,1,FALSE),\"\")","v":""},null,null,null,null,null,"GAL",{"$f":"IF('Page 5'!A36=\"06\",24,IF('Page 5'!A36=\"08\",24,IF('Page 5'!A36=\"10\",24,IF('Page 5'!A36=\"12\",24,IF('Page 5'!A36=\"14\",24,IF('Page 5'!A36=\"16\",24,IF('Page 5'!A36=\"18\",24,IF('Page 5'!A36=\"20\",24,IF('Page 5'!A36=\"22\",22,IF('Page 5'!A36=\"24\",22,IF('Page 5'!A36=\"26\",22,IF('Page 5'!A36=\"28\",22,IF('Page 5'!A36=\"30\",22,IF('Page 5'!A36=\"32\",22,IF('Page 5'!A36=\"34\",22,IF('Page 5'!A36=\"36\",22,IF('Page 5'!A36=\"38\",22,IF('Page 5'!A36=\"40\",22,IF('Page 5'!A36=\"42\",22,IF('Page 5'!A36=\"44\",22,IF('Page 5'!A36=\"46\",22,IF('Page 5'!A36=\"48\",22,\"\"))))))))))))))))))))))","v":""},"4\""]
[null,{"$f":"IF('Page 5'!$A$19<>\"\",\"V\",\"\")","v":""},{"$f":"IF('Page 5'!$A$36<>\"\",\"C\",\"\")","v":""},{"$f":"IF('Page 5'!$A$19<>\"\",\"-\",\"\")","v":""},{"$f":"IF('Page 5'!$A$19<>\"\",'Page 5'!$A$36,\"\")","v":""},{"$f":"IF('Page 5'!C45<>\"\",'Page 5'!D45,\"\")","v":""},{"$f":"IF('Page 5'!$D$19<>\"\",\"A\",IF('Page 5'!$D$20<>\"\",\"B\",\"\"))","v":""},{"$f":"IF('Page 5'!$F$21<>\"\",\"20\",IF('Page 5'!$D$19<>\"\",IF('Page 5'!$F$22<>\"\",$U$12,\"\"),IF('Page 5'!$D$20<>\"\",IF('Page 5'!$F$22<>\"\",$U$15,\"\"),\"\")))","v":""},{"$f":"IF('Page 5'!$H$19<>\"\",\"A\",IF('Page 5'!$H$20<>\"\",\"B\",IF('Page 5'!$H$21<>\"\",\"C\",\"\")))","v":""},{"$f":"IF('Page 5'!$K$19<>\"\",\"26\",IF('Page 5'!$K$20<>\"\",\"24\",IF('Page 5'!$K$21<>\"\",\"20\",IF($Z$12<>\"\",$Z$12,IF($Z$15<>\"\",$Z$15,IF($Z$18<>\"\",$Z$18,\"\"))))))","v":""},{"$f":"IF('Page 5'!$M$19<>\"\",\"1\",IF('Page 5'!$M$20<>\"\",\"2\",IF('Page 5'!$M$21<>\"\",\"4\",\"\")))","v":""},null,{"$f":"IF('Page 5'!C45<>\"\",IF('Page 5'!D45<>\"\",CONCATENATE(B21,C21,D21,E21,F21,G21,H21,I21,J21,K21),\"\"),\"\")","v":""},{"$f":"IF('Page 5'!C45<>\"\",'Page 5'!C45,\"\")","v":""},null,{"$f":"IFERROR(VLOOKUP(LEFT(M21,20),Item_VIP!$A$2:$B$7499,1,FALSE),\"\")","v":""},null,"ELBOW","SS 304","STD",{"$f":"IF('Page 5'!A47=\"06\",24,IF('Page 5'!A47=\"08\",24,IF('Page 5'!A47=\"10\",24,IF('Page 5'!A47=\"12\",24,IF('Page 5'!A47=\"14\",24,IF('Page 5'!A47=\"16\",24,IF('Page 5'!A47=\"18\",24,IF('Page 5'!A47=\"20\",24,IF('Page 5'!A47=\"22\",24,IF('Page 5'!A47=\"24\",24,IF('Page 5'!A47=\"26\",24,IF('Page 5'!A47=\"28\",24,IF('Page 5'!A47=\"30\",20,IF('Page 5'!A47=\"32\",20,IF('Page 5'!A47=\"34\",20,IF('Page 5'!A47=\"36\",20,IF('Page 5'!A47=\"38\",20,IF('Page 5'!A47=\"40\",20,IF('Page 5'!A47=\"42\",20,IF('Page 5'!A47=\"44\",20,IF('Page 5'!A47=\"46\",20,IF('Page 5'!A47=\"48\",20,\"\"))))))))))))))))))))))","v":""},"STD",{"$f":"IF('Page 5'!A47=\"06\",24,IF('Page 5'!A47=\"08\",24,IF('Page 5'!A47=\"10\",24,IF('Page 5'!A47=\"12\",24,IF('Page 5'!A47=\"14\",24,IF('Page 5'!A47=\"16\",24,IF('Page 5'!A47=\"18\",24,IF('Page 5'!A47=\"20\",24,IF('Page 5'!A47=\"22\",24,IF('Page 5'!A47=\"24\",24,IF('Page 5'!A47=\"26\",24,IF('Page 5'!A47=\"28\",24,IF('Page 5'!A47=\"30\",20,IF('Page 5'!A47=\"32\",20,IF('Page 5'!A47=\"34\",20,IF('Page 5'!A47=\"36\",20,IF('Page 5'!A47=\"38\",20,IF('Page 5'!A47=\"40\",20,IF('Page 5'!A47=\"42\",20,IF('Page 5'!A47=\"44\",20,IF('Page 5'!A47=\"46\",20,IF('Page 5'!A47=\"48\",20,\"\"))))))))))))))))))))))","v":""},"1\"",null,{"$f":"IF('Page 5'!$H$19<>\"\",IF('Page 5'!$M$19<>\"\",IF('Page 5'!$K$22<>\"\",$W$21,\"\"),IF('Page 5'!$H$19<>\"\",IF('Page 5'!$M$20<>\"\",IF('Page 5'!$K$22<>\"\",$W$22,\"\"),IF('Page 5'!$H$19<>\"\",IF('Page 5'!$M$21<>\"\",IF('Page 5'!$K$22<>\"\",$W$23,\"\"),\"\"))))),\"\")","v":""},"SI 1\" OU 2\" OU 4\""]
[null,{"$f":"IF('Page 5'!$A$19<>\"\",\"V\",\"\")","v":""},{"$f":"IF('Page 5'!$A$47<>\"\",\"E\",\"\")","v":""},{"$f":"IF('Page 5'!$A$19<>\"\",\"-\",\"\")","v":""},{"$f":"IF('Page 5'!$A$19<>\"\",'Page 5'!$A$47,\"\")","v":""},{"$f":"IF('Page 5'!$C$47<>\"\",'Page 5'!D47,\"\")","v":""},{"$f":"IF('Page 5'!$D$19<>\"\",\"A\",IF('Page 5'!$D$20<>\"\",\"B\",\"\"))","v":""},{"$f":"IF('Page 5'!$F$20<>\"\",\"24\",IF('Page 5'!$F$21<>\"\",\"20\",IF('Page 5'!$D$19<>\"\",IF('Page 5'!$F$22<>\"\",$U$21,\"\"),IF('Page 5'!$D$20<>\"\",IF('Page 5'!$F$22<>\"\",$U$24,\"\"),\"\"))))","v":""},{"$f":"IF('Page 5'!$H$19<>\"\",\"A\",IF('Page 5'!$H$20<>\"\",\"B\",IF('Page 5'!$H$21<>\"\",\"C\",\"\")))","v":""},{"$f":"IF('Page 5'!$K$20<>\"\",\"24\",IF('Page 5'!$K$21<>\"\",\"20\",IF($Z$21<>\"\",$Z$21,IF($Z$24<>\"\",$Z$24,IF($Z$27<>\"\",$Z$27,\"\")))))","v":""},{"$f":"IF('Page 5'!$M$19<>\"\",\"1\",IF('Page 5'!$M$20<>\"\",\"2\",IF('Page 5'!$M$21<>\"\",\"4\",\"\")))","v":""},null,{"$f":"IF('Page 5'!$C$47<>\"\",IF('Page 5'!$D$47<>\"\",CONCATENATE(B22,C22,D22,E22,F22,G22,H22,I22,J22,K22),\"\"),\"\")","v":""},{"$f":"IF('Page 5'!C47<>\"\",'Page 5'!C47,\"\")","v":""},null,{"$f":"IFERROR(VLOOKUP(LEFT(M22,20),Item_VIP!$A$2:$B$7499,1,FALSE),\"\")","v":""},null,null,null,null,null,"STD",{"$f":"IF('Page 5'!A47=\"06\",24,IF('Page 5'!A47=\"08\",24,IF('Page 5'!A47=\"10\",24,IF('Page 5'!A47=\"12\",24,IF('Page 5'!A47=\"14\",24,IF('Page 5'!A47=\"16\",24,IF('Page 5'!A47=\"18\",24,IF('Page 5'!A47=\"20\",24,IF('Page 5'!A47=\"22\",24,IF('Page 5'!A47=\"24\",24,IF('Page 5'!A47=\"26\",24,IF('Page 5'!A47=\"28\",20,IF('Page 5'!A47=\"30\",20,IF('Page 5'!A47=\"32\",20,IF('Page 5'!A47=\"34\",20,IF('Page 5'!A47=\"36\",20,IF('Page 5'!A47=\"38\",20,IF('Page 5'!A47=\"40\",20,IF('Page 5'!A47=\"42\",20,IF('Page 5'!A47=\"44\",20,IF('Page 5'!A47=\"46\",20,IF('Page 5'!A47=\"48\",20,\"\"))))))))))))))))))))))","v":""},"2\""]
[null,{"$f":"IF('Page 5'!$A$19<>\"\",\"V\",\"\")","v":""},{"$f":"IF('Page 5'!$A$47<>\"\",\"E\",\"\")","v":""},{"$f":"IF('Page 5'!$A$19<>\"\",\"-\",\"\")","v":""},{"$f":"IF('Page 5'!$A$19<>\"\",'Page 5'!$A$47,\"\")","v":""},{"$f":"IF('Page 5'!$C$48<>\"\",'Page 5'!D48,\"\")","v":""},{"$f":"IF('Page 5'!$D$19<>\"\",\"A\",IF('Page 5'!$D$20<>\"\",\"B\",\"\"))","v":""},{"$f":"IF('Page 5'!$F$20<>\"\",\"24\",IF('Page 5'!$F$21<>\"\",\"20\",IF('Page 5'!$D$19<>\"\",IF('Page 5'!$F$22<>\"\",$U$21,\"\"),IF('Page 5'!$D$20<>\"\",IF('Page 5'!$F$22<>\"\",$U$24,\"\"),\"\"))))","v":""},{"$f":"IF('Page 5'!$H$19<>\"\",\"A\",IF('Page 5'!$H$20<>\"\",\"B\",IF('Page 5'!$H$21<>\"\",\"C\",\"\")))","v":""},{"$f":"IF('Page 5'!$K$20<>\"\",\"24\",IF('Page 5'!$K$21<>\"\",\"20\",IF($Z$21<>\"\",$Z$21,IF($Z$24<>\"\",$Z$24,IF($Z$27<>\"\",$Z$27,\"\")))))","v":""},{"$f":"IF('Page 5'!$M$19<>\"\",\"1\",IF('Page 5'!$M$20<>\"\",\"2\",IF('Page 5'!$M$21<>\"\",\"4\",\"\")))","v":""},null,{"$f":"IF('Page 5'!$C$48<>\"\",CONCATENATE(B23,C23,D23,E23,F23,G23,H23,I23,J23,K23),\"\")","v":""},{"$f":"IF('Page 5'!C48<>\"\",'Page 5'!C48,\"\")","v":""},null,{"$f":"IFERROR(VLOOKUP(LEFT(M23,20),Item_VIP!$A$2:$B$7499,1,FALSE),\"\")","v":""},null,null,null,null,null,"STD",{"$f":"IF('Page 5'!A47=\"06\",26,IF('Page 5'!A47=\"08\",26,IF('Page 5'!A47=\"10\",24,IF('Page 5'!A47=\"12\",24,IF('Page 5'!A47=\"14\",24,IF('Page 5'!A47=\"16\",24,IF('Page 5'!A47=\"18\",24,IF('Page 5'!A47=\"20\",24,IF('Page 5'!A47=\"22\",20,IF('Page 5'!A47=\"24\",20,IF('Page 5'!A47=\"26\",20,IF('Page 5'!A47=\"28\",20,IF('Page 5'!A47=\"30\",20,IF('Page 5'!A47=\"32\",20,IF('Page 5'!A47=\"34\",20,IF('Page 5'!A47=\"36\",20,IF('Page 5'!A47=\"38\",20,IF('Page 5'!A47=\"40\",20,IF('Page 5'!A47=\"42\",20,IF('Page 5'!A47=\"44\",20,IF('Page 5'!A47=\"46\",20,IF('Page 5'!A47=\"48\",20,\"\"))))))))))))))))))))))","v":""},"4\""]
[null,{"$f":"IF('Page 5'!$A$19<>\"\",\"V\",\"\")","v":""},{"$f":"IF('Page 5'!$A$47<>\"\",\"E\",\"\")","v":""},{"$f":"IF('Page 5'!$A$19<>\"\",\"-\",\"\")","v":""},{"$f":"IF('Page 5'!$A$19<>\"\",'Page 5'!$A$47,\"\")","v":""},{"$f":"IF('Page 5'!$C$49<>\"\",'Page 5'!D49,\"\")","v":""},{"$f":"IF('Page 5'!$D$19<>\"\",\"A\",IF('Page 5'!$D$20<>\"\",\"B\",\"\"))","v":""},{"$f":"IF('Page 5'!$F$20<>\"\",\"24\",IF('Page 5'!$F$21<>\"\",\"20\",IF('Page 5'!$D$19<>\"\",IF('Page 5'!$F$22<>\"\",$U$21,\"\"),IF('Page 5'!$D$20<>\"\",IF('Page 5'!$F$22<>\"\",$U$24,\"\"),\"\"))))","v":""},{"$f":"IF('Page 5'!$H$19<>\"\",\"A\",IF('Page 5'!$H$20<>\"\",\"B\",IF('Page 5'!$H$21<>\"\",\"C\",\"\")))","v":""},{"$f":"IF('Page 5'!$K$20<>\"\",\"24\",IF('Page 5'!$K$21<>\"\",\"20\",IF($Z$21<>\"\",$Z$21,IF($Z$24<>\"\",$Z$24,IF($Z$27<>\"\",$Z$27,\"\")))))","v":""},{"$f":"IF('Page 5'!$M$19<>\"\",\"1\",IF('Page 5'!$M$20<>\"\",\"2\",IF('Page 5'!$M$21<>\"\",\"4\",\"\")))","v":""},null,{"$f":"IF('Page 5'!$C$49<>\"\",CONCATENATE(B24,C24,D24,E24,F24,G24,H24,I24,J24,K24),\"\")","v":""},{"$f":"IF('Page 5'!C49<>\"\",'Page 5'!C49,\"\")","v":""},null,{"$f":"IFERROR(VLOOKUP(LEFT(M24,20),Item_VIP!$A$2:$B$7499,1,FALSE),\"\")","v":""},null,null,"SS 316","STD",{"$f":"IF('Page 5'!A47=\"06\",24,IF('Page 5'!A47=\"08\",24,IF('Page 5'!A47=\"10\",24,IF('Page 5'!A47=\"12\",24,IF('Page 5'!A47=\"14\",24,IF('Page 5'!A47=\"16\",24,IF('Page 5'!A47=\"18\",24,IF('Page 5'!A47=\"20\",24,IF('Page 5'!A47=\"22\",24,IF('Page 5'!A47=\"24\",24,IF('Page 5'!A47=\"26\",24,IF('Page 5'!A47=\"28\",24,IF('Page 5'!A47=\"30\",20,IF('Page 5'!A47=\"32\",20,IF('Page 5'!A47=\"34\",20,IF('Page 5'!A47=\"36\",20,IF('Page 5'!A47=\"38\",20,IF('Page 5'!A47=\"40\",20,IF('Page 5'!A47=\"42\",20,IF('Page 5'!A47=\"44\",20,IF('Page 5'!A47=\"46\",20,IF('Page 5'!A47=\"48\",20,\"\"))))))))))))))))))))))","v":""},"STD",{"$f":"IF('Page 5'!A47=\"06\",24,IF('Page 5'!A47=\"08\",24,IF('Page 5'!A47=\"10\",24,IF('Page 5'!A47=\"12\",24,IF('Page 5'!A47=\"14\",24,IF('Page 5'!A47=\"16\",24,IF('Page 5'!A47=\"18\",24,IF('Page 5'!A47=\"24\",24,IF('Page 5'!A47=\"22\",24,IF('Page 5'!A47=\"24\",24,IF('Page 5'!A47=\"26\",24,IF('Page 5'!A47=\"28\",24,IF('Page 5'!A47=\"30\",20,IF('Page 5'!A47=\"32\",20,IF('Page 5'!A47=\"34\",20,IF('Page 5'!A47=\"36\",20,IF('Page 5'!A47=\"38\",20,IF('Page 5'!A47=\"40\",20,IF('Page 5'!A47=\"42\",20,IF('Page 5'!A47=\"44\",20,IF('Page 5'!A47=\"46\",20,IF('Page 5'!A47=\"48\",20,\"\"))))))))))))))))))))))","v":""},"1\"",null,{"$f":"IF('Page 5'!$H$20<>\"\",IF('Page 5'!$M$19<>\"\",IF('Page 5'!$K$22<>\"\",$W$24,\"\"),IF('Page 5'!$H$20<>\"\",IF('Page 5'!$M$20<>\"\",IF('Page 5'!$K$22<>\"\",$W$25,\"\"),IF('Page 5'!$H$20<>\"\",IF('Page 5'!$M$21<>\"\",IF('Page 5'!$K$22<>\"\",$W$26,\"\"),\"\"))))),\"\")","v":""},"SI 1\" OU 2\" OU 4\""]
[null,{"$f":"IF('Page 5'!$A$19<>\"\",\"V\",\"\")","v":""},{"$f":"IF('Page 5'!$A$47<>\"\",\"E\",\"\")","v":""},{"$f":"IF('Page 5'!$A$19<>\"\",\"-\",\"\")","v":""},{"$f":"IF('Page 5'!$A$19<>\"\",'Page 5'!$A$47,\"\")","v":""},{"$f":"IF('Page 5'!$C$50<>\"\",'Page 5'!D50,\"\")","v":""},{"$f":"IF('Page 5'!$D$19<>\"\",\"A\",IF('Page 5'!$D$20<>\"\",\"B\",\"\"))","v":""},{"$f":"IF('Page 5'!$F$20<>\"\",\"24\",IF('Page 5'!$F$21<>\"\",\"20\",IF('Page 5'!$D$19<>\"\",IF('Page 5'!$F$22<>\"\",$U$21,\"\"),IF('Page 5'!$D$20<>\"\",IF('Page 5'!$F$22<>\"\",$U$24,\"\"),\"\"))))","v":""},{"$f":"IF('Page 5'!$H$19<>\"\",\"A\",IF('Page 5'!$H$20<>\"\",\"B\",IF('Page 5'!$H$21<>\"\",\"C\",\"\")))","v":""},{"$f":"IF('Page 5'!$K$20<>\"\",\"24\",IF('Page 5'!$K$21<>\"\",\"20\",IF($Z$21<>\"\",$Z$21,IF($Z$24<>\"\",$Z$24,IF($Z$27<>\"\",$Z$27,\"\")))))","v":""},{"$f":"IF('Page 5'!$M$19<>\"\",\"1\",IF('Page 5'!$M$20<>\"\",\"2\",IF('Page 5'!$M$21<>\"\",\"4\",\"\")))","v":""},null,{"$f":"IF('Page 5'!$C$50<>\"\",CONCATENATE(B25,C25,D25,E25,F25,G25,H25,I25,J25,K25),\"\")","v":""},{"$f":"IF('Page 5'!C50<>\"\",'Page 5'!C50,\"\")","v":""},null,{"$f":"IFERROR(VLOOKUP(LEFT(M25,20),Item_VIP!$A$2:$B$7499,1,FALSE),\"\")","v":""},null,null,null,null,null,"STD",{"$f":"IF('Page 5'!A47=\"06\",24,IF('Page 5'!A47=\"08\",24,IF('Page 5'!A47=\"10\",24,IF('Page 5'!A47=\"12\",24,IF('Page 5'!A47=\"14\",24,IF('Page 5'!A47=\"16\",24,IF('Page 5'!A47=\"18\",24,IF('Page 5'!A47=\"20\",24,IF('Page 5'!A47=\"22\",24,IF('Page 5'!A47=\"24\",24,IF('Page 5'!A47=\"26\",24,IF('Page 5'!A47=\"28\",20,IF('Page 5'!A47=\"30\",20,IF('Page 5'!A47=\"32\",20,IF('Page 5'!A47=\"34\",20,IF('Page 5'!A47=\"36\",20,IF('Page 5'!A47=\"38\",20,IF('Page 5'!A47=\"40\",20,IF('Page 5'!A47=\"42\",20,IF('Page 5'!A47=\"44\",20,IF('Page 5'!A47=\"46\",20,IF('Page 5'!A47=\"48\",20,\"\"))))))))))))))))))))))","v":""},"2\""]
[null,{"$f":"IF('Page 5'!$A$19<>\"\",\"V\",\"\")","v":""},{"$f":"IF('Page 5'!$A$52<>\"\",\"E\",\"\")","v":""},{"$f":"IF('Page 5'!$A$19<>\"\",\"-\",\"\")","v":""},{"$f":"IF('Page 5'!$A$19<>\"\",'Page 5'!$A$52,\"\")","v":""},{"$f":"IF('Page 5'!$C$52<>\"\",'Page 5'!D52,\"\")","v":""},{"$f":"IF('Page 5'!$D$19<>\"\",\"A\",IF('Page 5'!$D$20<>\"\",\"B\",\"\"))","v":""},{"$f":"IF('Page 5'!$F$21<>\"\",\"20\",IF('Page 5'!$D$19<>\"\",IF('Page 5'!$F$22<>\"\",$U$30,\"\"),IF('Page 5'!$D$20<>\"\",IF('Page 5'!$F$22<>\"\",$U$33,\"\"),\"\")))","v":""},{"$f":"IF('Page 5'!$H$19<>\"\",\"A\",IF('Page 5'!$H$20<>\"\",\"B\",IF('Page 5'!$H$21<>\"\",\"C\",\"\")))","v":""},{"$f":"IF('Page 5'!$K$20<>\"\",\"24\",IF('Page 5'!$K$21<>\"\",\"20\",IF($Z$30<>\"\",$Z$30,IF($Z$33<>\"\",$Z$33,IF($Z$36<>\"\",$Z$36,\"\")))))","v":""},{"$f":"IF('Page 5'!$M$19<>\"\",\"1\",IF('Page 5'!$M$20<>\"\",\"2\",IF('Page 5'!$M$21<>\"\",\"4\",\"\")))","v":""},null,{"$f":"IF('Page 5'!$C$52<>\"\",CONCATENATE(B26,C26,D26,E26,F26,G26,H26,I26,J26,K26),\"\")","v":""},{"$f":"IF('Page 5'!C52<>\"\",'Page 5'!C52,\"\")","v":""},null,{"$f":"IFERROR(VLOOKUP(LEFT(M26,20),Item_VIP!$A$2:$B$7499,1,FALSE),\"\")","v":""},null,null,null,null,null,"STD",{"$f":"IF('Page 5'!A47=\"06\",26,IF('Page 5'!A47=\"08\",26,IF('Page 5'!A47=\"10\",24,IF('Page 5'!A47=\"12\",24,IF('Page 5'!A47=\"14\",24,IF('Page 5'!A47=\"16\",24,IF('Page 5'!A47=\"18\",24,IF('Page 5'!A47=\"20\",24,IF('Page 5'!A47=\"22\",20,IF('Page 5'!A47=\"24\",20,IF('Page 5'!A47=\"26\",20,IF('Page 5'!A47=\"28\",20,IF('Page 5'!A47=\"30\",20,IF('Page 5'!A47=\"32\",20,IF('Page 5'!A47=\"34\",20,IF('Page 5'!A47=\"36\",20,IF('Page 5'!A47=\"38\",20,IF('Page 5'!A47=\"40\",20,IF('Page 5'!A47=\"42\",20,IF('Page 5'!A47=\"44\",20,IF('Page 5'!A47=\"46\",20,IF('Page 5'!A47=\"48\",20,\"\"))))))))))))))))))))))","v":""},"4\""]
[null,{"$f":"IF('Page 5'!$A$19<>\"\",\"V\",\"\")","v":""},{"$f":"IF('Page 5'!$A$52<>\"\",\"E\",\"\")","v":""},{"$f":"IF('Page 5'!$A$19<>\"\",\"-\",\"\")","v":""},{"$f":"IF('Page 5'!$A$19<>\"\",'Page 5'!$A$53,\"\")","v":""},{"$f":"IF('Page 5'!$C$53<>\"\",'Page 5'!D53,\"\")","v":""},{"$f":"IF('Page 5'!$D$19<>\"\",\"A\",IF('Page 5'!$D$20<>\"\",\"B\",\"\"))","v":""},{"$f":"IF('Page 5'!$F$21<>\"\",\"20\",IF('Page 5'!$D$19<>\"\",IF('Page 5'!$F$22<>\"\",$U$30,\"\"),IF('Page 5'!$D$20<>\"\",IF('Page 5'!$F$22<>\"\",$U$33,\"\"),\"\")))","v":""},{"$f":"IF('Page 5'!$H$19<>\"\",\"A\",IF('Page 5'!$H$20<>\"\",\"B\",IF('Page 5'!$H$21<>\"\",\"C\",\"\")))","v":""},{"$f":"IF('Page 5'!$K$20<>\"\",\"24\",IF('Page 5'!$K$21<>\"\",\"20\",IF($Z$30<>\"\",$Z$30,IF($Z$33<>\"\",$Z$33,IF($Z$36<>\"\",$Z$36,\"\")))))","v":""},{"$f":"IF('Page 5'!$M$19<>\"\",\"1\",IF('Page 5'!$M$20<>\"\",\"2\",IF('Page 5'!$M$21<>\"\",\"4\",\"\")))","v":""},{"$f":"IF('Page 5'!$B$53<>\"\",'Page 5'!$B$53,\"\")","v":""},{"$f":"IF('Page 5'!$C$53<>\"\",CONCATENATE(B27,C27,D27,E27,F27,G27,H27,I27,J27,K27,L27),\"\")","v":""},{"$f":"IF('Page 5'!C53<>\"\",'Page 5'!C53,\"\")","v":""},null,{"$f":"IFERROR(VLOOKUP(LEFT(M27,20),Item_VIP!$A$2:$B$7499,1,FALSE),\"\")","v":""},null,null,"GALVALUME STD",null,null,"GAL",{"$f":"IF('Page 5'!A47=\"06\",24,IF('Page 5'!A47=\"08\",24,IF('Page 5'!A47=\"10\",24,IF('Page 5'!A47=\"12\",24,IF('Page 5'!A47=\"14\",24,IF('Page 5'!A47=\"16\",24,IF('Page 5'!A47=\"18\",24,IF('Page 5'!A47=\"24\",24,IF('Page 5'!A47=\"22\",24,IF('Page 5'!A47=\"24\",24,IF('Page 5'!A47=\"26\",24,IF('Page 5'!A47=\"28\",24,IF('Page 5'!A47=\"30\",22,IF('Page 5'!A47=\"32\",22,IF('Page 5'!A47=\"34\",22,IF('Page 5'!A47=\"36\",22,IF('Page 5'!A47=\"38\",22,IF('Page 5'!A47=\"40\",22,IF('Page 5'!A47=\"42\",22,IF('Page 5'!A47=\"44\",22,IF('Page 5'!A47=\"46\",22,IF('Page 5'!A47=\"48\",22,\"\"))))))))))))))))))))))","v":""},"1\"",null,{"$f":"IF('Page 5'!$H$21<>\"\",IF('Page 5'!$M$19<>\"\",IF('Page 5'!$K$22<>\"\",$W$27,\"\"),IF('Page 5'!$H$21<>\"\",IF('Page 5'!$M$20<>\"\",IF('Page 5'!$K$22<>\"\",$W$28,\"\"),IF('Page 5'!$H$21<>\"\",IF('Page 5'!$M$21<>\"\",IF('Page 5'!$K$22<>\"\",$W$29,\"\"),\"\"))))),\"\")","v":""},"SI 1\" OU 2\" OU 4\""]
[null,{"$f":"IF('Page 5'!$A$19<>\"\",\"V\",\"\")","v":""},{"$f":"IF('Page 5'!$A$52<>\"\",\"E\",\"\")","v":""},{"$f":"IF('Page 5'!$A$19<>\"\",\"-\",\"\")","v":""},{"$f":"IF('Page 5'!$A$19<>\"\",'Page 5'!$A$52,\"\")","v":""},{"$f":"IF('Page 5'!$C$54<>\"\",'Page 5'!D54,\"\")","v":""},{"$f":"IF('Page 5'!$D$19<>\"\",\"A\",IF('Page 5'!$D$20<>\"\",\"B\",\"\"))","v":""},{"$f":"IF('Page 5'!$F$21<>\"\",\"20\",IF('Page 5'!$D$19<>\"\",IF('Page 5'!$F$22<>\"\",$U$30,\"\"),IF('Page 5'!$D$20<>\"\",IF('Page 5'!$F$22<>\"\",$U$33,\"\"),\"\")))","v":""},{"$f":"IF('Page 5'!$H$19<>\"\",\"A\",IF('Page 5'!$H$20<>\"\",\"B\",IF('Page 5'!$H$21<>\"\",\"C\",\"\")))","v":""},{"$f":"IF('Page 5'!$K$20<>\"\",\"24\",IF('Page 5'!$K$21<>\"\",\"20\",IF($Z$30<>\"\",$Z$30,IF($Z$33<>\"\",$Z$33,IF($Z$36<>\"\",$Z$36,\"\")))))","v":""},{"$f":"IF('Page 5'!$M$19<>\"\",\"1\",IF('Page 5'!$M$20<>\"\",\"2\",IF('Page 5'!$M$21<>\"\",\"4\",\"\")))","v":""},null,{"$f":"IF('Page 5'!$C$54<>\"\",CONCATENATE(B28,C28,D28,E28,F28,G28,H28,I28,J28,K28),\"\")","v":""},{"$f":"IF('Page 5'!C54<>\"\",'Page 5'!C54,\"\")","v":""},null,{"$f":"IFERROR(VLOOKUP(LEFT(M28,20),Item_VIP!$A$2:$B$7499,1,FALSE),\"\")","v":""},null,null,null,null,null,"GAL",{"$f":"IF('Page 5'!A47=\"06\",24,IF('Page 5'!A47=\"08\",24,IF('Page 5'!A47=\"10\",24,IF('Page 5'!A47=\"12\",24,IF('Page 5'!A47=\"14\",24,IF('Page 5'!A47=\"16\",24,IF('Page 5'!A47=\"18\",24,IF('Page 5'!A47=\"24\",24,IF('Page 5'!A47=\"22\",24,IF('Page 5'!A47=\"24\",24,IF('Page 5'!A47=\"26\",24,IF('Page 5'!A47=\"28\",22,IF('Page 5'!A47=\"30\",22,IF('Page 5'!A47=\"32\",22,IF('Page 5'!A47=\"34\",22,IF('Page 5'!A47=\"36\",22,IF('Page 5'!A47=\"38\",22,IF('Page 5'!A47=\"40\",22,IF('Page 5'!A47=\"42\",22,IF('Page 5'!A47=\"44\",22,IF('Page 5'!A47=\"46\",22,IF('Page 5'!A47=\"48\",22,\"\"))))))))))))))))))))))","v":""},"2\""]
[null,{"$f":"IF('Page 5'!$A$19<>\"\",\"V\",\"\")","v":""},{"$f":"IF('Page 5'!$A$52<>\"\",\"E\",\"\")","v":""},{"$f":"IF('Page 5'!$A$19<>\"\",\"-\",\"\")","v":""},{"$f":"IF('Page 5'!$A$19<>\"\",'Page 5'!$A$55,\"\")","v":""},{"$f":"IF('Page 5'!$C$55<>\"\",'Page 5'!D55,\"\")","v":""},{"$f":"IF('Page 5'!$D$19<>\"\",\"A\",IF('Page 5'!$D$20<>\"\",\"B\",\"\"))","v":""},{"$f":"IF('Page 5'!$F$21<>\"\",\"20\",IF('Page 5'!$D$19<>\"\",IF('Page 5'!$F$22<>\"\",$U$30,\"\"),IF('Page 5'!$D$20<>\"\",IF('Page 5'!$F$22<>\"\",$U$33,\"\"),\"\")))","v":""},{"$f":"IF('Page 5'!$H$19<>\"\",\"A\",IF('Page 5'!$H$20<>\"\",\"B\",IF('Page 5'!$H$21<>\"\",\"C\",\"\")))","v":""},{"$f":"IF('Page 5'!$K$20<>\"\",\"24\",IF('Page 5'!$K$21<>\"\",\"20\",IF($Z$30<>\"\",$Z$30,IF($Z$33<>\"\",$Z$33,IF($Z$36<>\"\",$Z$36,\"\")))))","v":""},{"$f":"IF('Page 5'!$M$19<>\"\",\"1\",IF('Page 5'!$M$20<>\"\",\"2\",IF('Page 5'!$M$21<>\"\",\"4\",\"\")))","v":""},{"$f":"IF('Page 5'!$B$55<>\"\",'Page 5'!$B$55,\"\")","v":""},{"$f":"IF('Page 5'!$C$55<>\"\",CONCATENATE(B29,C29,D29,E29,F29,G29,H29,I29,J29,K29,L29),\"\")","v":""},{"$f":"IF('Page 5'!C55<>\"\",'Page 5'!C55,\"\")","v":""},null,{"$f":"IFERROR(VLOOKUP(LEFT(M29,20),Item_VIP!$A$2:$B$7499,1,FALSE),\"\")","v":""},null,null,null,null,null,"GAL",{"$f":"IF('Page 5'!A47=\"06\",24,IF('Page 5'!A47=\"08\",24,IF('Page 5'!A47=\"10\",24,IF('Page 5'!A47=\"12\",24,IF('Page 5'!A47=\"14\",24,IF('Page 5'!A47=\"16\",24,IF('Page 5'!A47=\"18\",22,IF('Page 5'!A47=\"24\",22,IF('Page 5'!A47=\"22\",22,IF('Page 5'!A47=\"24\",22,IF('Page 5'!A47=\"26\",22,IF('Page 5'!A47=\"28\",22,IF('Page 5'!A47=\"30\",22,IF('Page 5'!A47=\"32\",22,IF('Page 5'!A47=\"34\",22,IF('Page 5'!A47=\"36\",22,IF('Page 5'!A47=\"38\",22,IF('Page 5'!A47=\"40\",22,IF('Page 5'!A47=\"42\",22,IF('Page 5'!A47=\"44\",22,IF('Page 5'!A47=\"46\",22,IF('Page 5'!A47=\"48\",22,\"\"))))))))))))))))))))))","v":""},"4\""]
[null,{"$f":"IF('Page 5'!$A$19<>\"\",\"V\",\"\")","v":""},{"$f":"IF('Page 5'!$A$52<>\"\",\"E\",\"\")","v":""},{"$f":"IF('Page 5'!$A$19<>\"\",\"-\",\"\")","v":""},{"$f":"IF('Page 5'!$A$19<>\"\",'Page 5'!$A$52,\"\")","v":""},{"$f":"IF('Page 5'!$C$56<>\"\",'Page 5'!D56,\"\")","v":""},{"$f":"IF('Page 5'!$D$19<>\"\",\"A\",IF('Page 5'!$D$20<>\"\",\"B\",\"\"))","v":""},{"$f":"IF('Page 5'!$F$20<>\"\",\"20\",IF('Page 5'!$F$21<>\"\",\"20\",IF('Page 5'!$D$19<>\"\",IF('Page 5'!$F$22<>\"\",$U$39,\"\"),IF('Page 5'!$D$20<>\"\",IF('Page 5'!$F$22<>\"\",$U$40,\"\"),\"\"))))","v":""},{"$f":"IF(G30<>\"\",G30,\"\")","v":""},{"$f":"IF(H30<>\"\",H30,\"\")","v":""},{"$f":"IF('Page 5'!$M$19<>\"\",\"1\",IF('Page 5'!$M$20<>\"\",\"2\",IF('Page 5'!$M$21<>\"\",\"4\",\"\")))","v":""},null,{"$f":"IF('Page 5'!$C$56<>\"\",CONCATENATE(B30,C30,D30,E30,F30,G30,H30,I30,J30,K30),\"\")","v":""},{"$f":"IF('Page 5'!C56<>\"\",'Page 5'!C56,\"\")","v":""},null,{"$f":"IFERROR(VLOOKUP(LEFT(M30,20),Item_VIP!$A$2:$B$7499,1,FALSE),\"\")","v":""},null,"TEE","SS 304","STD",{"$f":"IF('Page 5'!A52=\"06\",20,IF('Page 5'!A52=\"08\",20,IF('Page 5'!A52=\"10\",20,IF('Page 5'!A52=\"12\",20,IF('Page 5'!A52=\"14\",20,IF('Page 5'!A52=\"16\",20,IF('Page 5'!A52=\"18\",20,IF('Page 5'!A52=\"20\",20,IF('Page 5'!A52=\"22\",20,IF('Page 5'!A52=\"24\",20,IF('Page 5'!A52=\"26\",20,IF('Page 5'!A52=\"28\",20,IF('Page 5'!A52=\"30\",20,IF('Page 5'!A52=\"32\",20,IF('Page 5'!A52=\"34\",20,IF('Page 5'!A52=\"36\",20,IF('Page 5'!A52=\"38\",20,IF('Page 5'!A52=\"40\",20,IF('Page 5'!A52=\"42\",20,IF('Page 5'!A52=\"44\",20,IF('Page 5'!A52=\"46\",20,IF('Page 5'!A52=\"48\",20,\"\"))))))))))))))))))))))","v":""},"STD",{"$f":"IF('Page 5'!A52=\"06\",24,IF('Page 5'!A52=\"08\",24,IF('Page 5'!A52=\"10\",24,IF('Page 5'!A52=\"12\",24,IF('Page 5'!A52=\"14\",24,IF('Page 5'!A52=\"16\",24,IF('Page 5'!A52=\"18\",24,IF('Page 5'!A52=\"20\",24,IF('Page 5'!A52=\"22\",24,IF('Page 5'!A52=\"24\",20,IF('Page 5'!A52=\"26\",20,IF('Page 5'!A52=\"28\",20,IF('Page 5'!A52=\"30\",20,IF('Page 5'!A52=\"32\",20,IF('Page 5'!A52=\"34\",20,IF('Page 5'!A52=\"36\",20,IF('Page 5'!A52=\"38\",20,IF('Page 5'!A52=\"40\",20,IF('Page 5'!A52=\"42\",20,IF('Page 5'!A52=\"44\",20,IF('Page 5'!A52=\"46\",20,IF('Page 5'!A52=\"48\",20,\"\"))))))))))))))))))))))","v":""},"1\"",null,{"$f":"IF('Page 5'!$H$19<>\"\",IF('Page 5'!$M$19<>\"\",IF('Page 5'!$K$22<>\"\",$W$30,\"\"),IF('Page 5'!$H$19<>\"\",IF('Page 5'!$M$20<>\"\",IF('Page 5'!$K$22<>\"\",$W$31,\"\"),IF('Page 5'!$H$19<>\"\",IF('Page 5'!$M$21<>\"\",IF('Page 5'!$K$22<>\"\",$W$32,\"\"),\"\"))))),\"\")","v":""},"SI 1\" OU 2\" OU 4\""]
[null,{"$f":"IF('Page 5'!$A$19<>\"\",\"V\",\"\")","v":""},{"$f":"IF('Page 5'!$A$52<>\"\",\"E\",\"\")","v":""},{"$f":"IF('Page 5'!$A$19<>\"\",\"-\",\"\")","v":""},{"$f":"IF('Page 5'!$A$19<>\"\",'Page 5'!$A$52,\"\")","v":""},{"$f":"IF('Page 5'!$C$57<>\"\",'Page 5'!D57,\"\")","v":""},{"$f":"IF('Page 5'!$D$19<>\"\",\"A\",IF('Page 5'!$D$20<>\"\",\"B\",\"\"))","v":""},{"$f":"IF('Page 5'!$F$20<>\"\",\"20\",IF('Page 5'!$F$21<>\"\",\"20\",IF('Page 5'!$D$19<>\"\",IF('Page 5'!$F$22<>\"\",$U$39,\"\"),IF('Page 5'!$D$20<>\"\",IF('Page 5'!$F$22<>\"\",$U$40,\"\"),\"\"))))","v":""},{"$f":"IF(G31<>\"\",G31,\"\")","v":""},{"$f":"IF(H31<>\"\",H31,\"\")","v":""},{"$f":"IF('Page 5'!$M$19<>\"\",\"1\",IF('Page 5'!$M$20<>\"\",\"2\",IF('Page 5'!$M$21<>\"\",\"4\",\"\")))","v":""},null,{"$f":"IF('Page 5'!$C$57<>\"\",CONCATENATE(B31,C31,D31,E31,F31,G31,H31,I31,J31,K31),\"\")","v":""},{"$f":"IF('Page 5'!C57<>\"\",'Page 5'!C57,\"\")","v":""},null,{"$f":"IFERROR(VLOOKUP(LEFT(M31,20),Item_VIP!$A$2:$B$7499,1,FALSE),\"\")","v":""},null,null,null,null,null,"STD",{"$f":"IF('Page 5'!A52=\"06\",24,IF('Page 5'!A52=\"08\",24,IF('Page 5'!A52=\"10\",24,IF('Page 5'!A52=\"12\",24,IF('Page 5'!A52=\"14\",24,IF('Page 5'!A52=\"16\",24,IF('Page 5'!A52=\"18\",24,IF('Page 5'!A52=\"20\",24,IF('Page 5'!A52=\"22\",24,IF('Page 5'!A52=\"24\",24,IF('Page 5'!A52=\"26\",20,IF('Page 5'!A52=\"28\",20,IF('Page 5'!A52=\"30\",20,IF('Page 5'!A52=\"32\",20,IF('Page 5'!A52=\"34\",20,IF('Page 5'!A52=\"36\",20,IF('Page 5'!A52=\"38\",20,IF('Page 5'!A52=\"40\",20,IF('Page 5'!A52=\"42\",20,IF('Page 5'!A52=\"44\",20,IF('Page 5'!A52=\"46\",20,IF('Page 5'!A52=\"48\",20,\"\"))))))))))))))))))))))","v":""},"2\""]
[null,{"$f":"IF('Page 5'!$A$19<>\"\",\"V\",\"\")","v":""},{"$f":"IF('Page 5'!$A$59<>\"\",\"F\",\"\")","v":""},{"$f":"IF('Page 5'!$A$19<>\"\",\"-\",\"\")","v":""},{"$f":"$C$5","v":""},{"$f":"IF('Page 5'!$C$59<>\"\",'Page 5'!D59,\"\")","v":""},{"$f":"IF('Page 5'!C59<>\"\",\"0\",\"\")","v":""},{"$f":"IF('Page 5'!C59<>\"\",\"00\",\"\")","v":""},{"$f":"IF('Page 5'!G59<>\"\",\"A\",\"C\")","v":"C"},{"$f":"IF(I32=\"C\",IF('Page 5'!$M$19<>\"\",$W$44,IF('Page 5'!$M$20<>\"\",$W$45,IF('Page 5'!$M$21<>\"\",$W$46,\"\"))),IF(I32=\"A\",IF('Page 5'!$M$19<>\"\",$W$41,IF('Page 5'!$M$20<>\"\",$W$42,IF('Page 5'!$M$21<>\"\",$W$43,\"\")))))","v":""},{"$f":"IF('Page 5'!$M$19<>\"\",\"1\",IF('Page 5'!$M$20<>\"\",\"1\",IF('Page 5'!$M$21<>\"\",\"1\",\"\")))","v":""},null,{"$f":"IF('Page 5'!$C$59<>\"\",CONCATENATE(B32,C32,D32,E32,F32,G32,H32,I32,J32,K32),\"\")","v":""},{"$f":"IF('Page 5'!C59<>\"\",'Page 5'!C59,\"\")","v":""},null,{"$f":"IFERROR(VLOOKUP(LEFT(M32,20),Item_VIP!$A$2:$B$7499,1,FALSE),\"\")","v":""},null,null,null,null,null,"STD",{"$f":"IF('Page 5'!A52=\"06\",26,IF('Page 5'!A52=\"08\",26,IF('Page 5'!A52=\"10\",24,IF('Page 5'!A52=\"12\",24,IF('Page 5'!A52=\"14\",24,IF('Page 5'!A52=\"16\",20,IF('Page 5'!A52=\"18\",20,IF('Page 5'!A52=\"20\",20,IF('Page 5'!A52=\"22\",20,IF('Page 5'!A52=\"24\",20,IF('Page 5'!A52=\"26\",20,IF('Page 5'!A52=\"28\",20,IF('Page 5'!A52=\"30\",20,IF('Page 5'!A52=\"32\",20,IF('Page 5'!A52=\"34\",20,IF('Page 5'!A52=\"36\",20,IF('Page 5'!A52=\"38\",20,IF('Page 5'!A52=\"40\",20,IF('Page 5'!A52=\"42\",20,IF('Page 5'!A52=\"44\",20,IF('Page 5'!A52=\"46\",20,IF('Page 5'!A52=\"48\",20,\"\"))))))))))))))))))))))","v":""},"4\""]
[null,{"$f":"IF('Page 5'!$A$19<>\"\",\"V\",\"\")","v":""},{"$f":"IF('Page 5'!$A$59<>\"\",\"F\",\"\")","v":""},{"$f":"IF('Page 5'!$A$19<>\"\",\"-\",\"\")","v":""},"",{"$f":"IF('Page 5'!$C$60<>\"\",'Page 5'!D60,\"\")","v":""},{"$f":"IF('Page 5'!C60<>\"\",\"0\",\"\")","v":""},{"$f":"IF('Page 5'!C60<>\"\",\"00\",\"\")","v":""},{"$f":"IF('Page 5'!G60<>\"\",\"A\",\"C\")","v":"C"},{"$f":"IF(I33=\"C\",IF('Page 5'!$M$19<>\"\",$W$47,IF('Page 5'!$M$20<>\"\",$W$48,IF('Page 5'!$M$21<>\"\",$W$49,\"\"))),IF(I33=\"A\",IF('Page 5'!$M$19<>\"\",$W$41,IF('Page 5'!$M$20<>\"\",$W$42,IF('Page 5'!$M$21<>\"\",$W$43,\"\")))))","v":""},{"$f":"IF('Page 5'!$M$19<>\"\",\"1\",IF('Page 5'!$M$20<>\"\",\"1\",IF('Page 5'!$M$21<>\"\",\"1\",\"\")))","v":""},null,{"$f":"IF('Page 5'!$C$60<>\"\",CONCATENATE(B33,C33,D33,E33,F33,G33,H33,I33,J33,K33,L33),\"\")","v":""},{"$f":"IF('Page 5'!C60<>\"\",'Page 5'!C60,\"\")","v":""},null,{"$f":"IFERROR(VLOOKUP(LEFT(M33,20),Item_VIP!$A$2:$B$7499,1,FALSE),\"\")","v":""},null,null,"SS 316","STD",{"$f":"IF('Page 5'!A52=\"06\",20,IF('Page 5'!A52=\"08\",20,IF('Page 5'!A52=\"10\",20,IF('Page 5'!A52=\"12\",20,IF('Page 5'!A52=\"14\",20,IF('Page 5'!A52=\"16\",20,IF('Page 5'!A52=\"18\",20,IF('Page 5'!A52=\"20\",20,IF('Page 5'!A52=\"22\",20,IF('Page 5'!A52=\"24\",20,IF('Page 5'!A52=\"26\",20,IF('Page 5'!A52=\"28\",20,IF('Page 5'!A52=\"30\",20,IF('Page 5'!A52=\"32\",20,IF('Page 5'!A52=\"34\",20,IF('Page 5'!A52=\"36\",20,IF('Page 5'!A52=\"38\",20,IF('Page 5'!A52=\"40\",20,IF('Page 5'!A52=\"42\",20,IF('Page 5'!A52=\"44\",20,IF('Page 5'!A52=\"46\",20,IF('Page 5'!A52=\"48\",20,\"\"))))))))))))))))))))))","v":""},"STD",{"$f":"IF('Page 5'!A52=\"06\",24,IF('Page 5'!A52=\"08\",24,IF('Page 5'!A52=\"10\",24,IF('Page 5'!A52=\"12\",24,IF('Page 5'!A52=\"14\",24,IF('Page 5'!A52=\"16\",24,IF('Page 5'!A52=\"18\",24,IF('Page 5'!A52=\"20\",24,IF('Page 5'!A52=\"22\",24,IF('Page 5'!A52=\"24\",20,IF('Page 5'!A52=\"26\",20,IF('Page 5'!A52=\"28\",20,IF('Page 5'!A52=\"30\",20,IF('Page 5'!A52=\"32\",20,IF('Page 5'!A52=\"34\",20,IF('Page 5'!A52=\"36\",20,IF('Page 5'!A52=\"38\",20,IF('Page 5'!A52=\"40\",20,IF('Page 5'!A52=\"42\",20,IF('Page 5'!A52=\"44\",20,IF('Page 5'!A52=\"46\",20,IF('Page 5'!A52=\"48\",20,\"\"))))))))))))))))))))))","v":""},"1\"",null,{"$f":"IF('Page 5'!$H$20<>\"\",IF('Page 5'!$M$19<>\"\",IF('Page 5'!$K$22<>\"\",$W$33,\"\"),IF('Page 5'!$H$20<>\"\",IF('Page 5'!$M$20<>\"\",IF('Page 5'!$K$22<>\"\",$W$34,\"\"),IF('Page 5'!$H$20<>\"\",IF('Page 5'!$M$21<>\"\",IF('Page 5'!$K$22<>\"\",$W$35,\"\"),\"\"))))),\"\")","v":""},"SI 1\" OU 2\" OU 4\""]
[null,{"$f":"IF('Page 5'!$A$19<>\"\",\"V\",\"\")","v":""},{"$f":"IF('Page 5'!$A$59<>\"\",\"F\",\"\")","v":""},{"$f":"IF('Page 5'!$A$19<>\"\",\"-\",\"\")","v":""},"",{"$f":"IF('Page 5'!$C$61<>\"\",'Page 5'!D61,\"\")","v":""},{"$f":"IF('Page 5'!C61<>\"\",\"0\",\"\")","v":""},{"$f":"IF('Page 5'!C61<>\"\",\"00\",\"\")","v":""},{"$f":"IF('Page 5'!G61<>\"\",\"A\",\"C\")","v":"C"},{"$f":"IF(I34=\"C\",IF('Page 5'!$M$19<>\"\",$W$47,IF('Page 5'!$M$20<>\"\",$W$48,IF('Page 5'!$M$21<>\"\",$W$49,\"\"))),IF(I34=\"A\",IF('Page 5'!$M$19<>\"\",$W$41,IF('Page 5'!$M$20<>\"\",$W$42,IF('Page 5'!$M$21<>\"\",$W$43,\"\")))))","v":""},{"$f":"IF('Page 5'!$M$19<>\"\",\"1\",IF('Page 5'!$M$20<>\"\",\"1\",IF('Page 5'!$M$21<>\"\",\"1\",\"\")))","v":""},null,{"$f":"IF('Page 5'!$C$61<>\"\",CONCATENATE(B34,C34,D34,E34,F34,G34,H34,I34,J34,K34),\"\")","v":""},{"$f":"IF('Page 5'!C61<>\"\",'Page 5'!C61,\"\")","v":""},null,{"$f":"IFERROR(VLOOKUP(LEFT(M34,20),Item_VIP!$A$2:$B$7499,1,FALSE),\"\")","v":""},null,null,null,null,null,"STD",{"$f":"IF('Page 5'!A52=\"06\",24,IF('Page 5'!A52=\"08\",24,IF('Page 5'!A52=\"10\",24,IF('Page 5'!A52=\"12\",24,IF('Page 5'!A52=\"14\",24,IF('Page 5'!A52=\"16\",24,IF('Page 5'!A52=\"18\",24,IF('Page 5'!A52=\"20\",24,IF('Page 5'!A52=\"22\",24,IF('Page 5'!A52=\"24\",24,IF('Page 5'!A52=\"26\",20,IF('Page 5'!A52=\"28\",20,IF('Page 5'!A52=\"30\",20,IF('Page 5'!A52=\"32\",20,IF('Page 5'!A52=\"34\",20,IF('Page 5'!A52=\"36\",20,IF('Page 5'!A52=\"38\",20,IF('Page 5'!A52=\"40\",20,IF('Page 5'!A52=\"42\",20,IF('Page 5'!A52=\"44\",20,IF('Page 5'!A52=\"46\",20,IF('Page 5'!A52=\"48\",20,\"\"))))))))))))))))))))))","v":""},"2\""]
[null,{"$f":"IF('Page 5'!$A$19<>\"\",\"V\",\"\")","v":""},{"$f":"IF('Page 5'!$A$59<>\"\",\"M\",\"\")","v":""},{"$f":"IF('Page 5'!$A$19<>\"\",\"-\",\"\")","v":""},"",{"$f":"IF('Page 5'!$C$62<>\"\",'Page 5'!D62,\"\")","v":""},{"$f":"IF('Page 5'!C62<>\"\",\"0\",\"\")","v":""},{"$f":"IF('Page 5'!C62<>\"\",\"00\",\"\")","v":""},{"$f":"IF('Page 5'!G62<>\"\",\"A\",\"C\")","v":"C"},{"$f":"IF(I35=\"C\",IF('Page 5'!$M$19<>\"\",$W$53,IF('Page 5'!$M$20<>\"\",$W$54,IF('Page 5'!$M$21<>\"\",$W$55,\"\"))),IF(I35=\"A\",IF('Page 5'!$M$19<>\"\",$W$50,IF('Page 5'!$M$20<>\"\",$W$51,IF('Page 5'!$M$21<>\"\",$W$52,\"\")))))","v":""},{"$f":"IF('Page 5'!$M$19<>\"\",\"1\",IF('Page 5'!$M$20<>\"\",\"1\",IF('Page 5'!$M$21<>\"\",\"1\",\"\")))","v":""},null,{"$f":"IF('Page 5'!$C$62<>\"\",CONCATENATE(B35,C35,D35,E35,F35,G35,H35,I35,J35,K35,L35),\"\")","v":""},{"$f":"IF('Page 5'!C62<>\"\",'Page 5'!C62,\"\")","v":""},null,{"$f":"IFERROR(VLOOKUP(LEFT(M35,20),Item_VIP!$A$2:$B$7499,1,FALSE),\"\")","v":""},null,null,null,null,null,"STD",{"$f":"IF('Page 5'!A52=\"06\",26,IF('Page 5'!A52=\"08\",26,IF('Page 5'!A52=\"10\",24,IF('Page 5'!A52=\"12\",24,IF('Page 5'!A52=\"14\",24,IF('Page 5'!A52=\"16\",24,IF('Page 5'!A52=\"18\",24,IF('Page 5'!A52=\"20\",24,IF('Page 5'!A52=\"22\",20,IF('Page 5'!A52=\"24\",20,IF('Page 5'!A52=\"26\",20,IF('Page 5'!A52=\"28\",20,IF('Page 5'!A52=\"30\",20,IF('Page 5'!A52=\"32\",20,IF('Page 5'!A52=\"34\",20,IF('Page 5'!A52=\"36\",20,IF('Page 5'!A52=\"38\",20,IF('Page 5'!A52=\"40\",20,IF('Page 5'!A52=\"42\",20,IF('Page 5'!A52=\"44\",20,IF('Page 5'!A52=\"46\",20,IF('Page 5'!A52=\"48\",20,\"\"))))))))))))))))))))))","v":""},"4\""]
[null,{"$f":"IF('Page 5'!$A$19<>\"\",\"V\",\"\")","v":""},{"$f":"IF('Page 5'!$H$36<>\"\",\"M\",\"\")","v":""},{"$f":"IF('Page 5'!$A$19<>\"\",\"-\",\"\")","v":""},"",{"$f":"IF('Page 5'!J36<>\"\",'Page 5'!K36,\"\")","v":""},{"$f":"IF('Page 5'!J36<>\"\",\"0\",\"\")","v":""},{"$f":"IF('Page 5'!J36<>\"\",\"00\",\"\")","v":""},{"$f":"IF('Page 5'!N36<>\"\",\"A\",\"C\")","v":"C"},{"$f":"IF(I36=\"C\",IF('Page 5'!$M$19<>\"\",$W$59,IF('Page 5'!$M$20<>\"\",$W$60,IF('Page 5'!$M$21<>\"\",$W$61,\"\"))),IF(I36=\"A\",IF('Page 5'!$M$19<>\"\",$W$56,IF('Page 5'!$M$20<>\"\",$W$57,IF('Page 5'!$M$21<>\"\",$W$58,\"\")))))","v":""},{"$f":"IF('Page 5'!$M$19<>\"\",\"1\",IF('Page 5'!$M$20<>\"\",\"1\",IF('Page 5'!$M$21<>\"\",\"1\",\"\")))","v":""},null,{"$f":"IF('Page 5'!$J$36<>\"\",CONCATENATE(B36,C36,D36,E36,F36,G36,H36,I36,J36,K36,L36),\"\")","v":""},{"$f":"IF('Page 5'!J36<>\"\",'Page 5'!J36,\"\")","v":""},null,{"$f":"IFERROR(VLOOKUP(LEFT(M36,20),Item_VIP!$A$2:$B$7499,1,FALSE),\"\")","v":""},null,null,"GALVALUME STD",null,null,"GAL",{"$f":"IF('Page 5'!A52=\"06\",24,IF('Page 5'!A52=\"08\",24,IF('Page 5'!A52=\"10\",24,IF('Page 5'!A52=\"12\",24,IF('Page 5'!A52=\"14\",24,IF('Page 5'!A52=\"16\",24,IF('Page 5'!A52=\"18\",24,IF('Page 5'!A52=\"20\",24,IF('Page 5'!A52=\"22\",24,IF('Page 5'!A52=\"24\",22,IF('Page 5'!A52=\"26\",22,IF('Page 5'!A52=\"28\",22,IF('Page 5'!A52=\"30\",22,IF('Page 5'!A52=\"32\",22,IF('Page 5'!A52=\"34\",22,IF('Page 5'!A52=\"36\",22,IF('Page 5'!A52=\"38\",22,IF('Page 5'!A52=\"40\",22,IF('Page 5'!A52=\"42\",22,IF('Page 5'!A52=\"44\",22,IF('Page 5'!A52=\"46\",22,IF('Page 5'!A52=\"48\",20,\"\"))))))))))))))))))))))","v":""},"1\"",null,{"$f":"IF('Page 5'!$H$21<>\"\",IF('Page 5'!$M$19<>\"\",IF('Page 5'!$K$22<>\"\",$W$36,\"\"),IF('Page 5'!$H$21<>\"\",IF('Page 5'!$M$20<>\"\",IF('Page 5'!$K$22<>\"\",$W$37,\"\"),IF('Page 5'!$H$21<>\"\",IF('Page 5'!$M$21<>\"\",IF('Page 5'!$K$22<>\"\",$W$38,\"\"),\"\"))))),\"\")","v":""},"SI 1\" OU 2\" OU 4\""]
[null,{"$f":"IF('Page 5'!$A$19<>\"\",\"V\",\"\")","v":""},{"$f":"IF('Page 5'!$H$36<>\"\",\"M\",\"\")","v":""},{"$f":"IF('Page 5'!$A$19<>\"\",\"-\",\"\")","v":""},"",{"$f":"IF('Page 5'!J37<>\"\",'Page 5'!K37,\"\")","v":""},{"$f":"IF('Page 5'!J37<>\"\",\"0\",\"\")","v":""},{"$f":"IF('Page 5'!J37<>\"\",\"00\",\"\")","v":""},{"$f":"IF('Page 5'!N37<>\"\",\"A\",\"C\")","v":"C"},{"$f":"IF(I37=\"C\",IF('Page 5'!$M$19<>\"\",$W$59,IF('Page 5'!$M$20<>\"\",$W$60,IF('Page 5'!$M$21<>\"\",$W$61,\"\"))),IF(I37=\"A\",IF('Page 5'!$M$19<>\"\",$W$56,IF('Page 5'!$M$20<>\"\",$W$57,IF('Page 5'!$M$21<>\"\",$W$58,\"\")))))","v":""},{"$f":"IF('Page 5'!$M$19<>\"\",\"1\",IF('Page 5'!$M$20<>\"\",\"1\",IF('Page 5'!$M$21<>\"\",\"1\",\"\")))","v":""},null,{"$f":"IF('Page 5'!$J$37<>\"\",CONCATENATE(B37,C37,D37,E37,F37,G37,H37,I37,J37,K37,L37),\"\")","v":""},{"$f":"IF('Page 5'!J37<>\"\",'Page 5'!J37,\"\")","v":""},null,{"$f":"IFERROR(VLOOKUP(LEFT(M37,20),Item_VIP!$A$2:$B$7499,1,FALSE),\"\")","v":""},null,null,null,null,null,"GAL",{"$f":"IF('Page 5'!A52=\"06\",24,IF('Page 5'!A52=\"08\",24,IF('Page 5'!A52=\"10\",24,IF('Page 5'!A52=\"12\",24,IF('Page 5'!A52=\"14\",24,IF('Page 5'!A52=\"16\",24,IF('Page 5'!A52=\"18\",24,IF('Page 5'!A52=\"20\",24,IF('Page 5'!A52=\"22\",24,IF('Page 5'!A52=\"24\",24,IF('Page 5'!A52=\"26\",22,IF('Page 5'!A52=\"28\",22,IF('Page 5'!A52=\"30\",22,IF('Page 5'!A52=\"32\",22,IF('Page 5'!A52=\"34\",22,IF('Page 5'!A52=\"36\",22,IF('Page 5'!A52=\"38\",22,IF('Page 5'!A52=\"40\",22,IF('Page 5'!A52=\"42\",22,IF('Page 5'!A52=\"44\",22,IF('Page 5'!A52=\"46\",22,IF('Page 5'!A52=\"48\",22,\"\"))))))))))))))))))))))","v":""},"2\""]
[null,{"$f":"IF('Page 5'!$A$19<>\"\",\"V\",\"\")","v":""},{"$f":"IF('Page 5'!$H$36<>\"\",\"M\",\"\")","v":""},{"$f":"IF('Page 5'!$A$19<>\"\",\"-\",\"\")","v":""},"",{"$f":"IF('Page 5'!J38<>\"\",'Page 5'!K38,\"\")","v":""},{"$f":"IF('Page 5'!J38<>\"\",\"0\",\"\")","v":""},{"$f":"IF('Page 5'!J38<>\"\",\"00\",\"\")","v":""},{"$f":"IF('Page 5'!N38<>\"\",\"A\",\"C\")","v":"C"},{"$f":"IF(I38=\"C\",IF('Page 5'!$M$19<>\"\",$W$59,IF('Page 5'!$M$20<>\"\",$W$60,IF('Page 5'!$M$21<>\"\",$W$61,\"\"))),IF(I38=\"A\",IF('Page 5'!$M$19<>\"\",$W$56,IF('Page 5'!$M$20<>\"\",$W$57,IF('Page 5'!$M$21<>\"\",$W$58,\"\")))))","v":""},{"$f":"IF('Page 5'!$M$19<>\"\",\"1\",IF('Page 5'!$M$20<>\"\",\"1\",IF('Page 5'!$M$21<>\"\",\"1\",\"\")))","v":""},null,{"$f":"IF('Page 5'!$J$38<>\"\",CONCATENATE(B38,C38,D38,E38,F38,G38,H38,I38,J38,K38,L38),\"\")","v":""},{"$f":"IF('Page 5'!J38<>\"\",'Page 5'!J38,\"\")","v":""},null,{"$f":"IFERROR(VLOOKUP(LEFT(M38,20),Item_VIP!$A$2:$B$7499,1,FALSE),\"\")","v":""},null,null,null,null,null,"GAL",{"$f":"IF('Page 5'!A52=\"06\",26,IF('Page 5'!A52=\"08\",26,IF('Page 5'!A52=\"10\",24,IF('Page 5'!A52=\"12\",24,IF('Page 5'!A52=\"14\",24,IF('Page 5'!A52=\"16\",22,IF('Page 5'!A52=\"18\",22,IF('Page 5'!A52=\"20\",22,IF('Page 5'!A52=\"22\",22,IF('Page 5'!A52=\"24\",22,IF('Page 5'!A52=\"26\",22,IF('Page 5'!A52=\"28\",22,IF('Page 5'!A52=\"30\",22,IF('Page 5'!A52=\"32\",22,IF('Page 5'!A52=\"34\",22,IF('Page 5'!A52=\"36\",22,IF('Page 5'!A52=\"38\",22,IF('Page 5'!A52=\"40\",22,IF('Page 5'!A52=\"42\",22,IF('Page 5'!A52=\"44\",22,IF('Page 5'!A52=\"46\",20,IF('Page 5'!A52=\"48\",22,\"\"))))))))))))))))))))))","v":""},"4\""]
[null,{"$f":"IF('Page 5'!$A$19<>\"\",\"V\",\"\")","v":""},{"$f":"IF('Page 5'!$H$36<>\"\",\"M\",\"\")","v":""},{"$f":"IF('Page 5'!$A$19<>\"\",\"-\",\"\")","v":""},"",{"$f":"IF('Page 5'!J39<>\"\",'Page 5'!K39,\"\")","v":""},{"$f":"IF('Page 5'!J39<>\"\",\"0\",\"\")","v":""},{"$f":"IF('Page 5'!J39<>\"\",\"00\",\"\")","v":""},{"$f":"IF('Page 5'!N39<>\"\",\"A\",\"C\")","v":"C"},{"$f":"IF(I39=\"C\",IF('Page 5'!$M$19<>\"\",$W$59,IF('Page 5'!$M$20<>\"\",$W$60,IF('Page 5'!$M$21<>\"\",$W$61,\"\"))),IF(I39=\"A\",IF('Page 5'!$M$19<>\"\",$W$56,IF('Page 5'!$M$20<>\"\",$W$57,IF('Page 5'!$M$21<>\"\",$W$58,\"\")))))","v":""},{"$f":"IF('Page 5'!$M$19<>\"\",\"1\",IF('Page 5'!$M$20<>\"\",\"1\",IF('Page 5'!$M$21<>\"\",\"1\",\"\")))","v":""},null,{"$f":"IF('Page 5'!$J$39<>\"\",CONCATENATE(B39,C39,D39,E39,F39,G39,H39,I39,J39,K39,L39),\"\")","v":""},{"$f":"IF('Page 5'!J39<>\"\",'Page 5'!J39,\"\")","v":""},null,{"$f":"IFERROR(VLOOKUP(LEFT(M39,20),Item_VIP!$A$2:$B$7499,1,FALSE),\"\")","v":""},null,"TEE","SS 304","STD",{"$f":"IF('Page 5'!A56=\"06\",24,IF('Page 5'!A56=\"08\",24,IF('Page 5'!A56=\"10\",24,IF('Page 5'!A56=\"12\",24,IF('Page 5'!A56=\"14\",24,IF('Page 5'!A56=\"16\",24,IF('Page 5'!A56=\"18\",24,IF('Page 5'!A56=\"20\",24,IF('Page 5'!A56=\"22\",24,IF('Page 5'!A56=\"24\",24,IF('Page 5'!A56=\"26\",24,IF('Page 5'!A56=\"28\",24,IF('Page 5'!A56=\"30\",20,IF('Page 5'!A56=\"32\",20,IF('Page 5'!A56=\"34\",20,IF('Page 5'!A56=\"36\",20,IF('Page 5'!A56=\"38\",20,IF('Page 5'!A56=\"40\",20,IF('Page 5'!A56=\"42\",20,IF('Page 5'!A56=\"44\",20,IF('Page 5'!A56=\"46\",20,IF('Page 5'!A56=\"48\",20,\"\"))))))))))))))))))))))","v":""}]
[null,{"$f":"IF('Page 5'!$A$19<>\"\",\"V\",\"\")","v":""},{"$f":"IF('Page 5'!$H$36<>\"\",\"M\",\"\")","v":""},{"$f":"IF('Page 5'!$A$19<>\"\",\"-\",\"\")","v":""},"",{"$f":"IF('Page 5'!J40<>\"\",'Page 5'!K40,\"\")","v":""},{"$f":"IF('Page 5'!J40<>\"\",\"0\",\"\")","v":""},{"$f":"IF('Page 5'!J40<>\"\",\"00\",\"\")","v":""},{"$f":"IF('Page 5'!N40<>\"\",\"A\",\"C\")","v":"C"},{"$f":"IF(I40=\"C\",IF('Page 5'!$M$19<>\"\",$W$59,IF('Page 5'!$M$20<>\"\",$W$60,IF('Page 5'!$M$21<>\"\",$W$61,\"\"))),IF(I40=\"A\",IF('Page 5'!$M$19<>\"\",$W$56,IF('Page 5'!$M$20<>\"\",$W$57,IF('Page 5'!$M$21<>\"\",$W$58,\"\")))))","v":""},{"$f":"IF('Page 5'!$M$19<>\"\",\"1\",IF('Page 5'!$M$20<>\"\",\"1\",IF('Page 5'!$M$21<>\"\",\"1\",\"\")))","v":""},null,{"$f":"IF('Page 5'!$J$40<>\"\",CONCATENATE(B40,C40,D40,E40,F40,G40,H40,I40,J40,K40,L40),\"\")","v":""},{"$f":"IF('Page 5'!J40<>\"\",'Page 5'!J40,\"\")","v":""},null,{"$f":"IFERROR(VLOOKUP(LEFT(M40,20),Item_VIP!$A$2:$B$7499,1,FALSE),\"\")","v":""},null,null,"SS 316","STD",{"$f":"IF('Page 5'!A56=\"06\",24,IF('Page 5'!A56=\"08\",24,IF('Page 5'!A56=\"10\",24,IF('Page 5'!A56=\"12\",24,IF('Page 5'!A56=\"14\",24,IF('Page 5'!A56=\"16\",24,IF('Page 5'!A56=\"18\",24,IF('Page 5'!A56=\"20\",24,IF('Page 5'!A56=\"22\",24,IF('Page 5'!A56=\"24\",24,IF('Page 5'!A56=\"26\",24,IF('Page 5'!A56=\"28\",24,IF('Page 5'!A56=\"30\",20,IF('Page 5'!A56=\"32\",20,IF('Page 5'!A56=\"34\",20,IF('Page 5'!A56=\"36\",20,IF('Page 5'!A56=\"38\",20,IF('Page 5'!A56=\"40\",20,IF('Page 5'!A56=\"42\",20,IF('Page 5'!A56=\"44\",20,IF('Page 5'!A56=\"46\",20,IF('Page 5'!A56=\"48\",20,\"\"))))))))))))))))))))))","v":""}]
[null,{"$f":"IF('Page 5'!$A$19<>\"\",\"V\",\"\")","v":""},{"$f":"IF('Page 5'!$H$36<>\"\",\"M\",\"\")","v":""},{"$f":"IF('Page 5'!$A$19<>\"\",\"-\",\"\")","v":""},"",{"$f":"IF('Page 5'!J41<>\"\",'Page 5'!K41,\"\")","v":""},{"$f":"IF('Page 5'!J41<>\"\",\"0\",\"\")","v":""},{"$f":"IF('Page 5'!J41<>\"\",\"00\",\"\")","v":""},{"$f":"IF('Page 5'!N41<>\"\",\"A\",\"C\")","v":"C"},{"$f":"IF(I41=\"C\",IF('Page 5'!$M$19<>\"\",$W$59,IF('Page 5'!$M$20<>\"\",$W$60,IF('Page 5'!$M$21<>\"\",$W$61,\"\"))),IF(I41=\"A\",IF('Page 5'!$M$19<>\"\",$W$56,IF('Page 5'!$M$20<>\"\",$W$57,IF('Page 5'!$M$21<>\"\",$W$58,\"\")))))","v":""},{"$f":"IF('Page 5'!$M$19<>\"\",\"1\",IF('Page 5'!$M$20<>\"\",\"1\",IF('Page 5'!$M$21<>\"\",\"1\",\"\")))","v":""},null,{"$f":"IF('Page 5'!$J$41<>\"\",CONCATENATE(B41,C41,D41,E41,F41,G41,H41,I41,J41,K41,L41),\"\")","v":""},{"$f":"IF('Page 5'!J41<>\"\",'Page 5'!J41,\"\")","v":""},null,{"$f":"IFERROR(VLOOKUP(LEFT(M41,20),Item_VIP!$A$2:$B$7499,1,FALSE),\"\")","v":""},null,"FLASHING","SS 304",null,null,"STD",{"$f":"IF('Page 5'!A59=\"06\",24,IF('Page 5'!A59=\"08\",24,IF('Page 5'!A59=\"10\",24,IF('Page 5'!A59=\"12\",24,IF('Page 5'!A59=\"14\",24,IF('Page 5'!A59=\"16\",24,IF('Page 5'!A59=\"18\",24,IF('Page 5'!A59=\"20\",24,IF('Page 5'!A59=\"22\",24,IF('Page 5'!A59=\"24\",20,IF('Page 5'!A59=\"26\",24,IF('Page 5'!A59=\"28\",24,IF('Page 5'!A59=\"30\",20,IF('Page 5'!A59=\"32\",20,IF('Page 5'!A59=\"34\",20,IF('Page 5'!A59=\"36\",20,IF('Page 5'!A59=\"38\",20,IF('Page 5'!A59=\"40\",20,IF('Page 5'!A59=\"42\",20,IF('Page 5'!A59=\"44\",20,IF('Page 5'!A59=\"46\",20,IF('Page 5'!A59=\"48\",20,\"\"))))))))))))))))))))))","v":""},"1\""]
[null,{"$f":"IF('Page 5'!$A$19<>\"\",\"V\",\"\")","v":""},{"$f":"IF('Page 5'!$H$36<>\"\",\"M\",\"\")","v":""},{"$f":"IF('Page 5'!$A$19<>\"\",\"-\",\"\")","v":""},"",{"$f":"IF('Page 5'!J42<>\"\",'Page 5'!K42,\"\")","v":""},{"$f":"IF('Page 5'!J42<>\"\",\"0\",\"\")","v":""},{"$f":"IF('Page 5'!J42<>\"\",\"00\",\"\")","v":""},{"$f":"IF('Page 5'!N42<>\"\",\"A\",\"C\")","v":"C"},{"$f":"IF(F42<>\"\",11,\"\")","v":""},{"$f":"IF('Page 5'!$M$19<>\"\",\"1\",IF('Page 5'!$M$20<>\"\",\"1\",IF('Page 5'!$M$21<>\"\",\"1\",\"\")))","v":""},null,{"$f":"IF('Page 5'!$J$42<>\"\",CONCATENATE(B42,C42,D42,E42,F42,G42,H42,I42,J42,K42,L42),\"\")","v":""},{"$f":"IF('Page 5'!J42<>\"\",'Page 5'!J42,\"\")","v":""},null,{"$f":"IFERROR(VLOOKUP(LEFT(M42,20),Item_VIP!$A$2:$B$7499,1,FALSE),\"\")","v":""},null,null,null,null,null,"STD",{"$f":"IF('Page 5'!A59=\"06\",24,IF('Page 5'!A59=\"08\",24,IF('Page 5'!A59=\"10\",24,IF('Page 5'!A59=\"12\",24,IF('Page 5'!A59=\"14\",24,IF('Page 5'!A59=\"16\",24,IF('Page 5'!A59=\"18\",24,IF('Page 5'!A59=\"20\",24,IF('Page 5'!A59=\"22\",24,IF('Page 5'!A59=\"24\",24,IF('Page 5'!A59=\"26\",24,IF('Page 5'!A59=\"28\",20,IF('Page 5'!A59=\"30\",20,IF('Page 5'!A59=\"32\",20,IF('Page 5'!A59=\"34\",20,IF('Page 5'!A59=\"36\",20,IF('Page 5'!A59=\"38\",20,IF('Page 5'!A59=\"40\",20,IF('Page 5'!A59=\"42\",20,IF('Page 5'!A59=\"44\",20,IF('Page 5'!A59=\"46\",20,IF('Page 5'!A59=\"48\",20,\"\"))))))))))))))))))))))","v":""},"2\""]
[null,{"$f":"IF('Page 5'!$A$19<>\"\",\"V\",\"\")","v":""},{"$f":"IF('Page 5'!$H$36<>\"\",\"M\",\"\")","v":""},{"$f":"IF('Page 5'!$A$19<>\"\",\"-\",\"\")","v":""},"",{"$f":"IF('Page 5'!J43<>\"\",'Page 5'!K43,\"\")","v":""},{"$f":"IF('Page 5'!J43<>\"\",\"0\",\"\")","v":""},{"$f":"IF('Page 5'!J43<>\"\",\"00\",\"\")","v":""},{"$f":"IF('Page 5'!N43<>\"\",\"A\",\"C\")","v":"C"},{"$f":"IF(I43=\"C\",IF('Page 5'!$M$19<>\"\",$W$59,IF('Page 5'!$M$20<>\"\",$W$60,IF('Page 5'!$M$21<>\"\",$W$61,\"\"))),IF(I43=\"A\",IF('Page 5'!$M$19<>\"\",$W$56,IF('Page 5'!$M$20<>\"\",$W$57,IF('Page 5'!$M$21<>\"\",$W$58,\"\")))))","v":""},{"$f":"IF('Page 5'!$M$19<>\"\",\"1\",IF('Page 5'!$M$20<>\"\",\"1\",IF('Page 5'!$M$21<>\"\",\"1\",\"\")))","v":""},null,{"$f":"IF('Page 5'!$J$43<>\"\",CONCATENATE(B43,C43,D43,E43,F43,G43,H43,I43,J43,K43,L43),\"\")","v":""},{"$f":"IF('Page 5'!J43<>\"\",'Page 5'!J43,\"\")","v":""},null,{"$f":"IFERROR(VLOOKUP(LEFT(M43,20),Item_VIP!$A$2:$B$7499,1,FALSE),\"\")","v":""},null,null,null,null,null,"STD",{"$f":"IF('Page 5'!A59=\"06\",24,IF('Page 5'!A59=\"08\",24,IF('Page 5'!A59=\"10\",24,IF('Page 5'!A59=\"12\",24,IF('Page 5'!A59=\"14\",24,IF('Page 5'!A59=\"16\",24,IF('Page 5'!A59=\"18\",24,IF('Page 5'!A59=\"20\",24,IF('Page 5'!A59=\"22\",24,IF('Page 5'!A59=\"24\",20,IF('Page 5'!A59=\"26\",20,IF('Page 5'!A59=\"28\",20,IF('Page 5'!A59=\"30\",20,IF('Page 5'!A59=\"32\",20,IF('Page 5'!A59=\"34\",20,IF('Page 5'!A59=\"36\",20,IF('Page 5'!A59=\"38\",20,IF('Page 5'!A59=\"40\",20,IF('Page 5'!A59=\"42\",20,IF('Page 5'!A59=\"44\",20,IF('Page 5'!A59=\"46\",20,IF('Page 5'!A59=\"48\",20,\"\"))))))))))))))))))))))","v":""},"4\""]
[null,{"$f":"IF('Page 5'!$A$19<>\"\",\"V\",\"\")","v":""},{"$f":"IF('Page 5'!J45<>\"\",\"M\",\"\")","v":""},{"$f":"IF('Page 5'!$A$19<>\"\",\"-\",\"\")","v":""},{"$f":"IF('Page 5'!$A$19<>\"\",'Page 5'!$H$45,\"\")","v":""},{"$f":"IF('Page 5'!$J$45<>\"\",'Page 5'!K45,\"\")","v":""},{"$f":"IF('Page 5'!$D$19<>\"\",\"A\",IF('Page 5'!$D$20<>\"\",\"B\",\"\"))","v":""},{"$f":"IF('Page 5'!$F$20<>\"\",\"24\",IF('Page 5'!$F$21<>\"\",\"20\",IF('Page 5'!$D$19<>\"\",IF('Page 5'!$F$22<>\"\",$U$62,\"\"),IF('Page 5'!$D$20<>\"\",IF('Page 5'!$F$22<>\"\",$U$63,\"\"),\"\"))))","v":""},{"$f":"IF(G44<>\"\",G44,\"\")","v":""},"",{"$f":"IF('Page 5'!$M$19<>\"\",\"1\",IF('Page 5'!$M$20<>\"\",\"2\",IF('Page 5'!$M$21<>\"\",\"4\",\"\")))","v":""},null,{"$f":"IF('Page 5'!J45<>\"\",CONCATENATE(B44,C44,D44,E44,F44,G44,H44,I44,J44,K44),\"\")","v":""},{"$f":"IF('Page 5'!J45<>\"\",'Page 5'!J45,\"\")","v":""},null,{"$f":"IFERROR(VLOOKUP(LEFT(M44,20),Item_VIP!$A$2:$B$7499,1,FALSE),\"\")","v":""},null,null,"GALVALUME STD",null,null,"GAL",{"$f":"IF('Page 5'!A59=\"06\",28,IF('Page 5'!A59=\"08\",28,IF('Page 5'!A59=\"10\",24,IF('Page 5'!A59=\"12\",24,IF('Page 5'!A59=\"14\",24,IF('Page 5'!A59=\"16\",24,IF('Page 5'!A59=\"18\",24,IF('Page 5'!A59=\"20\",24,IF('Page 5'!A59=\"22\",24,IF('Page 5'!A59=\"24\",20,IF('Page 5'!A59=\"26\",24,IF('Page 5'!A59=\"28\",24,IF('Page 5'!A59=\"30\",24,IF('Page 5'!A59=\"32\",22,IF('Page 5'!A59=\"34\",22,IF('Page 5'!A59=\"36\",22,IF('Page 5'!A59=\"38\",22,IF('Page 5'!A59=\"40\",22,IF('Page 5'!A59=\"42\",22,IF('Page 5'!A59=\"44\",22,IF('Page 5'!A59=\"46\",22,IF('Page 5'!A59=\"48\",22,\"\"))))))))))))))))))))))","v":""},"1\""]
[null,{"$f":"IF('Page 5'!$A$19<>\"\",\"V\",\"\")","v":""},{"$f":"IF('Page 5'!J46<>\"\",\"M\",\"\")","v":""},{"$f":"IF('Page 5'!$A$19<>\"\",\"-\",\"\")","v":""},{"$f":"IF('Page 5'!$A$19<>\"\",'Page 5'!$H$45,\"\")","v":""},{"$f":"IF('Page 5'!$J$46<>\"\",'Page 5'!K46,\"\")","v":""},{"$f":"IF('Page 5'!$D$19<>\"\",\"A\",IF('Page 5'!$D$20<>\"\",\"B\",\"\"))","v":""},{"$f":"IF('Page 5'!$F$20<>\"\",\"24\",IF('Page 5'!$F$21<>\"\",\"20\",IF('Page 5'!$D$19<>\"\",IF('Page 5'!$F$22<>\"\",$U$62,\"\"),IF('Page 5'!$D$20<>\"\",IF('Page 5'!$F$22<>\"\",$U$63,\"\"),\"\"))))","v":""},"","",{"$f":"IF('Page 5'!$M$19<>\"\",\"1\",IF('Page 5'!$M$20<>\"\",\"2\",IF('Page 5'!$M$21<>\"\",\"4\",\"\")))","v":""},null,{"$f":"IF('Page 5'!J46<>\"\",CONCATENATE(B45,C45,D45,E45,F45,G45,H45,I45,J45,K45),\"\")","v":""},{"$f":"IF('Page 5'!J46<>\"\",'Page 5'!J46,\"\")","v":""},null,{"$f":"IFERROR(VLOOKUP(LEFT(M45,20),Item_VIP!$A$2:$B$7499,1,FALSE),\"\")","v":""},null,null,"FF",null,null,"GAL",{"$f":"IF('Page 5'!A59=\"06\",24,IF('Page 5'!A59=\"08\",24,IF('Page 5'!A59=\"10\",24,IF('Page 5'!A59=\"12\",24,IF('Page 5'!A59=\"14\",24,IF('Page 5'!A59=\"16\",24,IF('Page 5'!A59=\"18\",24,IF('Page 5'!A59=\"20\",24,IF('Page 5'!A59=\"22\",24,IF('Page 5'!A59=\"24\",24,IF('Page 5'!A59=\"26\",24,IF('Page 5'!A59=\"28\",24,IF('Page 5'!A59=\"30\",22,IF('Page 5'!A59=\"32\",22,IF('Page 5'!A59=\"34\",22,IF('Page 5'!A59=\"36\",22,IF('Page 5'!A59=\"38\",22,IF('Page 5'!A59=\"40\",22,IF('Page 5'!A59=\"42\",22,IF('Page 5'!A59=\"44\",22,IF('Page 5'!A59=\"46\",22,IF('Page 5'!A59=\"48\",22,\"\"))))))))))))))))))))))","v":""},"2\""]
[null,{"$f":"IF('Page 5'!$A$19<>\"\",\"V\",\"\")","v":""},{"$f":"IF('Page 5'!J47<>\"\",\"M\",\"\")","v":""},{"$f":"IF('Page 5'!$A$19<>\"\",\"-\",\"\")","v":""},{"$f":"IF('Page 5'!$A$19<>\"\",'Page 5'!$H$45,\"\")","v":""},{"$f":"IF('Page 5'!$J$47<>\"\",'Page 5'!K47,\"\")","v":""},{"$f":"IF('Page 5'!$D$19<>\"\",\"A\",IF('Page 5'!$D$20<>\"\",\"B\",\"\"))","v":""},{"$f":"IF('Page 5'!$F$20<>\"\",\"24\",IF('Page 5'!$F$21<>\"\",\"20\",IF('Page 5'!$D$19<>\"\",IF('Page 5'!$F$22<>\"\",$U$64,\"\"),IF('Page 5'!$D$20<>\"\",IF('Page 5'!$F$22<>\"\",$U$65,\"\"),\"\"))))","v":""},"","",{"$f":"IF('Page 5'!$M$19<>\"\",\"1\",IF('Page 5'!$M$20<>\"\",\"2\",IF('Page 5'!$M$21<>\"\",\"4\",\"\")))","v":""},null,{"$f":"IF('Page 5'!J47<>\"\",CONCATENATE(B46,C46,D46,E46,F46,G46,H46,I46,J46,K46),\"\")","v":""},{"$f":"IF('Page 5'!J47<>\"\",'Page 5'!J47,\"\")","v":""},null,{"$f":"IFERROR(VLOOKUP(LEFT(M46,20),Item_VIP!$A$2:$B$7499,1,FALSE),\"\")","v":""},null,null,null,null,null,"GAL",{"$f":"IF('Page 5'!A59=\"06\",24,IF('Page 5'!A59=\"08\",24,IF('Page 5'!A59=\"10\",24,IF('Page 5'!A59=\"12\",24,IF('Page 5'!A59=\"14\",24,IF('Page 5'!A59=\"16\",24,IF('Page 5'!A59=\"18\",24,IF('Page 5'!A59=\"20\",24,IF('Page 5'!A59=\"22\",24,IF('Page 5'!A59=\"24\",24,IF('Page 5'!A59=\"26\",22,IF('Page 5'!A59=\"28\",22,IF('Page 5'!A59=\"30\",22,IF('Page 5'!A59=\"32\",22,IF('Page 5'!A59=\"34\",22,IF('Page 5'!A59=\"36\",22,IF('Page 5'!A59=\"38\",22,IF('Page 5'!A59=\"40\",22,IF('Page 5'!A59=\"42\",22,IF('Page 5'!A59=\"44\",22,IF('Page 5'!A59=\"46\",22,IF('Page 5'!A59=\"48\",22,\"\"))))))))))))))))))))))","v":""},"4\""]
[null,{"$f":"IF('Page 5'!$A$19<>\"\",\"V\",\"\")","v":""},{"$f":"IF('Page 5'!J48<>\"\",\"S\",\"\")","v":""},{"$f":"IF('Page 5'!$A$19<>\"\",\"-\",\"\")","v":""},{"$f":"IF('Page 5'!$A$19<>\"\",'Page 5'!$H$45,\"\")","v":""},{"$f":"IF('Page 5'!$J$48<>\"\",'Page 5'!K48,\"\")","v":""},{"$f":"IF('Page 5'!$D$19<>\"\",\"A\",IF('Page 5'!$D$20<>\"\",\"B\",\"\"))","v":""},{"$f":"IF('Page 5'!$F$20<>\"\",\"24\",IF('Page 5'!$F$21<>\"\",\"20\",IF('Page 5'!$D$19<>\"\",IF('Page 5'!$F$22<>\"\",$U$64,\"\"),IF('Page 5'!$D$20<>\"\",IF('Page 5'!$F$22<>\"\",$U$65,\"\"),\"\"))))","v":""},"","",{"$f":"IF('Page 5'!$M$19<>\"\",\"1\",IF('Page 5'!$M$20<>\"\",\"2\",IF('Page 5'!$M$21<>\"\",\"4\",\"\")))","v":""},{"$f":"IF('Page 5'!J48<>\"\",\"-NC\",\"\")","v":""},{"$f":"IF('Page 5'!J48<>\"\",CONCATENATE(B47,C47,D47,E47,F47,G47,H47,I47,J47,K47,L47),\"\")","v":""},{"$f":"IF('Page 5'!J48<>\"\",'Page 5'!J48,\"\")","v":""},null,{"$f":"IFERROR(VLOOKUP(LEFT(M47,20),Item_VIP!$A$2:$B$7499,1,FALSE),\"\")","v":""},null,null,"GALVALUME STD",null,null,"GAL",{"$f":"IF('Page 5'!A59=\"06\",24,IF('Page 5'!A59=\"08\",24,IF('Page 5'!A59=\"10\",24,IF('Page 5'!A59=\"12\",24,IF('Page 5'!A59=\"14\",24,IF('Page 5'!A59=\"16\",24,IF('Page 5'!A59=\"18\",24,IF('Page 5'!A59=\"20\",24,IF('Page 5'!A59=\"22\",24,IF('Page 5'!A59=\"24\",20,IF('Page 5'!A59=\"26\",24,IF('Page 5'!A59=\"28\",24,IF('Page 5'!A59=\"30\",22,IF('Page 5'!A59=\"32\",22,IF('Page 5'!A59=\"34\",22,IF('Page 5'!A59=\"36\",22,IF('Page 5'!A59=\"38\",22,IF('Page 5'!A59=\"40\",22,IF('Page 5'!A59=\"42\",22,IF('Page 5'!A59=\"44\",22,IF('Page 5'!A59=\"46\",22,IF('Page 5'!A59=\"48\",22,\"\"))))))))))))))))))))))","v":""},"1\""]
[null,{"$f":"IF('Page 5'!$A$19<>\"\",\"V\",\"\")","v":""},{"$f":"IF('Page 5'!J49<>\"\",\"S\",\"\")","v":""},{"$f":"IF('Page 5'!$A$19<>\"\",\"-\",\"\")","v":""},{"$f":"IF('Page 5'!$A$19<>\"\",'Page 5'!$H$45,\"\")","v":""},{"$f":"IF('Page 5'!$J$49<>\"\",'Page 5'!K49,\"\")","v":""},{"$f":"IF('Page 5'!$D$19<>\"\",\"A\",IF('Page 5'!$D$20<>\"\",\"B\",\"\"))","v":""},{"$f":"IF('Page 5'!$F$20<>\"\",\"24\",IF('Page 5'!$F$21<>\"\",\"20\",IF('Page 5'!$D$19<>\"\",IF('Page 5'!$F$22<>\"\",$U$64,\"\"),IF('Page 5'!$D$20<>\"\",IF('Page 5'!$F$22<>\"\",$U$65,\"\"),\"\"))))","v":""},"","",{"$f":"IF('Page 5'!$M$19<>\"\",\"1\",IF('Page 5'!$M$20<>\"\",\"2\",IF('Page 5'!$M$21<>\"\",\"4\",\"\")))","v":""},{"$f":"IF('Page 5'!J49<>\"\",\"-F\",\"\")","v":""},{"$f":"IF('Page 5'!J49<>\"\",CONCATENATE(B48,C48,D48,E48,F48,G48,H48,I48,J48,K48,L48),\"\")","v":""},{"$f":"IF('Page 5'!J49<>\"\",'Page 5'!J49,\"\")","v":""},null,{"$f":"IFERROR(VLOOKUP(LEFT(M48,20),Item_VIP!$A$2:$B$7499,1,FALSE),\"\")","v":""},null,null,"FA &FB",null,null,"GAL",{"$f":"IF('Page 5'!A59=\"06\",24,IF('Page 5'!A59=\"08\",24,IF('Page 5'!A59=\"10\",24,IF('Page 5'!A59=\"12\",24,IF('Page 5'!A59=\"14\",24,IF('Page 5'!A59=\"16\",24,IF('Page 5'!A59=\"18\",24,IF('Page 5'!A59=\"20\",24,IF('Page 5'!A59=\"22\",24,IF('Page 5'!A59=\"24\",20,IF('Page 5'!A59=\"26\",24,IF('Page 5'!A59=\"28\",24,IF('Page 5'!A59=\"30\",22,IF('Page 5'!A59=\"32\",22,IF('Page 5'!A59=\"34\",22,IF('Page 5'!A59=\"36\",22,IF('Page 5'!A59=\"38\",22,IF('Page 5'!A59=\"40\",22,IF('Page 5'!A59=\"42\",22,IF('Page 5'!A59=\"44\",22,IF('Page 5'!A59=\"46\",22,IF('Page 5'!A59=\"48\",22,\"\"))))))))))))))))))))))","v":""},"2\""]
[null,{"$f":"IF('Page 5'!$A$19<>\"\",\"V\",\"\")","v":""},{"$f":"IF('Page 5'!$H$45<>\"\",\"M\",\"\")","v":""},{"$f":"IF('Page 5'!$A$19<>\"\",\"-\",\"\")","v":""},{"$f":"IF('Page 5'!$A$19<>\"\",'Page 5'!$H$45,\"\")","v":""},{"$f":"IF('Page 5'!J50<>\"\",'Page 5'!K50,\"\")","v":""},{"$f":"IF('Page 5'!J50<>\"\",\"0\",\"\")","v":""},{"$f":"IF('Page 5'!J50<>\"\",\"00\",\"\")","v":""},{"$f":"IF('Page 5'!$D$19<>\"\",\"A\",IF('Page 5'!$D$20<>\"\",\"B\",\"\"))","v":""},{"$f":"IF('Page 5'!$F$20<>\"\",\"24\",IF('Page 5'!$F$21<>\"\",\"20\",IF('Page 5'!$D$19<>\"\",IF('Page 5'!$F$22<>\"\",$U$64,\"\"),IF('Page 5'!$D$20<>\"\",IF('Page 5'!$F$22<>\"\",$U$65,\"\"),\"\"))))","v":""},{"$f":"IF('Page 5'!$M$19<>\"\",\"1\",IF('Page 5'!$M$20<>\"\",\"2\",IF('Page 5'!$M$21<>\"\",\"4\",\"\")))","v":""},null,{"$f":"IF('Page 5'!J50<>\"\",CONCATENATE(B49,C49,D49,E49,F49,G49,H49,I49,J49,K49),\"\")","v":""},{"$f":"IF('Page 5'!J50<>\"\",'Page 5'!J50,\"\")","v":""},null,{"$f":"IFERROR(VLOOKUP(LEFT(M49,20),Item_VIP!$A$2:$B$7499,1,FALSE),\"\")","v":""},null,null,null,null,null,"GAL",{"$f":"IF('Page 5'!A59=\"06\",24,IF('Page 5'!A59=\"08\",24,IF('Page 5'!A59=\"10\",24,IF('Page 5'!A59=\"12\",24,IF('Page 5'!A59=\"14\",24,IF('Page 5'!A59=\"16\",24,IF('Page 5'!A59=\"18\",24,IF('Page 5'!A59=\"20\",24,IF('Page 5'!A59=\"22\",24,IF('Page 5'!A59=\"24\",24,IF('Page 5'!A59=\"26\",22,IF('Page 5'!A59=\"28\",22,IF('Page 5'!A59=\"30\",22,IF('Page 5'!A59=\"32\",22,IF('Page 5'!A59=\"34\",22,IF('Page 5'!A59=\"36\",22,IF('Page 5'!A59=\"38\",22,IF('Page 5'!A59=\"40\",22,IF('Page 5'!A59=\"42\",22,IF('Page 5'!A59=\"44\",22,IF('Page 5'!A59=\"46\",22,IF('Page 5'!A59=\"48\",22,\"\"))))))))))))))))))))))","v":""},"4\""]
[null,{"$f":"IF('Page 5'!$A$19<>\"\",\"V\",\"\")","v":""},{"$f":"IF('Page 5'!$H$45<>\"\",\"M\",\"\")","v":""},{"$f":"IF('Page 5'!$A$19<>\"\",\"-\",\"\")","v":""},{"$f":"IF('Page 5'!$A$19<>\"\",'Page 5'!$H$45,\"\")","v":""},{"$f":"IF('Page 5'!J51<>\"\",'Page 5'!K51,\"\")","v":""},{"$f":"IF('Page 5'!J51<>\"\",\"0\",\"\")","v":""},{"$f":"IF('Page 5'!J51<>\"\",\"00\",\"\")","v":""},{"$f":"IF('Page 5'!$D$19<>\"\",\"A\",IF('Page 5'!$D$20<>\"\",\"B\",\"\"))","v":""},{"$f":"IF('Page 5'!$F$20<>\"\",\"24\",IF('Page 5'!$F$21<>\"\",\"20\",IF('Page 5'!$D$19<>\"\",IF('Page 5'!$F$22<>\"\",$U$64,\"\"),IF('Page 5'!$D$20<>\"\",IF('Page 5'!$F$22<>\"\",$U$65,\"\"),\"\"))))","v":""},{"$f":"IF('Page 5'!$M$19<>\"\",\"1\",IF('Page 5'!$M$20<>\"\",\"2\",IF('Page 5'!$M$21<>\"\",\"4\",\"\")))","v":""},null,{"$f":"IF('Page 5'!J51<>\"\",CONCATENATE(B50,C50,D50,E50,F50,G50,H50,I50,J50,K50),\"\")","v":""},{"$f":"IF('Page 5'!J51<>\"\",'Page 5'!J51,\"\")","v":""},null,{"$f":"IFERROR(VLOOKUP(LEFT(M50,20),Item_VIP!$A$2:$B$7499,1,FALSE),\"\")","v":""},null,"SC","SS 304",null,null,"STD",{"$f":"IF('Page 5'!A59=\"06\",24,IF('Page 5'!A59=\"08\",24,IF('Page 5'!A59=\"10\",24,IF('Page 5'!A59=\"12\",24,IF('Page 5'!A59=\"14\",24,IF('Page 5'!A59=\"16\",24,IF('Page 5'!A59=\"18\",24,IF('Page 5'!A59=\"20\",24,IF('Page 5'!A59=\"22\",24,IF('Page 5'!A59=\"24\",24,IF('Page 5'!A59=\"26\",24,IF('Page 5'!A59=\"28\",24,IF('Page 5'!A59=\"30\",24,IF('Page 5'!A59=\"32\",20,IF('Page 5'!A59=\"34\",20,IF('Page 5'!A59=\"36\",20,IF('Page 5'!A59=\"38\",20,IF('Page 5'!A59=\"40\",20,IF('Page 5'!A59=\"42\",20,IF('Page 5'!A59=\"44\",20,IF('Page 5'!A59=\"46\",20,IF('Page 5'!A59=\"48\",20,\"\"))))))))))))))))))))))","v":""},"1\""]
[null,{"$f":"IF('Page 5'!$A$19<>\"\",\"V\",\"\")","v":""},{"$f":"IF('Page 5'!$H$45<>\"\",\"M\",\"\")","v":""},{"$f":"IF('Page 5'!$A$19<>\"\",\"-\",\"\")","v":""},{"$f":"IF('Page 5'!$A$19<>\"\",'Page 5'!$H$45,\"\")","v":""},{"$f":"IF('Page 5'!J52<>\"\",'Page 5'!K52,\"\")","v":""},{"$f":"IF('Page 5'!$D$19<>\"\",\"A\",IF('Page 5'!$D$20<>\"\",\"B\",\"\"))","v":""},{"$f":"IF('Page 5'!$F$20<>\"\",\"24\",IF('Page 5'!$F$21<>\"\",\"20\",IF('Page 5'!$D$19<>\"\",IF('Page 5'!$F$22<>\"\",$U$68,\"\"),IF('Page 5'!$D$20<>\"\",IF('Page 5'!$F$22<>\"\",$U$69,\"\"),\"\"))))","v":""},{"$f":"IF('Page 5'!$D$19<>\"\",\"A\",IF('Page 5'!$D$20<>\"\",\"B\",\"\"))","v":""},{"$f":"IF(H51<>\"\",H51,\"\")","v":""},{"$f":"IF('Page 5'!$M$19<>\"\",\"1\",IF('Page 5'!$M$20<>\"\",\"2\",IF('Page 5'!$M$21<>\"\",\"4\",\"\")))","v":""},null,{"$f":"IF('Page 5'!J52<>\"\",CONCATENATE(B51,C51,D51,E51,F51,G51,H51,I51,J51,K51),\"\")","v":""},{"$f":"IF('Page 5'!J52<>\"\",'Page 5'!J52,\"\")","v":""},null,{"$f":"IFERROR(VLOOKUP(LEFT(M51,20),Item_VIP!$A$2:$B$7499,1,FALSE),\"\")","v":""},null,null,null,null,null,"STD",{"$f":"IF('Page 5'!A59=\"06\",24,IF('Page 5'!A59=\"08\",24,IF('Page 5'!A59=\"10\",24,IF('Page 5'!A59=\"12\",24,IF('Page 5'!A59=\"14\",24,IF('Page 5'!A59=\"16\",24,IF('Page 5'!A59=\"18\",24,IF('Page 5'!A59=\"20\",24,IF('Page 5'!A59=\"22\",24,IF('Page 5'!A59=\"24\",24,IF('Page 5'!A59=\"26\",24,IF('Page 5'!A59=\"28\",24,IF('Page 5'!A59=\"30\",20,IF('Page 5'!A59=\"32\",20,IF('Page 5'!A59=\"34\",20,IF('Page 5'!A59=\"36\",20,IF('Page 5'!A59=\"38\",20,IF('Page 5'!A59=\"40\",20,IF('Page 5'!A59=\"42\",20,IF('Page 5'!A59=\"44\",20,IF('Page 5'!A59=\"46\",20,IF('Page 5'!A59=\"48\",20,\"\"))))))))))))))))))))))","v":""},"2\""]
[null,{"$f":"IF('Page 5'!$A$19<>\"\",\"V\",\"\")","v":""},{"$f":"IF('Page 5'!$H$45<>\"\",\"M\",\"\")","v":""},{"$f":"IF('Page 5'!$A$19<>\"\",\"-\",\"\")","v":""},{"$f":"IF('Page 5'!$A$19<>\"\",'Page 5'!$H$45,\"\")","v":""},{"$f":"IF('Page 5'!J53<>\"\",'Page 5'!K53,\"\")","v":""},{"$f":"IF('Page 5'!J53<>\"\",\"0\",\"\")","v":""},{"$f":"IF('Page 5'!J53<>\"\",\"00\",\"\")","v":""},{"$f":"IF('Page 5'!$D$19<>\"\",\"A\",IF('Page 5'!$D$20<>\"\",\"B\",\"\"))","v":""},{"$f":"IF('Page 5'!$F$20<>\"\",\"24\",IF('Page 5'!$F$21<>\"\",\"20\",IF('Page 5'!$D$19<>\"\",IF('Page 5'!$F$22<>\"\",$W$70,\"\"),IF('Page 5'!$D$20<>\"\",IF('Page 5'!$F$22<>\"\",$W$71,\"\"),\"\"))))","v":""},{"$f":"IF('Page 5'!$M$19<>\"\",\"1\",IF('Page 5'!$M$20<>\"\",\"2\",IF('Page 5'!$M$21<>\"\",\"4\",\"\")))","v":""},null,{"$f":"IF('Page 5'!J53<>\"\",CONCATENATE(B52,C52,D52,E52,F52,G52,H52,I52,J52,K52),\"\")","v":""},{"$f":"IF('Page 5'!J53<>\"\",'Page 5'!J53,\"\")","v":""},null,{"$f":"IFERROR(VLOOKUP(LEFT(M52,20),Item_VIP!$A$2:$B$7499,1,FALSE),\"\")","v":""},null,null,null,null,null,"STD",{"$f":"IF('Page 5'!A59=\"06\",24,IF('Page 5'!A59=\"08\",24,IF('Page 5'!A59=\"10\",24,IF('Page 5'!A59=\"12\",24,IF('Page 5'!A59=\"14\",24,IF('Page 5'!A59=\"16\",24,IF('Page 5'!A59=\"18\",24,IF('Page 5'!A59=\"20\",24,IF('Page 5'!A59=\"22\",24,IF('Page 5'!A59=\"24\",24,IF('Page 5'!A59=\"26\",20,IF('Page 5'!A59=\"28\",20,IF('Page 5'!A59=\"30\",20,IF('Page 5'!A59=\"32\",20,IF('Page 5'!A59=\"34\",20,IF('Page 5'!A59=\"36\",20,IF('Page 5'!A59=\"38\",20,IF('Page 5'!A59=\"40\",20,IF('Page 5'!A59=\"42\",20,IF('Page 5'!A59=\"44\",20,IF('Page 5'!A59=\"46\",20,IF('Page 5'!A59=\"48\",20,\"\"))))))))))))))))))))))","v":""},"4\""]
[null,{"$f":"IF('Page 5'!$A$19<>\"\",\"V\",\"\")","v":""},{"$f":"IF('Page 5'!$H$45<>\"\",\"M\",\"\")","v":""},{"$f":"IF('Page 5'!$A$19<>\"\",\"-\",\"\")","v":""},{"$f":"IF('Page 5'!$A$19<>\"\",'Page 5'!$H$45,\"\")","v":""},{"$f":"IF('Page 5'!J54<>\"\",'Page 5'!K54,\"\")","v":""},{"$f":"IF('Page 5'!$D$19<>\"\",\"A\",IF('Page 5'!$D$20<>\"\",\"B\",\"\"))","v":""},{"$f":"IF('Page 5'!$F$20<>\"\",\"20\",IF('Page 5'!$F$21<>\"\",\"20\",IF('Page 5'!$D$19<>\"\",IF('Page 5'!$F$22<>\"\",$U$72,\"\"),IF('Page 5'!$D$20<>\"\",IF('Page 5'!$F$22<>\"\",$U$73,\"\"),\"\"))))","v":""},{"$f":"IF(G53<>\"\",G53,\"\")","v":""},{"$f":"IF(H53<>\"\",H53,\"\")","v":""},{"$f":"IF('Page 5'!$M$19<>\"\",\"1\",IF('Page 5'!$M$20<>\"\",\"2\",IF('Page 5'!$M$21<>\"\",\"4\",\"\")))","v":""},null,{"$f":"IF('Page 5'!J54<>\"\",CONCATENATE(B53,C53,D53,E53,F53,G53,H53,I53,J53,K53),\"\")","v":""},{"$f":"IF('Page 5'!J54<>\"\",'Page 5'!J54,\"\")","v":""},null,{"$f":"IFERROR(VLOOKUP(LEFT(M53,20),Item_VIP!$A$2:$B$7499,1,FALSE),\"\")","v":""},null,null,"GALVALUME STD",null,null,"GAL",{"$f":"IF('Page 5'!A59=\"06\",24,IF('Page 5'!A59=\"08\",24,IF('Page 5'!A59=\"10\",24,IF('Page 5'!A59=\"12\",24,IF('Page 5'!A59=\"14\",24,IF('Page 5'!A59=\"16\",24,IF('Page 5'!A59=\"18\",24,IF('Page 5'!A59=\"20\",24,IF('Page 5'!A59=\"22\",24,IF('Page 5'!A59=\"24\",24,IF('Page 5'!A59=\"26\",24,IF('Page 5'!A59=\"28\",24,IF('Page 5'!A59=\"30\",24,IF('Page 5'!A59=\"32\",22,IF('Page 5'!A59=\"34\",22,IF('Page 5'!A59=\"36\",22,IF('Page 5'!A59=\"38\",22,IF('Page 5'!A59=\"40\",22,IF('Page 5'!A59=\"42\",22,IF('Page 5'!A59=\"44\",22,IF('Page 5'!A59=\"46\",22,IF('Page 5'!A59=\"48\",22,\"\"))))))))))))))))))))))","v":""},"1\""]
[null,{"$f":"IF('Page 5'!$A$19<>\"\",\"V\",\"\")","v":""},{"$f":"IF('Page 5'!$H$36<>\"\",\"M\",\"\")","v":""},{"$f":"IF('Page 5'!$A$19<>\"\",\"-\",\"\")","v":""},{"$f":"C5","v":""},{"$f":"IF('Page 5'!J56<>\"\",'Page 5'!K56,\"\")","v":""},{"$f":"IF('Page 5'!J56<>\"\",\"0\",\"\")","v":""},{"$f":"IF('Page 5'!J56<>\"\",\"00\",\"\")","v":""},{"$f":"IF('Page 5'!N56<>\"\",\"A\",\"C\")","v":"C"},{"$f":"IF(I54=\"C\",IF('Page 5'!$M$19<>\"\",$W$77,IF('Page 5'!$M$20<>\"\",$W$78,IF('Page 5'!$M$21<>\"\",$W$79,\"\"))),IF(I54=\"A\",IF('Page 5'!$M$19<>\"\",$W$80,IF('Page 5'!$M$20<>\"\",$W$81,IF('Page 5'!$M$21<>\"\",$W$82,\"\")))))","v":""},{"$f":"IF('Page 5'!$M$19<>\"\",\"1\",IF('Page 5'!$M$20<>\"\",\"1\",IF('Page 5'!$M$21<>\"\",\"1\",\"\")))","v":""},null,{"$f":"IF('Page 5'!$J$56<>\"\",CONCATENATE(B54,C54,D54,E54,F54,G54,H54,I54,J54,K54,L54),\"\")","v":""},{"$f":"IF('Page 5'!J56<>\"\",'Page 5'!J56,\"\")","v":""},null,{"$f":"IFERROR(VLOOKUP(LEFT(M54,20),Item_VIP!$A$2:$B$7499,1,FALSE),\"\")","v":""},null,null,null,null,null,"GAL",{"$f":"IF('Page 5'!A59=\"06\",24,IF('Page 5'!A59=\"08\",24,IF('Page 5'!A59=\"10\",24,IF('Page 5'!A59=\"12\",24,IF('Page 5'!A59=\"14\",24,IF('Page 5'!A59=\"16\",24,IF('Page 5'!A59=\"18\",24,IF('Page 5'!A59=\"20\",24,IF('Page 5'!A59=\"22\",24,IF('Page 5'!A59=\"24\",24,IF('Page 5'!A59=\"26\",24,IF('Page 5'!A59=\"28\",24,IF('Page 5'!A59=\"30\",22,IF('Page 5'!A59=\"32\",22,IF('Page 5'!A59=\"34\",22,IF('Page 5'!A59=\"36\",22,IF('Page 5'!A59=\"38\",22,IF('Page 5'!A59=\"40\",22,IF('Page 5'!A59=\"42\",22,IF('Page 5'!A59=\"44\",22,IF('Page 5'!A59=\"46\",22,IF('Page 5'!A59=\"48\",22,\"\"))))))))))))))))))))))","v":""},"2\""]
[null,{"$f":"IF('Page 5'!$A$19<>\"\",\"V\",\"\")","v":""},{"$f":"IF('Page 5'!$H$36<>\"\",\"M\",\"\")","v":""},{"$f":"IF('Page 5'!$A$19<>\"\",\"-\",\"\")","v":""},{"$f":"C5","v":""},{"$f":"IF('Page 5'!J57<>\"\",'Page 5'!K57,\"\")","v":""},{"$f":"IF('Page 5'!J57<>\"\",\"0\",\"\")","v":""},{"$f":"IF('Page 5'!J57<>\"\",\"00\",\"\")","v":""},{"$f":"IF('Page 5'!N57<>\"\",\"A\",\"C\")","v":"C"},{"$f":"IF(I55=\"C\",IF('Page 5'!$M$19<>\"\",$W$83,IF('Page 5'!$M$20<>\"\",$W$84,IF('Page 5'!$M$21<>\"\",$W$85,\"\"))),IF(I55=\"A\",IF('Page 5'!$M$19<>\"\",$W$80,IF('Page 5'!$M$20<>\"\",$W$81,IF('Page 5'!$M$21<>\"\",$W$82,\"\")))))","v":""},{"$f":"IF('Page 5'!$M$19<>\"\",\"1\",IF('Page 5'!$M$20<>\"\",\"1\",IF('Page 5'!$M$21<>\"\",\"1\",\"\")))","v":""},null,{"$f":"IF('Page 5'!$J$57<>\"\",CONCATENATE(B55,C55,D55,E55,F55,G55,H55,I55,J55,K55,L55),\"\")","v":""},{"$f":"IF('Page 5'!J57<>\"\",'Page 5'!J57,\"\")","v":""},null,{"$f":"IFERROR(VLOOKUP(LEFT(M55,20),Item_VIP!$A$2:$B$7499,1,FALSE),\"\")","v":""},null,null,null,null,null,"GAL",{"$f":"IF('Page 5'!A59=\"06\",24,IF('Page 5'!A59=\"08\",24,IF('Page 5'!A59=\"10\",24,IF('Page 5'!A59=\"12\",24,IF('Page 5'!A59=\"14\",24,IF('Page 5'!A59=\"16\",24,IF('Page 5'!A59=\"18\",24,IF('Page 5'!A59=\"20\",24,IF('Page 5'!A59=\"22\",24,IF('Page 5'!A59=\"24\",24,IF('Page 5'!A59=\"26\",22,IF('Page 5'!A59=\"28\",22,IF('Page 5'!A59=\"30\",22,IF('Page 5'!A59=\"32\",22,IF('Page 5'!A59=\"34\",22,IF('Page 5'!A59=\"36\",22,IF('Page 5'!A59=\"38\",22,IF('Page 5'!A59=\"40\",22,IF('Page 5'!A59=\"42\",22,IF('Page 5'!A59=\"44\",22,IF('Page 5'!A59=\"46\",22,IF('Page 5'!A59=\"48\",22,\"\"))))))))))))))))))))))","v":""},"4\""]
[null,{"$f":"IF('Page 5'!$A$19<>\"\",\"V\",\"\")","v":""},{"$f":"IF('Page 5'!$H$56<>\"\",\"M\",\"\")","v":""},{"$f":"IF('Page 5'!$A$19<>\"\",\"-\",\"\")","v":""},{"$f":"IF('Page 5'!$A$19<>\"\",'Page 5'!$H$56,\"\")","v":""},{"$f":"IF('Page 5'!J58<>\"\",'Page 5'!K58,\"\")","v":""},{"$f":"IF('Page 5'!$D$19<>\"\",\"A\",IF('Page 5'!$D$20<>\"\",\"B\",\"\"))","v":""},{"$f":"IF('Page 5'!$F$19<>\"\",\"26\",IF('Page 5'!$F$20<>\"\",\"24\",IF('Page 5'!$F$21<>\"\",\"20\",IF('Page 5'!$D$19<>\"\",IF('Page 5'!$F$22<>\"\",$U$86,\"\"),IF('Page 5'!$D$20<>\"\",IF('Page 5'!$F$22<>\"\",$U$89,\"\"),\"\")))))","v":""},{"$f":"IF('Page 5'!$H$19<>\"\",\"A\",IF('Page 5'!$H$20<>\"\",\"B\",IF('Page 5'!$H$21<>\"\",\"C\",\"\")))","v":""},{"$f":"IF('Page 5'!$K$19<>\"\",\"26\",IF('Page 5'!$K$20<>\"\",\"24\",IF('Page 5'!$K$21<>\"\",\"20\",IF($Z$86<>\"\",$Z$86,IF($Z$89<>\"\",$Z$89,IF($Z$92<>\"\",$Z$92,\"\"))))))","v":""},{"$f":"IF('Page 5'!$M$19<>\"\",\"1\",IF('Page 5'!$M$20<>\"\",\"2\",IF('Page 5'!$M$21<>\"\",\"4\",\"\")))","v":""},{"$f":"IF('Page 5'!$I$58<>\"\",'Page 5'!$I$58,\"\")","v":""},{"$f":"IF('Page 5'!$J$58<>\"\",CONCATENATE(B56,C56,D56,E56,F56,G56,H56,I56,J56,K56,L56),\"\")","v":""},{"$f":"IF('Page 5'!J58<>\"\",'Page 5'!J58,\"\")","v":""},null,{"$f":"IFERROR(VLOOKUP(LEFT(M56,20),Item_VIP!$A$2:$B$7499,1,FALSE),\"\")","v":""},null,"SUPPORTS","SS 304",null,null,"STD",{"$f":"IF('Page 5'!H36=\"06\",20,IF('Page 5'!H36=\"08\",20,IF('Page 5'!H36=\"10\",20,IF('Page 5'!H36=\"12\",20,IF('Page 5'!H36=\"14\",20,IF('Page 5'!H36=\"16\",20,IF('Page 5'!H36=\"18\",20,IF('Page 5'!H36=\"20\",20,IF('Page 5'!H36=\"22\",20,IF('Page 5'!H36=\"24\",20,IF('Page 5'!H36=\"26\",20,IF('Page 5'!H36=\"28\",20,IF('Page 5'!H36=\"30\",20,IF('Page 5'!H36=\"32\",20,IF('Page 5'!H36=\"34\",20,IF('Page 5'!H36=\"36\",20,IF('Page 5'!H36=\"38\",20,IF('Page 5'!H36=\"40\",20,IF('Page 5'!H36=\"42\",20,IF('Page 5'!H36=\"44\",20,IF('Page 5'!H36=\"46\",20,IF('Page 5'!H36=\"48\",20,\"\"))))))))))))))))))))))","v":""},"1\""]
[null,{"$f":"IF('Page 5'!$A$19<>\"\",\"V\",\"\")","v":""},{"$f":"IF('Page 5'!$H$56<>\"\",\"M\",\"\")","v":""},{"$f":"IF('Page 5'!$A$19<>\"\",\"-\",\"\")","v":""},{"$f":"IF('Page 5'!$A$19<>\"\",'Page 5'!$H$56,\"\")","v":""},{"$f":"IF('Page 5'!J59<>\"\",'Page 5'!K59,\"\")","v":""},{"$f":"IF('Page 5'!$D$19<>\"\",\"A\",IF('Page 5'!$D$20<>\"\",\"B\",\"\"))","v":""},{"$f":"IF('Page 5'!$F$19<>\"\",\"26\",IF('Page 5'!$F$20<>\"\",\"24\",IF('Page 5'!$F$21<>\"\",\"20\",IF('Page 5'!$D$19<>\"\",IF('Page 5'!$F$22<>\"\",$U$86,\"\"),IF('Page 5'!$D$20<>\"\",IF('Page 5'!$F$22<>\"\",$U$89,\"\"),\"\")))))","v":""},{"$f":"IF('Page 5'!$H$19<>\"\",\"A\",IF('Page 5'!$H$20<>\"\",\"B\",IF('Page 5'!$H$21<>\"\",\"C\",\"\")))","v":""},{"$f":"IF('Page 5'!$K$19<>\"\",\"26\",IF('Page 5'!$K$20<>\"\",\"24\",IF('Page 5'!$K$21<>\"\",\"20\",IF($Z$86<>\"\",$Z$86,IF($Z$89<>\"\",$Z$89,IF($Z$92<>\"\",$Z$92,\"\"))))))","v":""},{"$f":"IF('Page 5'!$M$19<>\"\",\"1\",IF('Page 5'!$M$20<>\"\",\"2\",IF('Page 5'!$M$21<>\"\",\"4\",\"\")))","v":""},{"$f":"IF('Page 5'!$I$58<>\"\",'Page 5'!$I$58,\"\")","v":""},{"$f":"IF('Page 5'!$J$58<>\"\",CONCATENATE(B57,C57,D57,E57,F57,G57,H57,I57,J57,K57,L57),\"\")","v":""},{"$f":"IF('Page 5'!J59<>\"\",'Page 5'!J59,\"\")","v":""},null,null,null,null,null,null,null,"STD",{"$f":"IF('Page 5'!H36=\"06\",20,IF('Page 5'!H36=\"08\",20,IF('Page 5'!H36=\"10\",20,IF('Page 5'!H36=\"12\",20,IF('Page 5'!H36=\"14\",20,IF('Page 5'!H36=\"16\",20,IF('Page 5'!H36=\"18\",20,IF('Page 5'!H36=\"20\",20,IF('Page 5'!H36=\"22\",20,IF('Page 5'!H36=\"24\",20,IF('Page 5'!H36=\"26\",20,IF('Page 5'!H36=\"28\",20,IF('Page 5'!H36=\"30\",20,IF('Page 5'!H36=\"32\",20,IF('Page 5'!H36=\"34\",20,IF('Page 5'!H36=\"36\",20,IF('Page 5'!H36=\"38\",20,IF('Page 5'!H36=\"40\",20,IF('Page 5'!H36=\"42\",20,IF('Page 5'!H36=\"44\",20,IF('Page 5'!H36=\"46\",20,IF('Page 5'!H36=\"48\",20,\"\"))))))))))))))))))))))","v":""},"2\""]
[null,{"$f":"IF('Page 5'!$A$19<>\"\",\"V\",\"\")","v":""},{"$f":"IF('Page 5'!$H$56<>\"\",\"M\",\"\")","v":""},{"$f":"IF('Page 5'!$A$19<>\"\",\"-\",\"\")","v":""},{"$f":"IF('Page 5'!$A$19<>\"\",'Page 5'!$H$56,\"\")","v":""},{"$f":"IF('Page 5'!J60<>\"\",'Page 5'!K60,\"\")","v":""},{"$f":"IF('Page 5'!$D$19<>\"\",\"A\",IF('Page 5'!$D$20<>\"\",\"B\",\"\"))","v":""},{"$f":"IF('Page 5'!$F$20<>\"\",\"24\",IF('Page 5'!$F$21<>\"\",\"20\",IF('Page 5'!$D$19<>\"\",IF('Page 5'!$F$22<>\"\",$U$21,\"\"),IF('Page 5'!$D$20<>\"\",IF('Page 5'!$F$22<>\"\",$U$24,\"\"),\"\"))))","v":""},{"$f":"IF('Page 5'!$H$19<>\"\",\"A\",IF('Page 5'!$H$20<>\"\",\"B\",IF('Page 5'!$H$21<>\"\",\"C\",\"\")))","v":""},{"$f":"IF('Page 5'!$K$20<>\"\",\"24\",IF('Page 5'!$K$21<>\"\",\"20\",IF($Z$21<>\"\",$Z$21,IF($Z$24<>\"\",$Z$24,IF($Z$27<>\"\",$Z$27,\"\")))))","v":""},{"$f":"IF('Page 5'!$M$19<>\"\",\"1\",IF('Page 5'!$M$20<>\"\",\"2\",IF('Page 5'!$M$21<>\"\",\"4\",\"\")))","v":""},null,{"$f":"IF('Page 5'!$J$58<>\"\",CONCATENATE(B58,C58,D58,E58,F58,G58,H58,I58,J58,K58,L58),\"\")","v":""},{"$f":"IF('Page 5'!J60<>\"\",'Page 5'!J60,\"\")","v":""},null,null,null,null,null,null,null,"STD",{"$f":"IF('Page 5'!H36=\"06\",20,IF('Page 5'!H36=\"08\",20,IF('Page 5'!H36=\"10\",20,IF('Page 5'!H36=\"12\",20,IF('Page 5'!H36=\"14\",20,IF('Page 5'!H36=\"16\",20,IF('Page 5'!H36=\"18\",20,IF('Page 5'!H36=\"20\",20,IF('Page 5'!H36=\"22\",20,IF('Page 5'!H36=\"24\",20,IF('Page 5'!H36=\"26\",20,IF('Page 5'!H36=\"28\",20,IF('Page 5'!H36=\"30\",20,IF('Page 5'!H36=\"32\",20,IF('Page 5'!H36=\"34\",20,IF('Page 5'!H36=\"36\",20,IF('Page 5'!H36=\"38\",20,IF('Page 5'!H36=\"40\",20,IF('Page 5'!H36=\"42\",20,IF('Page 5'!H36=\"44\",20,IF('Page 5'!H36=\"46\",20,IF('Page 5'!H36=\"48\",20,\"\"))))))))))))))))))))))","v":""},"4\""]
[null,null,null,null,null,null,null,null,null,null,null,null,null,null,null,null,null,null,"GALVALUME STD",null,null,"GAL",{"$f":"IF('Page 5'!H36=\"06\",22,IF('Page 5'!H36=\"08\",22,IF('Page 5'!H36=\"10\",22,IF('Page 5'!H36=\"12\",22,IF('Page 5'!H36=\"14\",22,IF('Page 5'!H36=\"16\",22,IF('Page 5'!H36=\"18\",22,IF('Page 5'!H36=\"20\",22,IF('Page 5'!H36=\"22\",22,IF('Page 5'!H36=\"24\",22,IF('Page 5'!H36=\"26\",22,IF('Page 5'!H36=\"28\",22,IF('Page 5'!H36=\"30\",22,IF('Page 5'!H36=\"32\",22,IF('Page 5'!H36=\"34\",22,IF('Page 5'!H36=\"36\",22,IF('Page 5'!H36=\"38\",22,IF('Page 5'!H36=\"40\",22,IF('Page 5'!H36=\"42\",22,IF('Page 5'!H36=\"44\",22,IF('Page 5'!H36=\"46\",22,IF('Page 5'!H36=\"48\",22,\"\"))))))))))))))))))))))","v":""},"1\""]
[null,null,null,null,null,null,null,null,null,null,null,null,null,null,null,null,null,null,null,null,null,"GAL",{"$f":"IF('Page 5'!H36=\"06\",22,IF('Page 5'!H36=\"08\",22,IF('Page 5'!H36=\"10\",22,IF('Page 5'!H36=\"12\",22,IF('Page 5'!H36=\"14\",22,IF('Page 5'!H36=\"16\",22,IF('Page 5'!H36=\"18\",22,IF('Page 5'!H36=\"20\",22,IF('Page 5'!H36=\"22\",22,IF('Page 5'!H36=\"24\",22,IF('Page 5'!H36=\"26\",22,IF('Page 5'!H36=\"28\",22,IF('Page 5'!H36=\"30\",22,IF('Page 5'!H36=\"32\",22,IF('Page 5'!H36=\"34\",22,IF('Page 5'!H36=\"36\",22,IF('Page 5'!H36=\"38\",22,IF('Page 5'!H36=\"40\",22,IF('Page 5'!H36=\"42\",22,IF('Page 5'!H36=\"44\",22,IF('Page 5'!H36=\"46\",22,IF('Page 5'!H36=\"48\",22,\"\"))))))))))))))))))))))","v":""},"2\""]
[null,null,null,null,null,null,null,null,null,null,null,null,null,null,null,null,null,null,null,null,null,"GAL",{"$f":"IF('Page 5'!H36=\"06\",22,IF('Page 5'!H36=\"08\",22,IF('Page 5'!H36=\"10\",22,IF('Page 5'!H36=\"12\",22,IF('Page 5'!H36=\"14\",22,IF('Page 5'!H36=\"16\",22,IF('Page 5'!H36=\"18\",22,IF('Page 5'!H36=\"20\",22,IF('Page 5'!H36=\"22\",22,IF('Page 5'!H36=\"24\",22,IF('Page 5'!H36=\"26\",22,IF('Page 5'!H36=\"28\",22,IF('Page 5'!H36=\"30\",22,IF('Page 5'!H36=\"32\",22,IF('Page 5'!H36=\"34\",22,IF('Page 5'!H36=\"36\",22,IF('Page 5'!H36=\"38\",22,IF('Page 5'!H36=\"40\",22,IF('Page 5'!H36=\"42\",22,IF('Page 5'!H36=\"44\",22,IF('Page 5'!H36=\"46\",22,IF('Page 5'!H36=\"48\",22,\"\"))))))))))))))))))))))","v":""},"4\""]
[null,null,null,null,null,null,null,null,null,null,null,null,null,null,null,null,null,"AP","SS 304","STD",{"$f":"IF('Page 5'!H45=\"06\",24,IF('Page 5'!H45=\"08\",24,IF('Page 5'!H45=\"10\",24,IF('Page 5'!H45=\"12\",24,IF('Page 5'!H45=\"14\",24,IF('Page 5'!H45=\"16\",24,IF('Page 5'!H45=\"18\",24,IF('Page 5'!H45=\"20\",24,IF('Page 5'!H45=\"22\",20,IF('Page 5'!H45=\"24\",20,IF('Page 5'!H45=\"26\",20,IF('Page 5'!H45=\"28\",20,IF('Page 5'!H45=\"30\",20,IF('Page 5'!H45=\"32\",20,IF('Page 5'!H45=\"34\",20,IF('Page 5'!H45=\"36\",20,IF('Page 5'!H45=\"38\",20,IF('Page 5'!H45=\"40\",20,IF('Page 5'!H45=\"42\",20,IF('Page 5'!H45=\"44\",20,IF('Page 5'!H45=\"46\",20,IF('Page 5'!H45=\"48\",20,\"\"))))))))))))))))))))))","v":""}]
[null,null,null,null,null,null,null,null,null,null,null,null,null,null,null,null,null,null,"SS 316","STD",{"$f":"IF('Page 5'!H45=\"06\",24,IF('Page 5'!H45=\"08\",24,IF('Page 5'!H45=\"10\",24,IF('Page 5'!H45=\"12\",24,IF('Page 5'!H45=\"14\",24,IF('Page 5'!H45=\"16\",24,IF('Page 5'!H45=\"18\",24,IF('Page 5'!H45=\"20\",24,IF('Page 5'!H45=\"22\",20,IF('Page 5'!H45=\"20\",24,IF('Page 5'!H45=\"26\",20,IF('Page 5'!H45=\"28\",20,IF('Page 5'!H45=\"30\",20,IF('Page 5'!H45=\"32\",20,IF('Page 5'!H45=\"34\",20,IF('Page 5'!H45=\"36\",20,IF('Page 5'!H45=\"38\",20,IF('Page 5'!H45=\"40\",20,IF('Page 5'!H45=\"42\",20,IF('Page 5'!H45=\"44\",20,IF('Page 5'!H45=\"46\",20,IF('Page 5'!H45=\"48\",20,\"\"))))))))))))))))))))))","v":""}]
[null,null,null,null,null,null,null,null,null,null,null,null,null,null,null,null,null,"EX","SS 304","STD",{"$f":"IF('Page 5'!H45=\"06\",24,IF('Page 5'!H45=\"08\",24,IF('Page 5'!H45=\"10\",24,IF('Page 5'!H45=\"12\",24,IF('Page 5'!H45=\"14\",24,IF('Page 5'!H45=\"16\",24,IF('Page 5'!H45=\"18\",24,IF('Page 5'!H45=\"20\",24,IF('Page 5'!H45=\"22\",24,IF('Page 5'!H45=\"24\",24,IF('Page 5'!H45=\"26\",24,IF('Page 5'!H45=\"28\",24,IF('Page 5'!H45=\"30\",20,IF('Page 5'!H45=\"32\",20,IF('Page 5'!H45=\"34\",20,IF('Page 5'!H45=\"36\",20,IF('Page 5'!H45=\"38\",20,IF('Page 5'!H45=\"40\",20,IF('Page 5'!H45=\"42\",20,IF('Page 5'!H45=\"44\",20,IF('Page 5'!H45=\"46\",20,IF('Page 5'!H45=\"48\",20,\"\"))))))))))))))))))))))","v":""}]
[null,null,null,null,null,null,null,null,null,null,null,null,null,null,null,null,null,null,"SS 316","STD",{"$f":"IF('Page 5'!H45=\"06\",24,IF('Page 5'!H45=\"08\",24,IF('Page 5'!H45=\"10\",24,IF('Page 5'!H45=\"12\",24,IF('Page 5'!H45=\"14\",24,IF('Page 5'!H45=\"16\",24,IF('Page 5'!H45=\"18\",24,IF('Page 5'!H45=\"24\",24,IF('Page 5'!H45=\"22\",24,IF('Page 5'!H45=\"24\",24,IF('Page 5'!H45=\"26\",24,IF('Page 5'!H45=\"28\",24,IF('Page 5'!H45=\"30\",20,IF('Page 5'!H45=\"32\",20,IF('Page 5'!H45=\"34\",20,IF('Page 5'!H45=\"36\",20,IF('Page 5'!H45=\"38\",20,IF('Page 5'!H45=\"40\",20,IF('Page 5'!H45=\"42\",20,IF('Page 5'!H45=\"44\",20,IF('Page 5'!H45=\"46\",20,IF('Page 5'!H45=\"48\",20,\"\"))))))))))))))))))))))","v":""}]
[null,null,null,null,null,null,null,null,null,null,null,null,null,null,null,null,null,"RC/CB","SS 304","STD",null,"STD",{"$f":"IF('Page 5'!H45=\"06\",24,IF('Page 5'!H45=\"08\",24,IF('Page 5'!H45=\"10\",24,IF('Page 5'!H45=\"12\",24,IF('Page 5'!H45=\"14\",24,IF('Page 5'!H45=\"16\",24,IF('Page 5'!H45=\"18\",24,IF('Page 5'!H45=\"20\",24,IF('Page 5'!H45=\"22\",24,IF('Page 5'!H45=\"24\",20,IF('Page 5'!H45=\"26\",20,IF('Page 5'!H45=\"28\",20,IF('Page 5'!H45=\"30\",20,IF('Page 5'!H45=\"32\",20,IF('Page 5'!H45=\"34\",20,IF('Page 5'!H45=\"36\",20,IF('Page 5'!H45=\"38\",20,IF('Page 5'!H45=\"40\",20,IF('Page 5'!H45=\"42\",20,IF('Page 5'!H45=\"44\",20,IF('Page 5'!H45=\"46\",20,IF('Page 5'!H45=\"48\",20,\"\"))))))))))))))))))))))","v":""}]
[null,null,null,null,null,null,null,null,null,null,null,null,null,null,null,null,null,null,"SS 316","STD",null,"STD",{"$f":"IF('Page 5'!H45=\"06\",24,IF('Page 5'!H45=\"08\",24,IF('Page 5'!H45=\"10\",24,IF('Page 5'!H45=\"12\",24,IF('Page 5'!H45=\"14\",24,IF('Page 5'!H45=\"16\",24,IF('Page 5'!H45=\"18\",24,IF('Page 5'!H45=\"20\",24,IF('Page 5'!H45=\"22\",24,IF('Page 5'!H45=\"24\",20,IF('Page 5'!H45=\"26\",20,IF('Page 5'!H45=\"28\",20,IF('Page 5'!H45=\"30\",20,IF('Page 5'!H45=\"32\",20,IF('Page 5'!H45=\"34\",20,IF('Page 5'!H45=\"36\",20,IF('Page 5'!H45=\"38\",20,IF('Page 5'!H45=\"40\",20,IF('Page 5'!H45=\"42\",20,IF('Page 5'!H45=\"44\",20,IF('Page 5'!H45=\"46\",20,IF('Page 5'!H45=\"48\",20,\"\"))))))))))))))))))))))","v":""}]
[null,null,null,null,null,null,null,null,null,null,null,null,null,null,null,null,null,"EC","SS 304","STD",{"$f":"IF('Page 5'!H45=\"06\",24,IF('Page 5'!H45=\"08\",24,IF('Page 5'!H45=\"10\",24,IF('Page 5'!H45=\"12\",24,IF('Page 5'!H45=\"14\",24,IF('Page 5'!H45=\"16\",24,IF('Page 5'!H45=\"18\",24,IF('Page 5'!H45=\"20\",24,IF('Page 5'!H45=\"22\",24,IF('Page 5'!H45=\"24\",24,IF('Page 5'!H45=\"26\",24,IF('Page 5'!H45=\"28\",24,IF('Page 5'!H45=\"30\",20,IF('Page 5'!H45=\"32\",20,IF('Page 5'!H45=\"34\",20,IF('Page 5'!H45=\"36\",20,IF('Page 5'!H45=\"38\",20,IF('Page 5'!H45=\"40\",20,IF('Page 5'!H45=\"42\",20,IF('Page 5'!H45=\"44\",20,IF('Page 5'!H45=\"46\",20,IF('Page 5'!H45=\"48\",20,\"\"))))))))))))))))))))))","v":""}]
[null,null,null,null,null,null,null,null,null,null,null,null,null,null,null,null,null,null,"SS 316","STD",{"$f":"IF('Page 5'!H45=\"06\",24,IF('Page 5'!H45=\"08\",24,IF('Page 5'!H45=\"10\",24,IF('Page 5'!H45=\"12\",24,IF('Page 5'!H45=\"14\",24,IF('Page 5'!H45=\"16\",24,IF('Page 5'!H45=\"18\",24,IF('Page 5'!H45=\"20\",24,IF('Page 5'!H45=\"22\",20,IF('Page 5'!H45=\"24\",20,IF('Page 5'!H45=\"26\",20,IF('Page 5'!H45=\"28\",20,IF('Page 5'!H45=\"30\",20,IF('Page 5'!H45=\"32\",20,IF('Page 5'!H45=\"34\",20,IF('Page 5'!H45=\"36\",20,IF('Page 5'!H45=\"38\",20,IF('Page 5'!H45=\"40\",20,IF('Page 5'!H45=\"42\",20,IF('Page 5'!H45=\"44\",20,IF('Page 5'!H45=\"46\",20,IF('Page 5'!H45=\"48\",20,\"\"))))))))))))))))))))))","v":""}]
[null,null,null,null,null,null,null,null,null,null,null,null,null,null,null,null,null,"FT","SS 304","STD",null,"STD",{"$f":"IF('Page 5'!H45=\"06\",24,IF('Page 5'!H45=\"08\",24,IF('Page 5'!H45=\"10\",24,IF('Page 5'!H45=\"12\",24,IF('Page 5'!H45=\"14\",24,IF('Page 5'!H45=\"16\",24,IF('Page 5'!H45=\"18\",24,IF('Page 5'!H45=\"20\",24,IF('Page 5'!H45=\"22\",24,IF('Page 5'!H45=\"24\",20,IF('Page 5'!H45=\"26\",20,IF('Page 5'!H45=\"28\",20,IF('Page 5'!H45=\"30\",20,IF('Page 5'!H45=\"32\",20,IF('Page 5'!H45=\"34\",20,IF('Page 5'!H45=\"36\",20,IF('Page 5'!H45=\"38\",20,IF('Page 5'!H45=\"40\",20,IF('Page 5'!H45=\"42\",20,IF('Page 5'!H45=\"44\",20,IF('Page 5'!H45=\"46\",20,IF('Page 5'!H45=\"48\",20,\"\"))))))))))))))))))))))","v":""}]
[null,null,null,null,null,null,null,null,null,null,null,null,null,null,null,null,null,null,"SS 316","STD",null,"STD",{"$f":"IF('Page 5'!H45=\"06\",24,IF('Page 5'!H45=\"08\",24,IF('Page 5'!H45=\"10\",24,IF('Page 5'!H45=\"12\",24,IF('Page 5'!H45=\"14\",24,IF('Page 5'!H45=\"16\",24,IF('Page 5'!H45=\"18\",24,IF('Page 5'!H45=\"20\",24,IF('Page 5'!H45=\"22\",24,IF('Page 5'!H45=\"24\",20,IF('Page 5'!H45=\"26\",20,IF('Page 5'!H45=\"28\",20,IF('Page 5'!H45=\"30\",20,IF('Page 5'!H45=\"32\",20,IF('Page 5'!H45=\"34\",20,IF('Page 5'!H45=\"36\",20,IF('Page 5'!H45=\"38\",20,IF('Page 5'!H45=\"40\",20,IF('Page 5'!H45=\"42\",20,IF('Page 5'!H45=\"44\",20,IF('Page 5'!H45=\"46\",20,IF('Page 5'!H45=\"48\",20,\"\"))))))))))))))))))))))","v":""}]
[null,null,null,null,null,null,null,null,null,null,null,null,null,null,null,null,null,"MC","SS 304","STD",{"$f":"IF('Page 5'!H45=\"06\",20,IF('Page 5'!H45=\"08\",20,IF('Page 5'!H45=\"10\",20,IF('Page 5'!H45=\"12\",20,IF('Page 5'!H45=\"14\",20,IF('Page 5'!H45=\"16\",20,IF('Page 5'!H45=\"18\",20,IF('Page 5'!H45=\"20\",20,IF('Page 5'!H45=\"22\",20,IF('Page 5'!H45=\"24\",20,IF('Page 5'!H45=\"26\",20,IF('Page 5'!H45=\"28\",20,IF('Page 5'!H45=\"30\",20,IF('Page 5'!H45=\"32\",20,IF('Page 5'!H45=\"34\",20,IF('Page 5'!H45=\"36\",20,IF('Page 5'!H45=\"38\",20,IF('Page 5'!H45=\"40\",20,IF('Page 5'!H45=\"42\",20,IF('Page 5'!H45=\"44\",20,IF('Page 5'!H45=\"46\",20,IF('Page 5'!H45=\"48\",20,\"\"))))))))))))))))))))))","v":""}]
[null,null,null,null,null,null,null,null,null,null,null,null,null,null,null,null,null,null,"SS 316","STD",{"$f":"IF('Page 5'!H45=\"06\",20,IF('Page 5'!H45=\"08\",20,IF('Page 5'!H45=\"10\",20,IF('Page 5'!H45=\"12\",20,IF('Page 5'!H45=\"14\",20,IF('Page 5'!H45=\"16\",20,IF('Page 5'!H45=\"18\",20,IF('Page 5'!H45=\"20\",20,IF('Page 5'!H45=\"22\",20,IF('Page 5'!H45=\"20\",20,IF('Page 5'!H45=\"26\",20,IF('Page 5'!H45=\"28\",20,IF('Page 5'!H45=\"30\",20,IF('Page 5'!H45=\"32\",20,IF('Page 5'!H45=\"34\",20,IF('Page 5'!H45=\"36\",20,IF('Page 5'!H45=\"38\",20,IF('Page 5'!H45=\"40\",20,IF('Page 5'!H45=\"42\",20,IF('Page 5'!H45=\"44\",20,IF('Page 5'!H45=\"46\",20,IF('Page 5'!H45=\"48\",20,\"\"))))))))))))))))))))))","v":""}]
[null,null,null,null,null,null,null,null,null,null,null,null,null,null,null,null,null,"RS","SS 304",null,null,"STD",{"$f":"IF('Page 5'!H56=\"06\",24,IF('Page 5'!H56=\"08\",24,IF('Page 5'!H56=\"10\",24,IF('Page 5'!H56=\"12\",24,IF('Page 5'!H56=\"14\",24,IF('Page 5'!H56=\"16\",24,IF('Page 5'!H56=\"18\",24,IF('Page 5'!H56=\"20\",24,IF('Page 5'!H56=\"22\",24,IF('Page 5'!H56=\"24\",24,IF('Page 5'!H56=\"26\",24,IF('Page 5'!H56=\"28\",24,IF('Page 5'!H56=\"30\",24,IF('Page 5'!H56=\"32\",24,IF('Page 5'!H56=\"34\",24,IF('Page 5'!H56=\"36\",24,IF('Page 5'!H56=\"38\",24,IF('Page 5'!H56=\"40\",24,IF('Page 5'!H56=\"42\",24,IF('Page 5'!H56=\"44\",24,IF('Page 5'!H56=\"46\",24,IF('Page 5'!H56=\"48\",24,\"\"))))))))))))))))))))))","v":""},"1\""]
[null,null,null,null,null,null,null,null,null,null,null,null,null,null,null,null,null,null,null,null,null,"STD",{"$f":"IF('Page 5'!H56=\"06\",24,IF('Page 5'!H56=\"08\",24,IF('Page 5'!H56=\"10\",24,IF('Page 5'!H56=\"12\",24,IF('Page 5'!H56=\"14\",24,IF('Page 5'!H56=\"16\",24,IF('Page 5'!H56=\"18\",24,IF('Page 5'!H56=\"20\",24,IF('Page 5'!H56=\"22\",24,IF('Page 5'!H56=\"24\",24,IF('Page 5'!H56=\"26\",24,IF('Page 5'!H56=\"28\",24,IF('Page 5'!H56=\"30\",24,IF('Page 5'!H56=\"32\",24,IF('Page 5'!H56=\"34\",24,IF('Page 5'!H56=\"36\",24,IF('Page 5'!H56=\"38\",24,IF('Page 5'!H56=\"40\",24,IF('Page 5'!H56=\"42\",24,IF('Page 5'!H56=\"44\",24,IF('Page 5'!H56=\"46\",24,IF('Page 5'!H56=\"48\",24,\"\"))))))))))))))))))))))","v":""},"2\""]
[null,null,null,null,null,null,null,null,null,null,null,null,null,null,null,null,null,null,null,null,null,"STD",{"$f":"IF('Page 5'!H56=\"06\",24,IF('Page 5'!H56=\"08\",24,IF('Page 5'!H56=\"10\",24,IF('Page 5'!H56=\"12\",24,IF('Page 5'!H56=\"14\",24,IF('Page 5'!H56=\"16\",24,IF('Page 5'!H56=\"18\",24,IF('Page 5'!H56=\"20\",24,IF('Page 5'!H56=\"22\",24,IF('Page 5'!H56=\"24\",24,IF('Page 5'!H56=\"26\",24,IF('Page 5'!H56=\"28\",24,IF('Page 5'!H56=\"30\",24,IF('Page 5'!H56=\"32\",24,IF('Page 5'!H56=\"34\",24,IF('Page 5'!H56=\"36\",24,IF('Page 5'!H56=\"38\",24,IF('Page 5'!H56=\"40\",24,IF('Page 5'!H56=\"42\",24,IF('Page 5'!H56=\"44\",24,IF('Page 5'!H56=\"46\",24,IF('Page 5'!H56=\"48\",24,\"\"))))))))))))))))))))))","v":""},"4\""]
[null,null,null,null,null,null,null,null,null,null,null,null,null,null,null,null,null,null,"GALVALUME STD",null,null,"GAL",{"$f":"IF('Page 5'!H56=\"06\",24,IF('Page 5'!H56=\"08\",24,IF('Page 5'!H56=\"10\",24,IF('Page 5'!H56=\"12\",24,IF('Page 5'!H56=\"14\",24,IF('Page 5'!H56=\"16\",24,IF('Page 5'!H56=\"18\",24,IF('Page 5'!H56=\"20\",24,IF('Page 5'!H56=\"22\",24,IF('Page 5'!H56=\"24\",24,IF('Page 5'!H56=\"26\",24,IF('Page 5'!H56=\"28\",24,IF('Page 5'!H56=\"30\",24,IF('Page 5'!H56=\"32\",22,IF('Page 5'!H56=\"34\",22,IF('Page 5'!H56=\"36\",22,IF('Page 5'!H56=\"38\",22,IF('Page 5'!H56=\"40\",22,IF('Page 5'!H56=\"42\",22,IF('Page 5'!H56=\"44\",22,IF('Page 5'!H56=\"46\",22,IF('Page 5'!H56=\"48\",22,\"\"))))))))))))))))))))))","v":""},"1\""]
[null,null,null,null,null,null,null,null,null,null,null,null,null,null,null,null,null,null,null,null,null,"GAL",{"$f":"IF('Page 5'!H56=\"06\",24,IF('Page 5'!H56=\"08\",24,IF('Page 5'!H56=\"10\",24,IF('Page 5'!H56=\"12\",24,IF('Page 5'!H56=\"14\",24,IF('Page 5'!H56=\"16\",24,IF('Page 5'!H56=\"18\",24,IF('Page 5'!H56=\"20\",24,IF('Page 5'!H56=\"22\",24,IF('Page 5'!H56=\"24\",24,IF('Page 5'!H56=\"26\",24,IF('Page 5'!H56=\"28\",24,IF('Page 5'!H56=\"30\",22,IF('Page 5'!H56=\"32\",22,IF('Page 5'!H56=\"34\",22,IF('Page 5'!H56=\"36\",22,IF('Page 5'!H56=\"38\",22,IF('Page 5'!H56=\"40\",22,IF('Page 5'!H56=\"42\",22,IF('Page 5'!H56=\"44\",22,IF('Page 5'!H56=\"46\",22,IF('Page 5'!H56=\"48\",20,\"\"))))))))))))))))))))))","v":""},"2\""]
[null,null,null,null,null,null,null,null,null,null,null,null,null,null,null,null,null,null,null,null,null,"GAL",{"$f":"IF('Page 5'!H56=\"06\",24,IF('Page 5'!H56=\"08\",24,IF('Page 5'!H56=\"10\",24,IF('Page 5'!H56=\"12\",24,IF('Page 5'!H56=\"14\",24,IF('Page 5'!H56=\"16\",24,IF('Page 5'!H56=\"18\",24,IF('Page 5'!H56=\"20\",24,IF('Page 5'!H56=\"22\",24,IF('Page 5'!H56=\"24\",24,IF('Page 5'!H56=\"26\",22,IF('Page 5'!H56=\"28\",22,IF('Page 5'!H56=\"30\",22,IF('Page 5'!H56=\"32\",22,IF('Page 5'!H56=\"34\",22,IF('Page 5'!H56=\"36\",22,IF('Page 5'!H56=\"38\",22,IF('Page 5'!H56=\"40\",22,IF('Page 5'!H56=\"42\",22,IF('Page 5'!H56=\"44\",22,IF('Page 5'!H56=\"46\",22,IF('Page 5'!H56=\"48\",22,\"\"))))))))))))))))))))))","v":""},"4\""]
[null,null,null,null,null,null,null,null,null,null,null,null,null,null,null,null,null,"FS","SS 304",null,null,"STD",{"$f":"IF('Page 5'!H56=\"06\",24,IF('Page 5'!H56=\"08\",24,IF('Page 5'!H56=\"10\",24,IF('Page 5'!H56=\"12\",24,IF('Page 5'!H56=\"14\",24,IF('Page 5'!H56=\"16\",24,IF('Page 5'!H56=\"18\",24,IF('Page 5'!H56=\"20\",24,IF('Page 5'!H56=\"22\",24,IF('Page 5'!H56=\"24\",24,IF('Page 5'!H56=\"26\",24,IF('Page 5'!H56=\"28\",24,IF('Page 5'!H56=\"30\",24,IF('Page 5'!H56=\"32\",24,IF('Page 5'!H56=\"34\",24,IF('Page 5'!H56=\"36\",24,IF('Page 5'!H56=\"38\",24,IF('Page 5'!H56=\"40\",24,IF('Page 5'!H56=\"42\",24,IF('Page 5'!H56=\"44\",24,IF('Page 5'!H56=\"46\",24,IF('Page 5'!H56=\"48\",24,\"\"))))))))))))))))))))))","v":""},"1\""]
[null,null,null,null,null,null,null,null,null,null,null,null,null,null,null,null,null,null,null,null,null,"STD",{"$f":"IF('Page 5'!H56=\"06\",24,IF('Page 5'!H56=\"08\",24,IF('Page 5'!H56=\"10\",24,IF('Page 5'!H56=\"12\",24,IF('Page 5'!H56=\"14\",24,IF('Page 5'!H56=\"16\",24,IF('Page 5'!H56=\"18\",24,IF('Page 5'!H56=\"20\",24,IF('Page 5'!H56=\"22\",24,IF('Page 5'!H56=\"24\",24,IF('Page 5'!H56=\"26\",24,IF('Page 5'!H56=\"28\",24,IF('Page 5'!H56=\"30\",24,IF('Page 5'!H56=\"32\",24,IF('Page 5'!H56=\"34\",24,IF('Page 5'!H56=\"36\",24,IF('Page 5'!H56=\"38\",24,IF('Page 5'!H56=\"40\",24,IF('Page 5'!H56=\"42\",24,IF('Page 5'!H56=\"44\",24,IF('Page 5'!H56=\"46\",24,IF('Page 5'!H56=\"48\",24,\"\"))))))))))))))))))))))","v":""},"2\""]
[null,null,null,null,null,null,null,null,null,null,null,null,null,null,null,null,null,null,null,null,null,"STD",{"$f":"IF('Page 5'!H56=\"06\",24,IF('Page 5'!H56=\"08\",24,IF('Page 5'!H56=\"10\",24,IF('Page 5'!H56=\"12\",24,IF('Page 5'!H56=\"14\",24,IF('Page 5'!H56=\"16\",24,IF('Page 5'!H56=\"18\",24,IF('Page 5'!H56=\"20\",24,IF('Page 5'!H56=\"22\",24,IF('Page 5'!H56=\"24\",24,IF('Page 5'!H56=\"26\",24,IF('Page 5'!H56=\"28\",24,IF('Page 5'!H56=\"30\",24,IF('Page 5'!H56=\"32\",24,IF('Page 5'!H56=\"34\",24,IF('Page 5'!H56=\"36\",24,IF('Page 5'!H56=\"38\",24,IF('Page 5'!H56=\"40\",24,IF('Page 5'!H56=\"42\",24,IF('Page 5'!H56=\"44\",24,IF('Page 5'!H56=\"46\",24,IF('Page 5'!H56=\"48\",24,\"\"))))))))))))))))))))))","v":""},"4\""]
[null,null,null,null,null,null,null,null,null,null,null,null,null,null,null,null,null,null,"GALVALUME STD",null,null,"GAL",{"$f":"IF('Page 5'!H56=\"06\",24,IF('Page 5'!H56=\"08\",24,IF('Page 5'!H56=\"10\",24,IF('Page 5'!H56=\"12\",24,IF('Page 5'!H56=\"14\",24,IF('Page 5'!H56=\"16\",24,IF('Page 5'!H56=\"18\",24,IF('Page 5'!H56=\"20\",24,IF('Page 5'!H56=\"22\",24,IF('Page 5'!H56=\"24\",24,IF('Page 5'!H56=\"26\",24,IF('Page 5'!H56=\"28\",24,IF('Page 5'!H56=\"30\",24,IF('Page 5'!H56=\"32\",24,IF('Page 5'!H56=\"34\",24,IF('Page 5'!H56=\"36\",22,IF('Page 5'!H56=\"38\",22,IF('Page 5'!H56=\"40\",22,IF('Page 5'!H56=\"42\",22,IF('Page 5'!H56=\"44\",22,IF('Page 5'!H56=\"46\",22,IF('Page 5'!H56=\"48\",22,\"\"))))))))))))))))))))))","v":""},"1\""]
[null,null,null,null,null,null,null,null,null,null,null,null,null,null,null,null,null,null,null,null,null,"GAL",{"$f":"IF('Page 5'!H56=\"06\",24,IF('Page 5'!H56=\"08\",24,IF('Page 5'!H56=\"10\",24,IF('Page 5'!H56=\"12\",24,IF('Page 5'!H56=\"14\",24,IF('Page 5'!H56=\"16\",24,IF('Page 5'!H56=\"18\",24,IF('Page 5'!H56=\"20\",24,IF('Page 5'!H56=\"22\",24,IF('Page 5'!H56=\"24\",24,IF('Page 5'!H56=\"26\",24,IF('Page 5'!H56=\"28\",24,IF('Page 5'!H56=\"30\",24,IF('Page 5'!H56=\"32\",24,IF('Page 5'!H56=\"34\",22,IF('Page 5'!H56=\"36\",22,IF('Page 5'!H56=\"38\",22,IF('Page 5'!H56=\"40\",22,IF('Page 5'!H56=\"42\",22,IF('Page 5'!H56=\"44\",22,IF('Page 5'!H56=\"46\",22,IF('Page 5'!H56=\"48\",22,\"\"))))))))))))))))))))))","v":""},"2\""]
[null,null,null,null,null,null,null,null,null,null,null,null,null,null,null,null,null,null,null,null,null,"GAL",{"$f":"IF('Page 5'!H56=\"06\",24,IF('Page 5'!H56=\"08\",24,IF('Page 5'!H56=\"10\",24,IF('Page 5'!H56=\"12\",24,IF('Page 5'!H56=\"14\",24,IF('Page 5'!H56=\"16\",24,IF('Page 5'!H56=\"18\",24,IF('Page 5'!H56=\"20\",24,IF('Page 5'!H56=\"22\",24,IF('Page 5'!H56=\"24\",24,IF('Page 5'!H56=\"26\",24,IF('Page 5'!H56=\"28\",24,IF('Page 5'!H56=\"30\",22,IF('Page 5'!H56=\"32\",22,IF('Page 5'!H56=\"34\",22,IF('Page 5'!H56=\"36\",22,IF('Page 5'!H56=\"38\",22,IF('Page 5'!H56=\"40\",22,IF('Page 5'!H56=\"42\",22,IF('Page 5'!H56=\"44\",22,IF('Page 5'!H56=\"46\",22,IF('Page 5'!H56=\"48\",22,\"\"))))))))))))))))))))))","v":""},"4\""]
[null,null,null,null,null,null,null,null,null,null,null,null,null,null,null,null,null,"IT","SS 304","STD",{"$f":"IF('Page 5'!H58=\"06\",24,IF('Page 5'!H58=\"08\",24,IF('Page 5'!H58=\"10\",24,IF('Page 5'!H58=\"12\",24,IF('Page 5'!H58=\"14\",24,IF('Page 5'!H58=\"16\",24,IF('Page 5'!H58=\"18\",24,IF('Page 5'!H58=\"20\",24,IF('Page 5'!H58=\"22\",24,IF('Page 5'!H58=\"24\",24,IF('Page 5'!H58=\"26\",24,IF('Page 5'!H58=\"28\",24,IF('Page 5'!H58=\"30\",20,IF('Page 5'!H58=\"32\",20,IF('Page 5'!H58=\"34\",20,IF('Page 5'!H58=\"36\",20,IF('Page 5'!H58=\"38\",20,IF('Page 5'!H58=\"40\",20,IF('Page 5'!H58=\"42\",20,IF('Page 5'!H58=\"44\",20,IF('Page 5'!H58=\"46\",20,IF('Page 5'!H58=\"48\",20,\"\"))))))))))))))))))))))","v":""},"STD",{"$f":"IF('Page 5'!H58=\"06\",24,IF('Page 5'!H58=\"08\",24,IF('Page 5'!H58=\"10\",24,IF('Page 5'!H58=\"12\",24,IF('Page 5'!H58=\"14\",24,IF('Page 5'!H58=\"16\",24,IF('Page 5'!H58=\"18\",24,IF('Page 5'!H58=\"20\",24,IF('Page 5'!H58=\"22\",24,IF('Page 5'!H58=\"24\",24,IF('Page 5'!H58=\"26\",24,IF('Page 5'!H58=\"28\",24,IF('Page 5'!H58=\"30\",20,IF('Page 5'!H58=\"32\",20,IF('Page 5'!H58=\"34\",20,IF('Page 5'!H58=\"36\",20,IF('Page 5'!H58=\"38\",20,IF('Page 5'!H58=\"40\",20,IF('Page 5'!H58=\"42\",20,IF('Page 5'!H58=\"44\",20,IF('Page 5'!H58=\"46\",20,IF('Page 5'!H58=\"48\",20,\"\"))))))))))))))))))))))","v":""},"1\"",null,{"$f":"IF('Page 5'!$H$19<>\"\",IF('Page 5'!$M$19<>\"\",IF('Page 5'!$K$22<>\"\",$W$86,\"\"),IF('Page 5'!$H$19<>\"\",IF('Page 5'!$M$20<>\"\",IF('Page 5'!$K$22<>\"\",$W$87,\"\"),IF('Page 5'!$H$19<>\"\",IF('Page 5'!$M$21<>\"\",IF('Page 5'!$K$22<>\"\",$W$88,\"\"),\"\"))))),\"\")","v":""},"SI 1\" OU 2\" OU 4\""]
[null,null,null,null,null,null,null,null,null,null,null,null,null,null,null,null,null,null,null,null,null,"STD",{"$f":"IF('Page 5'!H58=\"06\",24,IF('Page 5'!H58=\"08\",24,IF('Page 5'!H58=\"10\",24,IF('Page 5'!H58=\"12\",24,IF('Page 5'!H58=\"14\",24,IF('Page 5'!H58=\"16\",24,IF('Page 5'!H58=\"18\",24,IF('Page 5'!H58=\"20\",24,IF('Page 5'!H58=\"22\",24,IF('Page 5'!H58=\"24\",24,IF('Page 5'!H58=\"26\",24,IF('Page 5'!H58=\"28\",24,IF('Page 5'!H58=\"30\",20,IF('Page 5'!H58=\"32\",20,IF('Page 5'!H58=\"34\",20,IF('Page 5'!H58=\"36\",20,IF('Page 5'!H58=\"38\",20,IF('Page 5'!H58=\"40\",20,IF('Page 5'!H58=\"42\",20,IF('Page 5'!H58=\"44\",20,IF('Page 5'!H58=\"46\",20,IF('Page 5'!H58=\"48\",20,\"\"))))))))))))))))))))))","v":""},"2\""]
[null,null,null,null,null,null,null,null,null,null,null,null,null,null,null,null,null,null,null,null,null,"STD",{"$f":"IF('Page 5'!H58=\"06\",24,IF('Page 5'!H58=\"08\",24,IF('Page 5'!H58=\"10\",24,IF('Page 5'!H58=\"12\",24,IF('Page 5'!H58=\"14\",24,IF('Page 5'!H58=\"16\",24,IF('Page 5'!H58=\"18\",24,IF('Page 5'!H58=\"20\",24,IF('Page 5'!H58=\"22\",24,IF('Page 5'!H58=\"24\",24,IF('Page 5'!H58=\"26\",24,IF('Page 5'!H58=\"28\",24,IF('Page 5'!H58=\"30\",20,IF('Page 5'!H58=\"32\",20,IF('Page 5'!H58=\"34\",20,IF('Page 5'!H58=\"36\",20,IF('Page 5'!H58=\"38\",20,IF('Page 5'!H58=\"40\",20,IF('Page 5'!H58=\"42\",20,IF('Page 5'!H58=\"44\",20,IF('Page 5'!H58=\"46\",20,IF('Page 5'!H58=\"48\",20,\"\"))))))))))))))))))))))","v":""},"4\""]
[null,null,null,null,null,null,null,null,null,null,null,null,null,null,null,null,null,null,"SS 316","STD",{"$f":"IF('Page 5'!H58=\"06\",24,IF('Page 5'!H58=\"08\",24,IF('Page 5'!H58=\"10\",24,IF('Page 5'!H58=\"12\",24,IF('Page 5'!H58=\"14\",24,IF('Page 5'!H58=\"16\",24,IF('Page 5'!H58=\"18\",24,IF('Page 5'!H58=\"20\",24,IF('Page 5'!H58=\"22\",24,IF('Page 5'!H58=\"24\",24,IF('Page 5'!H58=\"26\",24,IF('Page 5'!H58=\"28\",24,IF('Page 5'!H58=\"30\",20,IF('Page 5'!H58=\"32\",20,IF('Page 5'!H58=\"34\",20,IF('Page 5'!H58=\"36\",20,IF('Page 5'!H58=\"38\",20,IF('Page 5'!H58=\"40\",20,IF('Page 5'!H58=\"42\",20,IF('Page 5'!H58=\"44\",20,IF('Page 5'!H58=\"46\",20,IF('Page 5'!H58=\"48\",20,\"\"))))))))))))))))))))))","v":""},"STD",{"$f":"IF('Page 5'!H58=\"06\",24,IF('Page 5'!H58=\"08\",24,IF('Page 5'!H58=\"10\",24,IF('Page 5'!H58=\"12\",24,IF('Page 5'!H58=\"14\",24,IF('Page 5'!H58=\"16\",24,IF('Page 5'!H58=\"18\",24,IF('Page 5'!H58=\"20\",24,IF('Page 5'!H58=\"22\",24,IF('Page 5'!H58=\"24\",24,IF('Page 5'!H58=\"26\",24,IF('Page 5'!H58=\"28\",24,IF('Page 5'!H58=\"30\",20,IF('Page 5'!H58=\"32\",20,IF('Page 5'!H58=\"34\",20,IF('Page 5'!H58=\"36\",20,IF('Page 5'!H58=\"38\",20,IF('Page 5'!H58=\"40\",20,IF('Page 5'!H58=\"42\",20,IF('Page 5'!H58=\"44\",20,IF('Page 5'!H58=\"46\",20,IF('Page 5'!H58=\"48\",20,\"\"))))))))))))))))))))))","v":""},"1\"",null,{"$f":"IF('Page 5'!$H$20<>\"\",IF('Page 5'!$M$19<>\"\",IF('Page 5'!$K$22<>\"\",$W$89,\"\"),IF('Page 5'!$H$20<>\"\",IF('Page 5'!$M$20<>\"\",IF('Page 5'!$K$22<>\"\",$W$90,\"\"),IF('Page 5'!$H$20<>\"\",IF('Page 5'!$M$21<>\"\",IF('Page 5'!$K$22<>\"\",$W$91,\"\"),\"\"))))),\"\")","v":""},"SI 1\" OU 2\" OU 4\""]
[null,null,null,null,null,null,null,null,null,null,null,null,null,null,null,null,null,null,null,null,null,"STD",{"$f":"IF('Page 5'!H58=\"06\",24,IF('Page 5'!H58=\"08\",24,IF('Page 5'!H58=\"10\",24,IF('Page 5'!H58=\"12\",24,IF('Page 5'!H58=\"14\",24,IF('Page 5'!H58=\"16\",24,IF('Page 5'!H58=\"18\",24,IF('Page 5'!H58=\"20\",24,IF('Page 5'!H58=\"22\",24,IF('Page 5'!H58=\"24\",24,IF('Page 5'!H58=\"26\",24,IF('Page 5'!H58=\"28\",24,IF('Page 5'!H58=\"30\",20,IF('Page 5'!H58=\"32\",20,IF('Page 5'!H58=\"34\",20,IF('Page 5'!H58=\"36\",20,IF('Page 5'!H58=\"38\",20,IF('Page 5'!H58=\"40\",20,IF('Page 5'!H58=\"42\",20,IF('Page 5'!H58=\"44\",20,IF('Page 5'!H58=\"46\",20,IF('Page 5'!H58=\"48\",20,\"\"))))))))))))))))))))))","v":""},"2\""]
[null,null,null,null,null,null,null,null,null,null,null,null,null,null,null,null,null,null,null,null,null,"STD",{"$f":"IF('Page 5'!H58=\"06\",24,IF('Page 5'!H58=\"08\",24,IF('Page 5'!H58=\"10\",24,IF('Page 5'!H58=\"12\",24,IF('Page 5'!H58=\"14\",24,IF('Page 5'!H58=\"16\",24,IF('Page 5'!H58=\"18\",24,IF('Page 5'!H58=\"20\",24,IF('Page 5'!H58=\"22\",24,IF('Page 5'!H58=\"24\",24,IF('Page 5'!H58=\"26\",24,IF('Page 5'!H58=\"28\",24,IF('Page 5'!H58=\"30\",20,IF('Page 5'!H58=\"32\",20,IF('Page 5'!H58=\"34\",20,IF('Page 5'!H58=\"36\",20,IF('Page 5'!H58=\"38\",20,IF('Page 5'!H58=\"40\",20,IF('Page 5'!H58=\"42\",20,IF('Page 5'!H58=\"44\",20,IF('Page 5'!H58=\"46\",20,IF('Page 5'!H58=\"48\",20,\"\"))))))))))))))))))))))","v":""},"4\""]
[null,null,null,null,null,null,null,null,null,null,null,null,null,null,null,null,null,null,"GALVALUME STD",null,null,"GAL",{"$f":"IF('Page 5'!H58=\"06\",24,IF('Page 5'!H58=\"08\",24,IF('Page 5'!H58=\"10\",24,IF('Page 5'!H58=\"12\",24,IF('Page 5'!H58=\"14\",24,IF('Page 5'!H58=\"16\",24,IF('Page 5'!H58=\"18\",24,IF('Page 5'!H58=\"20\",24,IF('Page 5'!H58=\"22\",24,IF('Page 5'!H58=\"24\",24,IF('Page 5'!H58=\"26\",24,IF('Page 5'!H58=\"28\",24,IF('Page 5'!H58=\"30\",20,IF('Page 5'!H58=\"32\",20,IF('Page 5'!H58=\"34\",20,IF('Page 5'!H58=\"36\",20,IF('Page 5'!H58=\"38\",20,IF('Page 5'!H58=\"40\",20,IF('Page 5'!H58=\"42\",20,IF('Page 5'!H58=\"44\",20,IF('Page 5'!H58=\"46\",20,IF('Page 5'!H58=\"48\",20,\"\"))))))))))))))))))))))","v":""},"1\"",null,{"$f":"IF('Page 5'!$H$21<>\"\",IF('Page 5'!$M$19<>\"\",IF('Page 5'!$K$22<>\"\",$W$92,\"\"),IF('Page 5'!$H$21<>\"\",IF('Page 5'!$M$20<>\"\",IF('Page 5'!$K$22<>\"\",$W$93,\"\"),IF('Page 5'!$H$21<>\"\",IF('Page 5'!$M$21<>\"\",IF('Page 5'!$K$22<>\"\",$W$93,\"\"),\"\"))))),\"\")","v":""},"SI 1\" OU 2\" OU 4\""]
[null,null,null,null,null,null,null,null,null,null,null,null,null,null,null,null,null,null,null,null,null,"GAL",{"$f":"IF('Page 5'!H58=\"06\",24,IF('Page 5'!H58=\"08\",24,IF('Page 5'!H58=\"10\",24,IF('Page 5'!H58=\"12\",24,IF('Page 5'!H58=\"14\",24,IF('Page 5'!H58=\"16\",24,IF('Page 5'!H58=\"18\",24,IF('Page 5'!H58=\"20\",24,IF('Page 5'!H58=\"22\",24,IF('Page 5'!H58=\"24\",24,IF('Page 5'!H58=\"26\",24,IF('Page 5'!H58=\"28\",24,IF('Page 5'!H58=\"30\",20,IF('Page 5'!H58=\"32\",20,IF('Page 5'!H58=\"34\",20,IF('Page 5'!H58=\"36\",20,IF('Page 5'!H58=\"38\",20,IF('Page 5'!H58=\"40\",20,IF('Page 5'!H58=\"42\",20,IF('Page 5'!H58=\"44\",20,IF('Page 5'!H58=\"46\",20,IF('Page 5'!H58=\"48\",20,\"\"))))))))))))))))))))))","v":""},"2\""]
[null,null,null,null,null,null,null,null,null,null,null,null,null,null,null,null,null,null,null,null,null,"GAL",{"$f":"IF('Page 5'!H58=\"06\",26,IF('Page 5'!H58=\"08\",26,IF('Page 5'!H58=\"10\",26,IF('Page 5'!H58=\"12\",26,IF('Page 5'!H58=\"14\",26,IF('Page 5'!H58=\"16\",24,IF('Page 5'!H58=\"18\",24,IF('Page 5'!H58=\"20\",24,IF('Page 5'!H58=\"22\",24,IF('Page 5'!H58=\"24\",24,IF('Page 5'!H58=\"26\",24,IF('Page 5'!H58=\"28\",24,IF('Page 5'!H58=\"30\",20,IF('Page 5'!H58=\"32\",20,IF('Page 5'!H58=\"34\",20,IF('Page 5'!H58=\"36\",20,IF('Page 5'!H58=\"38\",20,IF('Page 5'!H58=\"40\",20,IF('Page 5'!H58=\"42\",20,IF('Page 5'!H58=\"44\",20,IF('Page 5'!H58=\"46\",20,IF('Page 5'!H58=\"48\",20,\"\"))))))))))))))))))))))","v":""},"4\""]

{"sheet":"SyteLine","index":11,"n_rows":246,"n_cols":5,"rows_kept":246,"cut":false,"hidden":false,"merged":[]}
[{"$f":"IF('LOP1'!P11<>\"\",'LOP1'!P11,\"\")","v":"SyteLine"},{"$f":"IF('LOP1'!Q11<>\"\",'LOP1'!Q11,\"\")","v":"QTY"},null,{"$f":"IF('LOP1'!S11<>\"\",'LOP1'!S11,\"\")","v":"VALIDATION"}]
[{"$f":"IF('LOP1'!P12<>\"\",'LOP1'!P12,\"\")","v":""},{"$f":"IF('LOP1'!Q12<>\"\",'LOP1'!Q12,\"\")","v":""},null,{"$f":"IF('LOP1'!S12<>\"\",'LOP1'!S12,\"\")","v":""},{"$f":"IF(A2<>\"\",\"Page 1\",\"\")","v":""}]
[{"$f":"IF('LOP1'!P13<>\"\",'LOP1'!P13,\"\")","v":""},{"$f":"IF('LOP1'!Q13<>\"\",'LOP1'!Q13,\"\")","v":""},null,{"$f":"IF('LOP1'!S13<>\"\",'LOP1'!S13,\"\")","v":""},{"$f":"IF(A3<>\"\",\"Page 1\",\"\")","v":""}]
[{"$f":"IF('LOP1'!P14<>\"\",'LOP1'!P14,\"\")","v":""},{"$f":"IF('LOP1'!Q14<>\"\",'LOP1'!Q14,\"\")","v":""},null,{"$f":"IF('LOP1'!S14<>\"\",'LOP1'!S14,\"\")","v":""},{"$f":"IF(A4<>\"\",\"Page 1\",\"\")","v":""}]
[{"$f":"IF('LOP1'!P15<>\"\",'LOP1'!P15,\"\")","v":""},{"$f":"IF('LOP1'!Q15<>\"\",'LOP1'!Q15,\"\")","v":""},null,{"$f":"IF('LOP1'!S15<>\"\",'LOP1'!S15,\"\")","v":""},""]
[{"$f":"IF('LOP1'!P16<>\"\",'LOP1'!P16,\"\")","v":""},{"$f":"IF('LOP1'!Q16<>\"\",'LOP1'!Q16,\"\")","v":""},null,{"$f":"IF('LOP1'!S16<>\"\",'LOP1'!S16,\"\")","v":""},""]
[{"$f":"IF('LOP1'!P17<>\"\",'LOP1'!P17,\"\")","v":""},{"$f":"IF('LOP1'!Q17<>\"\",'LOP1'!Q17,\"\")","v":""},null,{"$f":"IF('LOP1'!S17<>\"\",'LOP1'!S17,\"\")","v":""},""]
[{"$f":"IF('LOP1'!P18<>\"\",'LOP1'!P18,\"\")","v":""},{"$f":"IF('LOP1'!Q18<>\"\",'LOP1'!Q18,\"\")","v":""},null,{"$f":"IF('LOP1'!S18<>\"\",'LOP1'!S18,\"\")","v":""},""]
[{"$f":"IF('LOP1'!P19<>\"\",'LOP1'!P19,\"\")","v":""},{"$f":"IF('LOP1'!Q19<>\"\",'LOP1'!Q19,\"\")","v":""},null,{"$f":"IF('LOP1'!S19<>\"\",'LOP1'!S19,\"\")","v":""},""]
[{"$f":"IF('LOP1'!P20<>\"\",'LOP1'!P20,\"\")","v":""},{"$f":"IF('LOP1'!Q20<>\"\",'LOP1'!Q20,\"\")","v":""},null,{"$f":"IF('LOP1'!S20<>\"\",'LOP1'!S20,\"\")","v":""},""]
[{"$f":"IF('LOP1'!P21<>\"\",'LOP1'!P21,\"\")","v":""},{"$f":"IF('LOP1'!Q21<>\"\",'LOP1'!Q21,\"\")","v":""},null,{"$f":"IF('LOP1'!S21<>\"\",'LOP1'!S21,\"\")","v":""},""]
[{"$f":"IF('LOP1'!P22<>\"\",'LOP1'!P22,\"\")","v":""},{"$f":"IF('LOP1'!Q22<>\"\",'LOP1'!Q22,\"\")","v":""},null,{"$f":"IF('LOP1'!S22<>\"\",'LOP1'!S22,\"\")","v":""},""]
[{"$f":"IF('LOP1'!P23<>\"\",'LOP1'!P23,\"\")","v":""},{"$f":"IF('LOP1'!Q23<>\"\",'LOP1'!Q23,\"\")","v":""},null,{"$f":"IF('LOP1'!S23<>\"\",'LOP1'!S23,\"\")","v":""},""]
[{"$f":"IF('LOP1'!P24<>\"\",'LOP1'!P24,\"\")","v":""},{"$f":"IF('LOP1'!Q24<>\"\",'LOP1'!Q24,\"\")","v":""},null,{"$f":"IF('LOP1'!S24<>\"\",'LOP1'!S24,\"\")","v":""},""]
[{"$f":"IF('LOP1'!P25<>\"\",'LOP1'!P25,\"\")","v":""},{"$f":"IF('LOP1'!Q25<>\"\",'LOP1'!Q25,\"\")","v":""},null,{"$f":"IF('LOP1'!S25<>\"\",'LOP1'!S25,\"\")","v":""},""]
[{"$f":"IF('LOP1'!P26<>\"\",'LOP1'!P26,\"\")","v":""},{"$f":"IF('LOP1'!Q26<>\"\",'LOP1'!Q26,\"\")","v":""},null,{"$f":"IF('LOP1'!S26<>\"\",'LOP1'!S26,\"\")","v":""},""]
[{"$f":"IF('LOP1'!P27<>\"\",'LOP1'!P27,\"\")","v":""},{"$f":"IF('LOP1'!Q27<>\"\",'LOP1'!Q27,\"\")","v":""},null,{"$f":"IF('LOP1'!S27<>\"\",'LOP1'!S27,\"\")","v":""},""]
[{"$f":"IF('LOP1'!P28<>\"\",'LOP1'!P28,\"\")","v":""},{"$f":"IF('LOP1'!Q28<>\"\",'LOP1'!Q28,\"\")","v":""},null,{"$f":"IF('LOP1'!S28<>\"\",'LOP1'!S28,\"\")","v":""},""]
[{"$f":"IF('LOP1'!P29<>\"\",'LOP1'!P29,\"\")","v":""},{"$f":"IF('LOP1'!Q29<>\"\",'LOP1'!Q29,\"\")","v":""},null,{"$f":"IF('LOP1'!S29<>\"\",'LOP1'!S29,\"\")","v":""},""]
[{"$f":"IF('LOP1'!P30<>\"\",'LOP1'!P30,\"\")","v":""},{"$f":"IF('LOP1'!Q30<>\"\",'LOP1'!Q30,\"\")","v":""},null,{"$f":"IF('LOP1'!S30<>\"\",'LOP1'!S30,\"\")","v":""},""]
[{"$f":"IF('LOP1'!P31<>\"\",'LOP1'!P31,\"\")","v":""},{"$f":"IF('LOP1'!Q31<>\"\",'LOP1'!Q31,\"\")","v":""},null,{"$f":"IF('LOP1'!S31<>\"\",'LOP1'!S31,\"\")","v":""},""]
[{"$f":"IF('LOP1'!P32<>\"\",'LOP1'!P32,\"\")","v":""},{"$f":"IF('LOP1'!Q32<>\"\",'LOP1'!Q32,\"\")","v":""},null,{"$f":"IF('LOP1'!S32<>\"\",'LOP1'!S32,\"\")","v":""},""]
[{"$f":"IF('LOP1'!P33<>\"\",'LOP1'!P33,\"\")","v":""},{"$f":"IF('LOP1'!Q33<>\"\",'LOP1'!Q33,\"\")","v":""},null,{"$f":"IF('LOP1'!S33<>\"\",'LOP1'!S33,\"\")","v":""},""]
[{"$f":"IF('LOP1'!P34<>\"\",'LOP1'!P34,\"\")","v":""},{"$f":"IF('LOP1'!Q34<>\"\",'LOP1'!Q34,\"\")","v":""},null,{"$f":"IF('LOP1'!S34<>\"\",'LOP1'!S34,\"\")","v":""},""]
[{"$f":"IF('LOP1'!P35<>\"\",'LOP1'!P35,\"\")","v":""},{"$f":"IF('LOP1'!Q35<>\"\",'LOP1'!Q35,\"\")","v":""},null,{"$f":"IF('LOP1'!S35<>\"\",'LOP1'!S35,\"\")","v":""},""]
[{"$f":"IF('LOP1'!P36<>\"\",'LOP1'!P36,\"\")","v":""},{"$f":"IF('LOP1'!Q36<>\"\",'LOP1'!Q36,\"\")","v":""},null,{"$f":"IF('LOP1'!S36<>\"\",'LOP1'!S36,\"\")","v":""},""]
[{"$f":"IF('LOP1'!P37<>\"\",'LOP1'!P37,\"\")","v":""},{"$f":"IF('LOP1'!Q37<>\"\",'LOP1'!Q37,\"\")","v":""},null,{"$f":"IF('LOP1'!S37<>\"\",'LOP1'!S37,\"\")","v":""},""]
[{"$f":"IF('LOP1'!P38<>\"\",'LOP1'!P38,\"\")","v":""},{"$f":"IF('LOP1'!Q38<>\"\",'LOP1'!Q38,\"\")","v":""},null,{"$f":"IF('LOP1'!S38<>\"\",'LOP1'!S38,\"\")","v":""},""]
[{"$f":"IF('LOP1'!P39<>\"\",'LOP1'!P39,\"\")","v":""},{"$f":"IF('LOP1'!Q39<>\"\",'LOP1'!Q39,\"\")","v":""},null,{"$f":"IF('LOP1'!S39<>\"\",'LOP1'!S39,\"\")","v":""},""]
[{"$f":"IF('LOP1'!P40<>\"\",'LOP1'!P40,\"\")","v":""},{"$f":"IF('LOP1'!Q40<>\"\",'LOP1'!Q40,\"\")","v":""},null,{"$f":"IF('LOP1'!S40<>\"\",'LOP1'!S40,\"\")","v":""},""]
[{"$f":"IF('LOP1'!P41<>\"\",'LOP1'!P41,\"\")","v":""},{"$f":"IF('LOP1'!Q41<>\"\",'LOP1'!Q41,\"\")","v":""},null,{"$f":"IF('LOP1'!S41<>\"\",'LOP1'!S41,\"\")","v":""},""]
[{"$f":"IF('LOP1'!P42<>\"\",'LOP1'!P42,\"\")","v":""},{"$f":"IF('LOP1'!Q42<>\"\",'LOP1'!Q42,\"\")","v":""},null,{"$f":"IF('LOP1'!S42<>\"\",'LOP1'!S42,\"\")","v":""},""]
[{"$f":"IF('LOP1'!P43<>\"\",'LOP1'!P43,\"\")","v":""},{"$f":"IF('LOP1'!Q43<>\"\",'LOP1'!Q43,\"\")","v":""},null,{"$f":"IF('LOP1'!S43<>\"\",'LOP1'!S43,\"\")","v":""},""]
[{"$f":"IF('LOP1'!P44<>\"\",'LOP1'!P44,\"\")","v":""},{"$f":"IF('LOP1'!Q44<>\"\",'LOP1'!Q44,\"\")","v":""},null,{"$f":"IF('LOP1'!S44<>\"\",'LOP1'!S44,\"\")","v":""},{"$f":"IF(A34<>\"\",\"Page 1\",\"\")","v":""}]
[{"$f":"IF('LOP1'!P45<>\"\",'LOP1'!P45,\"\")","v":""},{"$f":"IF('LOP1'!Q45<>\"\",'LOP1'!Q45,\"\")","v":""},null,{"$f":"IF('LOP1'!S45<>\"\",'LOP1'!S45,\"\")","v":""},""]
[{"$f":"IF('LOP1'!P46<>\"\",'LOP1'!P46,\"\")","v":""},{"$f":"IF('LOP1'!Q46<>\"\",'LOP1'!Q46,\"\")","v":""},null,{"$f":"IF('LOP1'!S46<>\"\",'LOP1'!S46,\"\")","v":""},""]
[{"$f":"IF('LOP1'!P47<>\"\",'LOP1'!P47,\"\")","v":""},{"$f":"IF('LOP1'!Q47<>\"\",'LOP1'!Q47,\"\")","v":""},null,{"$f":"IF('LOP1'!S47<>\"\",'LOP1'!S47,\"\")","v":""},""]
[{"$f":"IF('LOP1'!P48<>\"\",'LOP1'!P48,\"\")","v":""},{"$f":"IF('LOP1'!Q48<>\"\",'LOP1'!Q48,\"\")","v":""},null,{"$f":"IF('LOP1'!S48<>\"\",'LOP1'!S48,\"\")","v":""},""]
[{"$f":"IF('LOP1'!P49<>\"\",'LOP1'!P49,\"\")","v":""},{"$f":"IF('LOP1'!Q49<>\"\",'LOP1'!Q49,\"\")","v":""},null,{"$f":"IF('LOP1'!S49<>\"\",'LOP1'!S49,\"\")","v":""},""]
[{"$f":"IF('LOP1'!P50<>\"\",'LOP1'!P50,\"\")","v":""},{"$f":"IF('LOP1'!Q50<>\"\",'LOP1'!Q50,\"\")","v":""},null,{"$f":"IF('LOP1'!S50<>\"\",'LOP1'!S50,\"\")","v":""},""]
[{"$f":"IF('LOP1'!P51<>\"\",'LOP1'!P51,\"\")","v":""},{"$f":"IF('LOP1'!Q51<>\"\",'LOP1'!Q51,\"\")","v":""},null,{"$f":"IF('LOP1'!S51<>\"\",'LOP1'!S51,\"\")","v":""},""]
[{"$f":"IF('LOP1'!P52<>\"\",'LOP1'!P52,\"\")","v":""},{"$f":"IF('LOP1'!Q52<>\"\",'LOP1'!Q52,\"\")","v":""},null,{"$f":"IF('LOP1'!S52<>\"\",'LOP1'!S52,\"\")","v":""},""]
[{"$f":"IF('LOP1'!P53<>\"\",'LOP1'!P53,\"\")","v":""},{"$f":"IF('LOP1'!Q53<>\"\",'LOP1'!Q53,\"\")","v":""},null,{"$f":"IF('LOP1'!S53<>\"\",'LOP1'!S53,\"\")","v":""},""]
[{"$f":"IF('LOP1'!P54<>\"\",'LOP1'!P54,\"\")","v":""},{"$f":"IF('LOP1'!Q54<>\"\",'LOP1'!Q54,\"\")","v":""},null,{"$f":"IF('LOP1'!S54<>\"\",'LOP1'!S54,\"\")","v":""},""]
[{"$f":"IF('LOP1'!P55<>\"\",'LOP1'!P55,\"\")","v":""},{"$f":"IF('LOP1'!Q55<>\"\",'LOP1'!Q55,\"\")","v":""},null,{"$f":"IF('LOP1'!S55<>\"\",'LOP1'!S55,\"\")","v":""},""]
[{"$f":"IF('LOP1'!P56<>\"\",'LOP1'!P56,\"\")","v":""},{"$f":"IF('LOP1'!Q56<>\"\",'LOP1'!Q56,\"\")","v":""},null,{"$f":"IF('LOP1'!S56<>\"\",'LOP1'!S56,\"\")","v":""},""]
[{"$f":"IF('LOP1'!P57<>\"\",'LOP1'!P57,\"\")","v":""},{"$f":"IF('LOP1'!Q57<>\"\",'LOP1'!Q57,\"\")","v":""},null,{"$f":"IF('LOP1'!S57<>\"\",'LOP1'!S57,\"\")","v":""},""]
[{"$f":"IF('LOP1'!P58<>\"\",'LOP1'!P58,\"\")","v":""},{"$f":"IF('LOP1'!Q58<>\"\",'LOP1'!Q58,\"\")","v":""},null,{"$f":"IF('LOP1'!S58<>\"\",'LOP1'!S58,\"\")","v":""},{"$f":"IF(A48<>\"\",\"Page 1\",\"\")","v":""}]
[{"$f":"IF('LOP2'!M12<>\"\",'LOP2'!M12,\"\")","v":""},{"$f":"IF('LOP2'!N12<>\"\",'LOP2'!N12,\"\")","v":""},null,{"$f":"IF('LOP2'!P12<>\"\",'LOP2'!P12,\"\")","v":""},{"$f":"IF(A49<>\"\",\"Page 2\",\"\")","v":""}]
[{"$f":"IF('LOP2'!M13<>\"\",'LOP2'!M13,\"\")","v":""},{"$f":"IF('LOP2'!N13<>\"\",'LOP2'!N13,\"\")","v":""},null,{"$f":"IF('LOP2'!P13<>\"\",'LOP2'!P13,\"\")","v":""},{"$f":"IF(A50<>\"\",\"Page 2\",\"\")","v":""}]
[{"$f":"IF('LOP2'!M14<>\"\",'LOP2'!M14,\"\")","v":""},{"$f":"IF('LOP2'!N14<>\"\",'LOP2'!N14,\"\")","v":""},null,{"$f":"IF('LOP2'!P14<>\"\",'LOP2'!P14,\"\")","v":""},""]
[{"$f":"IF('LOP2'!M15<>\"\",'LOP2'!M15,\"\")","v":""},{"$f":"IF('LOP2'!N15<>\"\",'LOP2'!N15,\"\")","v":""},null,{"$f":"IF('LOP2'!P15<>\"\",'LOP2'!P15,\"\")","v":""},""]
[{"$f":"IF('LOP2'!M16<>\"\",'LOP2'!M16,\"\")","v":""},{"$f":"IF('LOP2'!N16<>\"\",'LOP2'!N16,\"\")","v":""},null,{"$f":"IF('LOP2'!P16<>\"\",'LOP2'!P16,\"\")","v":""},""]
[{"$f":"IF('LOP2'!M17<>\"\",'LOP2'!M17,\"\")","v":""},{"$f":"IF('LOP2'!N17<>\"\",'LOP2'!N17,\"\")","v":""},null,{"$f":"IF('LOP2'!P17<>\"\",'LOP2'!P17,\"\")","v":""},""]
[{"$f":"IF('LOP2'!M18<>\"\",'LOP2'!M18,\"\")","v":""},{"$f":"IF('LOP2'!N18<>\"\",'LOP2'!N18,\"\")","v":""},null,{"$f":"IF('LOP2'!P18<>\"\",'LOP2'!P18,\"\")","v":""},""]
[{"$f":"IF('LOP2'!M19<>\"\",'LOP2'!M19,\"\")","v":""},{"$f":"IF('LOP2'!N19<>\"\",'LOP2'!N19,\"\")","v":""},null,{"$f":"IF('LOP2'!P19<>\"\",'LOP2'!P19,\"\")","v":""},""]
[{"$f":"IF('LOP2'!M20<>\"\",'LOP2'!M20,\"\")","v":""},{"$f":"IF('LOP2'!N20<>\"\",'LOP2'!N20,\"\")","v":""},null,{"$f":"IF('LOP2'!P20<>\"\",'LOP2'!P20,\"\")","v":""},""]
[{"$f":"IF('LOP2'!M21<>\"\",'LOP2'!M21,\"\")","v":""},{"$f":"IF('LOP2'!N21<>\"\",'LOP2'!N21,\"\")","v":""},null,{"$f":"IF('LOP2'!P21<>\"\",'LOP2'!P21,\"\")","v":""},""]
[{"$f":"IF('LOP2'!M22<>\"\",'LOP2'!M22,\"\")","v":""},{"$f":"IF('LOP2'!N22<>\"\",'LOP2'!N22,\"\")","v":""},null,{"$f":"IF('LOP2'!P22<>\"\",'LOP2'!P22,\"\")","v":""},""]
[{"$f":"IF('LOP2'!M23<>\"\",'LOP2'!M23,\"\")","v":""},{"$f":"IF('LOP2'!N23<>\"\",'LOP2'!N23,\"\")","v":""},null,{"$f":"IF('LOP2'!P23<>\"\",'LOP2'!P23,\"\")","v":""},""]
[{"$f":"IF('LOP2'!M24<>\"\",'LOP2'!M24,\"\")","v":""},{"$f":"IF('LOP2'!N24<>\"\",'LOP2'!N24,\"\")","v":""},null,{"$f":"IF('LOP2'!P24<>\"\",'LOP2'!P24,\"\")","v":""},""]
[{"$f":"IF('LOP2'!M25<>\"\",'LOP2'!M25,\"\")","v":""},{"$f":"IF('LOP2'!N25<>\"\",'LOP2'!N25,\"\")","v":""},null,{"$f":"IF('LOP2'!P25<>\"\",'LOP2'!P25,\"\")","v":""},""]
[{"$f":"IF('LOP2'!M26<>\"\",'LOP2'!M26,\"\")","v":""},{"$f":"IF('LOP2'!N26<>\"\",'LOP2'!N26,\"\")","v":""},null,{"$f":"IF('LOP2'!P26<>\"\",'LOP2'!P26,\"\")","v":""},""]
[{"$f":"IF('LOP2'!M27<>\"\",'LOP2'!M27,\"\")","v":""},{"$f":"IF('LOP2'!N27<>\"\",'LOP2'!N27,\"\")","v":""},null,{"$f":"IF('LOP2'!P27<>\"\",'LOP2'!P27,\"\")","v":""},""]
[{"$f":"IF('LOP2'!M28<>\"\",'LOP2'!M28,\"\")","v":""},{"$f":"IF('LOP2'!N28<>\"\",'LOP2'!N28,\"\")","v":""},null,{"$f":"IF('LOP2'!P28<>\"\",'LOP2'!P28,\"\")","v":""},""]
[{"$f":"IF('LOP2'!M29<>\"\",'LOP2'!M29,\"\")","v":""},{"$f":"IF('LOP2'!N29<>\"\",'LOP2'!N29,\"\")","v":""},null,{"$f":"IF('LOP2'!P29<>\"\",'LOP2'!P29,\"\")","v":""},""]
[{"$f":"IF('LOP2'!M30<>\"\",'LOP2'!M30,\"\")","v":""},{"$f":"IF('LOP2'!N30<>\"\",'LOP2'!N30,\"\")","v":""},null,{"$f":"IF('LOP2'!P30<>\"\",'LOP2'!P30,\"\")","v":""},""]
[{"$f":"IF('LOP2'!M31<>\"\",'LOP2'!M31,\"\")","v":""},{"$f":"IF('LOP2'!N31<>\"\",'LOP2'!N31,\"\")","v":""},null,{"$f":"IF('LOP2'!P31<>\"\",'LOP2'!P31,\"\")","v":""},""]
[{"$f":"IF('LOP2'!M32<>\"\",'LOP2'!M32,\"\")","v":""},{"$f":"IF('LOP2'!N32<>\"\",'LOP2'!N32,\"\")","v":""},null,{"$f":"IF('LOP2'!P32<>\"\",'LOP2'!P32,\"\")","v":""},""]
[{"$f":"IF('LOP2'!M33<>\"\",'LOP2'!M33,\"\")","v":""},{"$f":"IF('LOP2'!N33<>\"\",'LOP2'!N33,\"\")","v":""},null,{"$f":"IF('LOP2'!P33<>\"\",'LOP2'!P33,\"\")","v":""},""]
[{"$f":"IF('LOP2'!M34<>\"\",'LOP2'!M34,\"\")","v":""},{"$f":"IF('LOP2'!N34<>\"\",'LOP2'!N34,\"\")","v":""},null,{"$f":"IF('LOP2'!P34<>\"\",'LOP2'!P34,\"\")","v":""},""]
[{"$f":"IF('LOP2'!M35<>\"\",'LOP2'!M35,\"\")","v":""},{"$f":"IF('LOP2'!N35<>\"\",'LOP2'!N35,\"\")","v":""},null,{"$f":"IF('LOP2'!P35<>\"\",'LOP2'!P35,\"\")","v":""},""]
[{"$f":"IF('LOP2'!M36<>\"\",'LOP2'!M36,\"\")","v":""},{"$f":"IF('LOP2'!N36<>\"\",'LOP2'!N36,\"\")","v":""},null,{"$f":"IF('LOP2'!P36<>\"\",'LOP2'!P36,\"\")","v":""},""]
[{"$f":"IF('LOP2'!M37<>\"\",'LOP2'!M37,\"\")","v":""},{"$f":"IF('LOP2'!N37<>\"\",'LOP2'!N37,\"\")","v":""},null,{"$f":"IF('LOP2'!P37<>\"\",'LOP2'!P37,\"\")","v":""},""]
[{"$f":"IF('LOP2'!M38<>\"\",'LOP2'!M38,\"\")","v":""},{"$f":"IF('LOP2'!N38<>\"\",'LOP2'!N38,\"\")","v":""},null,{"$f":"IF('LOP2'!P38<>\"\",'LOP2'!P38,\"\")","v":""},""]
[{"$f":"IF('LOP2'!M39<>\"\",'LOP2'!M39,\"\")","v":""},{"$f":"IF('LOP2'!N39<>\"\",'LOP2'!N39,\"\")","v":""},null,{"$f":"IF('LOP2'!P39<>\"\",'LOP2'!P39,\"\")","v":""},""]
[{"$f":"IF('LOP2'!M40<>\"\",'LOP2'!M40,\"\")","v":""},{"$f":"IF('LOP2'!N40<>\"\",'LOP2'!N40,\"\")","v":""},null,{"$f":"IF('LOP2'!P40<>\"\",'LOP2'!P40,\"\")","v":""},""]
[{"$f":"IF('LOP2'!M41<>\"\",'LOP2'!M41,\"\")","v":""},{"$f":"IF('LOP2'!N41<>\"\",'LOP2'!N41,\"\")","v":""},null,{"$f":"IF('LOP2'!P41<>\"\",'LOP2'!P41,\"\")","v":""},""]
[{"$f":"IF('LOP2'!M42<>\"\",'LOP2'!M42,\"\")","v":""},{"$f":"IF('LOP2'!N42<>\"\",'LOP2'!N42,\"\")","v":""},null,{"$f":"IF('LOP2'!P42<>\"\",'LOP2'!P42,\"\")","v":""},""]
[{"$f":"IF('LOP2'!M43<>\"\",'LOP2'!M43,\"\")","v":""},{"$f":"IF('LOP2'!N43<>\"\",'LOP2'!N43,\"\")","v":""},null,{"$f":"IF('LOP2'!P43<>\"\",'LOP2'!P43,\"\")","v":""},""]
[{"$f":"IF('LOP2'!M44<>\"\",'LOP2'!M44,\"\")","v":""},{"$f":"IF('LOP2'!N44<>\"\",'LOP2'!N44,\"\")","v":""},null,{"$f":"IF('LOP2'!P44<>\"\",'LOP2'!P44,\"\")","v":""},""]
[{"$f":"IF('LOP2'!M45<>\"\",'LOP2'!M45,\"\")","v":""},{"$f":"IF('LOP2'!N45<>\"\",'LOP2'!N45,\"\")","v":""},null,{"$f":"IF('LOP2'!P45<>\"\",'LOP2'!P45,\"\")","v":""},""]
[{"$f":"IF('LOP2'!M46<>\"\",'LOP2'!M46,\"\")","v":""},{"$f":"IF('LOP2'!N46<>\"\",'LOP2'!N46,\"\")","v":""},null,{"$f":"IF('LOP2'!P46<>\"\",'LOP2'!P46,\"\")","v":""},""]
[{"$f":"IF('LOP2'!M47<>\"\",'LOP2'!M47,\"\")","v":""},{"$f":"IF('LOP2'!N47<>\"\",'LOP2'!N47,\"\")","v":""},null,{"$f":"IF('LOP2'!P47<>\"\",'LOP2'!P47,\"\")","v":""},""]
[{"$f":"IF('LOP2'!M48<>\"\",'LOP2'!M48,\"\")","v":""},{"$f":"IF('LOP2'!N48<>\"\",'LOP2'!N48,\"\")","v":""},null,{"$f":"IF('LOP2'!P48<>\"\",'LOP2'!P48,\"\")","v":""},""]
[{"$f":"IF('LOP2'!M49<>\"\",'LOP2'!M49,\"\")","v":""},{"$f":"IF('LOP2'!N49<>\"\",'LOP2'!N49,\"\")","v":""},null,{"$f":"IF('LOP2'!P49<>\"\",'LOP2'!P49,\"\")","v":""},""]
[{"$f":"IF('LOP2'!M50<>\"\",'LOP2'!M50,\"\")","v":""},{"$f":"IF('LOP2'!N50<>\"\",'LOP2'!N50,\"\")","v":""},null,{"$f":"IF('LOP2'!P50<>\"\",'LOP2'!P50,\"\")","v":""},""]
[{"$f":"IF('LOP2'!M51<>\"\",'LOP2'!M51,\"\")","v":""},{"$f":"IF('LOP2'!N51<>\"\",'LOP2'!N51,\"\")","v":""},null,{"$f":"IF('LOP2'!P51<>\"\",'LOP2'!P51,\"\")","v":""},""]
[{"$f":"IF('LOP2'!M52<>\"\",'LOP2'!M52,\"\")","v":""},{"$f":"IF('LOP2'!N52<>\"\",'LOP2'!N52,\"\")","v":""},null,{"$f":"IF('LOP2'!P52<>\"\",'LOP2'!P52,\"\")","v":""},""]
[{"$f":"IF('LOP2'!M53<>\"\",'LOP2'!M53,\"\")","v":""},{"$f":"IF('LOP2'!N53<>\"\",'LOP2'!N53,\"\")","v":""},null,{"$f":"IF('LOP2'!P53<>\"\",'LOP2'!P53,\"\")","v":""},""]
[{"$f":"IF('LOP2'!M54<>\"\",'LOP2'!M54,\"\")","v":""},{"$f":"IF('LOP2'!N54<>\"\",'LOP2'!N54,\"\")","v":""},null,{"$f":"IF('LOP2'!P54<>\"\",'LOP2'!P54,\"\")","v":""},""]
[{"$f":"IF('LOP2'!M55<>\"\",'LOP2'!M55,\"\")","v":""},{"$f":"IF('LOP2'!N55<>\"\",'LOP2'!N55,\"\")","v":""},null,{"$f":"IF('LOP2'!P55<>\"\",'LOP2'!P55,\"\")","v":""},""]
[{"$f":"IF('LOP2'!M56<>\"\",'LOP2'!M56,\"\")","v":""},{"$f":"IF('LOP2'!N56<>\"\",'LOP2'!N56,\"\")","v":""},null,{"$f":"IF('LOP2'!P56<>\"\",'LOP2'!P56,\"\")","v":""},""]
[{"$f":"IF('LOP2'!M57<>\"\",'LOP2'!M57,\"\")","v":""},{"$f":"IF('LOP2'!N57<>\"\",'LOP2'!N57,\"\")","v":""},null,{"$f":"IF('LOP2'!P57<>\"\",'LOP2'!P57,\"\")","v":""},""]
[{"$f":"IF('LOP2'!M58<>\"\",'LOP2'!M58,\"\")","v":""},{"$f":"IF('LOP2'!N58<>\"\",'LOP2'!N58,\"\")","v":""},null,{"$f":"IF('LOP2'!P58<>\"\",'LOP2'!P58,\"\")","v":""},""]
[{"$f":"IF('LOP3'!M12<>\"\",'LOP3'!M12,\"\")","v":""},{"$f":"IF('LOP3'!N12<>\"\",'LOP3'!N12,\"\")","v":""},null,{"$f":"IF('LOP3'!P12<>\"\",'LOP3'!P12,\"\")","v":""},{"$f":"IF(A96<>\"\",\"Page 3\",\"\")","v":""}]
[{"$f":"IF('LOP3'!M13<>\"\",'LOP3'!M13,\"\")","v":""},{"$f":"IF('LOP3'!N13<>\"\",'LOP3'!N13,\"\")","v":""},null,{"$f":"IF('LOP3'!P13<>\"\",'LOP3'!P13,\"\")","v":""},{"$f":"IF(A97<>\"\",\"Page 3\",\"\")","v":""}]
[{"$f":"IF('LOP3'!M14<>\"\",'LOP3'!M14,\"\")","v":""},{"$f":"IF('LOP3'!N14<>\"\",'LOP3'!N14,\"\")","v":""},null,{"$f":"IF('LOP3'!P14<>\"\",'LOP3'!P14,\"\")","v":""},""]
[{"$f":"IF('LOP3'!M15<>\"\",'LOP3'!M15,\"\")","v":""},{"$f":"IF('LOP3'!N15<>\"\",'LOP3'!N15,\"\")","v":""},null,{"$f":"IF('LOP3'!P15<>\"\",'LOP3'!P15,\"\")","v":""},""]
[{"$f":"IF('LOP3'!M16<>\"\",'LOP3'!M16,\"\")","v":""},{"$f":"IF('LOP3'!N16<>\"\",'LOP3'!N16,\"\")","v":""},null,{"$f":"IF('LOP3'!P16<>\"\",'LOP3'!P16,\"\")","v":""},""]
[{"$f":"IF('LOP3'!M17<>\"\",'LOP3'!M17,\"\")","v":""},{"$f":"IF('LOP3'!N17<>\"\",'LOP3'!N17,\"\")","v":""},null,{"$f":"IF('LOP3'!P17<>\"\",'LOP3'!P17,\"\")","v":""},""]
[{"$f":"IF('LOP3'!M18<>\"\",'LOP3'!M18,\"\")","v":""},{"$f":"IF('LOP3'!N18<>\"\",'LOP3'!N18,\"\")","v":""},null,{"$f":"IF('LOP3'!P18<>\"\",'LOP3'!P18,\"\")","v":""},""]
[{"$f":"IF('LOP3'!M19<>\"\",'LOP3'!M19,\"\")","v":""},{"$f":"IF('LOP3'!N19<>\"\",'LOP3'!N19,\"\")","v":""},null,{"$f":"IF('LOP3'!P19<>\"\",'LOP3'!P19,\"\")","v":""},""]
[{"$f":"IF('LOP3'!M20<>\"\",'LOP3'!M20,\"\")","v":""},{"$f":"IF('LOP3'!N20<>\"\",'LOP3'!N20,\"\")","v":""},null,{"$f":"IF('LOP3'!P20<>\"\",'LOP3'!P20,\"\")","v":""},""]
[{"$f":"IF('LOP3'!M21<>\"\",'LOP3'!M21,\"\")","v":""},{"$f":"IF('LOP3'!N21<>\"\",'LOP3'!N21,\"\")","v":""},null,{"$f":"IF('LOP3'!P21<>\"\",'LOP3'!P21,\"\")","v":""},""]
[{"$f":"IF('LOP3'!M22<>\"\",'LOP3'!M22,\"\")","v":""},{"$f":"IF('LOP3'!N22<>\"\",'LOP3'!N22,\"\")","v":""},null,{"$f":"IF('LOP3'!P22<>\"\",'LOP3'!P22,\"\")","v":""},""]
[{"$f":"IF('LOP3'!M23<>\"\",'LOP3'!M23,\"\")","v":""},{"$f":"IF('LOP3'!N23<>\"\",'LOP3'!N23,\"\")","v":""},null,{"$f":"IF('LOP3'!P23<>\"\",'LOP3'!P23,\"\")","v":""},""]
[{"$f":"IF('LOP3'!M24<>\"\",'LOP3'!M24,\"\")","v":""},{"$f":"IF('LOP3'!N24<>\"\",'LOP3'!N24,\"\")","v":""},null,{"$f":"IF('LOP3'!P24<>\"\",'LOP3'!P24,\"\")","v":""},""]
[{"$f":"IF('LOP3'!M25<>\"\",'LOP3'!M25,\"\")","v":""},{"$f":"IF('LOP3'!N25<>\"\",'LOP3'!N25,\"\")","v":""},null,{"$f":"IF('LOP3'!P25<>\"\",'LOP3'!P25,\"\")","v":""},""]
[{"$f":"IF('LOP3'!M26<>\"\",'LOP3'!M26,\"\")","v":""},{"$f":"IF('LOP3'!N26<>\"\",'LOP3'!N26,\"\")","v":""},null,{"$f":"IF('LOP3'!P26<>\"\",'LOP3'!P26,\"\")","v":""},""]
[{"$f":"IF('LOP3'!M27<>\"\",'LOP3'!M27,\"\")","v":""},{"$f":"IF('LOP3'!N27<>\"\",'LOP3'!N27,\"\")","v":""},null,{"$f":"IF('LOP3'!P27<>\"\",'LOP3'!P27,\"\")","v":""},""]
[{"$f":"IF('LOP3'!M28<>\"\",'LOP3'!M28,\"\")","v":""},{"$f":"IF('LOP3'!N28<>\"\",'LOP3'!N28,\"\")","v":""},null,{"$f":"IF('LOP3'!P28<>\"\",'LOP3'!P28,\"\")","v":""},""]
[{"$f":"IF('LOP3'!M29<>\"\",'LOP3'!M29,\"\")","v":""},{"$f":"IF('LOP3'!N29<>\"\",'LOP3'!N29,\"\")","v":""},null,{"$f":"IF('LOP3'!P29<>\"\",'LOP3'!P29,\"\")","v":""},""]
[{"$f":"IF('LOP3'!M30<>\"\",'LOP3'!M30,\"\")","v":""},{"$f":"IF('LOP3'!N30<>\"\",'LOP3'!N30,\"\")","v":""},null,{"$f":"IF('LOP3'!P30<>\"\",'LOP3'!P30,\"\")","v":""},""]
[{"$f":"IF('LOP3'!M31<>\"\",'LOP3'!M31,\"\")","v":""},{"$f":"IF('LOP3'!N31<>\"\",'LOP3'!N31,\"\")","v":""},null,{"$f":"IF('LOP3'!P31<>\"\",'LOP3'!P31,\"\")","v":""},""]
[{"$f":"IF('LOP3'!M32<>\"\",'LOP3'!M32,\"\")","v":""},{"$f":"IF('LOP3'!N32<>\"\",'LOP3'!N32,\"\")","v":""},null,{"$f":"IF('LOP3'!P32<>\"\",'LOP3'!P32,\"\")","v":""},""]
[{"$f":"IF('LOP3'!M33<>\"\",'LOP3'!M33,\"\")","v":""},{"$f":"IF('LOP3'!N33<>\"\",'LOP3'!N33,\"\")","v":""},null,{"$f":"IF('LOP3'!P33<>\"\",'LOP3'!P33,\"\")","v":""},""]
[{"$f":"IF('LOP3'!M34<>\"\",'LOP3'!M34,\"\")","v":""},{"$f":"IF('LOP3'!N34<>\"\",'LOP3'!N34,\"\")","v":""},null,{"$f":"IF('LOP3'!P34<>\"\",'LOP3'!P34,\"\")","v":""},""]
[{"$f":"IF('LOP3'!M35<>\"\",'LOP3'!M35,\"\")","v":""},{"$f":"IF('LOP3'!N35<>\"\",'LOP3'!N35,\"\")","v":""},null,{"$f":"IF('LOP3'!P35<>\"\",'LOP3'!P35,\"\")","v":""},""]
[{"$f":"IF('LOP3'!M36<>\"\",'LOP3'!M36,\"\")","v":""},{"$f":"IF('LOP3'!N36<>\"\",'LOP3'!N36,\"\")","v":""},null,{"$f":"IF('LOP3'!P36<>\"\",'LOP3'!P36,\"\")","v":""},""]
[{"$f":"IF('LOP3'!M37<>\"\",'LOP3'!M37,\"\")","v":""},{"$f":"IF('LOP3'!N37<>\"\",'LOP3'!N37,\"\")","v":""},null,{"$f":"IF('LOP3'!P37<>\"\",'LOP3'!P37,\"\")","v":""},""]
[{"$f":"IF('LOP3'!M38<>\"\",'LOP3'!M38,\"\")","v":""},{"$f":"IF('LOP3'!N38<>\"\",'LOP3'!N38,\"\")","v":""},null,{"$f":"IF('LOP3'!P38<>\"\",'LOP3'!P38,\"\")","v":""},""]
[{"$f":"IF('LOP3'!M39<>\"\",'LOP3'!M39,\"\")","v":""},{"$f":"IF('LOP3'!N39<>\"\",'LOP3'!N39,\"\")","v":""},null,{"$f":"IF('LOP3'!P39<>\"\",'LOP3'!P39,\"\")","v":""},""]
[{"$f":"IF('LOP3'!M40<>\"\",'LOP3'!M40,\"\")","v":""},{"$f":"IF('LOP3'!N40<>\"\",'LOP3'!N40,\"\")","v":""},null,{"$f":"IF('LOP3'!P40<>\"\",'LOP3'!P40,\"\")","v":""},""]
[{"$f":"IF('LOP3'!M41<>\"\",'LOP3'!M41,\"\")","v":""},{"$f":"IF('LOP3'!N41<>\"\",'LOP3'!N41,\"\")","v":""},null,{"$f":"IF('LOP3'!P41<>\"\",'LOP3'!P41,\"\")","v":""},""]
[{"$f":"IF('LOP3'!M42<>\"\",'LOP3'!M42,\"\")","v":""},{"$f":"IF('LOP3'!N42<>\"\",'LOP3'!N42,\"\")","v":""},null,{"$f":"IF('LOP3'!P42<>\"\",'LOP3'!P42,\"\")","v":""},""]
[{"$f":"IF('LOP3'!M43<>\"\",'LOP3'!M43,\"\")","v":""},{"$f":"IF('LOP3'!N43<>\"\",'LOP3'!N43,\"\")","v":""},null,{"$f":"IF('LOP3'!P43<>\"\",'LOP3'!P43,\"\")","v":""},""]
[{"$f":"IF('LOP3'!M44<>\"\",'LOP3'!M44,\"\")","v":""},{"$f":"IF('LOP3'!N44<>\"\",'LOP3'!N44,\"\")","v":""},null,{"$f":"IF('LOP3'!P44<>\"\",'LOP3'!P44,\"\")","v":""},""]
[{"$f":"IF('LOP3'!M45<>\"\",'LOP3'!M45,\"\")","v":""},{"$f":"IF('LOP3'!N45<>\"\",'LOP3'!N45,\"\")","v":""},null,{"$f":"IF('LOP3'!P45<>\"\",'LOP3'!P45,\"\")","v":""},""]
[{"$f":"IF('LOP3'!M46<>\"\",'LOP3'!M46,\"\")","v":""},{"$f":"IF('LOP3'!N46<>\"\",'LOP3'!N46,\"\")","v":""},null,{"$f":"IF('LOP3'!P46<>\"\",'LOP3'!P46,\"\")","v":""},""]
[{"$f":"IF('LOP3'!M47<>\"\",'LOP3'!M47,\"\")","v":""},{"$f":"IF('LOP3'!N47<>\"\",'LOP3'!N47,\"\")","v":""},null,{"$f":"IF('LOP3'!P47<>\"\",'LOP3'!P47,\"\")","v":""},""]
[{"$f":"IF('LOP3'!M48<>\"\",'LOP3'!M48,\"\")","v":""},{"$f":"IF('LOP3'!N48<>\"\",'LOP3'!N48,\"\")","v":""},null,{"$f":"IF('LOP3'!P48<>\"\",'LOP3'!P48,\"\")","v":""},""]
[{"$f":"IF('LOP3'!M49<>\"\",'LOP3'!M49,\"\")","v":""},{"$f":"IF('LOP3'!N49<>\"\",'LOP3'!N49,\"\")","v":""},null,{"$f":"IF('LOP3'!P49<>\"\",'LOP3'!P49,\"\")","v":""},""]
[{"$f":"IF('LOP3'!M50<>\"\",'LOP3'!M50,\"\")","v":""},{"$f":"IF('LOP3'!N50<>\"\",'LOP3'!N50,\"\")","v":""},null,{"$f":"IF('LOP3'!P50<>\"\",'LOP3'!P50,\"\")","v":""},""]
[{"$f":"IF('LOP3'!M51<>\"\",'LOP3'!M51,\"\")","v":""},{"$f":"IF('LOP3'!N51<>\"\",'LOP3'!N51,\"\")","v":""},null,{"$f":"IF('LOP3'!P51<>\"\",'LOP3'!P51,\"\")","v":""},""]
[{"$f":"IF('LOP3'!M52<>\"\",'LOP3'!M52,\"\")","v":""},{"$f":"IF('LOP3'!N52<>\"\",'LOP3'!N52,\"\")","v":""},null,{"$f":"IF('LOP3'!P52<>\"\",'LOP3'!P52,\"\")","v":""},""]
[{"$f":"IF('LOP3'!M53<>\"\",'LOP3'!M53,\"\")","v":""},{"$f":"IF('LOP3'!N53<>\"\",'LOP3'!N53,\"\")","v":""},null,{"$f":"IF('LOP3'!P53<>\"\",'LOP3'!P53,\"\")","v":""},""]
[{"$f":"IF('LOP3'!M54<>\"\",'LOP3'!M54,\"\")","v":""},{"$f":"IF('LOP3'!N54<>\"\",'LOP3'!N54,\"\")","v":""},null,{"$f":"IF('LOP3'!P54<>\"\",'LOP3'!P54,\"\")","v":""},""]
[{"$f":"IF('LOP3'!M55<>\"\",'LOP3'!M55,\"\")","v":""},{"$f":"IF('LOP3'!N55<>\"\",'LOP3'!N55,\"\")","v":""},null,{"$f":"IF('LOP3'!P55<>\"\",'LOP3'!P55,\"\")","v":""},""]
[{"$f":"IF('LOP3'!M56<>\"\",'LOP3'!M56,\"\")","v":""},{"$f":"IF('LOP3'!N56<>\"\",'LOP3'!N56,\"\")","v":""},null,{"$f":"IF('LOP3'!P56<>\"\",'LOP3'!P56,\"\")","v":""},""]
[{"$f":"IF('LOP3'!M57<>\"\",'LOP3'!M57,\"\")","v":""},{"$f":"IF('LOP3'!N57<>\"\",'LOP3'!N57,\"\")","v":""},null,{"$f":"IF('LOP3'!P57<>\"\",'LOP3'!P57,\"\")","v":""},""]
[{"$f":"IF('LOP3'!M58<>\"\",'LOP3'!M58,\"\")","v":""},{"$f":"IF('LOP3'!N58<>\"\",'LOP3'!N58,\"\")","v":""},null,{"$f":"IF('LOP3'!P58<>\"\",'LOP3'!P58,\"\")","v":""},""]
[{"$f":"IF('LOP4'!M12<>\"\",'LOP4'!M12,\"\")","v":""},{"$f":"IF('LOP4'!N12<>\"\",'LOP4'!N12,\"\")","v":""},null,{"$f":"IF('LOP4'!P12<>\"\",'LOP4'!P12,\"\")","v":""},{"$f":"IF(A143<>\"\",\"Page 4\",\"\")","v":""}]
[{"$f":"IF('LOP4'!M13<>\"\",'LOP4'!M13,\"\")","v":""},{"$f":"IF('LOP4'!N13<>\"\",'LOP4'!N13,\"\")","v":""},null,{"$f":"IF('LOP4'!P13<>\"\",'LOP4'!P13,\"\")","v":""},{"$f":"IF(A144<>\"\",\"Page 4\",\"\")","v":""}]
[{"$f":"IF('LOP4'!M14<>\"\",'LOP4'!M14,\"\")","v":""},{"$f":"IF('LOP4'!N14<>\"\",'LOP4'!N14,\"\")","v":""},null,{"$f":"IF('LOP4'!P14<>\"\",'LOP4'!P14,\"\")","v":""},""]
[{"$f":"IF('LOP4'!M15<>\"\",'LOP4'!M15,\"\")","v":""},{"$f":"IF('LOP4'!N15<>\"\",'LOP4'!N15,\"\")","v":""},null,{"$f":"IF('LOP4'!P15<>\"\",'LOP4'!P15,\"\")","v":""},""]
[{"$f":"IF('LOP4'!M16<>\"\",'LOP4'!M16,\"\")","v":""},{"$f":"IF('LOP4'!N16<>\"\",'LOP4'!N16,\"\")","v":""},null,{"$f":"IF('LOP4'!P16<>\"\",'LOP4'!P16,\"\")","v":""},""]
[{"$f":"IF('LOP4'!M17<>\"\",'LOP4'!M17,\"\")","v":""},{"$f":"IF('LOP4'!N17<>\"\",'LOP4'!N17,\"\")","v":""},null,{"$f":"IF('LOP4'!P17<>\"\",'LOP4'!P17,\"\")","v":""},""]
[{"$f":"IF('LOP4'!M18<>\"\",'LOP4'!M18,\"\")","v":""},{"$f":"IF('LOP4'!N18<>\"\",'LOP4'!N18,\"\")","v":""},null,{"$f":"IF('LOP4'!P18<>\"\",'LOP4'!P18,\"\")","v":""},""]
[{"$f":"IF('LOP4'!M19<>\"\",'LOP4'!M19,\"\")","v":""},{"$f":"IF('LOP4'!N19<>\"\",'LOP4'!N19,\"\")","v":""},null,{"$f":"IF('LOP4'!P19<>\"\",'LOP4'!P19,\"\")","v":""},""]
[{"$f":"IF('LOP4'!M20<>\"\",'LOP4'!M20,\"\")","v":""},{"$f":"IF('LOP4'!N20<>\"\",'LOP4'!N20,\"\")","v":""},null,{"$f":"IF('LOP4'!P20<>\"\",'LOP4'!P20,\"\")","v":""},""]
[{"$f":"IF('LOP4'!M21<>\"\",'LOP4'!M21,\"\")","v":""},{"$f":"IF('LOP4'!N21<>\"\",'LOP4'!N21,\"\")","v":""},null,{"$f":"IF('LOP4'!P21<>\"\",'LOP4'!P21,\"\")","v":""},""]
[{"$f":"IF('LOP4'!M22<>\"\",'LOP4'!M22,\"\")","v":""},{"$f":"IF('LOP4'!N22<>\"\",'LOP4'!N22,\"\")","v":""},null,{"$f":"IF('LOP4'!P22<>\"\",'LOP4'!P22,\"\")","v":""},""]
[{"$f":"IF('LOP4'!M23<>\"\",'LOP4'!M23,\"\")","v":""},{"$f":"IF('LOP4'!N23<>\"\",'LOP4'!N23,\"\")","v":""},null,{"$f":"IF('LOP4'!P23<>\"\",'LOP4'!P23,\"\")","v":""},""]
[{"$f":"IF('LOP4'!M24<>\"\",'LOP4'!M24,\"\")","v":""},{"$f":"IF('LOP4'!N24<>\"\",'LOP4'!N24,\"\")","v":""},null,{"$f":"IF('LOP4'!P24<>\"\",'LOP4'!P24,\"\")","v":""},""]
[{"$f":"IF('LOP4'!M25<>\"\",'LOP4'!M25,\"\")","v":""},{"$f":"IF('LOP4'!N25<>\"\",'LOP4'!N25,\"\")","v":""},null,{"$f":"IF('LOP4'!P25<>\"\",'LOP4'!P25,\"\")","v":""},""]
[{"$f":"IF('LOP4'!M26<>\"\",'LOP4'!M26,\"\")","v":""},{"$f":"IF('LOP4'!N26<>\"\",'LOP4'!N26,\"\")","v":""},null,{"$f":"IF('LOP4'!P26<>\"\",'LOP4'!P26,\"\")","v":""},""]
[{"$f":"IF('LOP4'!M27<>\"\",'LOP4'!M27,\"\")","v":""},{"$f":"IF('LOP4'!N27<>\"\",'LOP4'!N27,\"\")","v":""},null,{"$f":"IF('LOP4'!P27<>\"\",'LOP4'!P27,\"\")","v":""},""]
[{"$f":"IF('LOP4'!M28<>\"\",'LOP4'!M28,\"\")","v":""},{"$f":"IF('LOP4'!N28<>\"\",'LOP4'!N28,\"\")","v":""},null,{"$f":"IF('LOP4'!P28<>\"\",'LOP4'!P28,\"\")","v":""},""]
[{"$f":"IF('LOP4'!M29<>\"\",'LOP4'!M29,\"\")","v":""},{"$f":"IF('LOP4'!N29<>\"\",'LOP4'!N29,\"\")","v":""},null,{"$f":"IF('LOP4'!P29<>\"\",'LOP4'!P29,\"\")","v":""},""]
[{"$f":"IF('LOP4'!M30<>\"\",'LOP4'!M30,\"\")","v":""},{"$f":"IF('LOP4'!N30<>\"\",'LOP4'!N30,\"\")","v":""},null,{"$f":"IF('LOP4'!P30<>\"\",'LOP4'!P30,\"\")","v":""},""]
[{"$f":"IF('LOP4'!M31<>\"\",'LOP4'!M31,\"\")","v":""},{"$f":"IF('LOP4'!N31<>\"\",'LOP4'!N31,\"\")","v":""},null,{"$f":"IF('LOP4'!P31<>\"\",'LOP4'!P31,\"\")","v":""},""]
[{"$f":"IF('LOP4'!M32<>\"\",'LOP4'!M32,\"\")","v":""},{"$f":"IF('LOP4'!N32<>\"\",'LOP4'!N32,\"\")","v":""},null,{"$f":"IF('LOP4'!P32<>\"\",'LOP4'!P32,\"\")","v":""},""]
[{"$f":"IF('LOP4'!M33<>\"\",'LOP4'!M33,\"\")","v":""},{"$f":"IF('LOP4'!N33<>\"\",'LOP4'!N33,\"\")","v":""},null,{"$f":"IF('LOP4'!P33<>\"\",'LOP4'!P33,\"\")","v":""},""]
[{"$f":"IF('LOP4'!M34<>\"\",'LOP4'!M34,\"\")","v":""},{"$f":"IF('LOP4'!N34<>\"\",'LOP4'!N34,\"\")","v":""},null,{"$f":"IF('LOP4'!P34<>\"\",'LOP4'!P34,\"\")","v":""},""]
[{"$f":"IF('LOP4'!M35<>\"\",'LOP4'!M35,\"\")","v":""},{"$f":"IF('LOP4'!N35<>\"\",'LOP4'!N35,\"\")","v":""},null,{"$f":"IF('LOP4'!P35<>\"\",'LOP4'!P35,\"\")","v":""},""]
[{"$f":"IF('LOP4'!M36<>\"\",'LOP4'!M36,\"\")","v":""},{"$f":"IF('LOP4'!N36<>\"\",'LOP4'!N36,\"\")","v":""},null,{"$f":"IF('LOP4'!P36<>\"\",'LOP4'!P36,\"\")","v":""},""]
[{"$f":"IF('LOP4'!M37<>\"\",'LOP4'!M37,\"\")","v":""},{"$f":"IF('LOP4'!N37<>\"\",'LOP4'!N37,\"\")","v":""},null,{"$f":"IF('LOP4'!P37<>\"\",'LOP4'!P37,\"\")","v":""},""]
[{"$f":"IF('LOP4'!M38<>\"\",'LOP4'!M38,\"\")","v":""},{"$f":"IF('LOP4'!N38<>\"\",'LOP4'!N38,\"\")","v":""},null,{"$f":"IF('LOP4'!P38<>\"\",'LOP4'!P38,\"\")","v":""},""]
[{"$f":"IF('LOP4'!M39<>\"\",'LOP4'!M39,\"\")","v":""},{"$f":"IF('LOP4'!N39<>\"\",'LOP4'!N39,\"\")","v":""},null,{"$f":"IF('LOP4'!P39<>\"\",'LOP4'!P39,\"\")","v":""},""]
[{"$f":"IF('LOP4'!M40<>\"\",'LOP4'!M40,\"\")","v":""},{"$f":"IF('LOP4'!N40<>\"\",'LOP4'!N40,\"\")","v":""},null,{"$f":"IF('LOP4'!P40<>\"\",'LOP4'!P40,\"\")","v":""},""]
[{"$f":"IF('LOP4'!M41<>\"\",'LOP4'!M41,\"\")","v":""},{"$f":"IF('LOP4'!N41<>\"\",'LOP4'!N41,\"\")","v":""},null,{"$f":"IF('LOP4'!P41<>\"\",'LOP4'!P41,\"\")","v":""},""]
[{"$f":"IF('LOP4'!M42<>\"\",'LOP4'!M42,\"\")","v":""},{"$f":"IF('LOP4'!N42<>\"\",'LOP4'!N42,\"\")","v":""},null,{"$f":"IF('LOP4'!P42<>\"\",'LOP4'!P42,\"\")","v":""},""]
[{"$f":"IF('LOP4'!M43<>\"\",'LOP4'!M43,\"\")","v":""},{"$f":"IF('LOP4'!N43<>\"\",'LOP4'!N43,\"\")","v":""},null,{"$f":"IF('LOP4'!P43<>\"\",'LOP4'!P43,\"\")","v":""},""]
[{"$f":"IF('LOP4'!M44<>\"\",'LOP4'!M44,\"\")","v":""},{"$f":"IF('LOP4'!N44<>\"\",'LOP4'!N44,\"\")","v":""},null,{"$f":"IF('LOP4'!P44<>\"\",'LOP4'!P44,\"\")","v":""},""]
[{"$f":"IF('LOP4'!M45<>\"\",'LOP4'!M45,\"\")","v":""},{"$f":"IF('LOP4'!N45<>\"\",'LOP4'!N45,\"\")","v":""},null,{"$f":"IF('LOP4'!P45<>\"\",'LOP4'!P45,\"\")","v":""},""]
[{"$f":"IF('LOP4'!M46<>\"\",'LOP4'!M46,\"\")","v":""},{"$f":"IF('LOP4'!N46<>\"\",'LOP4'!N46,\"\")","v":""},null,{"$f":"IF('LOP4'!P46<>\"\",'LOP4'!P46,\"\")","v":""},""]
[{"$f":"IF('LOP4'!M47<>\"\",'LOP4'!M47,\"\")","v":""},{"$f":"IF('LOP4'!N47<>\"\",'LOP4'!N47,\"\")","v":""},null,{"$f":"IF('LOP4'!P47<>\"\",'LOP4'!P47,\"\")","v":""},""]
[{"$f":"IF('LOP4'!M48<>\"\",'LOP4'!M48,\"\")","v":""},{"$f":"IF('LOP4'!N48<>\"\",'LOP4'!N48,\"\")","v":""},null,{"$f":"IF('LOP4'!P48<>\"\",'LOP4'!P48,\"\")","v":""},""]
[{"$f":"IF('LOP4'!M49<>\"\",'LOP4'!M49,\"\")","v":""},{"$f":"IF('LOP4'!N49<>\"\",'LOP4'!N49,\"\")","v":""},null,{"$f":"IF('LOP4'!P49<>\"\",'LOP4'!P49,\"\")","v":""},""]
[{"$f":"IF('LOP4'!M50<>\"\",'LOP4'!M50,\"\")","v":""},{"$f":"IF('LOP4'!N50<>\"\",'LOP4'!N50,\"\")","v":""},null,{"$f":"IF('LOP4'!P50<>\"\",'LOP4'!P50,\"\")","v":""},""]
[{"$f":"IF('LOP4'!M51<>\"\",'LOP4'!M51,\"\")","v":""},{"$f":"IF('LOP4'!N51<>\"\",'LOP4'!N51,\"\")","v":""},null,{"$f":"IF('LOP4'!P51<>\"\",'LOP4'!P51,\"\")","v":""},""]
[{"$f":"IF('LOP4'!M52<>\"\",'LOP4'!M52,\"\")","v":""},{"$f":"IF('LOP4'!N52<>\"\",'LOP4'!N52,\"\")","v":""},null,{"$f":"IF('LOP4'!P52<>\"\",'LOP4'!P52,\"\")","v":""},""]
[{"$f":"IF('LOP4'!M53<>\"\",'LOP4'!M53,\"\")","v":""},{"$f":"IF('LOP4'!N53<>\"\",'LOP4'!N53,\"\")","v":""},null,{"$f":"IF('LOP4'!P53<>\"\",'LOP4'!P53,\"\")","v":""},""]
[{"$f":"IF('LOP4'!M54<>\"\",'LOP4'!M54,\"\")","v":""},{"$f":"IF('LOP4'!N54<>\"\",'LOP4'!N54,\"\")","v":""},null,{"$f":"IF('LOP4'!P54<>\"\",'LOP4'!P54,\"\")","v":""},""]
[{"$f":"IF('LOP4'!M55<>\"\",'LOP4'!M55,\"\")","v":""},{"$f":"IF('LOP4'!N55<>\"\",'LOP4'!N55,\"\")","v":""},null,{"$f":"IF('LOP4'!P55<>\"\",'LOP4'!P55,\"\")","v":""},""]
[{"$f":"IF('LOP4'!M56<>\"\",'LOP4'!M56,\"\")","v":""},{"$f":"IF('LOP4'!N56<>\"\",'LOP4'!N56,\"\")","v":""},null,{"$f":"IF('LOP4'!P56<>\"\",'LOP4'!P56,\"\")","v":""},""]
[{"$f":"IF('LOP4'!M57<>\"\",'LOP4'!M57,\"\")","v":""},{"$f":"IF('LOP4'!N57<>\"\",'LOP4'!N57,\"\")","v":""},null,{"$f":"IF('LOP4'!P57<>\"\",'LOP4'!P57,\"\")","v":""},""]
[{"$f":"IF('LOP4'!M58<>\"\",'LOP4'!M58,\"\")","v":""},{"$f":"IF('LOP4'!N58<>\"\",'LOP4'!N58,\"\")","v":""},null,{"$f":"IF('LOP4'!P58<>\"\",'LOP4'!P58,\"\")","v":""},""]
[{"$f":"IF('LOP5'!M12<>\"\",'LOP5'!M12,\"\")","v":""},{"$f":"IF('LOP5'!N12<>\"\",'LOP5'!N12,\"\")","v":""},null,{"$f":"IF('LOP5'!P12<>\"\",'LOP5'!P12,\"\")","v":""},{"$f":"IF(A190<>\"\",\"Page 5\",\"\")","v":""}]
[{"$f":"IF('LOP5'!M13<>\"\",'LOP5'!M13,\"\")","v":""},{"$f":"IF('LOP5'!N13<>\"\",'LOP5'!N13,\"\")","v":""},null,{"$f":"IF('LOP5'!P13<>\"\",'LOP5'!P13,\"\")","v":""},{"$f":"IF(A191<>\"\",\"Page 5\",\"\")","v":""}]
[{"$f":"IF('LOP5'!M14<>\"\",'LOP5'!M14,\"\")","v":""},{"$f":"IF('LOP5'!N14<>\"\",'LOP5'!N14,\"\")","v":""},null,{"$f":"IF('LOP5'!P14<>\"\",'LOP5'!P14,\"\")","v":""},""]
[{"$f":"IF('LOP5'!M15<>\"\",'LOP5'!M15,\"\")","v":""},{"$f":"IF('LOP5'!N15<>\"\",'LOP5'!N15,\"\")","v":""},null,{"$f":"IF('LOP5'!P15<>\"\",'LOP5'!P15,\"\")","v":""},""]
[{"$f":"IF('LOP5'!M16<>\"\",'LOP5'!M16,\"\")","v":""},{"$f":"IF('LOP5'!N16<>\"\",'LOP5'!N16,\"\")","v":""},null,{"$f":"IF('LOP5'!P16<>\"\",'LOP5'!P16,\"\")","v":""},""]
[{"$f":"IF('LOP5'!M17<>\"\",'LOP5'!M17,\"\")","v":""},{"$f":"IF('LOP5'!N17<>\"\",'LOP5'!N17,\"\")","v":""},null,{"$f":"IF('LOP5'!P17<>\"\",'LOP5'!P17,\"\")","v":""},""]
[{"$f":"IF('LOP5'!M18<>\"\",'LOP5'!M18,\"\")","v":""},{"$f":"IF('LOP5'!N18<>\"\",'LOP5'!N18,\"\")","v":""},null,{"$f":"IF('LOP5'!P18<>\"\",'LOP5'!P18,\"\")","v":""},""]
[{"$f":"IF('LOP5'!M19<>\"\",'LOP5'!M19,\"\")","v":""},{"$f":"IF('LOP5'!N19<>\"\",'LOP5'!N19,\"\")","v":""},null,{"$f":"IF('LOP5'!P19<>\"\",'LOP5'!P19,\"\")","v":""},""]
[{"$f":"IF('LOP5'!M20<>\"\",'LOP5'!M20,\"\")","v":""},{"$f":"IF('LOP5'!N20<>\"\",'LOP5'!N20,\"\")","v":""},null,{"$f":"IF('LOP5'!P20<>\"\",'LOP5'!P20,\"\")","v":""},""]
[{"$f":"IF('LOP5'!M21<>\"\",'LOP5'!M21,\"\")","v":""},{"$f":"IF('LOP5'!N21<>\"\",'LOP5'!N21,\"\")","v":""},null,{"$f":"IF('LOP5'!P21<>\"\",'LOP5'!P21,\"\")","v":""},""]
[{"$f":"IF('LOP5'!M22<>\"\",'LOP5'!M22,\"\")","v":""},{"$f":"IF('LOP5'!N22<>\"\",'LOP5'!N22,\"\")","v":""},null,{"$f":"IF('LOP5'!P22<>\"\",'LOP5'!P22,\"\")","v":""},""]
[{"$f":"IF('LOP5'!M23<>\"\",'LOP5'!M23,\"\")","v":""},{"$f":"IF('LOP5'!N23<>\"\",'LOP5'!N23,\"\")","v":""},null,{"$f":"IF('LOP5'!P23<>\"\",'LOP5'!P23,\"\")","v":""},""]
[{"$f":"IF('LOP5'!M24<>\"\",'LOP5'!M24,\"\")","v":""},{"$f":"IF('LOP5'!N24<>\"\",'LOP5'!N24,\"\")","v":""},null,{"$f":"IF('LOP5'!P24<>\"\",'LOP5'!P24,\"\")","v":""},""]
[{"$f":"IF('LOP5'!M25<>\"\",'LOP5'!M25,\"\")","v":""},{"$f":"IF('LOP5'!N25<>\"\",'LOP5'!N25,\"\")","v":""},null,{"$f":"IF('LOP5'!P25<>\"\",'LOP5'!P25,\"\")","v":""},""]
[{"$f":"IF('LOP5'!M26<>\"\",'LOP5'!M26,\"\")","v":""},{"$f":"IF('LOP5'!N26<>\"\",'LOP5'!N26,\"\")","v":""},null,{"$f":"IF('LOP5'!P26<>\"\",'LOP5'!P26,\"\")","v":""},""]
[{"$f":"IF('LOP5'!M27<>\"\",'LOP5'!M27,\"\")","v":""},{"$f":"IF('LOP5'!N27<>\"\",'LOP5'!N27,\"\")","v":""},null,{"$f":"IF('LOP5'!P27<>\"\",'LOP5'!P27,\"\")","v":""},""]
[{"$f":"IF('LOP5'!M28<>\"\",'LOP5'!M28,\"\")","v":""},{"$f":"IF('LOP5'!N28<>\"\",'LOP5'!N28,\"\")","v":""},null,{"$f":"IF('LOP5'!P28<>\"\",'LOP5'!P28,\"\")","v":""},""]
[{"$f":"IF('LOP5'!M29<>\"\",'LOP5'!M29,\"\")","v":""},{"$f":"IF('LOP5'!N29<>\"\",'LOP5'!N29,\"\")","v":""},null,{"$f":"IF('LOP5'!P29<>\"\",'LOP5'!P29,\"\")","v":""},""]
[{"$f":"IF('LOP5'!M30<>\"\",'LOP5'!M30,\"\")","v":""},{"$f":"IF('LOP5'!N30<>\"\",'LOP5'!N30,\"\")","v":""},null,{"$f":"IF('LOP5'!P30<>\"\",'LOP5'!P30,\"\")","v":""},""]
[{"$f":"IF('LOP5'!M31<>\"\",'LOP5'!M31,\"\")","v":""},{"$f":"IF('LOP5'!N31<>\"\",'LOP5'!N31,\"\")","v":""},null,{"$f":"IF('LOP5'!P31<>\"\",'LOP5'!P31,\"\")","v":""},""]
[{"$f":"IF('LOP5'!M32<>\"\",'LOP5'!M32,\"\")","v":""},{"$f":"IF('LOP5'!N32<>\"\",'LOP5'!N32,\"\")","v":""},null,{"$f":"IF('LOP5'!P32<>\"\",'LOP5'!P32,\"\")","v":""},""]
[{"$f":"IF('LOP5'!M33<>\"\",'LOP5'!M33,\"\")","v":""},{"$f":"IF('LOP5'!N33<>\"\",'LOP5'!N33,\"\")","v":""},null,{"$f":"IF('LOP5'!P33<>\"\",'LOP5'!P33,\"\")","v":""},""]
[{"$f":"IF('LOP5'!M34<>\"\",'LOP5'!M34,\"\")","v":""},{"$f":"IF('LOP5'!N34<>\"\",'LOP5'!N34,\"\")","v":""},null,{"$f":"IF('LOP5'!P34<>\"\",'LOP5'!P34,\"\")","v":""},""]
[{"$f":"IF('LOP5'!M35<>\"\",'LOP5'!M35,\"\")","v":""},{"$f":"IF('LOP5'!N35<>\"\",'LOP5'!N35,\"\")","v":""},null,{"$f":"IF('LOP5'!P35<>\"\",'LOP5'!P35,\"\")","v":""},""]
[{"$f":"IF('LOP5'!M36<>\"\",'LOP5'!M36,\"\")","v":""},{"$f":"IF('LOP5'!N36<>\"\",'LOP5'!N36,\"\")","v":""},null,{"$f":"IF('LOP5'!P36<>\"\",'LOP5'!P36,\"\")","v":""},""]
[{"$f":"IF('LOP5'!M37<>\"\",'LOP5'!M37,\"\")","v":""},{"$f":"IF('LOP5'!N37<>\"\",'LOP5'!N37,\"\")","v":""},null,{"$f":"IF('LOP5'!P37<>\"\",'LOP5'!P37,\"\")","v":""},""]
[{"$f":"IF('LOP5'!M38<>\"\",'LOP5'!M38,\"\")","v":""},{"$f":"IF('LOP5'!N38<>\"\",'LOP5'!N38,\"\")","v":""},null,{"$f":"IF('LOP5'!P38<>\"\",'LOP5'!P38,\"\")","v":""},""]
[{"$f":"IF('LOP5'!M39<>\"\",'LOP5'!M39,\"\")","v":""},{"$f":"IF('LOP5'!N39<>\"\",'LOP5'!N39,\"\")","v":""},null,{"$f":"IF('LOP5'!P39<>\"\",'LOP5'!P39,\"\")","v":""},""]
[{"$f":"IF('LOP5'!M40<>\"\",'LOP5'!M40,\"\")","v":""},{"$f":"IF('LOP5'!N40<>\"\",'LOP5'!N40,\"\")","v":""},null,{"$f":"IF('LOP5'!P40<>\"\",'LOP5'!P40,\"\")","v":""},""]
[{"$f":"IF('LOP5'!M41<>\"\",'LOP5'!M41,\"\")","v":""},{"$f":"IF('LOP5'!N41<>\"\",'LOP5'!N41,\"\")","v":""},null,{"$f":"IF('LOP5'!P41<>\"\",'LOP5'!P41,\"\")","v":""},""]
[{"$f":"IF('LOP5'!M42<>\"\",'LOP5'!M42,\"\")","v":""},{"$f":"IF('LOP5'!N42<>\"\",'LOP5'!N42,\"\")","v":""},null,{"$f":"IF('LOP5'!P42<>\"\",'LOP5'!P42,\"\")","v":""},""]
[{"$f":"IF('LOP5'!M43<>\"\",'LOP5'!M43,\"\")","v":""},{"$f":"IF('LOP5'!N43<>\"\",'LOP5'!N43,\"\")","v":""},null,{"$f":"IF('LOP5'!P43<>\"\",'LOP5'!P43,\"\")","v":""},""]
[{"$f":"IF('LOP5'!M44<>\"\",'LOP5'!M44,\"\")","v":""},{"$f":"IF('LOP5'!N44<>\"\",'LOP5'!N44,\"\")","v":""},null,{"$f":"IF('LOP5'!P44<>\"\",'LOP5'!P44,\"\")","v":""},""]
[{"$f":"IF('LOP5'!M45<>\"\",'LOP5'!M45,\"\")","v":""},{"$f":"IF('LOP5'!N45<>\"\",'LOP5'!N45,\"\")","v":""},null,{"$f":"IF('LOP5'!P45<>\"\",'LOP5'!P45,\"\")","v":""},""]
[{"$f":"IF('LOP5'!M46<>\"\",'LOP5'!M46,\"\")","v":""},{"$f":"IF('LOP5'!N46<>\"\",'LOP5'!N46,\"\")","v":""},null,{"$f":"IF('LOP5'!P46<>\"\",'LOP5'!P46,\"\")","v":""},""]
[{"$f":"IF('LOP5'!M47<>\"\",'LOP5'!M47,\"\")","v":""},{"$f":"IF('LOP5'!N47<>\"\",'LOP5'!N47,\"\")","v":""},null,{"$f":"IF('LOP5'!P47<>\"\",'LOP5'!P47,\"\")","v":""},""]
[{"$f":"IF('LOP5'!M48<>\"\",'LOP5'!M48,\"\")","v":""},{"$f":"IF('LOP5'!N48<>\"\",'LOP5'!N48,\"\")","v":""},null,{"$f":"IF('LOP5'!P48<>\"\",'LOP5'!P48,\"\")","v":""},""]
[{"$f":"IF('LOP5'!M49<>\"\",'LOP5'!M49,\"\")","v":""},{"$f":"IF('LOP5'!N49<>\"\",'LOP5'!N49,\"\")","v":""},null,{"$f":"IF('LOP5'!P49<>\"\",'LOP5'!P49,\"\")","v":""},""]
[{"$f":"IF('LOP5'!M50<>\"\",'LOP5'!M50,\"\")","v":""},{"$f":"IF('LOP5'!N50<>\"\",'LOP5'!N50,\"\")","v":""},null,{"$f":"IF('LOP5'!P50<>\"\",'LOP5'!P50,\"\")","v":""},""]
[{"$f":"IF('LOP5'!M51<>\"\",'LOP5'!M51,\"\")","v":""},{"$f":"IF('LOP5'!N51<>\"\",'LOP5'!N51,\"\")","v":""},null,{"$f":"IF('LOP5'!P51<>\"\",'LOP5'!P51,\"\")","v":""},""]
[{"$f":"IF('LOP5'!M52<>\"\",'LOP5'!M52,\"\")","v":""},{"$f":"IF('LOP5'!N52<>\"\",'LOP5'!N52,\"\")","v":""},null,{"$f":"IF('LOP5'!P52<>\"\",'LOP5'!P52,\"\")","v":""},""]
[{"$f":"IF('LOP5'!M53<>\"\",'LOP5'!M53,\"\")","v":""},{"$f":"IF('LOP5'!N53<>\"\",'LOP5'!N53,\"\")","v":""},null,{"$f":"IF('LOP5'!P53<>\"\",'LOP5'!P53,\"\")","v":""},""]
[{"$f":"IF('LOP5'!M54<>\"\",'LOP5'!M54,\"\")","v":""},{"$f":"IF('LOP5'!N54<>\"\",'LOP5'!N54,\"\")","v":""},null,{"$f":"IF('LOP5'!P54<>\"\",'LOP5'!P54,\"\")","v":""},""]
[{"$f":"IF('LOP5'!M55<>\"\",'LOP5'!M55,\"\")","v":""},{"$f":"IF('LOP5'!N55<>\"\",'LOP5'!N55,\"\")","v":""},null,{"$f":"IF('LOP5'!P55<>\"\",'LOP5'!P55,\"\")","v":""},""]
[{"$f":"IF('LOP5'!M56<>\"\",'LOP5'!M56,\"\")","v":""},{"$f":"IF('LOP5'!N56<>\"\",'LOP5'!N56,\"\")","v":""},null,{"$f":"IF('LOP5'!P56<>\"\",'LOP5'!P56,\"\")","v":""},""]
[{"$f":"IF('LOP5'!M57<>\"\",'LOP5'!M57,\"\")","v":""},{"$f":"IF('LOP5'!N57<>\"\",'LOP5'!N57,\"\")","v":""},null,{"$f":"IF('LOP5'!P57<>\"\",'LOP5'!P57,\"\")","v":""},""]
[{"$f":"IF('LOP5'!M58<>\"\",'LOP5'!M58,\"\")","v":""},{"$f":"IF('LOP5'!N58<>\"\",'LOP5'!N58,\"\")","v":""},null,{"$f":"IF('LOP5'!P58<>\"\",'LOP5'!P58,\"\")","v":""},""]
[null,{"$f":"IF(COUNTA('Page 1'!$H$63:$N$68)>0,\"Special Request Page 1\",\"\")","v":""}]
[null,{"$f":"IF(COUNTA('Page 2'!$H$62:$N$67)>0,\"Special Request Page 2\",\"\")","v":""}]
[null,{"$f":"IF(COUNTA('Page 3'!$H$62:$N$67)>0,\"Special Request Page 3\",\"\")","v":""}]
[null,{"$f":"IF(COUNTA('Page 4'!$H$62:$N$67)>0,\"Special Request Page 4\",\"\")","v":""}]
[null,{"$f":"IF(COUNTA('Page 5'!$H$62:$N$67)>0,\"Special Request Page 5\",\"\")","v":""}]
[null,{"$f":"IF(COUNTA('Page 1'!$A$64:$G$67)>0,\"Special Request Page 1\",\"\")","v":""}]
[null,{"$f":"IF(COUNTA('Page 2'!$A$64:$G$67)>0,\"Special Request Page 2\",\"\")","v":""}]
[null,{"$f":"IF(COUNTA('Page 3'!$A$64:$G$67)>0,\"Special Request Page 3\",\"\")","v":""}]
[null,{"$f":"IF(COUNTA('Page 4'!$A$64:$G$67)>0,\"Special Request Page 4\",\"\")","v":""}]
[null,{"$f":"IF(COUNTA('Page 5'!$A$64:$G$67)>0,\"Special Request Page 5\",\"\")","v":""}]

{"sheet":"Environ","index":12,"n_rows":57,"n_cols":14,"rows_kept":57,"cut":false,"hidden":true,"merged":[[5,7,6,8],[6,0,6,1],[6,2,6,5],[1,2,2,4],[7,0,7,1],[7,2,7,5],[8,0,8,1],[8,2,8,5],[12,0,12,2],[12,3,12,4],[12,5,12,6],[4,0,4,1],[4,2,4,5],[5,0,5,1],[5,2,5,5],[17,0,17,13],[18,0,20,0],[18,1,20,2],[18,5,18,6],[18,12,20,12],[18,13,20,13],[12,7,12,9],[12,10,12,11],[12,12,12,13],[13,0,16,0],[13,1,16,2],[13,8,13,9],[14,8,14,9],[15,8,15,9],[16,7,16,9],[21,0,21,13],[22,0,24,0],[22,1,24,2],[22,12,24,12],[22,13,24,13],[28,0,28,1],[28,4,28,6],[28,7,28,8],[28,11,28,13],[36,4,36,6],[37,4,37,6],[38,4,38,6],[38,7,38,13],[39,4,39,6],[39,11,39,13],[40,0,40,6],[40,11,40,13],[29,0,29,6],[29,7,29,12],[30,4,30,6],[31,4,31,6],[32,4,32,6],[33,4,33,6],[34,4,34,6],[35,4,35,6],[30,7,30,8],[31,7,31,8],[32,7,32,8],[33,7,33,8],[34,7,34,8],[35,7,35,8],[36,7,36,8],[37,7,37,8],[57,11,57,13],[58,0,58,6],[58,7,58,8],[58,11,58,13],[52,0,52,5],[52,11,52,13],[53,11,53,13],[54,7,54,8],[54,11,54,13],[56,7,56,8],[56,11,56,13],[54,0,54,1],[56,0,56,1],[55,0,55,1],[59,0,59,6],[60,0,60,6],[30,0,30,1],[31,0,31,1],[32,0,32,1],[33,0,33,1],[34,0,34,1],[57,0,57,6],[57,7,57,8],[50,4,50,6],[51,4,51,6],[50,7,50,8],[51,7,51,8],[47,4,47,6],[48,0,48,1],[48,4,48,6],[49,4,49,6],[49,7,49,12],[47,7,47,8],[48,7,48,8],[44,4,44,6],[44,11,44,13],[45,0,45,6],[45,11,45,13],[42,0,42,1],[43,0,43,1],[44,0,44,1],[50,0,50,1],[51,0,51,1],[53,0,53,1],[35,0,35,1],[36,0,36,1],[37,0,37,1],[38,0,38,1],[39,0,39,1],[41,0,41,1],[46,0,46,1],[46,4,46,6],[45,7,45,8],[55,7,55,8],[55,11,55,13],[39,7,39,8],[40,7,40,8],[41,7,41,8],[42,7,42,8],[43,7,43,8],[44,7,44,8],[50,11,50,12],[51,11,51,12],[47,11,47,13],[48,11,48,13],[46,11,46,13],[46,7,46,8],[41,4,41,6],[41,11,41,13],[42,4,42,6],[42,11,42,13],[43,4,43,6],[43,11,43,13]]}
[]
[null,null,"VIP",null,null,null,null,"COMMERCIAL CHIMNEY"]
[null,null,null,null,null,null,null,"QUOTATION REQUEST"]
[null,null,null,null,null,null,null,{"$f":"IF('Page 1'!H5<>\"\",'Page 1'!H5,\"\")","v":"Revised: November 7, 2015"}]
[]
["Date:"]
["Job:"]
["ZIP Code:",null,null,null,null,null,"(ZIP FOR FREIGHT QUOTE)",null,null,null,null,"Phone: ","(450) 565-6336"]
["Page:",null,null,null,null,null,null,null,null,null,null,"FAX: ","(450) 565-6519"]
[null,null,null,null,null,"email:","industrial@icc-rsf.com"]
[]
[]
["MODEL",null,null,"INTERIOR",null,"GAUGE",null,"EXTERIOR",null,null,"GAUGE",null,"INSULATION"]
[null,"VIP",null,null,"A = SS 304",null,"26 = 0.018\"",null,"A = SS 304",null,null,"26 = 0.018\"",null,"1\" "]
[null,null,null,null,"B= SS 316",null,"24= 0.025\"",null,"B= SS 316",null,null,"24= 0.025\"",null,"2\""]
[null,null,null,null,null,null,"20= 0.035\"",null,{"$f":"IF(D15=\"\",\"C= GALVALUME\",\"\")","v":"C= GALVALUME"},null,null,"20= 0.035\"",null,"4\""]
[null,null,null,null,null,null,"Standard",null,null,null,null,"Standard"]
[]
[null,"IS",null,null,"A = SS 304","Standard",null,null,"A = SS 304",null,"Standard",null,null,"1\" "]
[]
[null,null,null,null,null,null,null,null,"C= GALVALUME",null,"Standard"]
[]
[null,"LINER",null,null,"A = SS 304",null,"20= 0.035\""]
[null,null,null,null,"B = SS 316",null,"Standard"]
[]
[]
["When using Excel: Type interior diameter (INT. Ø) and quantities in the approprIate shaded cells."]
[]
["INT. Ø",null,"QTY","CODE","DESCRIPTION",null,null,"INT. Ø",null,"QTY","CODE","DESCRIPTION"]
["CHIMNEY LENGTH",null,null,null,null,null,null,"SUPPORT",null,null,null,null,null,"SS 304"]
[null,null,null,{"$f":"IF(A31=\"\",\"L4\",IF(A31=\"38\",\"\",IF(A31=\"40\",\"\",IF(A31=\"42\",\"\",IF(A31=\"44\",\"\",IF(A31=\"46\",\"\",IF(A31=\"48\",\"\",\"L4\")))))))","v":"L4"},"48\" Length",null,null,{"$f":"IF(A31<>0,A31,\"\")","v":""},null,null,"BS","Base Support"]
[null,null,null,"L2","24\" Length",null,null,null,null,null,"SR","Roof Support"]
[null,null,null,"A2","Adjust. Length 2' (VIP & IS ONLY)",null,null,null,null,null,"GB","Guy Band"]
[null,null,null,"L1","12\" Length",null,null,null,null,null,"RB","Roof Brace"]
[null,null,null,"L1","12\" Length - WITH SAMPLING PORT",null,null,null,null,null,"WS","Wall Support"]
[null,null,null,"A1","Adjustable Length 1'",null,null,null,null,null,"WB","Wall Band"]
[null,null,null,"L6","6\" Length",null,null,null,null,null,"HB","Horizontal Band"]
[null,null,null,"D1","12\" Drain Length",null,null,null,null,null,"OS","Offset Support"]
[null,null,null,"D2","24\" Drain Length",null,null,"RAIN CAP and ADAPTORS"]
[null,null,null,"DB","Length Drain Base",null,null,{"$f":"IF(A31<>0,A31,\"\")","v":""},null,null,"AP","Male Anchor Plate (std: round)"]
["ELBOW",null,null,null,null,null,null,null,null,null,"AF","Female Anchor Plate (std: square)"]
[{"$f":"IF(A31<>0,A31,\"\")","v":""},null,null,{"$f":"IF(A42=\"\",\"E4\",IF(A42=\"24\",\"\",IF(A42=\"26\",\"\",IF(A42=\"28\",\"\",IF(A42=\"30\",\"\",IF(A42=\"32\",\"\",IF(A42=\"34\",\"\",IF(A42=\"36\",\"\",IF(A42=\"38\",\"\",IF(A42=\"40\",\"\",IF(A42=\"42\",\"\",IF(A42=\"44\",\"\",IF(A42=\"46\",\"\",IF(A42=\"48\",\"\",\"E4\"))))))))))))))","v":"E4"},"Elbow 45°",null,null,null,null,null,"EX","Flue Extention  - CRIMP"]
[null,null,null,"E3","Elbow 30°",null,null,null,null,null,"EX","Flue Extention  - NO CRIMP"]
[null,null,null,"E2","Elbow 22.5°",null,null,null,null,null,"EX","Flue Extention  - FEMALE (NC)"]
[null,null,null,"E1","Elbow 15°",null,null,null,null,null,"RC","Rain Cap"]
["TEE",null,null,null,null,null,null,null,null,null,"CB","Rain Cap Base"]
[{"$f":"IF(A31<>0,A31,\"\")","v":""},null,null,"TR","Tee 90° (Regular)",null,null,null,null,null,"EC","Exit Cone"]
[{"$f":"IF(A31<>0,A31,\"\")","v":""},null,null,"TR","Tee 90° (Manifold)",null,null,null,null,null,"FT","Flip Top & Adapter"]
[{"$f":"IF(A31<>0,A31,\"\")","v":""},null,null,"TY","Tee 45° (Regular)",null,null,null,null,null,"MC","Miter Cut Length"]
[{"$f":"IF(A31<>0,A31,\"\")","v":""},null,null,"TY","Tee 45° (Manifold)",null,null,"MISCELLANEOUS",null,null,null,null,null,"SS 304"]
[{"$f":"IF(A31<>0,A31,\"\")","v":""},null,null,"TC","Tee Cap",null,null,{"$f":"IF(A31<>0,A31,\"\")","v":""},null,null,"RS","Radiation Shield"]
[null,null,null,"TD","Tee Cap, Drain",null,null,null,null,null,"FS","Firestop"]
["FLASHING",null,null,null,null,null,"SS 304",{"$f":"IF(A31<>0,A31,\"\")","v":""},null,null,"IT","Taper Increaser"]
[{"$f":"IF(A31<>0,A31,\"\")","v":""},null,null,"FF","Flat flashing",null,null,{"$f":"IF(A31<>0,A31,\"\")","v":""},null,null,"SI","Step Increaser"]
[null,null,null,"FA","Flashing 1/12-7/12",null,null,{"$f":"IF(A31<>0,A31,\"\")","v":""},null,null,"RV","Presurre Releif Valve"]
[null,null,null,"FB","Flashing 8/12-12/12"]
[null,null,null,"SC","Storm Collar"]